Workbook

Sheet Geral 1º Turno
B2: CLASSIFICAÇÃO GERAL - 1º Turno | P2: 1º FASE | AA2: OITAVAS DE FINAL | AL2: QUARTAS DE FINAL | AW2: SEMI FINAL | BI2: FINAL
B4: Posição | C4: Times | D4: Jogos | E4: Vitorias | F4: Empates | G4: Derrotas | H4: Gols Pró | I4: Gols Cont. | J4: Saldo | K4: Pontos | P4: ID_TIME | Q4: Times | R4: Jogos | S4: Vitorias | T4: Empates | U4: Derrotas | V4: Gols Pró | W4: Gols Cont. | X4: Saldo | Y4: Pontos | AA4: ID_TIME | AB4: Times | AC4: Jogos | AD4: Vitorias | AE4: Empates | AF4: Derrotas | AG4: Gols Pró | AH4: Gols Cont. | AI4: Saldo | AJ4: Pontos | AL4: ID_TIME | AM4: Times | AN4: Jogos | AO4: Vitorias | AP4: Empates | AQ4: Derrotas | AR4: Gols Pró | AS4: Gols Cont. | AT4: Saldo | AU4: Pontos | AW4: ID_TIME | AX4: Times | AY4: Jogos | AZ4: Vitorias | BA4: Empates | BB4: Derrotas | BC4: Gols Pró | BD4: Gols Cont. | BE4: Saldo | BF4: Pontos | BI4: ID_TIME | BJ4: Times | BK4: Jogos | BL4: Vitorias | BM4: Empates | BN4: Derrotas | BO4: Gols Pró | BP4: Gols Cont. | BQ4: Saldo | BR4: Pontos | BY4: ID_TIME | BZ4: Times | CA4: Jogos | CB4: Vitorias | CC4: Empates | CD4: Derrotas | CE4: Gols Pró | CF4: Gols Cont. | CG4: Saldo | CH4: Pontos
B6: 1º | C6: =VLOOKUP(CO6,$BY$6:$CH$23,2) -> #REF! | D6: =VLOOKUP(CO6,$BY$6:$CH$23,3) -> #REF! | E6: =VLOOKUP(CO6,$BY$6:$CH$23,4) -> #REF! | F6: =D6-E6-G6 -> #REF! | G6: =VLOOKUP(CO6,$BY$6:$CH$23,6) -> #REF! | H6: =VLOOKUP(CO6,$BY$6:$CH$23,7) -> #REF! | I6: =VLOOKUP(CO6,$BY$6:$CH$23,8) -> #REF! | J6: =H6-I6 -> #REF! | K6: =E6*3+F6 -> #REF! | P6: =#REF! -> #REF! | Q6: =#REF! -> #REF! | R6: =#REF! -> #REF! | S6: =#REF! -> #REF! | T6: =#REF! -> #REF! | U6: =#REF! -> #REF! | V6: =#REF! -> #REF! | W6: =#REF! -> #REF! | ... Y6: =#REF! -> #REF! | Z6: =(10^10)*Y6+(10^8)*S6+(10^6)*(50+X6)+(10^4)*V6+(10^2)*R6+(13-P6) -> #REF! | AK6: 0 | AL6: =#REF! -> #REF! | AM6: =IF(ISERROR(VLOOKUP(AL6,$AL$27:$AN$34,2,FALSE)),0,(VLOOKUP(AL6,$AL$27:$AN$34,2,FALSE))) -> 0 | AN6: =IF(ISERROR(VLOOKUP(AL6,$AL$27:$AN$34,3,FALSE)),0,(VLOOKUP(AL6,$AL$27:$AN$34,3,FALSE))) -> 0 | AO6: =IF(ISERROR(VLOOKUP(AL6,$AL$27:$AO$34,4,FALSE)),0,(VLOOKUP(AL6,$AL$27:$AO$34,4,FALSE))) -> 0 | AP6: =AN6-AO6-AQ6 -> 0 | AQ6: =IF(ISERROR(VLOOKUP(AL6,$AL$27:$AQ$34,6,FALSE)),0,(VLOOKUP(AL6,$AL$27:$AQ$34,6,FALSE))) -> 0 | AR6: =IF(ISERROR(VLOOKUP(AL6,$AL$27:$AR$34,7,FALSE)),0,(VLOOKUP(AL6,$AL$27:$AR$34,7,FALSE))) -> 0 | AS6: =IF(ISERROR(VLOOKUP(AL6,$AL$27:$AS$34,8,FALSE)),0,(VLOOKUP(AL6,$AL$27:$AS$34,8,FALSE))) -> 0 | AT6: =AR6-AS6 -> 0 | AU6: =AO6*3+AP6 -> 0 | AW6: 1 | AX6: =IF(ISERROR(VLOOKUP(AW6,$AW$26:$AY$29,2,FALSE)),0,(VLOOKUP(AW6,$AW$26:$AY$29,2,FALSE))) -> 0 | AY6: =IF(ISERROR(VLOOKUP(AW6,$AW$26:$BF$29,3,FALSE)),0,(VLOOKUP(AW6,$AW$26:$BF$29,3,FALSE))) -> 0 | AZ6: =IF(ISERROR(VLOOKUP(AW6,$AW$26:$BF$29,4,FALSE)),0,(VLOOKUP(AW6,$AW$26:$BF$29,4,FALSE))) -> 0 | BA6: =AY6-AZ6-BB6 -> 0 | BB6: =IF(ISERROR(VLOOKUP(AW6,$AW$26:$BF$29,6,FALSE)),0,(VLOOKUP(AW6,$AW$26:$BF$29,6,FALSE))) -> 0 | BC6: =IF(ISERROR(VLOOKUP(AW6,$AW$26:$BF$29,7,FALSE)),0,(VLOOKUP(AW6,$AW$26:$BF$29,7,FALSE))) -> 0 | BD6: =IF(ISERROR(VLOOKUP(AW6,$AW$26:$BF$29,8,FALSE)),0,(VLOOKUP(AW6,$AW$26:$BF$29,8,FALSE))) -> 0 | BE6: =BC6-BD6 -> 0 | BF6: =AZ6*3+BA6 -> 0 | BI6: 1 | BJ6: =IF(ISERROR(VLOOKUP(BI6,$BI$26:$BK$29,2,FALSE)),0,(VLOOKUP(BI6,$BI$26:$BK$29,2,FALSE))) -> 0 | BK6: =IF(ISERROR(VLOOKUP(BI6,$BI$26:$BR$27,3,FALSE)),0,(VLOOKUP(BI6,$BI$26:$BR$27,3,FALSE))) -> 0 | BL6: =IF(ISERROR(VLOOKUP(BI6,$BI$26:$BR$27,4,FALSE)),0,(VLOOKUP(BI6,$BI$26:$BR$27,4,FALSE))) -> 0 | BM6: =BK6-BL6-BN6 -> 0 | BN6: =IF(ISERROR(VLOOKUP(BI6,$BI$26:$BR$27,6,FALSE)),0,(VLOOKUP(BI6,$BI$26:$BR$27,6,FALSE))) -> 0 | BO6: =IF(ISERROR(VLOOKUP(BI6,$BI$26:$BR$27,7,FALSE)),0,(VLOOKUP(BI6,$BI$26:$BR$27,7,FALSE))) -> 0 | BP6: =IF(ISERROR(VLOOKUP(BI6,$BI$26:$BR$27,8,FALSE)),0,(VLOOKUP(BI6,$BI$26:$BR$27,8,FALSE))) -> 0 | BQ6: =BO6-BP6 -> 0 | BR6: =BL6*3+BM6 -> 0 | BY6: =P6 -> #REF! | BZ6: =Q6 -> #REF! | CA6: =R6+AN6+AY6+BK6 -> #REF! | CB6: =S6+AO6+AZ6+BL6 -> #REF! | CC6: =T6+AP6+BA6+BM6 -> #REF! | CD6: =U6+AQ6+BB6+BN6 -> #REF! | CE6: =V6+AR6+BC6+BO6 -> #REF! | CF6: =W6+AS6+BD6+BP6 -> #REF! | CG6: =X6+AT6+BE6+BQ6 -> #REF! | CH6: =Y6+AU6+BF6+BR6 -> #REF! | CJ6: =(10^10)*CH6+(10^8)*CB6+(10^6)*(50+CG6)+(10^4)*CE6+(10^2)*CA6+(13-BY6) -> #REF! | CK6: 1 | CL6: =LARGE($CJ$6:$CJ$23,CK6) -> #REF! | CN6: 1 | CO6: =MATCH(CL6,$CJ$6:$CJ$23,0) -> #REF!
B7: 2º | C7: =VLOOKUP(CO7,$BY$6:$CH$23,2) -> #REF! | D7: =VLOOKUP(CO7,$BY$6:$CH$23,3) -> #REF! | E7: =VLOOKUP(CO7,$BY$6:$CH$23,4) -> #REF! | F7: =D7-E7-G7 -> #REF! | G7: =VLOOKUP(CO7,$BY$6:$CH$23,6) -> #REF! | H7: =VLOOKUP(CO7,$BY$6:$CH$23,7) -> #REF! | I7: =VLOOKUP(CO7,$BY$6:$CH$23,8) -> #REF! | J7: =H7-I7 -> #REF! | K7: =E7*3+F7 -> #REF! | P7: =#REF! -> #REF! | Q7: =#REF! -> #REF! | R7: =#REF! -> #REF! | S7: =#REF! -> #REF! | T7: =#REF! -> #REF! | U7: =#REF! -> #REF! | V7: =#REF! -> #REF! | W7: =#REF! -> #REF! | ... Y7: =#REF! -> #REF! | Z7: =(10^10)*Y7+(10^8)*S7+(10^6)*(50+X7)+(10^4)*V7+(10^2)*R7+(13-P7) -> #REF! | AK7: 0 | AL7: =#REF! -> #REF! | AM7: =IF(ISERROR(VLOOKUP(AL7,$AL$27:$AN$34,2,FALSE)),0,(VLOOKUP(AL7,$AL$27:$AN$34,2,FALSE))) -> 0 | AN7: =IF(ISERROR(VLOOKUP(AL7,$AL$27:$AN$34,3,FALSE)),0,(VLOOKUP(AL7,$AL$27:$AN$34,3,FALSE))) -> 0 | AO7: =IF(ISERROR(VLOOKUP(AL7,$AL$27:$AO$34,4,FALSE)),0,(VLOOKUP(AL7,$AL$27:$AO$34,4,FALSE))) -> 0 | AP7: =AN7-AO7-AQ7 -> 0 | AQ7: =IF(ISERROR(VLOOKUP(AL7,$AL$27:$AQ$34,6,FALSE)),0,(VLOOKUP(AL7,$AL$27:$AQ$34,6,FALSE))) -> 0 | AR7: =IF(ISERROR(VLOOKUP(AL7,$AL$27:$AR$34,7,FALSE)),0,(VLOOKUP(AL7,$AL$27:$AR$34,7,FALSE))) -> 0 | AS7: =IF(ISERROR(VLOOKUP(AL7,$AL$27:$AS$34,8,FALSE)),0,(VLOOKUP(AL7,$AL$27:$AS$34,8,FALSE))) -> 0 | AT7: =AR7-AS7 -> 0 | AU7: =AO7*3+AP7 -> 0 | AW7: 2 | AX7: =IF(ISERROR(VLOOKUP(AW7,$AW$26:$AY$29,2,FALSE)),0,(VLOOKUP(AW7,$AW$26:$AY$29,2,FALSE))) -> 0 | AY7: =IF(ISERROR(VLOOKUP(AW7,$AW$26:$BF$29,3,FALSE)),0,(VLOOKUP(AW7,$AW$26:$BF$29,3,FALSE))) -> 0 | AZ7: =IF(ISERROR(VLOOKUP(AW7,$AW$26:$BF$29,4,FALSE)),0,(VLOOKUP(AW7,$AW$26:$BF$29,4,FALSE))) -> 0 | BA7: =AY7-AZ7-BB7 -> 0 | BB7: =IF(ISERROR(VLOOKUP(AW7,$AW$26:$BF$29,6,FALSE)),0,(VLOOKUP(AW7,$AW$26:$BF$29,6,FALSE))) -> 0 | BC7: =IF(ISERROR(VLOOKUP(AW7,$AW$26:$BF$29,7,FALSE)),0,(VLOOKUP(AW7,$AW$26:$BF$29,7,FALSE))) -> 0 | BD7: =IF(ISERROR(VLOOKUP(AW7,$AW$26:$BF$29,8,FALSE)),0,(VLOOKUP(AW7,$AW$26:$BF$29,8,FALSE))) -> 0 | BE7: =BC7-BD7 -> 0 | BF7: =AZ7*3+BA7 -> 0 | BI7: 2 | BJ7: =IF(ISERROR(VLOOKUP(BI7,$BI$26:$BK$29,2,FALSE)),0,(VLOOKUP(BI7,$BI$26:$BK$29,2,FALSE))) -> 0 | BK7: =IF(ISERROR(VLOOKUP(BI7,$BI$26:$BR$27,3,FALSE)),0,(VLOOKUP(BI7,$BI$26:$BR$27,3,FALSE))) -> 0 | BL7: =IF(ISERROR(VLOOKUP(BI7,$BI$26:$BR$27,4,FALSE)),0,(VLOOKUP(BI7,$BI$26:$BR$27,4,FALSE))) -> 0 | BM7: =BK7-BL7-BN7 -> 0 | BN7: =IF(ISERROR(VLOOKUP(BI7,$BI$26:$BR$27,6,FALSE)),0,(VLOOKUP(BI7,$BI$26:$BR$27,6,FALSE))) -> 0 | BO7: =IF(ISERROR(VLOOKUP(BI7,$BI$26:$BR$27,7,FALSE)),0,(VLOOKUP(BI7,$BI$26:$BR$27,7,FALSE))) -> 0 | BP7: =IF(ISERROR(VLOOKUP(BI7,$BI$26:$BR$27,8,FALSE)),0,(VLOOKUP(BI7,$BI$26:$BR$27,8,FALSE))) -> 0 | BQ7: =BO7-BP7 -> 0 | BR7: =BL7*3+BM7 -> 0 | BY7: =P7 -> #REF! | BZ7: =Q7 -> #REF! | CA7: =R7+AN7+AY7+BK7 -> #REF! | CB7: =S7+AO7+AZ7+BL7 -> #REF! | CC7: =T7+AP7+BA7+BM7 -> #REF! | CD7: =U7+AQ7+BB7+BN7 -> #REF! | CE7: =V7+AR7+BC7+BO7 -> #REF! | CF7: =W7+AS7+BD7+BP7 -> #REF! | CG7: =X7+AT7+BE7+BQ7 -> #REF! | CH7: =Y7+AU7+BF7+BR7 -> #REF! | CJ7: =(10^10)*CH7+(10^8)*CB7+(10^6)*(50+CG7)+(10^4)*CE7+(10^2)*CA7+(13-BY7) -> #REF! | CK7: 2 | CL7: =LARGE($CJ$6:$CJ$23,CK7) -> #REF! | CN7: 2 | CO7: =MATCH(CL7,$CJ$6:$CJ$23,0) -> #REF!
B8: 3º | C8: =VLOOKUP(CO8,$BY$6:$CH$23,2) -> #REF! | D8: =VLOOKUP(CO8,$BY$6:$CH$23,3) -> #REF! | E8: =VLOOKUP(CO8,$BY$6:$CH$23,4) -> #REF! | F8: =D8-E8-G8 -> #REF! | G8: =VLOOKUP(CO8,$BY$6:$CH$23,6) -> #REF! | H8: =VLOOKUP(CO8,$BY$6:$CH$23,7) -> #REF! | I8: =VLOOKUP(CO8,$BY$6:$CH$23,8) -> #REF! | J8: =H8-I8 -> #REF! | K8: =E8*3+F8 -> #REF! | P8: =#REF! -> #REF! | Q8: =#REF! -> #REF! | R8: =#REF! -> #REF! | S8: =#REF! -> #REF! | T8: =#REF! -> #REF! | U8: =#REF! -> #REF! | V8: =#REF! -> #REF! | W8: =#REF! -> #REF! | ... Y8: =#REF! -> #REF! | Z8: =(10^10)*Y8+(10^8)*S8+(10^6)*(50+X8)+(10^4)*V8+(10^2)*R8+(13-P8) -> #REF! | AK8: 0 | AL8: =#REF! -> #REF! | AM8: =IF(ISERROR(VLOOKUP(AL8,$AL$27:$AN$34,2,FALSE)),0,(VLOOKUP(AL8,$AL$27:$AN$34,2,FALSE))) -> 0 | AN8: =IF(ISERROR(VLOOKUP(AL8,$AL$27:$AN$34,3,FALSE)),0,(VLOOKUP(AL8,$AL$27:$AN$34,3,FALSE))) -> 0 | AO8: =IF(ISERROR(VLOOKUP(AL8,$AL$27:$AO$34,4,FALSE)),0,(VLOOKUP(AL8,$AL$27:$AO$34,4,FALSE))) -> 0 | AP8: =AN8-AO8-AQ8 -> 0 | AQ8: =IF(ISERROR(VLOOKUP(AL8,$AL$27:$AQ$34,6,FALSE)),0,(VLOOKUP(AL8,$AL$27:$AQ$34,6,FALSE))) -> 0 | AR8: =IF(ISERROR(VLOOKUP(AL8,$AL$27:$AR$34,7,FALSE)),0,(VLOOKUP(AL8,$AL$27:$AR$34,7,FALSE))) -> 0 | AS8: =IF(ISERROR(VLOOKUP(AL8,$AL$27:$AS$34,8,FALSE)),0,(VLOOKUP(AL8,$AL$27:$AS$34,8,FALSE))) -> 0 | AT8: =AR8-AS8 -> 0 | AU8: =AO8*3+AP8 -> 0 | AW8: 3 | AX8: =IF(ISERROR(VLOOKUP(AW8,$AW$26:$AY$29,2,FALSE)),0,(VLOOKUP(AW8,$AW$26:$AY$29,2,FALSE))) -> 0 | AY8: =IF(ISERROR(VLOOKUP(AW8,$AW$26:$BF$29,3,FALSE)),0,(VLOOKUP(AW8,$AW$26:$BF$29,3,FALSE))) -> 0 | AZ8: =IF(ISERROR(VLOOKUP(AW8,$AW$26:$BF$29,4,FALSE)),0,(VLOOKUP(AW8,$AW$26:$BF$29,4,FALSE))) -> 0 | BA8: =AY8-AZ8-BB8 -> 0 | BB8: =IF(ISERROR(VLOOKUP(AW8,$AW$26:$BF$29,6,FALSE)),0,(VLOOKUP(AW8,$AW$26:$BF$29,6,FALSE))) -> 0 | BC8: =IF(ISERROR(VLOOKUP(AW8,$AW$26:$BF$29,7,FALSE)),0,(VLOOKUP(AW8,$AW$26:$BF$29,7,FALSE))) -> 0 | BD8: =IF(ISERROR(VLOOKUP(AW8,$AW$26:$BF$29,8,FALSE)),0,(VLOOKUP(AW8,$AW$26:$BF$29,8,FALSE))) -> 0 | BE8: =BC8-BD8 -> 0 | BF8: =AZ8*3+BA8 -> 0 | BI8: 3 | BJ8: =IF(ISERROR(VLOOKUP(BI8,$BI$26:$BK$29,2,FALSE)),0,(VLOOKUP(BI8,$BI$26:$BK$29,2,FALSE))) -> 0 | BK8: =IF(ISERROR(VLOOKUP(BI8,$BI$26:$BR$27,3,FALSE)),0,(VLOOKUP(BI8,$BI$26:$BR$27,3,FALSE))) -> 0 | BL8: =IF(ISERROR(VLOOKUP(BI8,$BI$26:$BR$27,4,FALSE)),0,(VLOOKUP(BI8,$BI$26:$BR$27,4,FALSE))) -> 0 | BM8: =BK8-BL8-BN8 -> 0 | BN8: =IF(ISERROR(VLOOKUP(BI8,$BI$26:$BR$27,6,FALSE)),0,(VLOOKUP(BI8,$BI$26:$BR$27,6,FALSE))) -> 0 | BO8: =IF(ISERROR(VLOOKUP(BI8,$BI$26:$BR$27,7,FALSE)),0,(VLOOKUP(BI8,$BI$26:$BR$27,7,FALSE))) -> 0 | BP8: =IF(ISERROR(VLOOKUP(BI8,$BI$26:$BR$27,8,FALSE)),0,(VLOOKUP(BI8,$BI$26:$BR$27,8,FALSE))) -> 0 | BQ8: =BO8-BP8 -> 0 | BR8: =BL8*3+BM8 -> 0 | BY8: =P8 -> #REF! | BZ8: =Q8 -> #REF! | CA8: =R8+AN8+AY8+BK8 -> #REF! | CB8: =S8+AO8+AZ8+BL8 -> #REF! | CC8: =T8+AP8+BA8+BM8 -> #REF! | CD8: =U8+AQ8+BB8+BN8 -> #REF! | CE8: =V8+AR8+BC8+BO8 -> #REF! | CF8: =W8+AS8+BD8+BP8 -> #REF! | CG8: =X8+AT8+BE8+BQ8 -> #REF! | CH8: =Y8+AU8+BF8+BR8 -> #REF! | CJ8: =(10^10)*CH8+(10^8)*CB8+(10^6)*(50+CG8)+(10^4)*CE8+(10^2)*CA8+(13-BY8) -> #REF! | CK8: 3 | CL8: =LARGE($CJ$6:$CJ$23,CK8) -> #REF! | CN8: 3 | CO8: =MATCH(CL8,$CJ$6:$CJ$23,0) -> #REF!
B9: 4º | C9: =VLOOKUP(CO9,$BY$6:$CH$23,2) -> #REF! | D9: =VLOOKUP(CO9,$BY$6:$CH$23,3) -> #REF! | E9: =VLOOKUP(CO9,$BY$6:$CH$23,4) -> #REF! | F9: =D9-E9-G9 -> #REF! | G9: =VLOOKUP(CO9,$BY$6:$CH$23,6) -> #REF! | H9: =VLOOKUP(CO9,$BY$6:$CH$23,7) -> #REF! | I9: =VLOOKUP(CO9,$BY$6:$CH$23,8) -> #REF! | J9: =H9-I9 -> #REF! | K9: =E9*3+F9 -> #REF! | P9: =#REF! -> #REF! | Q9: =#REF! -> #REF! | R9: =#REF! -> #REF! | S9: =#REF! -> #REF! | T9: =#REF! -> #REF! | U9: =#REF! -> #REF! | V9: =#REF! -> #REF! | W9: =#REF! -> #REF! | ... Y9: =#REF! -> #REF! | Z9: =(10^10)*Y9+(10^8)*S9+(10^6)*(50+X9)+(10^4)*V9+(10^2)*R9+(13-P9) -> #REF! | AK9: 0 | AL9: =#REF! -> #REF! | AM9: =IF(ISERROR(VLOOKUP(AL9,$AL$27:$AN$34,2,FALSE)),0,(VLOOKUP(AL9,$AL$27:$AN$34,2,FALSE))) -> 0 | AN9: =IF(ISERROR(VLOOKUP(AL9,$AL$27:$AN$34,3,FALSE)),0,(VLOOKUP(AL9,$AL$27:$AN$34,3,FALSE))) -> 0 | AO9: =IF(ISERROR(VLOOKUP(AL9,$AL$27:$AO$34,4,FALSE)),0,(VLOOKUP(AL9,$AL$27:$AO$34,4,FALSE))) -> 0 | AP9: =AN9-AO9-AQ9 -> 0 | AQ9: =IF(ISERROR(VLOOKUP(AL9,$AL$27:$AQ$34,6,FALSE)),0,(VLOOKUP(AL9,$AL$27:$AQ$34,6,FALSE))) -> 0 | AR9: =IF(ISERROR(VLOOKUP(AL9,$AL$27:$AR$34,7,FALSE)),0,(VLOOKUP(AL9,$AL$27:$AR$34,7,FALSE))) -> 0 | AS9: =IF(ISERROR(VLOOKUP(AL9,$AL$27:$AS$34,8,FALSE)),0,(VLOOKUP(AL9,$AL$27:$AS$34,8,FALSE))) -> 0 | AT9: =AR9-AS9 -> 0 | AU9: =AO9*3+AP9 -> 0 | AW9: 4 | AX9: =IF(ISERROR(VLOOKUP(AW9,$AW$26:$AY$29,2,FALSE)),0,(VLOOKUP(AW9,$AW$26:$AY$29,2,FALSE))) -> 0 | AY9: =IF(ISERROR(VLOOKUP(AW9,$AW$26:$BF$29,3,FALSE)),0,(VLOOKUP(AW9,$AW$26:$BF$29,3,FALSE))) -> 0 | AZ9: =IF(ISERROR(VLOOKUP(AW9,$AW$26:$BF$29,4,FALSE)),0,(VLOOKUP(AW9,$AW$26:$BF$29,4,FALSE))) -> 0 | BA9: =AY9-AZ9-BB9 -> 0 | BB9: =IF(ISERROR(VLOOKUP(AW9,$AW$26:$BF$29,6,FALSE)),0,(VLOOKUP(AW9,$AW$26:$BF$29,6,FALSE))) -> 0 | BC9: =IF(ISERROR(VLOOKUP(AW9,$AW$26:$BF$29,7,FALSE)),0,(VLOOKUP(AW9,$AW$26:$BF$29,7,FALSE))) -> 0 | BD9: =IF(ISERROR(VLOOKUP(AW9,$AW$26:$BF$29,8,FALSE)),0,(VLOOKUP(AW9,$AW$26:$BF$29,8,FALSE))) -> 0 | BE9: =BC9-BD9 -> 0 | BF9: =AZ9*3+BA9 -> 0 | BI9: 4 | BJ9: =IF(ISERROR(VLOOKUP(BI9,$BI$26:$BK$29,2,FALSE)),0,(VLOOKUP(BI9,$BI$26:$BK$29,2,FALSE))) -> 0 | BK9: =IF(ISERROR(VLOOKUP(BI9,$BI$26:$BR$27,3,FALSE)),0,(VLOOKUP(BI9,$BI$26:$BR$27,3,FALSE))) -> 0 | BL9: =IF(ISERROR(VLOOKUP(BI9,$BI$26:$BR$27,4,FALSE)),0,(VLOOKUP(BI9,$BI$26:$BR$27,4,FALSE))) -> 0 | BM9: =BK9-BL9-BN9 -> 0 | BN9: =IF(ISERROR(VLOOKUP(BI9,$BI$26:$BR$27,6,FALSE)),0,(VLOOKUP(BI9,$BI$26:$BR$27,6,FALSE))) -> 0 | BO9: =IF(ISERROR(VLOOKUP(BI9,$BI$26:$BR$27,7,FALSE)),0,(VLOOKUP(BI9,$BI$26:$BR$27,7,FALSE))) -> 0 | BP9: =IF(ISERROR(VLOOKUP(BI9,$BI$26:$BR$27,8,FALSE)),0,(VLOOKUP(BI9,$BI$26:$BR$27,8,FALSE))) -> 0 | BQ9: =BO9-BP9 -> 0 | BR9: =BL9*3+BM9 -> 0 | BY9: =P9 -> #REF! | BZ9: =Q9 -> #REF! | CA9: =R9+AN9+AY9+BK9 -> #REF! | CB9: =S9+AO9+AZ9+BL9 -> #REF! | CC9: =T9+AP9+BA9+BM9 -> #REF! | CD9: =U9+AQ9+BB9+BN9 -> #REF! | CE9: =V9+AR9+BC9+BO9 -> #REF! | CF9: =W9+AS9+BD9+BP9 -> #REF! | CG9: =X9+AT9+BE9+BQ9 -> #REF! | CH9: =Y9+AU9+BF9+BR9 -> #REF! | CJ9: =(10^10)*CH9+(10^8)*CB9+(10^6)*(50+CG9)+(10^4)*CE9+(10^2)*CA9+(13-BY9) -> #REF! | CK9: 4 | CL9: =LARGE($CJ$6:$CJ$23,CK9) -> #REF! | CN9: 4 | CO9: =MATCH(CL9,$CJ$6:$CJ$23,0) -> #REF!
B10: 5º | C10: =VLOOKUP(CO10,$BY$6:$CH$23,2) -> #REF! | D10: =VLOOKUP(CO10,$BY$6:$CH$23,3) -> #REF! | E10: =VLOOKUP(CO10,$BY$6:$CH$23,4) -> #REF! | F10: =D10-E10-G10 -> #REF! | G10: =VLOOKUP(CO10,$BY$6:$CH$23,6) -> #REF! | H10: =VLOOKUP(CO10,$BY$6:$CH$23,7) -> #REF! | I10: =VLOOKUP(CO10,$BY$6:$CH$23,8) -> #REF! | J10: =H10-I10 -> #REF! | K10: =E10*3+F10 -> #REF! | P10: =#REF! -> #REF! | Q10: =#REF! -> #REF! | R10: =#REF! -> #REF! | S10: =#REF! -> #REF! | T10: =#REF! -> #REF! | U10: =#REF! -> #REF! | V10: =#REF! -> #REF! | W10: =#REF! -> #REF! | ... Y10: =#REF! -> #REF! | Z10: =(10^10)*Y10+(10^8)*S10+(10^6)*(50+X10)+(10^4)*V10+(10^2)*R10+(13-P10) -> #REF! | AK10: 0 | AL10: =#REF! -> #REF! | AM10: =IF(ISERROR(VLOOKUP(AL10,$AL$27:$AN$34,2,FALSE)),0,(VLOOKUP(AL10,$AL$27:$AN$34,2,FALSE))) -> 0 | AN10: =IF(ISERROR(VLOOKUP(AL10,$AL$27:$AN$34,3,FALSE)),0,(VLOOKUP(AL10,$AL$27:$AN$34,3,FALSE))) -> 0 | AO10: =IF(ISERROR(VLOOKUP(AL10,$AL$27:$AO$34,4,FALSE)),0,(VLOOKUP(AL10,$AL$27:$AO$34,4,FALSE))) -> 0 | AP10: =AN10-AO10-AQ10 -> 0 | AQ10: =IF(ISERROR(VLOOKUP(AL10,$AL$27:$AQ$34,6,FALSE)),0,(VLOOKUP(AL10,$AL$27:$AQ$34,6,FALSE))) -> 0 | AR10: =IF(ISERROR(VLOOKUP(AL10,$AL$27:$AR$34,7,FALSE)),0,(VLOOKUP(AL10,$AL$27:$AR$34,7,FALSE))) -> 0 | AS10: =IF(ISERROR(VLOOKUP(AL10,$AL$27:$AS$34,8,FALSE)),0,(VLOOKUP(AL10,$AL$27:$AS$34,8,FALSE))) -> 0 | AT10: =AR10-AS10 -> 0 | AU10: =AO10*3+AP10 -> 0 | AW10: 5 | AX10: =IF(ISERROR(VLOOKUP(AW10,$AW$26:$AY$29,2,FALSE)),0,(VLOOKUP(AW10,$AW$26:$AY$29,2,FALSE))) -> 0 | AY10: =IF(ISERROR(VLOOKUP(AW10,$AW$26:$BF$29,3,FALSE)),0,(VLOOKUP(AW10,$AW$26:$BF$29,3,FALSE))) -> 0 | AZ10: =IF(ISERROR(VLOOKUP(AW10,$AW$26:$BF$29,4,FALSE)),0,(VLOOKUP(AW10,$AW$26:$BF$29,4,FALSE))) -> 0 | BA10: =AY10-AZ10-BB10 -> 0 | BB10: =IF(ISERROR(VLOOKUP(AW10,$AW$26:$BF$29,6,FALSE)),0,(VLOOKUP(AW10,$AW$26:$BF$29,6,FALSE))) -> 0 | BC10: =IF(ISERROR(VLOOKUP(AW10,$AW$26:$BF$29,7,FALSE)),0,(VLOOKUP(AW10,$AW$26:$BF$29,7,FALSE))) -> 0 | BD10: =IF(ISERROR(VLOOKUP(AW10,$AW$26:$BF$29,8,FALSE)),0,(VLOOKUP(AW10,$AW$26:$BF$29,8,FALSE))) -> 0 | BE10: =BC10-BD10 -> 0 | BF10: =AZ10*3+BA10 -> 0 | BI10: 5 | BJ10: =IF(ISERROR(VLOOKUP(BI10,$BI$26:$BK$29,2,FALSE)),0,(VLOOKUP(BI10,$BI$26:$BK$29,2,FALSE))) -> 0 | BK10: =IF(ISERROR(VLOOKUP(BI10,$BI$26:$BR$27,3,FALSE)),0,(VLOOKUP(BI10,$BI$26:$BR$27,3,FALSE))) -> 0 | BL10: =IF(ISERROR(VLOOKUP(BI10,$BI$26:$BR$27,4,FALSE)),0,(VLOOKUP(BI10,$BI$26:$BR$27,4,FALSE))) -> 0 | BM10: =BK10-BL10-BN10 -> 0 | BN10: =IF(ISERROR(VLOOKUP(BI10,$BI$26:$BR$27,6,FALSE)),0,(VLOOKUP(BI10,$BI$26:$BR$27,6,FALSE))) -> 0 | BO10: =IF(ISERROR(VLOOKUP(BI10,$BI$26:$BR$27,7,FALSE)),0,(VLOOKUP(BI10,$BI$26:$BR$27,7,FALSE))) -> 0 | BP10: =IF(ISERROR(VLOOKUP(BI10,$BI$26:$BR$27,8,FALSE)),0,(VLOOKUP(BI10,$BI$26:$BR$27,8,FALSE))) -> 0 | BQ10: =BO10-BP10 -> 0 | BR10: =BL10*3+BM10 -> 0 | BY10: =P10 -> #REF! | BZ10: =Q10 -> #REF! | CA10: =R10+AN10+AY10+BK10 -> #REF! | CB10: =S10+AO10+AZ10+BL10 -> #REF! | CC10: =T10+AP10+BA10+BM10 -> #REF! | CD10: =U10+AQ10+BB10+BN10 -> #REF! | CE10: =V10+AR10+BC10+BO10 -> #REF! | CF10: =W10+AS10+BD10+BP10 -> #REF! | CG10: =X10+AT10+BE10+BQ10 -> #REF! | CH10: =Y10+AU10+BF10+BR10 -> #REF! | CJ10: =(10^10)*CH10+(10^8)*CB10+(10^6)*(50+CG10)+(10^4)*CE10+(10^2)*CA10+(13-BY10) -> #REF! | CK10: 5 | CL10: =LARGE($CJ$6:$CJ$23,CK10) -> #REF! | CN10: 5 | CO10: =MATCH(CL10,$CJ$6:$CJ$23,0) -> #REF!
B11: 6º | C11: =VLOOKUP(CO11,$BY$6:$CH$23,2) -> #REF! | D11: =VLOOKUP(CO11,$BY$6:$CH$23,3) -> #REF! | E11: =VLOOKUP(CO11,$BY$6:$CH$23,4) -> #REF! | F11: =D11-E11-G11 -> #REF! | G11: =VLOOKUP(CO11,$BY$6:$CH$23,6) -> #REF! | H11: =VLOOKUP(CO11,$BY$6:$CH$23,7) -> #REF! | I11: =VLOOKUP(CO11,$BY$6:$CH$23,8) -> #REF! | J11: =H11-I11 -> #REF! | K11: =E11*3+F11 -> #REF! | P11: =#REF! -> #REF! | Q11: =#REF! -> #REF! | R11: =#REF! -> #REF! | S11: =#REF! -> #REF! | T11: =#REF! -> #REF! | U11: =#REF! -> #REF! | V11: =#REF! -> #REF! | W11: =#REF! -> #REF! | ... Y11: =#REF! -> #REF! | Z11: =(10^10)*Y11+(10^8)*S11+(10^6)*(50+X11)+(10^4)*V11+(10^2)*R11+(13-P11) -> #REF! | AK11: 0 | AL11: =#REF! -> #REF! | AM11: =IF(ISERROR(VLOOKUP(AL11,$AL$27:$AN$34,2,FALSE)),0,(VLOOKUP(AL11,$AL$27:$AN$34,2,FALSE))) -> 0 | AN11: =IF(ISERROR(VLOOKUP(AL11,$AL$27:$AN$34,3,FALSE)),0,(VLOOKUP(AL11,$AL$27:$AN$34,3,FALSE))) -> 0 | AO11: =IF(ISERROR(VLOOKUP(AL11,$AL$27:$AO$34,4,FALSE)),0,(VLOOKUP(AL11,$AL$27:$AO$34,4,FALSE))) -> 0 | AP11: =AN11-AO11-AQ11 -> 0 | AQ11: =IF(ISERROR(VLOOKUP(AL11,$AL$27:$AQ$34,6,FALSE)),0,(VLOOKUP(AL11,$AL$27:$AQ$34,6,FALSE))) -> 0 | AR11: =IF(ISERROR(VLOOKUP(AL11,$AL$27:$AR$34,7,FALSE)),0,(VLOOKUP(AL11,$AL$27:$AR$34,7,FALSE))) -> 0 | AS11: =IF(ISERROR(VLOOKUP(AL11,$AL$27:$AS$34,8,FALSE)),0,(VLOOKUP(AL11,$AL$27:$AS$34,8,FALSE))) -> 0 | AT11: =AR11-AS11 -> 0 | AU11: =AO11*3+AP11 -> 0 | AW11: 6 | AX11: =IF(ISERROR(VLOOKUP(AW11,$AW$26:$AY$29,2,FALSE)),0,(VLOOKUP(AW11,$AW$26:$AY$29,2,FALSE))) -> 0 | AY11: =IF(ISERROR(VLOOKUP(AW11,$AW$26:$BF$29,3,FALSE)),0,(VLOOKUP(AW11,$AW$26:$BF$29,3,FALSE))) -> 0 | AZ11: =IF(ISERROR(VLOOKUP(AW11,$AW$26:$BF$29,4,FALSE)),0,(VLOOKUP(AW11,$AW$26:$BF$29,4,FALSE))) -> 0 | BA11: =AY11-AZ11-BB11 -> 0 | BB11: =IF(ISERROR(VLOOKUP(AW11,$AW$26:$BF$29,6,FALSE)),0,(VLOOKUP(AW11,$AW$26:$BF$29,6,FALSE))) -> 0 | BC11: =IF(ISERROR(VLOOKUP(AW11,$AW$26:$BF$29,7,FALSE)),0,(VLOOKUP(AW11,$AW$26:$BF$29,7,FALSE))) -> 0 | BD11: =IF(ISERROR(VLOOKUP(AW11,$AW$26:$BF$29,8,FALSE)),0,(VLOOKUP(AW11,$AW$26:$BF$29,8,FALSE))) -> 0 | BE11: =BC11-BD11 -> 0 | BF11: =AZ11*3+BA11 -> 0 | BI11: 6 | BJ11: =IF(ISERROR(VLOOKUP(BI11,$BI$26:$BK$29,2,FALSE)),0,(VLOOKUP(BI11,$BI$26:$BK$29,2,FALSE))) -> 0 | BK11: =IF(ISERROR(VLOOKUP(BI11,$BI$26:$BR$27,3,FALSE)),0,(VLOOKUP(BI11,$BI$26:$BR$27,3,FALSE))) -> 0 | BL11: =IF(ISERROR(VLOOKUP(BI11,$BI$26:$BR$27,4,FALSE)),0,(VLOOKUP(BI11,$BI$26:$BR$27,4,FALSE))) -> 0 | BM11: =BK11-BL11-BN11 -> 0 | BN11: =IF(ISERROR(VLOOKUP(BI11,$BI$26:$BR$27,6,FALSE)),0,(VLOOKUP(BI11,$BI$26:$BR$27,6,FALSE))) -> 0 | BO11: =IF(ISERROR(VLOOKUP(BI11,$BI$26:$BR$27,7,FALSE)),0,(VLOOKUP(BI11,$BI$26:$BR$27,7,FALSE))) -> 0 | BP11: =IF(ISERROR(VLOOKUP(BI11,$BI$26:$BR$27,8,FALSE)),0,(VLOOKUP(BI11,$BI$26:$BR$27,8,FALSE))) -> 0 | BQ11: =BO11-BP11 -> 0 | BR11: =BL11*3+BM11 -> 0 | BY11: =P11 -> #REF! | BZ11: =Q11 -> #REF! | CA11: =R11+AN11+AY11+BK11 -> #REF! | CB11: =S11+AO11+AZ11+BL11 -> #REF! | CC11: =T11+AP11+BA11+BM11 -> #REF! | CD11: =U11+AQ11+BB11+BN11 -> #REF! | CE11: =V11+AR11+BC11+BO11 -> #REF! | CF11: =W11+AS11+BD11+BP11 -> #REF! | CG11: =X11+AT11+BE11+BQ11 -> #REF! | CH11: =Y11+AU11+BF11+BR11 -> #REF! | CJ11: =(10^10)*CH11+(10^8)*CB11+(10^6)*(50+CG11)+(10^4)*CE11+(10^2)*CA11+(13-BY11) -> #REF! | CK11: 6 | CL11: =LARGE($CJ$6:$CJ$23,CK11) -> #REF! | CN11: 6 | CO11: =MATCH(CL11,$CJ$6:$CJ$23,0) -> #REF!
B12: 7º | C12: =VLOOKUP(CO12,$BY$6:$CH$23,2) -> #REF! | D12: =VLOOKUP(CO12,$BY$6:$CH$23,3) -> #REF! | E12: =VLOOKUP(CO12,$BY$6:$CH$23,4) -> #REF! | F12: =D12-E12-G12 -> #REF! | G12: =VLOOKUP(CO12,$BY$6:$CH$23,6) -> #REF! | H12: =VLOOKUP(CO12,$BY$6:$CH$23,7) -> #REF! | I12: =VLOOKUP(CO12,$BY$6:$CH$23,8) -> #REF! | J12: =H12-I12 -> #REF! | K12: =E12*3+F12 -> #REF! | P12: =#REF! -> #REF! | Q12: =#REF! -> #REF! | R12: =#REF! -> #REF! | S12: =#REF! -> #REF! | T12: =#REF! -> #REF! | U12: =#REF! -> #REF! | V12: =#REF! -> #REF! | W12: =#REF! -> #REF! | ... Y12: =#REF! -> #REF! | Z12: =(10^10)*Y12+(10^8)*S12+(10^6)*(50+X12)+(10^4)*V12+(10^2)*R12+(13-P12) -> #REF! | AK12: 0 | AL12: =#REF! -> #REF! | AM12: =IF(ISERROR(VLOOKUP(AL12,$AL$27:$AN$34,2,FALSE)),0,(VLOOKUP(AL12,$AL$27:$AN$34,2,FALSE))) -> 0 | AN12: =IF(ISERROR(VLOOKUP(AL12,$AL$27:$AN$34,3,FALSE)),0,(VLOOKUP(AL12,$AL$27:$AN$34,3,FALSE))) -> 0 | AO12: =IF(ISERROR(VLOOKUP(AL12,$AL$27:$AO$34,4,FALSE)),0,(VLOOKUP(AL12,$AL$27:$AO$34,4,FALSE))) -> 0 | AP12: =AN12-AO12-AQ12 -> 0 | AQ12: =IF(ISERROR(VLOOKUP(AL12,$AL$27:$AQ$34,6,FALSE)),0,(VLOOKUP(AL12,$AL$27:$AQ$34,6,FALSE))) -> 0 | AR12: =IF(ISERROR(VLOOKUP(AL12,$AL$27:$AR$34,7,FALSE)),0,(VLOOKUP(AL12,$AL$27:$AR$34,7,FALSE))) -> 0 | AS12: =IF(ISERROR(VLOOKUP(AL12,$AL$27:$AS$34,8,FALSE)),0,(VLOOKUP(AL12,$AL$27:$AS$34,8,FALSE))) -> 0 | AT12: =AR12-AS12 -> 0 | AU12: =AO12*3+AP12 -> 0 | AW12: 7 | AX12: =IF(ISERROR(VLOOKUP(AW12,$AW$26:$AY$29,2,FALSE)),0,(VLOOKUP(AW12,$AW$26:$AY$29,2,FALSE))) -> 0 | AY12: =IF(ISERROR(VLOOKUP(AW12,$AW$26:$BF$29,3,FALSE)),0,(VLOOKUP(AW12,$AW$26:$BF$29,3,FALSE))) -> 0 | AZ12: =IF(ISERROR(VLOOKUP(AW12,$AW$26:$BF$29,4,FALSE)),0,(VLOOKUP(AW12,$AW$26:$BF$29,4,FALSE))) -> 0 | BA12: =AY12-AZ12-BB12 -> 0 | BB12: =IF(ISERROR(VLOOKUP(AW12,$AW$26:$BF$29,6,FALSE)),0,(VLOOKUP(AW12,$AW$26:$BF$29,6,FALSE))) -> 0 | BC12: =IF(ISERROR(VLOOKUP(AW12,$AW$26:$BF$29,7,FALSE)),0,(VLOOKUP(AW12,$AW$26:$BF$29,7,FALSE))) -> 0 | BD12: =IF(ISERROR(VLOOKUP(AW12,$AW$26:$BF$29,8,FALSE)),0,(VLOOKUP(AW12,$AW$26:$BF$29,8,FALSE))) -> 0 | BE12: =BC12-BD12 -> 0 | BF12: =AZ12*3+BA12 -> 0 | BI12: 7 | BJ12: =IF(ISERROR(VLOOKUP(BI12,$BI$26:$BK$29,2,FALSE)),0,(VLOOKUP(BI12,$BI$26:$BK$29,2,FALSE))) -> 0 | BK12: =IF(ISERROR(VLOOKUP(BI12,$BI$26:$BR$27,3,FALSE)),0,(VLOOKUP(BI12,$BI$26:$BR$27,3,FALSE))) -> 0 | BL12: =IF(ISERROR(VLOOKUP(BI12,$BI$26:$BR$27,4,FALSE)),0,(VLOOKUP(BI12,$BI$26:$BR$27,4,FALSE))) -> 0 | BM12: =BK12-BL12-BN12 -> 0 | BN12: =IF(ISERROR(VLOOKUP(BI12,$BI$26:$BR$27,6,FALSE)),0,(VLOOKUP(BI12,$BI$26:$BR$27,6,FALSE))) -> 0 | BO12: =IF(ISERROR(VLOOKUP(BI12,$BI$26:$BR$27,7,FALSE)),0,(VLOOKUP(BI12,$BI$26:$BR$27,7,FALSE))) -> 0 | BP12: =IF(ISERROR(VLOOKUP(BI12,$BI$26:$BR$27,8,FALSE)),0,(VLOOKUP(BI12,$BI$26:$BR$27,8,FALSE))) -> 0 | BQ12: =BO12-BP12 -> 0 | BR12: =BL12*3+BM12 -> 0 | BY12: =P12 -> #REF! | BZ12: =Q12 -> #REF! | CA12: =R12+AN12+AY12+BK12 -> #REF! | CB12: =S12+AO12+AZ12+BL12 -> #REF! | CC12: =T12+AP12+BA12+BM12 -> #REF! | CD12: =U12+AQ12+BB12+BN12 -> #REF! | CE12: =V12+AR12+BC12+BO12 -> #REF! | CF12: =W12+AS12+BD12+BP12 -> #REF! | CG12: =X12+AT12+BE12+BQ12 -> #REF! | CH12: =Y12+AU12+BF12+BR12 -> #REF! | CJ12: =(10^10)*CH12+(10^8)*CB12+(10^6)*(50+CG12)+(10^4)*CE12+(10^2)*CA12+(13-BY12) -> #REF! | CK12: 7 | CL12: =LARGE($CJ$6:$CJ$23,CK12) -> #REF! | CN12: 7 | CO12: =MATCH(CL12,$CJ$6:$CJ$23,0) -> #REF!
B13: 8º | C13: =VLOOKUP(CO13,$BY$6:$CH$23,2) -> #REF! | D13: =VLOOKUP(CO13,$BY$6:$CH$23,3) -> #REF! | E13: =VLOOKUP(CO13,$BY$6:$CH$23,4) -> #REF! | F13: =D13-E13-G13 -> #REF! | G13: =VLOOKUP(CO13,$BY$6:$CH$23,6) -> #REF! | H13: =VLOOKUP(CO13,$BY$6:$CH$23,7) -> #REF! | I13: =VLOOKUP(CO13,$BY$6:$CH$23,8) -> #REF! | J13: =H13-I13 -> #REF! | K13: =E13*3+F13 -> #REF! | P13: =#REF! -> #REF! | Q13: =#REF! -> #REF! | R13: =#REF! -> #REF! | S13: =#REF! -> #REF! | T13: =#REF! -> #REF! | U13: =#REF! -> #REF! | V13: =#REF! -> #REF! | W13: =#REF! -> #REF! | ... Y13: =#REF! -> #REF! | Z13: =(10^10)*Y13+(10^8)*S13+(10^6)*(50+X13)+(10^4)*V13+(10^2)*R13+(13-P13) -> #REF! | AK13: 0 | AL13: =#REF! -> #REF! | AM13: =IF(ISERROR(VLOOKUP(AL13,$AL$27:$AN$34,2,FALSE)),0,(VLOOKUP(AL13,$AL$27:$AN$34,2,FALSE))) -> 0 | AN13: =IF(ISERROR(VLOOKUP(AL13,$AL$27:$AN$34,3,FALSE)),0,(VLOOKUP(AL13,$AL$27:$AN$34,3,FALSE))) -> 0 | AO13: =IF(ISERROR(VLOOKUP(AL13,$AL$27:$AO$34,4,FALSE)),0,(VLOOKUP(AL13,$AL$27:$AO$34,4,FALSE))) -> 0 | AP13: =AN13-AO13-AQ13 -> 0 | AQ13: =IF(ISERROR(VLOOKUP(AL13,$AL$27:$AQ$34,6,FALSE)),0,(VLOOKUP(AL13,$AL$27:$AQ$34,6,FALSE))) -> 0 | AR13: =IF(ISERROR(VLOOKUP(AL13,$AL$27:$AR$34,7,FALSE)),0,(VLOOKUP(AL13,$AL$27:$AR$34,7,FALSE))) -> 0 | AS13: =IF(ISERROR(VLOOKUP(AL13,$AL$27:$AS$34,8,FALSE)),0,(VLOOKUP(AL13,$AL$27:$AS$34,8,FALSE))) -> 0 | AT13: =AR13-AS13 -> 0 | AU13: =AO13*3+AP13 -> 0 | AW13: 8 | AX13: =IF(ISERROR(VLOOKUP(AW13,$AW$26:$AY$29,2,FALSE)),0,(VLOOKUP(AW13,$AW$26:$AY$29,2,FALSE))) -> 0 | AY13: =IF(ISERROR(VLOOKUP(AW13,$AW$26:$BF$29,3,FALSE)),0,(VLOOKUP(AW13,$AW$26:$BF$29,3,FALSE))) -> 0 | AZ13: =IF(ISERROR(VLOOKUP(AW13,$AW$26:$BF$29,4,FALSE)),0,(VLOOKUP(AW13,$AW$26:$BF$29,4,FALSE))) -> 0 | BA13: =AY13-AZ13-BB13 -> 0 | BB13: =IF(ISERROR(VLOOKUP(AW13,$AW$26:$BF$29,6,FALSE)),0,(VLOOKUP(AW13,$AW$26:$BF$29,6,FALSE))) -> 0 | BC13: =IF(ISERROR(VLOOKUP(AW13,$AW$26:$BF$29,7,FALSE)),0,(VLOOKUP(AW13,$AW$26:$BF$29,7,FALSE))) -> 0 | BD13: =IF(ISERROR(VLOOKUP(AW13,$AW$26:$BF$29,8,FALSE)),0,(VLOOKUP(AW13,$AW$26:$BF$29,8,FALSE))) -> 0 | BE13: =BC13-BD13 -> 0 | BF13: =AZ13*3+BA13 -> 0 | BI13: 8 | BJ13: =IF(ISERROR(VLOOKUP(BI13,$BI$26:$BK$29,2,FALSE)),0,(VLOOKUP(BI13,$BI$26:$BK$29,2,FALSE))) -> 0 | BK13: =IF(ISERROR(VLOOKUP(BI13,$BI$26:$BR$27,3,FALSE)),0,(VLOOKUP(BI13,$BI$26:$BR$27,3,FALSE))) -> 0 | BL13: =IF(ISERROR(VLOOKUP(BI13,$BI$26:$BR$27,4,FALSE)),0,(VLOOKUP(BI13,$BI$26:$BR$27,4,FALSE))) -> 0 | BM13: =BK13-BL13-BN13 -> 0 | BN13: =IF(ISERROR(VLOOKUP(BI13,$BI$26:$BR$27,6,FALSE)),0,(VLOOKUP(BI13,$BI$26:$BR$27,6,FALSE))) -> 0 | BO13: =IF(ISERROR(VLOOKUP(BI13,$BI$26:$BR$27,7,FALSE)),0,(VLOOKUP(BI13,$BI$26:$BR$27,7,FALSE))) -> 0 | BP13: =IF(ISERROR(VLOOKUP(BI13,$BI$26:$BR$27,8,FALSE)),0,(VLOOKUP(BI13,$BI$26:$BR$27,8,FALSE))) -> 0 | BQ13: =BO13-BP13 -> 0 | BR13: =BL13*3+BM13 -> 0 | BY13: =P13 -> #REF! | BZ13: =Q13 -> #REF! | CA13: =R13+AN13+AY13+BK13 -> #REF! | CB13: =S13+AO13+AZ13+BL13 -> #REF! | CC13: =T13+AP13+BA13+BM13 -> #REF! | CD13: =U13+AQ13+BB13+BN13 -> #REF! | CE13: =V13+AR13+BC13+BO13 -> #REF! | CF13: =W13+AS13+BD13+BP13 -> #REF! | CG13: =X13+AT13+BE13+BQ13 -> #REF! | CH13: =Y13+AU13+BF13+BR13 -> #REF! | CJ13: =(10^10)*CH13+(10^8)*CB13+(10^6)*(50+CG13)+(10^4)*CE13+(10^2)*CA13+(13-BY13) -> #REF! | CK13: 8 | CL13: =LARGE($CJ$6:$CJ$23,CK13) -> #REF! | CN13: 8 | CO13: =MATCH(CL13,$CJ$6:$CJ$23,0) -> #REF!
B14: 9º | C14: =VLOOKUP(CO14,$BY$6:$CH$23,2) -> #REF! | D14: =VLOOKUP(CO14,$BY$6:$CH$23,3) -> #REF! | E14: =VLOOKUP(CO14,$BY$6:$CH$23,4) -> #REF! | F14: =D14-E14-G14 -> #REF! | G14: =VLOOKUP(CO14,$BY$6:$CH$23,6) -> #REF! | H14: =VLOOKUP(CO14,$BY$6:$CH$23,7) -> #REF! | I14: =VLOOKUP(CO14,$BY$6:$CH$23,8) -> #REF! | J14: =H14-I14 -> #REF! | K14: =E14*3+F14 -> #REF! | P14: =#REF! -> #REF! | Q14: =#REF! -> #REF! | R14: =#REF! -> #REF! | S14: =#REF! -> #REF! | T14: =#REF! -> #REF! | U14: =#REF! -> #REF! | V14: =#REF! -> #REF! | W14: =#REF! -> #REF! | ... Y14: =#REF! -> #REF! | Z14: =(10^10)*Y14+(10^8)*S14+(10^6)*(50+X14)+(10^4)*V14+(10^2)*R14+(13-P14) -> #REF! | AK14: 0 | AL14: =#REF! -> #REF! | AM14: =IF(ISERROR(VLOOKUP(AL14,$AL$27:$AN$34,2,FALSE)),0,(VLOOKUP(AL14,$AL$27:$AN$34,2,FALSE))) -> 0 | AN14: =IF(ISERROR(VLOOKUP(AL14,$AL$27:$AN$34,3,FALSE)),0,(VLOOKUP(AL14,$AL$27:$AN$34,3,FALSE))) -> 0 | AO14: =IF(ISERROR(VLOOKUP(AL14,$AL$27:$AO$34,4,FALSE)),0,(VLOOKUP(AL14,$AL$27:$AO$34,4,FALSE))) -> 0 | AP14: =AN14-AO14-AQ14 -> 0 | AQ14: =IF(ISERROR(VLOOKUP(AL14,$AL$27:$AQ$34,6,FALSE)),0,(VLOOKUP(AL14,$AL$27:$AQ$34,6,FALSE))) -> 0 | AR14: =IF(ISERROR(VLOOKUP(AL14,$AL$27:$AR$34,7,FALSE)),0,(VLOOKUP(AL14,$AL$27:$AR$34,7,FALSE))) -> 0 | AS14: =IF(ISERROR(VLOOKUP(AL14,$AL$27:$AS$34,8,FALSE)),0,(VLOOKUP(AL14,$AL$27:$AS$34,8,FALSE))) -> 0 | AT14: =AR14-AS14 -> 0 | AU14: =AO14*3+AP14 -> 0 | AW14: 9 | AX14: =IF(ISERROR(VLOOKUP(AW14,$AW$26:$AY$29,2,FALSE)),0,(VLOOKUP(AW14,$AW$26:$AY$29,2,FALSE))) -> 0 | AY14: =IF(ISERROR(VLOOKUP(AW14,$AW$26:$BF$29,3,FALSE)),0,(VLOOKUP(AW14,$AW$26:$BF$29,3,FALSE))) -> 0 | AZ14: =IF(ISERROR(VLOOKUP(AW14,$AW$26:$BF$29,4,FALSE)),0,(VLOOKUP(AW14,$AW$26:$BF$29,4,FALSE))) -> 0 | BA14: =AY14-AZ14-BB14 -> 0 | BB14: =IF(ISERROR(VLOOKUP(AW14,$AW$26:$BF$29,6,FALSE)),0,(VLOOKUP(AW14,$AW$26:$BF$29,6,FALSE))) -> 0 | BC14: =IF(ISERROR(VLOOKUP(AW14,$AW$26:$BF$29,7,FALSE)),0,(VLOOKUP(AW14,$AW$26:$BF$29,7,FALSE))) -> 0 | BD14: =IF(ISERROR(VLOOKUP(AW14,$AW$26:$BF$29,8,FALSE)),0,(VLOOKUP(AW14,$AW$26:$BF$29,8,FALSE))) -> 0 | BE14: =BC14-BD14 -> 0 | BF14: =AZ14*3+BA14 -> 0 | BI14: 9 | BJ14: =IF(ISERROR(VLOOKUP(BI14,$BI$26:$BK$29,2,FALSE)),0,(VLOOKUP(BI14,$BI$26:$BK$29,2,FALSE))) -> 0 | BK14: =IF(ISERROR(VLOOKUP(BI14,$BI$26:$BR$27,3,FALSE)),0,(VLOOKUP(BI14,$BI$26:$BR$27,3,FALSE))) -> 0 | BL14: =IF(ISERROR(VLOOKUP(BI14,$BI$26:$BR$27,4,FALSE)),0,(VLOOKUP(BI14,$BI$26:$BR$27,4,FALSE))) -> 0 | BM14: =BK14-BL14-BN14 -> 0 | BN14: =IF(ISERROR(VLOOKUP(BI14,$BI$26:$BR$27,6,FALSE)),0,(VLOOKUP(BI14,$BI$26:$BR$27,6,FALSE))) -> 0 | BO14: =IF(ISERROR(VLOOKUP(BI14,$BI$26:$BR$27,7,FALSE)),0,(VLOOKUP(BI14,$BI$26:$BR$27,7,FALSE))) -> 0 | BP14: =IF(ISERROR(VLOOKUP(BI14,$BI$26:$BR$27,8,FALSE)),0,(VLOOKUP(BI14,$BI$26:$BR$27,8,FALSE))) -> 0 | BQ14: =BO14-BP14 -> 0 | BR14: =BL14*3+BM14 -> 0 | BY14: =P14 -> #REF! | BZ14: =Q14 -> #REF! | CA14: =R14+AN14+AY14+BK14 -> #REF! | CB14: =S14+AO14+AZ14+BL14 -> #REF! | CC14: =T14+AP14+BA14+BM14 -> #REF! | CD14: =U14+AQ14+BB14+BN14 -> #REF! | CE14: =V14+AR14+BC14+BO14 -> #REF! | CF14: =W14+AS14+BD14+BP14 -> #REF! | CG14: =X14+AT14+BE14+BQ14 -> #REF! | CH14: =Y14+AU14+BF14+BR14 -> #REF! | CJ14: =(10^10)*CH14+(10^8)*CB14+(10^6)*(50+CG14)+(10^4)*CE14+(10^2)*CA14+(13-BY14) -> #REF! | CK14: 9 | CL14: =LARGE($CJ$6:$CJ$23,CK14) -> #REF! | CN14: 9 | CO14: =MATCH(CL14,$CJ$6:$CJ$23,0) -> #REF!
B15: 10º | C15: =VLOOKUP(CO15,$BY$6:$CH$23,2) -> #REF! | D15: =VLOOKUP(CO15,$BY$6:$CH$23,3) -> #REF! | E15: =VLOOKUP(CO15,$BY$6:$CH$23,4) -> #REF! | F15: =D15-E15-G15 -> #REF! | G15: =VLOOKUP(CO15,$BY$6:$CH$23,6) -> #REF! | H15: =VLOOKUP(CO15,$BY$6:$CH$23,7) -> #REF! | I15: =VLOOKUP(CO15,$BY$6:$CH$23,8) -> #REF! | J15: =H15-I15 -> #REF! | K15: =E15*3+F15 -> #REF! | P15: =#REF! -> #REF! | Q15: =#REF! -> #REF! | R15: =#REF! -> #REF! | S15: =#REF! -> #REF! | T15: =#REF! -> #REF! | U15: =#REF! -> #REF! | V15: =#REF! -> #REF! | W15: =#REF! -> #REF! | ... Y15: =#REF! -> #REF! | Z15: =(10^10)*Y15+(10^8)*S15+(10^6)*(50+X15)+(10^4)*V15+(10^2)*R15+(13-P15) -> #REF! | AK15: 0 | AL15: =#REF! -> #REF! | AM15: =IF(ISERROR(VLOOKUP(AL15,$AL$27:$AN$34,2,FALSE)),0,(VLOOKUP(AL15,$AL$27:$AN$34,2,FALSE))) -> 0 | AN15: =IF(ISERROR(VLOOKUP(AL15,$AL$27:$AN$34,3,FALSE)),0,(VLOOKUP(AL15,$AL$27:$AN$34,3,FALSE))) -> 0 | AO15: =IF(ISERROR(VLOOKUP(AL15,$AL$27:$AO$34,4,FALSE)),0,(VLOOKUP(AL15,$AL$27:$AO$34,4,FALSE))) -> 0 | AP15: =AN15-AO15-AQ15 -> 0 | AQ15: =IF(ISERROR(VLOOKUP(AL15,$AL$27:$AQ$34,6,FALSE)),0,(VLOOKUP(AL15,$AL$27:$AQ$34,6,FALSE))) -> 0 | AR15: =IF(ISERROR(VLOOKUP(AL15,$AL$27:$AR$34,7,FALSE)),0,(VLOOKUP(AL15,$AL$27:$AR$34,7,FALSE))) -> 0 | AS15: =IF(ISERROR(VLOOKUP(AL15,$AL$27:$AS$34,8,FALSE)),0,(VLOOKUP(AL15,$AL$27:$AS$34,8,FALSE))) -> 0 | AT15: =AR15-AS15 -> 0 | AU15: =AO15*3+AP15 -> 0 | AW15: 10 | AX15: =IF(ISERROR(VLOOKUP(AW15,$AW$26:$AY$29,2,FALSE)),0,(VLOOKUP(AW15,$AW$26:$AY$29,2,FALSE))) -> 0 | AY15: =IF(ISERROR(VLOOKUP(AW15,$AW$26:$BF$29,3,FALSE)),0,(VLOOKUP(AW15,$AW$26:$BF$29,3,FALSE))) -> 0 | AZ15: =IF(ISERROR(VLOOKUP(AW15,$AW$26:$BF$29,4,FALSE)),0,(VLOOKUP(AW15,$AW$26:$BF$29,4,FALSE))) -> 0 | BA15: =AY15-AZ15-BB15 -> 0 | BB15: =IF(ISERROR(VLOOKUP(AW15,$AW$26:$BF$29,6,FALSE)),0,(VLOOKUP(AW15,$AW$26:$BF$29,6,FALSE))) -> 0 | BC15: =IF(ISERROR(VLOOKUP(AW15,$AW$26:$BF$29,7,FALSE)),0,(VLOOKUP(AW15,$AW$26:$BF$29,7,FALSE))) -> 0 | BD15: =IF(ISERROR(VLOOKUP(AW15,$AW$26:$BF$29,8,FALSE)),0,(VLOOKUP(AW15,$AW$26:$BF$29,8,FALSE))) -> 0 | BE15: =BC15-BD15 -> 0 | BF15: =AZ15*3+BA15 -> 0 | BI15: 10 | BJ15: =IF(ISERROR(VLOOKUP(BI15,$BI$26:$BK$29,2,FALSE)),0,(VLOOKUP(BI15,$BI$26:$BK$29,2,FALSE))) -> 0 | BK15: =IF(ISERROR(VLOOKUP(BI15,$BI$26:$BR$27,3,FALSE)),0,(VLOOKUP(BI15,$BI$26:$BR$27,3,FALSE))) -> 0 | BL15: =IF(ISERROR(VLOOKUP(BI15,$BI$26:$BR$27,4,FALSE)),0,(VLOOKUP(BI15,$BI$26:$BR$27,4,FALSE))) -> 0 | BM15: =BK15-BL15-BN15 -> 0 | BN15: =IF(ISERROR(VLOOKUP(BI15,$BI$26:$BR$27,6,FALSE)),0,(VLOOKUP(BI15,$BI$26:$BR$27,6,FALSE))) -> 0 | BO15: =IF(ISERROR(VLOOKUP(BI15,$BI$26:$BR$27,7,FALSE)),0,(VLOOKUP(BI15,$BI$26:$BR$27,7,FALSE))) -> 0 | BP15: =IF(ISERROR(VLOOKUP(BI15,$BI$26:$BR$27,8,FALSE)),0,(VLOOKUP(BI15,$BI$26:$BR$27,8,FALSE))) -> 0 | BQ15: =BO15-BP15 -> 0 | BR15: =BL15*3+BM15 -> 0 | BY15: =P15 -> #REF! | BZ15: =Q15 -> #REF! | CA15: =R15+AN15+AY15+BK15 -> #REF! | CB15: =S15+AO15+AZ15+BL15 -> #REF! | CC15: =T15+AP15+BA15+BM15 -> #REF! | CD15: =U15+AQ15+BB15+BN15 -> #REF! | CE15: =V15+AR15+BC15+BO15 -> #REF! | CF15: =W15+AS15+BD15+BP15 -> #REF! | CG15: =X15+AT15+BE15+BQ15 -> #REF! | CH15: =Y15+AU15+BF15+BR15 -> #REF! | CJ15: =(10^10)*CH15+(10^8)*CB15+(10^6)*(50+CG15)+(10^4)*CE15+(10^2)*CA15+(13-BY15) -> #REF! | CK15: 10 | CL15: =LARGE($CJ$6:$CJ$23,CK15) -> #REF! | CN15: 10 | CO15: =MATCH(CL15,$CJ$6:$CJ$23,0) -> #REF!
B16: 11º | C16: =VLOOKUP(CO16,$BY$6:$CH$23,2) -> #REF! | D16: =VLOOKUP(CO16,$BY$6:$CH$23,3) -> #REF! | E16: =VLOOKUP(CO16,$BY$6:$CH$23,4) -> #REF! | F16: =D16-E16-G16 -> #REF! | G16: =VLOOKUP(CO16,$BY$6:$CH$23,6) -> #REF! | H16: =VLOOKUP(CO16,$BY$6:$CH$23,7) -> #REF! | I16: =VLOOKUP(CO16,$BY$6:$CH$23,8) -> #REF! | J16: =H16-I16 -> #REF! | K16: =E16*3+F16 -> #REF! | P16: =#REF! -> #REF! | Q16: =#REF! -> #REF! | R16: =#REF! -> #REF! | S16: =#REF! -> #REF! | T16: =#REF! -> #REF! | U16: =#REF! -> #REF! | V16: =#REF! -> #REF! | W16: =#REF! -> #REF! | ... Y16: =#REF! -> #REF! | Z16: =(10^10)*Y16+(10^8)*S16+(10^6)*(50+X16)+(10^4)*V16+(10^2)*R16+(13-P16) -> #REF! | AK16: 0 | AL16: =#REF! -> #REF! | AM16: =IF(ISERROR(VLOOKUP(AL16,$AL$27:$AN$34,2,FALSE)),0,(VLOOKUP(AL16,$AL$27:$AN$34,2,FALSE))) -> 0 | AN16: =IF(ISERROR(VLOOKUP(AL16,$AL$27:$AN$34,3,FALSE)),0,(VLOOKUP(AL16,$AL$27:$AN$34,3,FALSE))) -> 0 | AO16: =IF(ISERROR(VLOOKUP(AL16,$AL$27:$AO$34,4,FALSE)),0,(VLOOKUP(AL16,$AL$27:$AO$34,4,FALSE))) -> 0 | AP16: =AN16-AO16-AQ16 -> 0 | AQ16: =IF(ISERROR(VLOOKUP(AL16,$AL$27:$AQ$34,6,FALSE)),0,(VLOOKUP(AL16,$AL$27:$AQ$34,6,FALSE))) -> 0 | AR16: =IF(ISERROR(VLOOKUP(AL16,$AL$27:$AR$34,7,FALSE)),0,(VLOOKUP(AL16,$AL$27:$AR$34,7,FALSE))) -> 0 | AS16: =IF(ISERROR(VLOOKUP(AL16,$AL$27:$AS$34,8,FALSE)),0,(VLOOKUP(AL16,$AL$27:$AS$34,8,FALSE))) -> 0 | AT16: =AR16-AS16 -> 0 | AU16: =AO16*3+AP16 -> 0 | AW16: 11 | AX16: =IF(ISERROR(VLOOKUP(AW16,$AW$26:$AY$29,2,FALSE)),0,(VLOOKUP(AW16,$AW$26:$AY$29,2,FALSE))) -> 0 | AY16: =IF(ISERROR(VLOOKUP(AW16,$AW$26:$BF$29,3,FALSE)),0,(VLOOKUP(AW16,$AW$26:$BF$29,3,FALSE))) -> 0 | AZ16: =IF(ISERROR(VLOOKUP(AW16,$AW$26:$BF$29,4,FALSE)),0,(VLOOKUP(AW16,$AW$26:$BF$29,4,FALSE))) -> 0 | BA16: =AY16-AZ16-BB16 -> 0 | BB16: =IF(ISERROR(VLOOKUP(AW16,$AW$26:$BF$29,6,FALSE)),0,(VLOOKUP(AW16,$AW$26:$BF$29,6,FALSE))) -> 0 | BC16: =IF(ISERROR(VLOOKUP(AW16,$AW$26:$BF$29,7,FALSE)),0,(VLOOKUP(AW16,$AW$26:$BF$29,7,FALSE))) -> 0 | BD16: =IF(ISERROR(VLOOKUP(AW16,$AW$26:$BF$29,8,FALSE)),0,(VLOOKUP(AW16,$AW$26:$BF$29,8,FALSE))) -> 0 | BE16: =BC16-BD16 -> 0 | BF16: =AZ16*3+BA16 -> 0 | BI16: 11 | BJ16: =IF(ISERROR(VLOOKUP(BI16,$BI$26:$BK$29,2,FALSE)),0,(VLOOKUP(BI16,$BI$26:$BK$29,2,FALSE))) -> 0 | BK16: =IF(ISERROR(VLOOKUP(BI16,$BI$26:$BR$27,3,FALSE)),0,(VLOOKUP(BI16,$BI$26:$BR$27,3,FALSE))) -> 0 | BL16: =IF(ISERROR(VLOOKUP(BI16,$BI$26:$BR$27,4,FALSE)),0,(VLOOKUP(BI16,$BI$26:$BR$27,4,FALSE))) -> 0 | BM16: =BK16-BL16-BN16 -> 0 | BN16: =IF(ISERROR(VLOOKUP(BI16,$BI$26:$BR$27,6,FALSE)),0,(VLOOKUP(BI16,$BI$26:$BR$27,6,FALSE))) -> 0 | BO16: =IF(ISERROR(VLOOKUP(BI16,$BI$26:$BR$27,7,FALSE)),0,(VLOOKUP(BI16,$BI$26:$BR$27,7,FALSE))) -> 0 | BP16: =IF(ISERROR(VLOOKUP(BI16,$BI$26:$BR$27,8,FALSE)),0,(VLOOKUP(BI16,$BI$26:$BR$27,8,FALSE))) -> 0 | BQ16: =BO16-BP16 -> 0 | BR16: =BL16*3+BM16 -> 0 | BY16: =P16 -> #REF! | BZ16: =Q16 -> #REF! | CA16: =R16+AN16+AY16+BK16 -> #REF! | CB16: =S16+AO16+AZ16+BL16 -> #REF! | CC16: =T16+AP16+BA16+BM16 -> #REF! | CD16: =U16+AQ16+BB16+BN16 -> #REF! | CE16: =V16+AR16+BC16+BO16 -> #REF! | CF16: =W16+AS16+BD16+BP16 -> #REF! | CG16: =X16+AT16+BE16+BQ16 -> #REF! | CH16: =Y16+AU16+BF16+BR16 -> #REF! | CJ16: =(10^10)*CH16+(10^8)*CB16+(10^6)*(50+CG16)+(10^4)*CE16+(10^2)*CA16+(13-BY16) -> #REF! | CK16: 11 | CL16: =LARGE($CJ$6:$CJ$23,CK16) -> #REF! | CN16: 11 | CO16: =MATCH(CL16,$CJ$6:$CJ$23,0) -> #REF!
B17: 12º | C17: =VLOOKUP(CO17,$BY$6:$CH$23,2) -> #REF! | D17: =VLOOKUP(CO17,$BY$6:$CH$23,3) -> #REF! | E17: =VLOOKUP(CO17,$BY$6:$CH$23,4) -> #REF! | F17: =D17-E17-G17 -> #REF! | G17: =VLOOKUP(CO17,$BY$6:$CH$23,6) -> #REF! | H17: =VLOOKUP(CO17,$BY$6:$CH$23,7) -> #REF! | I17: =VLOOKUP(CO17,$BY$6:$CH$23,8) -> #REF! | J17: =H17-I17 -> #REF! | K17: =E17*3+F17 -> #REF! | P17: =#REF! -> #REF! | Q17: =#REF! -> #REF! | R17: =#REF! -> #REF! | S17: =#REF! -> #REF! | T17: =#REF! -> #REF! | U17: =#REF! -> #REF! | V17: =#REF! -> #REF! | W17: =#REF! -> #REF! | ... Y17: =#REF! -> #REF! | Z17: =(10^10)*Y17+(10^8)*S17+(10^6)*(50+X17)+(10^4)*V17+(10^2)*R17+(13-P17) -> #REF! | AK17: 0 | AL17: =#REF! -> #REF! | AM17: =IF(ISERROR(VLOOKUP(AL17,$AL$27:$AN$34,2,FALSE)),0,(VLOOKUP(AL17,$AL$27:$AN$34,2,FALSE))) -> 0 | AN17: =IF(ISERROR(VLOOKUP(AL17,$AL$27:$AN$34,3,FALSE)),0,(VLOOKUP(AL17,$AL$27:$AN$34,3,FALSE))) -> 0 | AO17: =IF(ISERROR(VLOOKUP(AL17,$AL$27:$AO$34,4,FALSE)),0,(VLOOKUP(AL17,$AL$27:$AO$34,4,FALSE))) -> 0 | AP17: =AN17-AO17-AQ17 -> 0 | AQ17: =IF(ISERROR(VLOOKUP(AL17,$AL$27:$AQ$34,6,FALSE)),0,(VLOOKUP(AL17,$AL$27:$AQ$34,6,FALSE))) -> 0 | AR17: =IF(ISERROR(VLOOKUP(AL17,$AL$27:$AR$34,7,FALSE)),0,(VLOOKUP(AL17,$AL$27:$AR$34,7,FALSE))) -> 0 | AS17: =IF(ISERROR(VLOOKUP(AL17,$AL$27:$AS$34,8,FALSE)),0,(VLOOKUP(AL17,$AL$27:$AS$34,8,FALSE))) -> 0 | AT17: =AR17-AS17 -> 0 | AU17: =AO17*3+AP17 -> 0 | AW17: 12 | AX17: =IF(ISERROR(VLOOKUP(AW17,$AW$26:$AY$29,2,FALSE)),0,(VLOOKUP(AW17,$AW$26:$AY$29,2,FALSE))) -> 0 | AY17: =IF(ISERROR(VLOOKUP(AW17,$AW$26:$BF$29,3,FALSE)),0,(VLOOKUP(AW17,$AW$26:$BF$29,3,FALSE))) -> 0 | AZ17: =IF(ISERROR(VLOOKUP(AW17,$AW$26:$BF$29,4,FALSE)),0,(VLOOKUP(AW17,$AW$26:$BF$29,4,FALSE))) -> 0 | BA17: =AY17-AZ17-BB17 -> 0 | BB17: =IF(ISERROR(VLOOKUP(AW17,$AW$26:$BF$29,6,FALSE)),0,(VLOOKUP(AW17,$AW$26:$BF$29,6,FALSE))) -> 0 | BC17: =IF(ISERROR(VLOOKUP(AW17,$AW$26:$BF$29,7,FALSE)),0,(VLOOKUP(AW17,$AW$26:$BF$29,7,FALSE))) -> 0 | BD17: =IF(ISERROR(VLOOKUP(AW17,$AW$26:$BF$29,8,FALSE)),0,(VLOOKUP(AW17,$AW$26:$BF$29,8,FALSE))) -> 0 | BE17: =BC17-BD17 -> 0 | BF17: =AZ17*3+BA17 -> 0 | BI17: 12 | BJ17: =IF(ISERROR(VLOOKUP(BI17,$BI$26:$BK$29,2,FALSE)),0,(VLOOKUP(BI17,$BI$26:$BK$29,2,FALSE))) -> 0 | BK17: =IF(ISERROR(VLOOKUP(BI17,$BI$26:$BR$27,3,FALSE)),0,(VLOOKUP(BI17,$BI$26:$BR$27,3,FALSE))) -> 0 | BL17: =IF(ISERROR(VLOOKUP(BI17,$BI$26:$BR$27,4,FALSE)),0,(VLOOKUP(BI17,$BI$26:$BR$27,4,FALSE))) -> 0 | BM17: =BK17-BL17-BN17 -> 0 | BN17: =IF(ISERROR(VLOOKUP(BI17,$BI$26:$BR$27,6,FALSE)),0,(VLOOKUP(BI17,$BI$26:$BR$27,6,FALSE))) -> 0 | BO17: =IF(ISERROR(VLOOKUP(BI17,$BI$26:$BR$27,7,FALSE)),0,(VLOOKUP(BI17,$BI$26:$BR$27,7,FALSE))) -> 0 | BP17: =IF(ISERROR(VLOOKUP(BI17,$BI$26:$BR$27,8,FALSE)),0,(VLOOKUP(BI17,$BI$26:$BR$27,8,FALSE))) -> 0 | BQ17: =BO17-BP17 -> 0 | BR17: =BL17*3+BM17 -> 0 | BY17: =P17 -> #REF! | BZ17: =Q17 -> #REF! | CA17: =R17+AN17+AY17+BK17 -> #REF! | CB17: =S17+AO17+AZ17+BL17 -> #REF! | CC17: =T17+AP17+BA17+BM17 -> #REF! | CD17: =U17+AQ17+BB17+BN17 -> #REF! | CE17: =V17+AR17+BC17+BO17 -> #REF! | CF17: =W17+AS17+BD17+BP17 -> #REF! | CG17: =X17+AT17+BE17+BQ17 -> #REF! | CH17: =Y17+AU17+BF17+BR17 -> #REF! | CJ17: =(10^10)*CH17+(10^8)*CB17+(10^6)*(50+CG17)+(10^4)*CE17+(10^2)*CA17+(13-BY17) -> #REF! | CK17: 12 | CL17: =LARGE($CJ$6:$CJ$23,CK17) -> #REF! | CN17: 12 | CO17: =MATCH(CL17,$CJ$6:$CJ$23,0) -> #REF!
... B23: 18º | C23: =VLOOKUP(CO23,$BY$6:$CH$23,2) -> #REF! | D23: =VLOOKUP(CO23,$BY$6:$CH$23,3) -> #REF! | E23: =VLOOKUP(CO23,$BY$6:$CH$23,4) -> #REF! | F23: =D23-E23-G23 -> #REF! | G23: =VLOOKUP(CO23,$BY$6:$CH$23,6) -> #REF! | H23: =VLOOKUP(CO23,$BY$6:$CH$23,7) -> #REF! | I23: =VLOOKUP(CO23,$BY$6:$CH$23,8) -> #REF! | J23: =H23-I23 -> #REF! | K23: =E23*3+F23 -> #REF! | P23: =#REF! -> #REF! | Q23: =#REF! -> #REF! | R23: =#REF! -> #REF! | S23: =#REF! -> #REF! | T23: =#REF! -> #REF! | U23: =#REF! -> #REF! | V23: =#REF! -> #REF! | W23: =#REF! -> #REF! | ... Y23: =#REF! -> #REF! | Z23: =(10^10)*Y23+(10^8)*S23+(10^6)*(50+X23)+(10^4)*V23+(10^2)*R23+(13-P23) -> #REF! | AK23: 0 | AL23: =#REF! -> #REF! | AM23: =IF(ISERROR(VLOOKUP(AL23,$AL$27:$AN$34,2,FALSE)),0,(VLOOKUP(AL23,$AL$27:$AN$34,2,FALSE))) -> 0 | AN23: =IF(ISERROR(VLOOKUP(AL23,$AL$27:$AN$34,3,FALSE)),0,(VLOOKUP(AL23,$AL$27:$AN$34,3,FALSE))) -> 0 | AO23: =IF(ISERROR(VLOOKUP(AL23,$AL$27:$AO$34,4,FALSE)),0,(VLOOKUP(AL23,$AL$27:$AO$34,4,FALSE))) -> 0 | AP23: =AN23-AO23-AQ23 -> 0 | AQ23: =IF(ISERROR(VLOOKUP(AL23,$AL$27:$AQ$34,6,FALSE)),0,(VLOOKUP(AL23,$AL$27:$AQ$34,6,FALSE))) -> 0 | AR23: =IF(ISERROR(VLOOKUP(AL23,$AL$27:$AR$34,7,FALSE)),0,(VLOOKUP(AL23,$AL$27:$AR$34,7,FALSE))) -> 0 | AS23: =IF(ISERROR(VLOOKUP(AL23,$AL$27:$AS$34,8,FALSE)),0,(VLOOKUP(AL23,$AL$27:$AS$34,8,FALSE))) -> 0 | AT23: =AR23-AS23 -> 0 | AU23: =AO23*3+AP23 -> 0 | AW23: 18 | AX23: =IF(ISERROR(VLOOKUP(AW23,$AW$26:$AY$29,2,FALSE)),0,(VLOOKUP(AW23,$AW$26:$AY$29,2,FALSE))) -> 0 | AY23: =IF(ISERROR(VLOOKUP(AW23,$AW$26:$BF$29,3,FALSE)),0,(VLOOKUP(AW23,$AW$26:$BF$29,3,FALSE))) -> 0 | AZ23: =IF(ISERROR(VLOOKUP(AW23,$AW$26:$BF$29,4,FALSE)),0,(VLOOKUP(AW23,$AW$26:$BF$29,4,FALSE))) -> 0 | BA23: =AY23-AZ23-BB23 -> 0 | BB23: =IF(ISERROR(VLOOKUP(AW23,$AW$26:$BF$29,6,FALSE)),0,(VLOOKUP(AW23,$AW$26:$BF$29,6,FALSE))) -> 0 | BC23: =IF(ISERROR(VLOOKUP(AW23,$AW$26:$BF$29,7,FALSE)),0,(VLOOKUP(AW23,$AW$26:$BF$29,7,FALSE))) -> 0 | BD23: =IF(ISERROR(VLOOKUP(AW23,$AW$26:$BF$29,8,FALSE)),0,(VLOOKUP(AW23,$AW$26:$BF$29,8,FALSE))) -> 0 | BE23: =BC23-BD23 -> 0 | BF23: =AZ23*3+BA23 -> 0 | BI23: 18 | BJ23: =IF(ISERROR(VLOOKUP(BI23,$BI$26:$BK$29,2,FALSE)),0,(VLOOKUP(BI23,$BI$26:$BK$29,2,FALSE))) -> 0 | BK23: =IF(ISERROR(VLOOKUP(BI23,$BI$26:$BR$27,3,FALSE)),0,(VLOOKUP(BI23,$BI$26:$BR$27,3,FALSE))) -> 0 | BL23: =IF(ISERROR(VLOOKUP(BI23,$BI$26:$BR$27,4,FALSE)),0,(VLOOKUP(BI23,$BI$26:$BR$27,4,FALSE))) -> 0 | BM23: =BK23-BL23-BN23 -> 0 | BN23: =IF(ISERROR(VLOOKUP(BI23,$BI$26:$BR$27,6,FALSE)),0,(VLOOKUP(BI23,$BI$26:$BR$27,6,FALSE))) -> 0 | BO23: =IF(ISERROR(VLOOKUP(BI23,$BI$26:$BR$27,7,FALSE)),0,(VLOOKUP(BI23,$BI$26:$BR$27,7,FALSE))) -> 0 | BP23: =IF(ISERROR(VLOOKUP(BI23,$BI$26:$BR$27,8,FALSE)),0,(VLOOKUP(BI23,$BI$26:$BR$27,8,FALSE))) -> 0 | BQ23: =BO23-BP23 -> 0 | BR23: =BL23*3+BM23 -> 0 | BY23: =P23 -> #REF! | BZ23: =Q23 -> #REF! | CA23: =R23+AN23+AY23+BK23 -> #REF! | CB23: =S23+AO23+AZ23+BL23 -> #REF! | CC23: =T23+AP23+BA23+BM23 -> #REF! | CD23: =U23+AQ23+BB23+BN23 -> #REF! | CE23: =V23+AR23+BC23+BO23 -> #REF! | CF23: =W23+AS23+BD23+BP23 -> #REF! | CG23: =X23+AT23+BE23+BQ23 -> #REF! | CH23: =Y23+AU23+BF23+BR23 -> #REF! | CJ23: =(10^10)*CH23+(10^8)*CB23+(10^6)*(50+CG23)+(10^4)*CE23+(10^2)*CA23+(13-BY23) -> #REF! | CK23: 18 | CL23: =LARGE($CJ$6:$CJ$23,CK23) -> #REF! | CN23: 18 | CO23: =MATCH(CL23,$CJ$6:$CJ$23,0) -> #REF!
AL24: QUARTAS DE FINAL | AW24: SEMI FINAL | BI24: FINAL
AL25: ID_TIME | AM25: Times | AN25: Jogos | AO25: Vitorias | AP25: Empates | AQ25: Derrotas | AR25: Gols Pró | AS25: Gols Cont. | AT25: Saldo | AU25: Pontos | AW25: ID_TIME | AX25: Times | AY25: Jogos | AZ25: Vitorias | BA25: Empates | BB25: Derrotas | BC25: Gols Pró | BD25: Gols Cont. | BE25: Saldo | BF25: Pontos | BI25: ID_TIME | BJ25: Times | BK25: Jogos | BL25: Vitorias | BM25: Empates | BN25: Derrotas | BO25: Gols Pró | BP25: Gols Cont. | BQ25: Saldo | BR25: Pontos
AW26: =#REF! -> #REF! | AX26: =#REF! -> #REF! | AY26: =#REF! -> #REF! | AZ26: =#REF! -> #REF! | BA26: =#REF! -> #REF! | BB26: =#REF! -> #REF! | BC26: =#REF! -> #REF! | BD26: =#REF! -> #REF! | ... BF26: =#REF! -> #REF! | BI26: =#REF! -> #REF! | BJ26: =#REF! -> #REF! | BK26: =#REF! -> #REF! | BL26: =#REF! -> #REF! | BM26: =#REF! -> #REF! | BN26: =#REF! -> #REF! | BO26: =#REF! -> #REF! | BP26: =#REF! -> #REF! | ... BR26: =#REF! -> #REF!
AL27: =#REF! -> #REF! | AM27: =#REF! -> #REF! | AN27: =#REF! -> #REF! | AO27: =#REF! -> #REF! | AP27: =#REF! -> #REF! | AQ27: =#REF! -> #REF! | AR27: =#REF! -> #REF! | AS27: =#REF! -> #REF! | ... AU27: =#REF! -> #REF! | AW27: =#REF! -> #REF! | AX27: =#REF! -> #REF! | AY27: =#REF! -> #REF! | AZ27: =#REF! -> #REF! | BA27: =#REF! -> #REF! | BB27: =#REF! -> #REF! | BC27: =#REF! -> #REF! | BD27: =#REF! -> #REF! | ... BF27: =#REF! -> #REF! | BI27: =#REF! -> #REF! | BJ27: =#REF! -> #REF! | BK27: =#REF! -> #REF! | BL27: =#REF! -> #REF! | BM27: =#REF! -> #REF! | BN27: =#REF! -> #REF! | BO27: =#REF! -> #REF! | BP27: =#REF! -> #REF! | ... BR27: =#REF! -> #REF!
AL28: =#REF! -> #REF! | AM28: =#REF! -> #REF! | AN28: =#REF! -> #REF! | AO28: =#REF! -> #REF! | AP28: =#REF! -> #REF! | AQ28: =#REF! -> #REF! | AR28: =#REF! -> #REF! | AS28: =#REF! -> #REF! | ... AU28: =#REF! -> #REF! | AW28: =#REF! -> #REF! | AX28: =#REF! -> #REF! | AY28: =#REF! -> #REF! | AZ28: =#REF! -> #REF! | BA28: =#REF! -> #REF! | BB28: =#REF! -> #REF! | BC28: =#REF! -> #REF! | BD28: =#REF! -> #REF! | ... BF28: =#REF! -> #REF!
AL29: =#REF! -> #REF! | AM29: =#REF! -> #REF! | AN29: =#REF! -> #REF! | AO29: =#REF! -> #REF! | AP29: =#REF! -> #REF! | AQ29: =#REF! -> #REF! | AR29: =#REF! -> #REF! | AS29: =#REF! -> #REF! | ... AU29: =#REF! -> #REF! | AW29: =#REF! -> #REF! | AX29: =#REF! -> #REF! | AY29: =#REF! -> #REF! | AZ29: =#REF! -> #REF! | BA29: =#REF! -> #REF! | BB29: =#REF! -> #REF! | BC29: =#REF! -> #REF! | BD29: =#REF! -> #REF! | ... BF29: =#REF! -> #REF!
AL30: =#REF! -> #REF! | AM30: =#REF! -> #REF! | AN30: =#REF! -> #REF! | AO30: =#REF! -> #REF! | AP30: =#REF! -> #REF! | AQ30: =#REF! -> #REF! | AR30: =#REF! -> #REF! | AS30: =#REF! -> #REF! | ... AU30: =#REF! -> #REF!
AL31: =#REF! -> #REF! | AM31: =#REF! -> #REF! | AN31: =#REF! -> #REF! | AO31: =#REF! -> #REF! | AP31: =#REF! -> #REF! | AQ31: =#REF! -> #REF! | AR31: =#REF! -> #REF! | AS31: =#REF! -> #REF! | ... AU31: =#REF! -> #REF!
AL32: =#REF! -> #REF! | AM32: =#REF! -> #REF! | AN32: =#REF! -> #REF! | AO32: =#REF! -> #REF! | AP32: =#REF! -> #REF! | AQ32: =#REF! -> #REF! | AR32: =#REF! -> #REF! | AS32: =#REF! -> #REF! | ... AU32: =#REF! -> #REF!
AL33: =#REF! -> #REF! | AM33: =#REF! -> #REF! | AN33: =#REF! -> #REF! | AO33: =#REF! -> #REF! | AP33: =#REF! -> #REF! | AQ33: =#REF! -> #REF! | AR33: =#REF! -> #REF! | AS33: =#REF! -> #REF! | ... AU33: =#REF! -> #REF!
AL34: =#REF! -> #REF! | AM34: =#REF! -> #REF! | AN34: =#REF! -> #REF! | AO34: =#REF! -> #REF! | AP34: =#REF! -> #REF! | AQ34: =#REF! -> #REF! | AR34: =#REF! -> #REF! | AS34: =#REF! -> #REF! | ... AU34: =#REF! -> #REF!

Sheet Classificação
C2: LXXXIII Campeonato Tatooleague
C4: Uefa Cup
C5: 43862
C7: Grupo A
C8: Posição | D8: Times | E8: Jogos | F8: Vitorias | G8: Empates | H8: Derrotas | I8: Gols Pró | J8: Gols Cont. | K8: Saldo | L8: Pontos | M8: Aprov. | P8: Times | Q8: Jogos | R8: Vitorias | S8: Empates | T8: Derrotas | U8: Gols Pró | V8: Gols Cont. | W8: Saldo | X8: Pontos | Y8: ID_TIME | AA8: Times | AE8: Maior | AG8: Ordem Crescente
C10: 1º | D10: =VLOOKUP(AH10,$O$10:$Y$19,2) -> Juventus | E10: =VLOOKUP(AH10,$O$10:$Y$19,3) -> 10 | F10: =VLOOKUP(AH10,$O$10:$Y$19,4) -> 8 | G10: =VLOOKUP(AH10,$O$10:$Y$19,5) -> 1 | H10: =VLOOKUP(AH10,$O$10:$Y$19,6) -> 1 | I10: =VLOOKUP(AH10,$O$10:$Y$19,7) -> 33 | J10: =VLOOKUP(AH10,$O$10:$Y$19,8) -> 9 | K10: =VLOOKUP(AH10,$O$10:$Y$19,9) -> 24 | L10: =F10*3+G10 -> 25 | M10: =IF(E10>0,((L10*100)/N10)/100,0) -> 0.83333333 | N10: =E10*3 -> 30 | O10: 1 | P10: Internazionale | Q10: =IF(Jogos!C9<>"",1,0)+IF(Jogos!E34<>"",1,0)+IF(Jogos!C59<>"",1,0)+IF(Jogos!E84<>"",1,0)+IF(Jogos!C109<>"",1,0)+IF(Jogos!L9<>"",1,0)+IF(Jogos!J34<>"",1,0)+IF(Jogos!L59<>"",1,0)+IF(Jogos!J84<>"",1,0)+IF(Jogos!L109<>"",1,0) -> 10 | R10: =IF(Jogos!C9>Jogos!E9,1,0)+IF(Jogos!E34>Jogos!C34,1,0)+IF(Jogos!C59>Jogos!E59,1,0)+IF(Jogos!E84>Jogos!C84,1,0)+IF(Jogos!C109>Jogos!E109,1,0)+IF(Jogos!L9>Jogos!J9,1,0)+IF(Jogos!J34>Jogos!L34,1,0)+IF(Jogos!L59>Jogos!J59,1,0)+IF(Jogos!J84>Jogos!L84,1,0)+IF(Jogos!L109>Jogos!J109,1,0) -> 5 | S10: =Q10-R10-T10 -> 2 | T10: =IF(Jogos!C9<Jogos!E9,1,0)+IF(Jogos!E34<Jogos!C34,1,0)+IF(Jogos!C59<Jogos!E59,1,0)+IF(Jogos!E84<Jogos!C84,1,0)+IF(Jogos!C109<Jogos!E109,1,0)+IF(Jogos!L9<Jogos!J9,1,0)+IF(Jogos!J34<Jogos!L34,1,0)+IF(Jogos!L59<Jogos!J59,1,0)+IF(Jogos!J84<Jogos!L84,1,0)+IF(Jogos!L109<Jogos!J109,1,0) -> 3 | U10: =Jogos!C9+Jogos!E34+Jogos!C59+Jogos!E84+Jogos!C109+Jogos!L9+Jogos!J34+Jogos!L59+Jogos!J84+Jogos!L109 -> 15 | V10: =Jogos!E9+Jogos!C34+Jogos!E59+Jogos!C84+Jogos!E109+Jogos!J9+Jogos!L34+Jogos!J59+Jogos!L84+Jogos!J109 -> 11 | W10: =U10-V10 -> 4 | X10: =R10*3+S10 -> 17 | Y10: 1 | AA10: =(10^10)*X10+(10^8)*R10+(10^6)*(50+W10)+(10^4)*U10+(10^2)*Q10+(13-O10) -> 170554151012 | AD10: 1 | AE10: =LARGE($AA$10:$AA$19,AD10) -> 250874331010 | AG10: 1 | AH10: =MATCH(AE10,$AA$10:$AA$19,0) -> 3
C11: 2º | D11: =VLOOKUP(AH11,$O$10:$Y$19,2) -> B. München | E11: =VLOOKUP(AH11,$O$10:$Y$19,3) -> 10 | F11: =VLOOKUP(AH11,$O$10:$Y$19,4) -> 7 | G11: =VLOOKUP(AH11,$O$10:$Y$19,5) -> 2 | H11: =VLOOKUP(AH11,$O$10:$Y$19,6) -> 1 | I11: =VLOOKUP(AH11,$O$10:$Y$19,7) -> 21 | J11: =VLOOKUP(AH11,$O$10:$Y$19,8) -> 11 | K11: =VLOOKUP(AH11,$O$10:$Y$19,9) -> 10 | L11: =F11*3+G11 -> 23 | M11: =IF(E11>0,((L11*100)/N11)/100,0) -> 0.76666667 | N11: =E11*3 -> 30 | O11: 2 | P11: Atl. De Madrid | Q11: =IF(Jogos!C11<>"",1,0)+IF(Jogos!E36<>"",1,0)+IF(Jogos!C61<>"",1,0)+IF(Jogos!E86<>"",1,0)+IF(Jogos!C111<>"",1,0)+IF(Jogos!L11<>"",1,0)+IF(Jogos!J36<>"",1,0)+IF(Jogos!L61<>"",1,0)+IF(Jogos!J86<>"",1,0)+IF(Jogos!L111<>"",1,0) -> 10 | R11: =IF(Jogos!C11>Jogos!E11,1,0)+IF(Jogos!E36>Jogos!C36,1,0)+IF(Jogos!C61>Jogos!E61,1,0)+IF(Jogos!E86>Jogos!C86,1,0)+IF(Jogos!C111>Jogos!E111,1,0)+IF(Jogos!L11>Jogos!J11,1,0)+IF(Jogos!J36>Jogos!L36,1,0)+IF(Jogos!L61>Jogos!J61,1,0)+IF(Jogos!J86>Jogos!L86,1,0)+IF(Jogos!L111>Jogos!J111,1,0) -> 3 | S11: =Q11-R11-T11 -> 2 | T11: =IF(Jogos!C11<Jogos!E11,1,0)+IF(Jogos!E36<Jogos!C36,1,0)+IF(Jogos!C61<Jogos!E61,1,0)+IF(Jogos!E86<Jogos!C86,1,0)+IF(Jogos!C111<Jogos!E111,1,0)+IF(Jogos!L11<Jogos!J11,1,0)+IF(Jogos!J36<Jogos!L36,1,0)+IF(Jogos!L61<Jogos!J61,1,0)+IF(Jogos!J86<Jogos!L86,1,0)+IF(Jogos!L111<Jogos!J111,1,0) -> 5 | U11: =Jogos!C11+Jogos!E36+Jogos!C61+Jogos!E86+Jogos!C111+Jogos!L11+Jogos!J36+Jogos!L61+Jogos!J86+Jogos!L111 -> 11 | V11: =Jogos!E11+Jogos!C36+Jogos!E61+Jogos!C86+Jogos!E111+Jogos!J11+Jogos!L36+Jogos!J61+Jogos!L86+Jogos!J111 -> 32 | W11: =U11-V11 -> -21 | X11: =R11*3+S11 -> 11 | Y11: 2 | AA11: =(10^10)*X11+(10^8)*R11+(10^6)*(50+W11)+(10^4)*U11+(10^2)*Q11+(13-O11) -> 110329111011 | AD11: 2 | AE11: =LARGE($AA$10:$AA$19,AD11) -> 230760211005 | AG11: 2 | AH11: =MATCH(AE11,$AA$10:$AA$19,0) -> 8
C12: 3º | D12: =VLOOKUP(AH12,$O$10:$Y$19,2) -> Real Madrid | E12: =VLOOKUP(AH12,$O$10:$Y$19,3) -> 10 | F12: =VLOOKUP(AH12,$O$10:$Y$19,4) -> 7 | G12: =VLOOKUP(AH12,$O$10:$Y$19,5) -> 1 | H12: =VLOOKUP(AH12,$O$10:$Y$19,6) -> 2 | I12: =VLOOKUP(AH12,$O$10:$Y$19,7) -> 26 | J12: =VLOOKUP(AH12,$O$10:$Y$19,8) -> 6 | K12: =VLOOKUP(AH12,$O$10:$Y$19,9) -> 20 | L12: =F12*3+G12 -> 22 | M12: =IF(E12>0,((L12*100)/N12)/100,0) -> 0.73333333 | N12: =E12*3 -> 30 | O12: 3 | P12: Juventus | Q12: =IF(Jogos!C13<>"",1,0)+IF(Jogos!E38<>"",1,0)+IF(Jogos!C63<>"",1,0)+IF(Jogos!E88<>"",1,0)+IF(Jogos!C113<>"",1,0)+IF(Jogos!L13<>"",1,0)+IF(Jogos!J38<>"",1,0)+IF(Jogos!L63<>"",1,0)+IF(Jogos!J88<>"",1,0)+IF(Jogos!L113<>"",1,0) -> 10 | R12: =IF(Jogos!C13>Jogos!E13,1,0)+IF(Jogos!E38>Jogos!C38,1,0)+IF(Jogos!C63>Jogos!E63,1,0)+IF(Jogos!E88>Jogos!C88,1,0)+IF(Jogos!C113>Jogos!E113,1,0)+IF(Jogos!L13>Jogos!J13,1,0)+IF(Jogos!J38>Jogos!L38,1,0)+IF(Jogos!L63>Jogos!J63,1,0)+IF(Jogos!J88>Jogos!L88,1,0)+IF(Jogos!L113>Jogos!J113,1,0) -> 8 | S12: =Q12-R12-T12 -> 1 | T12: =IF(Jogos!C13<Jogos!E13,1,0)+IF(Jogos!E38<Jogos!C38,1,0)+IF(Jogos!C63<Jogos!E63,1,0)+IF(Jogos!E88<Jogos!C88,1,0)+IF(Jogos!C113<Jogos!E113,1,0)+IF(Jogos!L13<Jogos!J13,1,0)+IF(Jogos!J38<Jogos!L38,1,0)+IF(Jogos!L63<Jogos!J63,1,0)+IF(Jogos!J88<Jogos!L88,1,0)+IF(Jogos!L113<Jogos!J113,1,0) -> 1 | U12: =Jogos!C13+Jogos!E38+Jogos!C63+Jogos!E88+Jogos!C113+Jogos!L13+Jogos!J38+Jogos!L63+Jogos!J88+Jogos!L113 -> 33 | V12: =Jogos!E13+Jogos!C38+Jogos!E63+Jogos!C88+Jogos!E113+Jogos!J13+Jogos!L38+Jogos!J63+Jogos!L88+Jogos!J113 -> 9 | W12: =U12-V12 -> 24 | X12: =R12*3+S12 -> 25 | Y12: 3 | AA12: =(10^10)*X12+(10^8)*R12+(10^6)*(50+W12)+(10^4)*U12+(10^2)*Q12+(13-O12) -> 250874331010 | AD12: 3 | AE12: =LARGE($AA$10:$AA$19,AD12) -> 220770261008 | AG12: 3 | AH12: =MATCH(AE12,$AA$10:$AA$19,0) -> 5
C13: 4º | D13: =VLOOKUP(AH13,$O$10:$Y$19,2) -> Internazionale | E13: =VLOOKUP(AH13,$O$10:$Y$19,3) -> 10 | F13: =VLOOKUP(AH13,$O$10:$Y$19,4) -> 5 | G13: =VLOOKUP(AH13,$O$10:$Y$19,5) -> 2 | H13: =VLOOKUP(AH13,$O$10:$Y$19,6) -> 3 | I13: =VLOOKUP(AH13,$O$10:$Y$19,7) -> 15 | J13: =VLOOKUP(AH13,$O$10:$Y$19,8) -> 11 | K13: =VLOOKUP(AH13,$O$10:$Y$19,9) -> 4 | L13: =F13*3+G13 -> 17 | M13: =IF(E13>0,((L13*100)/N13)/100,0) -> 0.56666667 | N13: =E13*3 -> 30 | O13: 4 | P13: Arsenal | Q13: =IF(Jogos!C15<>"",1,0)+IF(Jogos!E40<>"",1,0)+IF(Jogos!C65<>"",1,0)+IF(Jogos!E90<>"",1,0)+IF(Jogos!C115<>"",1,0)+IF(Jogos!L15<>"",1,0)+IF(Jogos!J40<>"",1,0)+IF(Jogos!L65<>"",1,0)+IF(Jogos!J90<>"",1,0)+IF(Jogos!L115<>"",1,0) -> 10 | R13: =IF(Jogos!C15>Jogos!E15,1,0)+IF(Jogos!E40>Jogos!C40,1,0)+IF(Jogos!C65>Jogos!E65,1,0)+IF(Jogos!E90>Jogos!C90,1,0)+IF(Jogos!C115>Jogos!E115,1,0)+IF(Jogos!L15>Jogos!J15,1,0)+IF(Jogos!J40>Jogos!L40,1,0)+IF(Jogos!L65>Jogos!J65,1,0)+IF(Jogos!J90>Jogos!L90,1,0)+IF(Jogos!L115>Jogos!J115,1,0) -> 4 | S13: =Q13-R13-T13 -> 1 | T13: =IF(Jogos!C15<Jogos!E15,1,0)+IF(Jogos!E40<Jogos!C40,1,0)+IF(Jogos!C65<Jogos!E65,1,0)+IF(Jogos!E90<Jogos!C90,1,0)+IF(Jogos!C115<Jogos!E115,1,0)+IF(Jogos!L15<Jogos!J15,1,0)+IF(Jogos!J40<Jogos!L40,1,0)+IF(Jogos!L65<Jogos!J65,1,0)+IF(Jogos!J90<Jogos!L90,1,0)+IF(Jogos!L115<Jogos!J115,1,0) -> 5 | U13: =Jogos!C15+Jogos!E40+Jogos!C65+Jogos!E90+Jogos!C115+Jogos!L15+Jogos!J40+Jogos!L65+Jogos!J90+Jogos!L115 -> 8 | V13: =Jogos!E15+Jogos!C40+Jogos!E65+Jogos!C90+Jogos!E115+Jogos!J15+Jogos!L40+Jogos!J65+Jogos!L90+Jogos!J115 -> 14 | W13: =U13-V13 -> -6 | X13: =R13*3+S13 -> 13 | Y13: 4 | AA13: =(10^10)*X13+(10^8)*R13+(10^6)*(50+W13)+(10^4)*U13+(10^2)*Q13+(13-O13) -> 130444081009 | AD13: 4 | AE13: =LARGE($AA$10:$AA$19,AD13) -> 170554151012 | AG13: 4 | AH13: =MATCH(AE13,$AA$10:$AA$19,0) -> 1
C14: 5º | D14: =VLOOKUP(AH14,$O$10:$Y$19,2) -> Man. City | E14: =VLOOKUP(AH14,$O$10:$Y$19,3) -> 10 | F14: =VLOOKUP(AH14,$O$10:$Y$19,4) -> 5 | G14: =VLOOKUP(AH14,$O$10:$Y$19,5) -> 1 | H14: =VLOOKUP(AH14,$O$10:$Y$19,6) -> 4 | I14: =VLOOKUP(AH14,$O$10:$Y$19,7) -> 24 | J14: =VLOOKUP(AH14,$O$10:$Y$19,8) -> 19 | K14: =VLOOKUP(AH14,$O$10:$Y$19,9) -> 5 | L14: =F14*3+G14 -> 16 | M14: =IF(E14>0,((L14*100)/N14)/100,0) -> 0.53333333 | N14: =E14*3 -> 30 | O14: 5 | P14: Real Madrid | Q14: =IF(Jogos!C17<>"",1,0)+IF(Jogos!E42<>"",1,0)+IF(Jogos!C67<>"",1,0)+IF(Jogos!E92<>"",1,0)+IF(Jogos!C117<>"",1,0)+IF(Jogos!L17<>"",1,0)+IF(Jogos!J42<>"",1,0)+IF(Jogos!L67<>"",1,0)+IF(Jogos!J92<>"",1,0)+IF(Jogos!L117<>"",1,0) -> 10 | R14: =IF(Jogos!C17>Jogos!E17,1,0)+IF(Jogos!E42>Jogos!C42,1,0)+IF(Jogos!C67>Jogos!E67,1,0)+IF(Jogos!E92>Jogos!C92,1,0)+IF(Jogos!C117>Jogos!E117,1,0)+IF(Jogos!L17>Jogos!J17,1,0)+IF(Jogos!J42>Jogos!L42,1,0)+IF(Jogos!L67>Jogos!J67,1,0)+IF(Jogos!J92>Jogos!L92,1,0)+IF(Jogos!L117>Jogos!J117,1,0) -> 7 | S14: =Q14-R14-T14 -> 1 | T14: =IF(Jogos!C17<Jogos!E17,1,0)+IF(Jogos!E42<Jogos!C42,1,0)+IF(Jogos!C67<Jogos!E67,1,0)+IF(Jogos!E92<Jogos!C92,1,0)+IF(Jogos!C117<Jogos!E117,1,0)+IF(Jogos!L17<Jogos!J17,1,0)+IF(Jogos!J42<Jogos!L42,1,0)+IF(Jogos!L67<Jogos!J67,1,0)+IF(Jogos!J92<Jogos!L92,1,0)+IF(Jogos!L117<Jogos!J117,1,0) -> 2 | U14: =Jogos!C17+Jogos!E42+Jogos!C67+Jogos!E92+Jogos!C117+Jogos!L17+Jogos!J42+Jogos!L67+Jogos!J92+Jogos!L117 -> 26 | V14: =Jogos!E17+Jogos!C42+Jogos!E67+Jogos!C92+Jogos!E117+Jogos!J17+Jogos!L42+Jogos!J67+Jogos!L92+Jogos!J117 -> 6 | W14: =U14-V14 -> 20 | X14: =R14*3+S14 -> 22 | Y14: 5 | AA14: =(10^10)*X14+(10^8)*R14+(10^6)*(50+W14)+(10^4)*U14+(10^2)*Q14+(13-O14) -> 220770261008 | AD14: 5 | AE14: =LARGE($AA$10:$AA$19,AD14) -> 160555241004 | AG14: 5 | AH14: =MATCH(AE14,$AA$10:$AA$19,0) -> 9
C15: 6º | D15: =VLOOKUP(AH15,$O$10:$Y$19,2) -> Arsenal | E15: =VLOOKUP(AH15,$O$10:$Y$19,3) -> 10 | F15: =VLOOKUP(AH15,$O$10:$Y$19,4) -> 4 | G15: =VLOOKUP(AH15,$O$10:$Y$19,5) -> 1 | H15: =VLOOKUP(AH15,$O$10:$Y$19,6) -> 5 | I15: =VLOOKUP(AH15,$O$10:$Y$19,7) -> 8 | J15: =VLOOKUP(AH15,$O$10:$Y$19,8) -> 14 | K15: =VLOOKUP(AH15,$O$10:$Y$19,9) -> -6 | L15: =F15*3+G15 -> 13 | M15: =IF(E15>0,((L15*100)/N15)/100,0) -> 0.43333333 | N15: =E15*3 -> 30 | O15: 6 | P15: Velência | Q15: =IF(Jogos!C19<>"",1,0)+IF(Jogos!E44<>"",1,0)+IF(Jogos!C69<>"",1,0)+IF(Jogos!E94<>"",1,0)+IF(Jogos!C119<>"",1,0)+IF(Jogos!L19<>"",1,0)+IF(Jogos!J44<>"",1,0)+IF(Jogos!L69<>"",1,0)+IF(Jogos!J94<>"",1,0)+IF(Jogos!L119<>"",1,0) -> 10 | R15: =IF(Jogos!C19>Jogos!E19,1,0)+IF(Jogos!E44>Jogos!C44,1,0)+IF(Jogos!C69>Jogos!E69,1,0)+IF(Jogos!E94>Jogos!C94,1,0)+IF(Jogos!C119>Jogos!E119,1,0)+IF(Jogos!L19>Jogos!J19,1,0)+IF(Jogos!J44>Jogos!L44,1,0)+IF(Jogos!L69>Jogos!J69,1,0)+IF(Jogos!J94>Jogos!L94,1,0)+IF(Jogos!L119>Jogos!J119,1,0) -> 1 | S15: =Q15-R15-T15 -> 1 | T15: =IF(Jogos!C19<Jogos!E19,1,0)+IF(Jogos!E44<Jogos!C44,1,0)+IF(Jogos!C69<Jogos!E69,1,0)+IF(Jogos!E94<Jogos!C94,1,0)+IF(Jogos!C119<Jogos!E119,1,0)+IF(Jogos!L19<Jogos!J19,1,0)+IF(Jogos!J44<Jogos!L44,1,0)+IF(Jogos!L69<Jogos!J69,1,0)+IF(Jogos!J94<Jogos!L94,1,0)+IF(Jogos!L119<Jogos!J119,1,0) -> 8 | U15: =Jogos!C19+Jogos!E44+Jogos!C69+Jogos!E94+Jogos!C119+Jogos!L19+Jogos!J44+Jogos!L69+Jogos!J94+Jogos!L119 -> 6 | V15: =Jogos!E19+Jogos!C44+Jogos!E69+Jogos!C94+Jogos!E119+Jogos!J19+Jogos!L44+Jogos!J69+Jogos!L94+Jogos!J119 -> 23 | W15: =U15-V15 -> -17 | X15: =R15*3+S15 -> 4 | Y15: 6 | AA15: =(10^10)*X15+(10^8)*R15+(10^6)*(50+W15)+(10^4)*U15+(10^2)*Q15+(13-O15) -> 40133061007 | AD15: 6 | AE15: =LARGE($AA$10:$AA$19,AD15) -> 130444081009 | AG15: 6 | AH15: =MATCH(AE15,$AA$10:$AA$19,0) -> 4
C16: 7º | D16: =VLOOKUP(AH16,$O$10:$Y$19,2) -> Atl. De Madrid | E16: =VLOOKUP(AH16,$O$10:$Y$19,3) -> 10 | F16: =VLOOKUP(AH16,$O$10:$Y$19,4) -> 3 | G16: =VLOOKUP(AH16,$O$10:$Y$19,5) -> 2 | H16: =VLOOKUP(AH16,$O$10:$Y$19,6) -> 5 | I16: =VLOOKUP(AH16,$O$10:$Y$19,7) -> 11 | J16: =VLOOKUP(AH16,$O$10:$Y$19,8) -> 32 | K16: =VLOOKUP(AH16,$O$10:$Y$19,9) -> -21 | L16: =F16*3+G16 -> 11 | M16: =IF(E16>0,((L16*100)/N16)/100,0) -> 0.36666667 | N16: =E16*3 -> 30 | O16: 7 | P16: Man. United | Q16: =IF(Jogos!C21<>"",1,0)+IF(Jogos!E46<>"",1,0)+IF(Jogos!C71<>"",1,0)+IF(Jogos!E96<>"",1,0)+IF(Jogos!C121<>"",1,0)+IF(Jogos!L21<>"",1,0)+IF(Jogos!J46<>"",1,0)+IF(Jogos!L71<>"",1,0)+IF(Jogos!J96<>"",1,0)+IF(Jogos!L121<>"",1,0) -> 10 | R16: =IF(Jogos!C21>Jogos!E21,1,0)+IF(Jogos!E46>Jogos!C46,1,0)+IF(Jogos!C71>Jogos!E71,1,0)+IF(Jogos!E96>Jogos!C96,1,0)+IF(Jogos!C121>Jogos!E121,1,0)+IF(Jogos!L21>Jogos!J21,1,0)+IF(Jogos!J46>Jogos!L46,1,0)+IF(Jogos!L71>Jogos!J71,1,0)+IF(Jogos!J96>Jogos!L96,1,0)+IF(Jogos!L121>Jogos!J121,1,0) -> 0 | S16: =Q16-R16-T16 -> 3 | T16: =IF(Jogos!C21<Jogos!E21,1,0)+IF(Jogos!E46<Jogos!C46,1,0)+IF(Jogos!C71<Jogos!E71,1,0)+IF(Jogos!E96<Jogos!C96,1,0)+IF(Jogos!C121<Jogos!E121,1,0)+IF(Jogos!L21<Jogos!J21,1,0)+IF(Jogos!J46<Jogos!L46,1,0)+IF(Jogos!L71<Jogos!J71,1,0)+IF(Jogos!J96<Jogos!L96,1,0)+IF(Jogos!L121<Jogos!J121,1,0) -> 7 | U16: =Jogos!C21+Jogos!E46+Jogos!C71+Jogos!E96+Jogos!C121+Jogos!L21+Jogos!J46+Jogos!L71+Jogos!J96+Jogos!L121 -> 11 | V16: =Jogos!E21+Jogos!C46+Jogos!E71+Jogos!C96+Jogos!E121+Jogos!J21+Jogos!L46+Jogos!J71+Jogos!L96+Jogos!J121 -> 35 | W16: =U16-V16 -> -24 | X16: =R16*3+S16 -> 3 | Y16: 7 | AA16: =(10^10)*X16+(10^8)*R16+(10^6)*(50+W16)+(10^4)*U16+(10^2)*Q16+(13-O16) -> 30026111006 | AD16: 7 | AE16: =LARGE($AA$10:$AA$19,AD16) -> 110329111011 | AG16: 7 | AH16: =MATCH(AE16,$AA$10:$AA$19,0) -> 2
C17: 8º | D17: =VLOOKUP(AH17,$O$10:$Y$19,2) -> Chelsea | E17: =VLOOKUP(AH17,$O$10:$Y$19,3) -> 10 | F17: =VLOOKUP(AH17,$O$10:$Y$19,4) -> 2 | G17: =VLOOKUP(AH17,$O$10:$Y$19,5) -> 1 | H17: =VLOOKUP(AH17,$O$10:$Y$19,6) -> 7 | I17: =VLOOKUP(AH17,$O$10:$Y$19,7) -> 6 | J17: =VLOOKUP(AH17,$O$10:$Y$19,8) -> 26 | K17: =VLOOKUP(AH17,$O$10:$Y$19,9) -> -20 | L17: =F17*3+G17 -> 7 | M17: =IF(E17>0,((L17*100)/N17)/100,0) -> 0.23333333 | N17: =E17*3 -> 30 | O17: 8 | P17: B. München | Q17: =IF(Jogos!C23<>"",1,0)+IF(Jogos!E48<>"",1,0)+IF(Jogos!C73<>"",1,0)+IF(Jogos!E98<>"",1,0)+IF(Jogos!C123<>"",1,0)+IF(Jogos!L23<>"",1,0)+IF(Jogos!J48<>"",1,0)+IF(Jogos!L73<>"",1,0)+IF(Jogos!J98<>"",1,0)+IF(Jogos!L123<>"",1,0) -> 10 | R17: =IF(Jogos!C23>Jogos!E23,1,0)+IF(Jogos!E48>Jogos!C48,1,0)+IF(Jogos!C73>Jogos!E73,1,0)+IF(Jogos!E98>Jogos!C98,1,0)+IF(Jogos!C123>Jogos!E123,1,0)+IF(Jogos!L23>Jogos!J23,1,0)+IF(Jogos!J48>Jogos!L48,1,0)+IF(Jogos!L73>Jogos!J73,1,0)+IF(Jogos!J98>Jogos!L98,1,0)+IF(Jogos!L123>Jogos!J123,1,0) -> 7 | S17: =Q17-R17-T17 -> 2 | T17: =IF(Jogos!C23<Jogos!E23,1,0)+IF(Jogos!E48<Jogos!C48,1,0)+IF(Jogos!C73<Jogos!E73,1,0)+IF(Jogos!E98<Jogos!C98,1,0)+IF(Jogos!C123<Jogos!E123,1,0)+IF(Jogos!L23<Jogos!J23,1,0)+IF(Jogos!J48<Jogos!L48,1,0)+IF(Jogos!L73<Jogos!J73,1,0)+IF(Jogos!J98<Jogos!L98,1,0)+IF(Jogos!L123<Jogos!J123,1,0) -> 1 | U17: =Jogos!C23+Jogos!E48+Jogos!C73+Jogos!E98+Jogos!C123+Jogos!L23+Jogos!J48+Jogos!L73+Jogos!J98+Jogos!L123 -> 21 | V17: =Jogos!E23+Jogos!C48+Jogos!E73+Jogos!C98+Jogos!E123+Jogos!J23+Jogos!L48+Jogos!J73+Jogos!L98+Jogos!J123 -> 11 | W17: =U17-V17 -> 10 | X17: =R17*3+S17 -> 23 | Y17: 8 | AA17: =(10^10)*X17+(10^8)*R17+(10^6)*(50+W17)+(10^4)*U17+(10^2)*Q17+(13-O17) -> 230760211005 | AD17: 8 | AE17: =LARGE($AA$10:$AA$19,AD17) -> 70230061003 | AG17: 8 | AH17: =MATCH(AE17,$AA$10:$AA$19,0) -> 10
C18: 9º | D18: =VLOOKUP(AH18,$O$10:$Y$19,2) -> Velência | E18: =VLOOKUP(AH18,$O$10:$Y$19,3) -> 10 | F18: =VLOOKUP(AH18,$O$10:$Y$19,4) -> 1 | G18: =VLOOKUP(AH18,$O$10:$Y$19,5) -> 1 | H18: =VLOOKUP(AH18,$O$10:$Y$19,6) -> 8 | I18: =VLOOKUP(AH18,$O$10:$Y$19,7) -> 6 | J18: =VLOOKUP(AH18,$O$10:$Y$19,8) -> 23 | K18: =VLOOKUP(AH18,$O$10:$Y$19,9) -> -17 | L18: =F18*3+G18 -> 4 | M18: =IF(E18>0,((L18*100)/N18)/100,0) -> 0.13333333 | N18: =E18*3 -> 30 | O18: 9 | P18: Man. City | Q18: =IF(Jogos!C25<>"",1,0)+IF(Jogos!E50<>"",1,0)+IF(Jogos!C75<>"",1,0)+IF(Jogos!E100<>"",1,0)+IF(Jogos!C125<>"",1,0)+IF(Jogos!L25<>"",1,0)+IF(Jogos!J50<>"",1,0)+IF(Jogos!L75<>"",1,0)+IF(Jogos!J100<>"",1,0)+IF(Jogos!L125<>"",1,0) -> 10 | R18: =IF(Jogos!C25>Jogos!E25,1,0)+IF(Jogos!E50>Jogos!C50,1,0)+IF(Jogos!C75>Jogos!E75,1,0)+IF(Jogos!E100>Jogos!C100,1,0)+IF(Jogos!C125>Jogos!E125,1,0)+IF(Jogos!L25>Jogos!J25,1,0)+IF(Jogos!J50>Jogos!L50,1,0)+IF(Jogos!L75>Jogos!J75,1,0)+IF(Jogos!J100>Jogos!L100,1,0)+IF(Jogos!L125>Jogos!J125,1,0) -> 5 | S18: =Q18-R18-T18 -> 1 | T18: =IF(Jogos!C25<Jogos!E25,1,0)+IF(Jogos!E50<Jogos!C50,1,0)+IF(Jogos!C75<Jogos!E75,1,0)+IF(Jogos!E100<Jogos!C100,1,0)+IF(Jogos!C125<Jogos!E125,1,0)+IF(Jogos!L25<Jogos!J25,1,0)+IF(Jogos!J50<Jogos!L50,1,0)+IF(Jogos!L75<Jogos!J75,1,0)+IF(Jogos!J100<Jogos!L100,1,0)+IF(Jogos!L125<Jogos!J125,1,0) -> 4 | U18: =Jogos!C25+Jogos!E50+Jogos!C75+Jogos!E100+Jogos!C125+Jogos!L25+Jogos!J50+Jogos!L75+Jogos!J100+Jogos!L125 -> 24 | V18: =Jogos!E25+Jogos!C50+Jogos!E75+Jogos!C100+Jogos!E125+Jogos!J25+Jogos!L50+Jogos!J75+Jogos!L100+Jogos!J125 -> 19 | W18: =U18-V18 -> 5 | X18: =R18*3+S18 -> 16 | Y18: 9 | AA18: =(10^10)*X18+(10^8)*R18+(10^6)*(50+W18)+(10^4)*U18+(10^2)*Q18+(13-O18) -> 160555241004 | AD18: 9 | AE18: =LARGE($AA$10:$AA$19,AD18) -> 40133061007 | AG18: 9 | AH18: =MATCH(AE18,$AA$10:$AA$19,0) -> 6
C19: 10º | D19: =VLOOKUP(AH19,$O$10:$Y$19,2) -> Man. United | E19: =VLOOKUP(AH19,$O$10:$Y$19,3) -> 10 | F19: =VLOOKUP(AH19,$O$10:$Y$19,4) -> 0 | G19: =VLOOKUP(AH19,$O$10:$Y$19,5) -> 3 | H19: =VLOOKUP(AH19,$O$10:$Y$19,6) -> 7 | I19: =VLOOKUP(AH19,$O$10:$Y$19,7) -> 11 | J19: =VLOOKUP(AH19,$O$10:$Y$19,8) -> 35 | K19: =VLOOKUP(AH19,$O$10:$Y$19,9) -> -24 | L19: =F19*3+G19 -> 3 | M19: =IF(E19>0,((L19*100)/N19)/100,0) -> 0.1 | N19: =E19*3 -> 30 | O19: 10 | P19: Chelsea | Q19: =IF(Jogos!C27<>"",1,0)+IF(Jogos!E52<>"",1,0)+IF(Jogos!C77<>"",1,0)+IF(Jogos!E102<>"",1,0)+IF(Jogos!C127<>"",1,0)+IF(Jogos!L27<>"",1,0)+IF(Jogos!J52<>"",1,0)+IF(Jogos!L77<>"",1,0)+IF(Jogos!J102<>"",1,0)+IF(Jogos!L127<>"",1,0) -> 10 | R19: =IF(Jogos!C27>Jogos!E27,1,0)+IF(Jogos!E52>Jogos!C52,1,0)+IF(Jogos!C77>Jogos!E77,1,0)+IF(Jogos!E102>Jogos!C102,1,0)+IF(Jogos!C127>Jogos!E127,1,0)+IF(Jogos!L27>Jogos!J27,1,0)+IF(Jogos!J52>Jogos!L52,1,0)+IF(Jogos!L77>Jogos!J77,1,0)+IF(Jogos!J102>Jogos!L102,1,0)+IF(Jogos!L127>Jogos!J127,1,0) -> 2 | S19: =Q19-R19-T19 -> 1 | T19: =IF(Jogos!C27<Jogos!E27,1,0)+IF(Jogos!E52<Jogos!C52,1,0)+IF(Jogos!C77<Jogos!E77,1,0)+IF(Jogos!E102<Jogos!C102,1,0)+IF(Jogos!C127<Jogos!E127,1,0)+IF(Jogos!L27<Jogos!J27,1,0)+IF(Jogos!J52<Jogos!L52,1,0)+IF(Jogos!L77<Jogos!J77,1,0)+IF(Jogos!J102<Jogos!L102,1,0)+IF(Jogos!L127<Jogos!J127,1,0) -> 7 | U19: =Jogos!C27+Jogos!E52+Jogos!C77+Jogos!E102+Jogos!C127+Jogos!L27+Jogos!J52+Jogos!L77+Jogos!J102+Jogos!L127 -> 6 | V19: =Jogos!E27+Jogos!C52+Jogos!E77+Jogos!C102+Jogos!E127+Jogos!J27+Jogos!L52+Jogos!J77+Jogos!L102+Jogos!J127 -> 26 | W19: =U19-V19 -> -20 | X19: =R19*3+S19 -> 7 | Y19: 10 | AA19: =(10^10)*X19+(10^8)*R19+(10^6)*(50+W19)+(10^4)*U19+(10^2)*Q19+(13-O19) -> 70230061003 | AD19: 10 | AE19: =LARGE($AA$10:$AA$19,AD19) -> 30026111006 | AG19: 10 | AH19: =MATCH(AE19,$AA$10:$AA$19,0) -> 7
C21: Grupo B
C22: Posição | D22: Times | E22: Jogos | F22: Vitorias | G22: Empates | H22: Derrotas | I22: Gols Pró | J22: Gols Cont. | K22: Saldo | L22: Pontos | M22: Aprov. | P22: Times | Q22: Jogos | R22: Vitorias | S22: Empates | T22: Derrotas | U22: Gols Pró | V22: Gols Cont. | W22: Saldo | X22: Pontos | Y22: ID_TIME
C24: 1º | D24: =VLOOKUP(AH24,$O$24:$Y$33,2) -> Liverpool | E24: =VLOOKUP(AH24,$O$24:$Y$33,3) -> 10 | F24: =VLOOKUP(AH24,$O$24:$Y$33,4) -> 9 | G24: =VLOOKUP(AH24,$O$24:$Y$33,5) -> 0 | H24: =VLOOKUP(AH24,$O$24:$Y$33,6) -> 1 | I24: =VLOOKUP(AH24,$O$24:$Y$33,7) -> 19 | J24: =VLOOKUP(AH24,$O$24:$Y$33,8) -> 7 | K24: =VLOOKUP(AH24,$O$24:$Y$33,9) -> 12 | L24: =F24*3+G24 -> 27 | M24: =IF(E24>0,((L24*100)/N24)/100,0) -> 0.9 | N24: =E24*3 -> 30 | O24: 1 | P24: Ajax | Q24: =IF(Jogos!E9<>"",1,0)+IF(Jogos!C52<>"",1,0)+IF(Jogos!E75<>"",1,0)+IF(Jogos!C98<>"",1,0)+IF(Jogos!E121<>"",1,0)+IF(Jogos!J19<>"",1,0)+IF(Jogos!L42<>"",1,0)+IF(Jogos!J65<>"",1,0)+IF(Jogos!L88<>"",1,0)+IF(Jogos!J111<>"",1,0) -> 10 | R24: =IF(Jogos!E9>Jogos!C9,1,0)+IF(Jogos!C52>Jogos!E52,1,0)+IF(Jogos!E75>Jogos!C75,1,0)+IF(Jogos!C98>Jogos!E98,1,0)+IF(Jogos!E121>Jogos!C121,1,0)+IF(Jogos!J19>Jogos!L19,1,0)+IF(Jogos!L42>Jogos!J42,1,0)+IF(Jogos!J65>Jogos!L65,1,0)+IF(Jogos!L88>Jogos!J88,1,0)+IF(Jogos!J111>Jogos!L111,1,0) -> 7 | S24: =Q24-R24-T24 -> 2 | T24: =IF(Jogos!E9<Jogos!C9,1,0)+IF(Jogos!C52<Jogos!E52,1,0)+IF(Jogos!E75<Jogos!C75,1,0)+IF(Jogos!C98<Jogos!E98,1,0)+IF(Jogos!E121<Jogos!C121,1,0)+IF(Jogos!J19<Jogos!L19,1,0)+IF(Jogos!L42<Jogos!J42,1,0)+IF(Jogos!J65<Jogos!L65,1,0)+IF(Jogos!L88<Jogos!J88,1,0)+IF(Jogos!J111<Jogos!L111,1,0) -> 1 | U24: =Jogos!E9+Jogos!C52+Jogos!E75+Jogos!C98+Jogos!E121+Jogos!J19+Jogos!L42+Jogos!J65+Jogos!L88+Jogos!J111 -> 23 | V24: =Jogos!C9+Jogos!E52+Jogos!C75+Jogos!E98+Jogos!C121+Jogos!L19+Jogos!J42+Jogos!L65+Jogos!J88+Jogos!L111 -> 9 | W24: =U24-V24 -> 14 | X24: =R24*3+S24 -> 23 | Y24: 11 | AA24: =(10^10)*X24+(10^8)*R24+(10^6)*(50+W24)+(10^4)*U24+(10^2)*Q24+(13-O24) -> 230764231012 | AD24: 1 | AE24: =LARGE(AA24:AA33,AD24) -> 270962191006 | AG24: 1 | AH24: =MATCH(AE24,$AA$24:$AA$33,0) -> 7
C25: 2º | D25: =VLOOKUP(AH25,$O$24:$Y$33,2) -> Ajax | E25: =VLOOKUP(AH25,$O$24:$Y$33,3) -> 10 | F25: =VLOOKUP(AH25,$O$24:$Y$33,4) -> 7 | G25: =VLOOKUP(AH25,$O$24:$Y$33,5) -> 2 | H25: =VLOOKUP(AH25,$O$24:$Y$33,6) -> 1 | I25: =VLOOKUP(AH25,$O$24:$Y$33,7) -> 23 | J25: =VLOOKUP(AH25,$O$24:$Y$33,8) -> 9 | K25: =VLOOKUP(AH25,$O$24:$Y$33,9) -> 14 | L25: =F25*3+G25 -> 23 | M25: =IF(E25>0,((L25*100)/N25)/100,0) -> 0.76666667 | N25: =E25*3 -> 30 | O25: 2 | P25: Napoli | Q25: =IF(Jogos!E11<>"",1,0)+IF(Jogos!C34<>"",1,0)+IF(Jogos!E77<>"",1,0)+IF(Jogos!C100<>"",1,0)+IF(Jogos!E123<>"",1,0)+IF(Jogos!J21<>"",1,0)+IF(Jogos!L44<>"",1,0)+IF(Jogos!J67<>"",1,0)+IF(Jogos!L90<>"",1,0)+IF(Jogos!J113<>"",1,0) -> 10 | R25: =IF(Jogos!E11>Jogos!C11,1,0)+IF(Jogos!C34>Jogos!E34,1,0)+IF(Jogos!E77>Jogos!C77,1,0)+IF(Jogos!C100>Jogos!E100,1,0)+IF(Jogos!E123>Jogos!C123,1,0)+IF(Jogos!J21>Jogos!L21,1,0)+IF(Jogos!L44>Jogos!J44,1,0)+IF(Jogos!J67>Jogos!L67,1,0)+IF(Jogos!L90>Jogos!J90,1,0)+IF(Jogos!J113>Jogos!L113,1,0) -> 2 | S25: =Q25-R25-T25 -> 1 | T25: =IF(Jogos!C11>Jogos!E11,1,0)+IF(Jogos!E34>Jogos!C34,1,0)+IF(Jogos!C77>Jogos!E77,1,0)+IF(Jogos!E100>Jogos!C100,1,0)+IF(Jogos!C123>Jogos!E123,1,0)+IF(Jogos!L21>Jogos!J21,1,0)+IF(Jogos!J44>Jogos!L44,1,0)+IF(Jogos!L67>Jogos!J67,1,0)+IF(Jogos!J90>Jogos!L90,1,0)+IF(Jogos!L113>Jogos!J113,1,0) -> 7 | U25: =Jogos!E11+Jogos!C34+Jogos!E77+Jogos!C100+Jogos!E123+Jogos!J21+Jogos!L44+Jogos!J67+Jogos!L90+Jogos!J113 -> 9 | V25: =Jogos!C11+Jogos!E34+Jogos!C77+Jogos!E100+Jogos!C123+Jogos!L21+Jogos!J44+Jogos!L67+Jogos!J90+Jogos!L113 -> 21 | W25: =U25-V25 -> -12 | X25: =R25*3+S25 -> 7 | Y25: 12 | AA25: =(10^10)*X25+(10^8)*R25+(10^6)*(50+W25)+(10^4)*U25+(10^2)*Q25+(13-O25) -> 70238091011 | AD25: 2 | AE25: =LARGE(AA24:AA33,AD25) -> 230764231012 | AG25: 2 | AH25: =MATCH(AE25,$AA$24:$AA$33,0) -> 1
C26: 3º | D26: =VLOOKUP(AH26,$O$24:$Y$33,2) -> B. Leverkusen | E26: =VLOOKUP(AH26,$O$24:$Y$33,3) -> 10 | F26: =VLOOKUP(AH26,$O$24:$Y$33,4) -> 6 | G26: =VLOOKUP(AH26,$O$24:$Y$33,5) -> 3 | H26: =VLOOKUP(AH26,$O$24:$Y$33,6) -> 1 | I26: =VLOOKUP(AH26,$O$24:$Y$33,7) -> 41 | J26: =VLOOKUP(AH26,$O$24:$Y$33,8) -> 11 | K26: =VLOOKUP(AH26,$O$24:$Y$33,9) -> 30 | L26: =F26*3+G26 -> 21 | M26: =IF(E26>0,((L26*100)/N26)/100,0) -> 0.7 | N26: =E26*3 -> 30 | O26: 3 | P26: Barcelona | Q26: =IF(Jogos!E13<>"",1,0)+IF(Jogos!C36<>"",1,0)+IF(Jogos!E59<>"",1,0)+IF(Jogos!C102<>"",1,0)+IF(Jogos!E125<>"",1,0)+IF(Jogos!J23<>"",1,0)+IF(Jogos!L46<>"",1,0)+IF(Jogos!J69<>"",1,0)+IF(Jogos!L92<>"",1,0)+IF(Jogos!J115<>"",1,0) -> 10 | R26: =IF(Jogos!E13>Jogos!C13,1,0)+IF(Jogos!C36>Jogos!E36,1,0)+IF(Jogos!E59>Jogos!C59,1,0)+IF(Jogos!C102>Jogos!E102,1,0)+IF(Jogos!E125>Jogos!C125,1,0)+IF(Jogos!J23>Jogos!L23,1,0)+IF(Jogos!L46>Jogos!J46,1,0)+IF(Jogos!J69>Jogos!L69,1,0)+IF(Jogos!L92>Jogos!J92,1,0)+IF(Jogos!J115>Jogos!L115,1,0) -> 6 | S26: =Q26-R26-T26 -> 1 | T26: =IF(Jogos!E13<Jogos!C13,1,0)+IF(Jogos!C36<Jogos!E36,1,0)+IF(Jogos!E59<Jogos!C59,1,0)+IF(Jogos!C102<Jogos!E102,1,0)+IF(Jogos!E125<Jogos!C125,1,0)+IF(Jogos!J23<Jogos!L23,1,0)+IF(Jogos!L46<Jogos!J46,1,0)+IF(Jogos!J69<Jogos!L69,1,0)+IF(Jogos!L92<Jogos!J92,1,0)+IF(Jogos!J115<Jogos!L115,1,0) -> 3 | U26: =Jogos!E13+Jogos!C36+Jogos!E59+Jogos!C102+Jogos!E125+Jogos!J23+Jogos!L46+Jogos!J69+Jogos!L92+Jogos!J115 -> 24 | V26: =Jogos!C13+Jogos!E36+Jogos!C59+Jogos!E102+Jogos!C125+Jogos!L23+Jogos!J46+Jogos!L69+Jogos!J92+Jogos!L115 -> 13 | W26: =U26-V26 -> 11 | X26: =R26*3+S26 -> 19 | Y26: 13 | AA26: =(10^10)*X26+(10^8)*R26+(10^6)*(50+W26)+(10^4)*U26+(10^2)*Q26+(13-O26) -> 190661241010 | AD26: 3 | AE26: =LARGE(AA24:AA33,AD26) -> 210680411005 | AG26: 3 | AH26: =MATCH(AE26,$AA$24:$AA$33,0) -> 8
C27: 4º | D27: =VLOOKUP(AH27,$O$24:$Y$33,2) -> PSG | E27: =VLOOKUP(AH27,$O$24:$Y$33,3) -> 10 | F27: =VLOOKUP(AH27,$O$24:$Y$33,4) -> 6 | G27: =VLOOKUP(AH27,$O$24:$Y$33,5) -> 2 | H27: =VLOOKUP(AH27,$O$24:$Y$33,6) -> 2 | I27: =VLOOKUP(AH27,$O$24:$Y$33,7) -> 33 | J27: =VLOOKUP(AH27,$O$24:$Y$33,8) -> 12 | K27: =VLOOKUP(AH27,$O$24:$Y$33,9) -> 21 | L27: =F27*3+G27 -> 20 | M27: =IF(E27>0,((L27*100)/N27)/100,0) -> 0.66666667 | N27: =E27*3 -> 30 | O27: 4 | P27: PSG | Q27: =IF(Jogos!E15<>"",1,0)+IF(Jogos!C38<>"",1,0)+IF(Jogos!E61<>"",1,0)+IF(Jogos!C84<>"",1,0)+IF(Jogos!E127<>"",1,0)+IF(Jogos!J25<>"",1,0)+IF(Jogos!L48<>"",1,0)+IF(Jogos!J71<>"",1,0)+IF(Jogos!L94<>"",1,0)+IF(Jogos!J117<>"",1,0) -> 10 | R27: =IF(Jogos!E15>Jogos!C15,1,0)+IF(Jogos!C38>Jogos!E38,1,0)+IF(Jogos!E61>Jogos!C61,1,0)+IF(Jogos!C84>Jogos!E84,1,0)+IF(Jogos!E127>Jogos!C127,1,0)+IF(Jogos!J25>Jogos!L25,1,0)+IF(Jogos!L48>Jogos!J48,1,0)+IF(Jogos!J71>Jogos!L71,1,0)+IF(Jogos!L94>Jogos!J94,1,0)+IF(Jogos!J117>Jogos!L117,1,0) -> 6 | S27: =Q27-R27-T27 -> 2 | T27: =IF(Jogos!E15<Jogos!C15,1,0)+IF(Jogos!C38<Jogos!E38,1,0)+IF(Jogos!E61<Jogos!C61,1,0)+IF(Jogos!C84<Jogos!E84,1,0)+IF(Jogos!E127<Jogos!C127,1,0)+IF(Jogos!J25<Jogos!L25,1,0)+IF(Jogos!L48<Jogos!J48,1,0)+IF(Jogos!J71<Jogos!L71,1,0)+IF(Jogos!L94<Jogos!J94,1,0)+IF(Jogos!J117<Jogos!L117,1,0) -> 2 | U27: =Jogos!E15+Jogos!C38+Jogos!E61+Jogos!C84+Jogos!E127+Jogos!J25+Jogos!L48+Jogos!J71+Jogos!L94+Jogos!J117 -> 33 | V27: =Jogos!C15+Jogos!E38+Jogos!C61+Jogos!E84+Jogos!C127+Jogos!L25+Jogos!J48+Jogos!L71+Jogos!J94+Jogos!L117 -> 12 | W27: =U27-V27 -> 21 | X27: =R27*3+S27 -> 20 | Y27: 14 | AA27: =(10^10)*X27+(10^8)*R27+(10^6)*(50+W27)+(10^4)*U27+(10^2)*Q27+(13-O27) -> 200671331009 | AD27: 4 | AE27: =LARGE(AA24:AA33,AD27) -> 200671331009 | AG27: 4 | AH27: =MATCH(AE27,$AA$24:$AA$33,0) -> 4
C28: 5º | D28: =VLOOKUP(AH28,$O$24:$Y$33,2) -> Barcelona | E28: =VLOOKUP(AH28,$O$24:$Y$33,3) -> 10 | F28: =VLOOKUP(AH28,$O$24:$Y$33,4) -> 6 | G28: =VLOOKUP(AH28,$O$24:$Y$33,5) -> 1 | H28: =VLOOKUP(AH28,$O$24:$Y$33,6) -> 3 | I28: =VLOOKUP(AH28,$O$24:$Y$33,7) -> 24 | J28: =VLOOKUP(AH28,$O$24:$Y$33,8) -> 13 | K28: =VLOOKUP(AH28,$O$24:$Y$33,9) -> 11 | L28: =F28*3+G28 -> 19 | M28: =IF(E28>0,((L28*100)/N28)/100,0) -> 0.63333333 | N28: =E28*3 -> 30 | O28: 5 | P28: Borussia | Q28: =IF(Jogos!E17<>"",1,0)+IF(Jogos!C40<>"",1,0)+IF(Jogos!E63<>"",1,0)+IF(Jogos!C86<>"",1,0)+IF(Jogos!E109<>"",1,0)+IF(Jogos!J27<>"",1,0)+IF(Jogos!L50<>"",1,0)+IF(Jogos!J73<>"",1,0)+IF(Jogos!L96<>"",1,0)+IF(Jogos!J119<>"",1,0) -> 10 | R28: =IF(Jogos!E17>Jogos!C17,1,0)+IF(Jogos!C40>Jogos!E40,1,0)+IF(Jogos!E63>Jogos!C63,1,0)+IF(Jogos!C86>Jogos!E86,1,0)+IF(Jogos!E109>Jogos!C109,1,0)+IF(Jogos!J27>Jogos!L27,1,0)+IF(Jogos!L50>Jogos!J50,1,0)+IF(Jogos!J73>Jogos!L73,1,0)+IF(Jogos!L96>Jogos!J96,1,0)+IF(Jogos!J119>Jogos!L119,1,0) -> 2 | S28: =Q28-R28-T28 -> 2 | T28: =IF(Jogos!E17<Jogos!C17,1,0)+IF(Jogos!C40<Jogos!E40,1,0)+IF(Jogos!E63<Jogos!C63,1,0)+IF(Jogos!C86<Jogos!E86,1,0)+IF(Jogos!E109<Jogos!C109,1,0)+IF(Jogos!J27<Jogos!L27,1,0)+IF(Jogos!L50<Jogos!J50,1,0)+IF(Jogos!J73<Jogos!L73,1,0)+IF(Jogos!L96<Jogos!J96,1,0)+IF(Jogos!J119<Jogos!L119,1,0) -> 6 | U28: =Jogos!E17+Jogos!C40+Jogos!E63+Jogos!C86+Jogos!E109+Jogos!J27+Jogos!L50+Jogos!J73+Jogos!L96+Jogos!J119 -> 10 | V28: =Jogos!C17+Jogos!E40+Jogos!C63+Jogos!E86+Jogos!C109+Jogos!L27+Jogos!J50+Jogos!L73+Jogos!J96+Jogos!L119 -> 19 | W28: =U28-V28 -> -9 | X28: =R28*3+S28 -> 8 | Y28: 15 | AA28: =(10^10)*X28+(10^8)*R28+(10^6)*(50+W28)+(10^4)*U28+(10^2)*Q28+(13-O28) -> 80241101008 | AD28: 5 | AE28: =LARGE(AA24:AA33,AD28) -> 190661241010 | AG28: 5 | AH28: =MATCH(AE28,$AA$24:$AA$33,0) -> 3
C29: 6º | D29: =VLOOKUP(AH29,$O$24:$Y$33,2) -> RB Leipzig | E29: =VLOOKUP(AH29,$O$24:$Y$33,3) -> 10 | F29: =VLOOKUP(AH29,$O$24:$Y$33,4) -> 3 | G29: =VLOOKUP(AH29,$O$24:$Y$33,5) -> 1 | H29: =VLOOKUP(AH29,$O$24:$Y$33,6) -> 6 | I29: =VLOOKUP(AH29,$O$24:$Y$33,7) -> 10 | J29: =VLOOKUP(AH29,$O$24:$Y$33,8) -> 19 | K29: =VLOOKUP(AH29,$O$24:$Y$33,9) -> -9 | L29: =F29*3+G29 -> 10 | M29: =IF(E29>0,((L29*100)/N29)/100,0) -> 0.33333333 | N29: =E29*3 -> 30 | O29: 6 | P29: Tottenham | Q29: =IF(Jogos!E19<>"",1,0)+IF(Jogos!C42<>"",1,0)+IF(Jogos!E65<>"",1,0)+IF(Jogos!C88<>"",1,0)+IF(Jogos!E111<>"",1,0)+IF(Jogos!J9<>"",1,0)+IF(Jogos!L52<>"",1,0)+IF(Jogos!J75<>"",1,0)+IF(Jogos!L98<>"",1,0)+IF(Jogos!J121<>"",1,0) -> 10 | R29: =IF(Jogos!E19>Jogos!C19,1,0)+IF(Jogos!C42>Jogos!E42,1,0)+IF(Jogos!E65>Jogos!C65,1,0)+IF(Jogos!C88>Jogos!E88,1,0)+IF(Jogos!E111>Jogos!C111,1,0)+IF(Jogos!J9>Jogos!L9,1,0)+IF(Jogos!L52>Jogos!J52,1,0)+IF(Jogos!J75>Jogos!L75,1,0)+IF(Jogos!L98>Jogos!J98,1,0)+IF(Jogos!J121>Jogos!L121,1,0) -> 2 | S29: =Q29-R29-T29 -> 1 | T29: =IF(Jogos!E19<Jogos!C19,1,0)+IF(Jogos!C42<Jogos!E42,1,0)+IF(Jogos!E65<Jogos!C65,1,0)+IF(Jogos!C88<Jogos!E88,1,0)+IF(Jogos!E111<Jogos!C111,1,0)+IF(Jogos!J9<Jogos!L9,1,0)+IF(Jogos!L52<Jogos!J52,1,0)+IF(Jogos!J75<Jogos!L75,1,0)+IF(Jogos!L98<Jogos!J98,1,0)+IF(Jogos!J121<Jogos!L121,1,0) -> 7 | U29: =Jogos!E19+Jogos!C42+Jogos!E65+Jogos!C88+Jogos!E111+Jogos!J9+Jogos!L52+Jogos!J75+Jogos!L98+Jogos!J121 -> 10 | V29: =Jogos!C19+Jogos!E42+Jogos!C65+Jogos!E88+Jogos!C111+Jogos!L9+Jogos!J52+Jogos!L75+Jogos!J98+Jogos!L121 -> 19 | W29: =U29-V29 -> -9 | X29: =R29*3+S29 -> 7 | Y29: 16 | AA29: =(10^10)*X29+(10^8)*R29+(10^6)*(50+W29)+(10^4)*U29+(10^2)*Q29+(13-O29) -> 70241101007 | AD29: 6 | AE29: =LARGE(AA24:AA33,AD29) -> 100341101004 | AG29: 6 | AH29: =MATCH(AE29,$AA$24:$AA$33,0) -> 9
C30: 7º | D30: =VLOOKUP(AH30,$O$24:$Y$33,2) -> Borussia | E30: =VLOOKUP(AH30,$O$24:$Y$33,3) -> 10 | F30: =VLOOKUP(AH30,$O$24:$Y$33,4) -> 2 | G30: =VLOOKUP(AH30,$O$24:$Y$33,5) -> 2 | H30: =VLOOKUP(AH30,$O$24:$Y$33,6) -> 6 | I30: =VLOOKUP(AH30,$O$24:$Y$33,7) -> 10 | J30: =VLOOKUP(AH30,$O$24:$Y$33,8) -> 19 | K30: =VLOOKUP(AH30,$O$24:$Y$33,9) -> -9 | L30: =F30*3+G30 -> 8 | M30: =IF(E30>0,((L30*100)/N30)/100,0) -> 0.26666667 | N30: =E30*3 -> 30 | O30: 7 | P30: Liverpool | Q30: =IF(Jogos!E21<>"",1,0)+IF(Jogos!C44<>"",1,0)+IF(Jogos!E67<>"",1,0)+IF(Jogos!C90<>"",1,0)+IF(Jogos!E113<>"",1,0)+IF(Jogos!J11<>"",1,0)+IF(Jogos!L34<>"",1,0)+IF(Jogos!J77<>"",1,0)+IF(Jogos!L100<>"",1,0)+IF(Jogos!J123<>"",1,0) -> 10 | R30: =IF(Jogos!E21>Jogos!C21,1,0)+IF(Jogos!C44>Jogos!E44,1,0)+IF(Jogos!E67>Jogos!C67,1,0)+IF(Jogos!C90>Jogos!E90,1,0)+IF(Jogos!E113>Jogos!C113,1,0)+IF(Jogos!J11>Jogos!L11,1,0)+IF(Jogos!L34>Jogos!J34,1,0)+IF(Jogos!J77>Jogos!L77,1,0)+IF(Jogos!L100>Jogos!J100,1,0)+IF(Jogos!J123>Jogos!L123,1,0) -> 9 | S30: =Q30-R30-T30 -> 0 | T30: =IF(Jogos!E21<Jogos!C21,1,0)+IF(Jogos!C44<Jogos!E44,1,0)+IF(Jogos!E67<Jogos!C67,1,0)+IF(Jogos!C90<Jogos!E90,1,0)+IF(Jogos!E113<Jogos!C113,1,0)+IF(Jogos!J11<Jogos!L11,1,0)+IF(Jogos!L34<Jogos!J34,1,0)+IF(Jogos!J77<Jogos!L77,1,0)+IF(Jogos!L100<Jogos!J100,1,0)+IF(Jogos!J123<Jogos!L123,1,0) -> 1 | U30: =Jogos!E21+Jogos!C44+Jogos!E67+Jogos!C90+Jogos!E113+Jogos!J11+Jogos!L34+Jogos!J77+Jogos!L100+Jogos!J123 -> 19 | V30: =Jogos!C21+Jogos!E44+Jogos!C67+Jogos!E90+Jogos!C113+Jogos!L11+Jogos!J34+Jogos!L77+Jogos!J100+Jogos!L123 -> 7 | W30: =U30-V30 -> 12 | X30: =R30*3+S30 -> 27 | Y30: 17 | AA30: =(10^10)*X30+(10^8)*R30+(10^6)*(50+W30)+(10^4)*U30+(10^2)*Q30+(13-O30) -> 270962191006 | AD30: 7 | AE30: =LARGE(AA24:AA33,AD30) -> 80241101008 | AG30: 7 | AH30: =MATCH(AE30,$AA$24:$AA$33,0) -> 5
C31: 8º | D31: =VLOOKUP(AH31,$O$24:$Y$33,2) -> Tottenham | E31: =VLOOKUP(AH31,$O$24:$Y$33,3) -> 10 | F31: =VLOOKUP(AH31,$O$24:$Y$33,4) -> 2 | G31: =VLOOKUP(AH31,$O$24:$Y$33,5) -> 1 | H31: =VLOOKUP(AH31,$O$24:$Y$33,6) -> 7 | I31: =VLOOKUP(AH31,$O$24:$Y$33,7) -> 10 | J31: =VLOOKUP(AH31,$O$24:$Y$33,8) -> 19 | K31: =VLOOKUP(AH31,$O$24:$Y$33,9) -> -9 | L31: =F31*3+G31 -> 7 | M31: =IF(E31>0,((L31*100)/N31)/100,0) -> 0.23333333 | N31: =E31*3 -> 30 | O31: 8 | P31: B. Leverkusen | Q31: =IF(Jogos!E23<>"",1,0)+IF(Jogos!C46<>"",1,0)+IF(Jogos!E69<>"",1,0)+IF(Jogos!C92<>"",1,0)+IF(Jogos!E115<>"",1,0)+IF(Jogos!J13<>"",1,0)+IF(Jogos!L36<>"",1,0)+IF(Jogos!J59<>"",1,0)+IF(Jogos!L102<>"",1,0)+IF(Jogos!J125<>"",1,0) -> 10 | R31: =IF(Jogos!E23>Jogos!C23,1,0)+IF(Jogos!C46>Jogos!E46,1,0)+IF(Jogos!E69>Jogos!C69,1,0)+IF(Jogos!C92>Jogos!E92,1,0)+IF(Jogos!E115>Jogos!C115,1,0)+IF(Jogos!J13>Jogos!L13,1,0)+IF(Jogos!L36>Jogos!J36,1,0)+IF(Jogos!J59>Jogos!L59,1,0)+IF(Jogos!L102>Jogos!J102,1,0)+IF(Jogos!J125>Jogos!L125,1,0) -> 6 | S31: =Q31-R31-T31 -> 3 | T31: =IF(Jogos!E23<Jogos!C23,1,0)+IF(Jogos!C46<Jogos!E46,1,0)+IF(Jogos!E69<Jogos!C69,1,0)+IF(Jogos!C92<Jogos!E92,1,0)+IF(Jogos!E115<Jogos!C115,1,0)+IF(Jogos!J13<Jogos!L13,1,0)+IF(Jogos!L36<Jogos!J36,1,0)+IF(Jogos!J59<Jogos!L59,1,0)+IF(Jogos!L102<Jogos!J102,1,0)+IF(Jogos!J125<Jogos!L125,1,0) -> 1 | U31: =Jogos!E23+Jogos!C46+Jogos!E69+Jogos!C92+Jogos!E115+Jogos!J13+Jogos!L36+Jogos!J59+Jogos!L102+Jogos!J125 -> 41 | V31: =Jogos!C23+Jogos!E46+Jogos!C69+Jogos!E92+Jogos!C115+Jogos!L13+Jogos!J36+Jogos!L59+Jogos!J102+Jogos!L125 -> 11 | W31: =U31-V31 -> 30 | X31: =R31*3+S31 -> 21 | Y31: 18 | AA31: =(10^10)*X31+(10^8)*R31+(10^6)*(50+W31)+(10^4)*U31+(10^2)*Q31+(13-O31) -> 210680411005 | AD31: 8 | AE31: =LARGE(AA24:AA33,AD31) -> 70241101007 | AG31: 8 | AH31: =MATCH(AE31,$AA$24:$AA$33,0) -> 6
C32: 9º | D32: =VLOOKUP(AH32,$O$24:$Y$33,2) -> Napoli | E32: =VLOOKUP(AH32,$O$24:$Y$33,3) -> 10 | F32: =VLOOKUP(AH32,$O$24:$Y$33,4) -> 2 | G32: =VLOOKUP(AH32,$O$24:$Y$33,5) -> 1 | H32: =VLOOKUP(AH32,$O$24:$Y$33,6) -> 7 | I32: =VLOOKUP(AH32,$O$24:$Y$33,7) -> 9 | J32: =VLOOKUP(AH32,$O$24:$Y$33,8) -> 21 | K32: =VLOOKUP(AH32,$O$24:$Y$33,9) -> -12 | L32: =F32*3+G32 -> 7 | M32: =IF(E32>0,((L32*100)/N32)/100,0) -> 0.23333333 | N32: =E32*3 -> 30 | O32: 9 | P32: RB Leipzig | Q32: =IF(Jogos!E25<>"",1,0)+IF(Jogos!C48<>"",1,0)+IF(Jogos!E71<>"",1,0)+IF(Jogos!C94<>"",1,0)+IF(Jogos!E117<>"",1,0)+IF(Jogos!J15<>"",1,0)+IF(Jogos!L38<>"",1,0)+IF(Jogos!J61<>"",1,0)+IF(Jogos!L84<>"",1,0)+IF(Jogos!J127<>"",1,0) -> 10 | R32: =IF(Jogos!E25>Jogos!C25,1,0)+IF(Jogos!C48>Jogos!E48,1,0)+IF(Jogos!E71>Jogos!C71,1,0)+IF(Jogos!C94>Jogos!E94,1,0)+IF(Jogos!E117>Jogos!C117,1,0)+IF(Jogos!J15>Jogos!L15,1,0)+IF(Jogos!L38>Jogos!J38,1,0)+IF(Jogos!J61>Jogos!L61,1,0)+IF(Jogos!L84>Jogos!J84,1,0)+IF(Jogos!J127>Jogos!L127,1,0) -> 3 | S32: =Q32-R32-T32 -> 1 | T32: =IF(Jogos!E25<Jogos!C25,1,0)+IF(Jogos!C48<Jogos!E48,1,0)+IF(Jogos!E71<Jogos!C71,1,0)+IF(Jogos!C94<Jogos!E94,1,0)+IF(Jogos!E117<Jogos!C117,1,0)+IF(Jogos!J15<Jogos!L15,1,0)+IF(Jogos!L38<Jogos!J38,1,0)+IF(Jogos!J61<Jogos!L61,1,0)+IF(Jogos!L84<Jogos!J84,1,0)+IF(Jogos!J127<Jogos!L127,1,0) -> 6 | U32: =Jogos!E25+Jogos!C48+Jogos!E71+Jogos!C94+Jogos!E117+Jogos!J15+Jogos!L38+Jogos!J61+Jogos!L84+Jogos!J127 -> 10 | V32: =Jogos!C25+Jogos!E48+Jogos!C71+Jogos!E94+Jogos!C117+Jogos!L15+Jogos!J38+Jogos!L61+Jogos!J84+Jogos!L127 -> 19 | W32: =U32-V32 -> -9 | X32: =R32*3+S32 -> 10 | Y32: 19 | AA32: =(10^10)*X32+(10^8)*R32+(10^6)*(50+W32)+(10^4)*U32+(10^2)*Q32+(13-O32) -> 100341101004 | AD32: 9 | AE32: =LARGE(AA24:AA33,AD32) -> 70238091011 | AG32: 9 | AH32: =MATCH(AE32,$AA$24:$AA$33,0) -> 2
C33: 10º | D33: =VLOOKUP(AH33,$O$24:$Y$33,2) -> Roma | E33: =VLOOKUP(AH33,$O$24:$Y$33,3) -> 10 | F33: =VLOOKUP(AH33,$O$24:$Y$33,4) -> 0 | G33: =VLOOKUP(AH33,$O$24:$Y$33,5) -> 2 | H33: =VLOOKUP(AH33,$O$24:$Y$33,6) -> 8 | I33: =VLOOKUP(AH33,$O$24:$Y$33,7) -> 7 | J33: =VLOOKUP(AH33,$O$24:$Y$33,8) -> 31 | K33: =VLOOKUP(AH33,$O$24:$Y$33,9) -> -24 | L33: =F33*3+G33 -> 2 | M33: =IF(E33>0,((L33*100)/N33)/100,0) -> 0.066666667 | N33: =E33*3 -> 30 | O33: 10 | P33: Roma | Q33: =IF(Jogos!E27<>"",1,0)+IF(Jogos!C50<>"",1,0)+IF(Jogos!E73<>"",1,0)+IF(Jogos!C96<>"",1,0)+IF(Jogos!E119<>"",1,0)+IF(Jogos!J17<>"",1,0)+IF(Jogos!L40<>"",1,0)+IF(Jogos!J63<>"",1,0)+IF(Jogos!L86<>"",1,0)+IF(Jogos!J109<>"",1,0) -> 10 | R33: =IF(Jogos!E27>Jogos!C27,1,0)+IF(Jogos!C50>Jogos!E50,1,0)+IF(Jogos!E73>Jogos!C73,1,0)+IF(Jogos!C96>Jogos!E96,1,0)+IF(Jogos!E119>Jogos!C119,1,0)+IF(Jogos!J17>Jogos!L17,1,0)+IF(Jogos!L40>Jogos!J40,1,0)+IF(Jogos!J63>Jogos!L63,1,0)+IF(Jogos!L86>Jogos!J86,1,0)+IF(Jogos!J109>Jogos!L109,1,0) -> 0 | S33: =Q33-R33-T33 -> 2 | T33: =IF(Jogos!E27<Jogos!C27,1,0)+IF(Jogos!C50<Jogos!E50,1,0)+IF(Jogos!E73<Jogos!C73,1,0)+IF(Jogos!C96<Jogos!E96,1,0)+IF(Jogos!E119<Jogos!C119,1,0)+IF(Jogos!J17<Jogos!L17,1,0)+IF(Jogos!L40<Jogos!J40,1,0)+IF(Jogos!J63<Jogos!L63,1,0)+IF(Jogos!L86<Jogos!J86,1,0)+IF(Jogos!J109<Jogos!L109,1,0) -> 8 | U33: =Jogos!E27+Jogos!C50+Jogos!E73+Jogos!C96+Jogos!E119+Jogos!J17+Jogos!L40+Jogos!J63+Jogos!L86+Jogos!J109 -> 7 | V33: =Jogos!C27+Jogos!E50+Jogos!C73+Jogos!E96+Jogos!C119+Jogos!L17+Jogos!J40+Jogos!L63+Jogos!J86+Jogos!L109 -> 31 | W33: =U33-V33 -> -24 | X33: =R33*3+S33 -> 2 | Y33: 20 | AA33: =(10^10)*X33+(10^8)*R33+(10^6)*(50+W33)+(10^4)*U33+(10^2)*Q33+(13-O33) -> 20026071003 | AD33: 10 | AE33: =LARGE(AA24:AA33,AD33) -> 20026071003 | AG33: 10 | AH33: =MATCH(AE33,$AA$24:$AA$33,0) -> 10

Sheet Jogos
B6: 1º Rodada | I6: 6º Rodada
B9: =Classificação!P10 -> Internazionale | C9: 1 | D9: x | E9: 2 | F9: =Classificação!P24 -> Ajax | I9: =Classificação!P29 -> Tottenham | J9: 0 | K9: x | L9: 2 | M9: =Classificação!P10 -> Internazionale
B11: =Classificação!P11 -> Atl. De Madrid | C11: 2 | D11: x | E11: 0 | F11: =Classificação!P25 -> Napoli | I11: =Classificação!P30 -> Liverpool | J11: 3 | K11: x | L11: 1 | M11: =Classificação!P11 -> Atl. De Madrid
B13: =Classificação!P12 -> Juventus | C13: 2 | D13: x | E13: 1 | F13: =Classificação!P26 -> Barcelona | I13: =Classificação!P31 -> B. Leverkusen | J13: 3 | K13: x | L13: 3 | M13: =Classificação!P12 -> Juventus
B15: =Classificação!P13 -> Arsenal | C15: 1 | D15: x | E15: 1 | F15: =Classificação!P27 -> PSG | I15: =Classificação!P32 -> RB Leipzig | J15: 2 | K15: x | L15: 0 | M15: =Classificação!P13 -> Arsenal
B17: =Classificação!P14 -> Real Madrid | C17: 3 | D17: x | E17: 0 | F17: =Classificação!P28 -> Borussia | I17: =Classificação!P33 -> Roma | J17: 0 | K17: x | L17: 7 | M17: =Classificação!P14 -> Real Madrid
B19: =Classificação!P15 -> Velência | C19: 0 | D19: x | E19: 2 | F19: =Classificação!P29 -> Tottenham | I19: =Classificação!P24 -> Ajax | J19: 5 | K19: x | L19: 0 | M19: =Classificação!P15 -> Velência
B21: =Classificação!P16 -> Man. United | C21: 1 | D21: x | E21: 2 | F21: =Classificação!P30 -> Liverpool | I21: =Classificação!P25 -> Napoli | J21: 1 | K21: x | L21: 1 | M21: =Classificação!P16 -> Man. United
B23: =Classificação!P17 -> B. München | C23: 1 | D23: x | E23: 1 | F23: =Classificação!P31 -> B. Leverkusen | I23: =Classificação!P26 -> Barcelona | J23: 1 | K23: x | L23: 2 | M23: =Classificação!P17 -> B. München
B25: =Classificação!P18 -> Man. City | C25: 6 | D25: x | E25: 0 | F25: =Classificação!P32 -> RB Leipzig | I25: =Classificação!P27 -> PSG | J25: 2 | K25: x | L25: 1 | M25: =Classificação!P18 -> Man. City
B27: =Classificação!P19 -> Chelsea | C27: 2 | D27: x | E27: 0 | F27: =Classificação!P33 -> Roma | I27: =Classificação!P28 -> Borussia | J27: 1 | K27: x | L27: 0 | M27: =Classificação!P19 -> Chelsea
B31: 2º Rodada | I31: 7º Rodada
B34: =Classificação!P25 -> Napoli | C34: 0 | D34: x | E34: 1 | F34: =Classificação!P10 -> Internazionale | I34: =Classificação!P10 -> Internazionale | J34: 1 | K34: x | L34: 2 | M34: =Classificação!P30 -> Liverpool
B36: =Classificação!P26 -> Barcelona | C36: 5 | D36: x | E36: 0 | F36: =Classificação!P11 -> Atl. De Madrid | I36: =Classificação!P11 -> Atl. De Madrid | J36: 0 | K36: x | L36: 7 | M36: =Classificação!P31 -> B. Leverkusen
B38: =Classificação!P27 -> PSG | C38: 1 | D38: x | E38: 2 | F38: =Classificação!P12 -> Juventus | I38: =Classificação!P12 -> Juventus | J38: 3 | K38: x | L38: 0 | M38: =Classificação!P32 -> RB Leipzig
B40: =Classificação!P28 -> Borussia | C40: 0 | D40: x | E40: 1 | F40: =Classificação!P13 -> Arsenal | I40: =Classificação!P13 -> Arsenal | J40: 1 | K40: x | L40: 0 | M40: =Classificação!P33 -> Roma
B42: =Classificação!P29 -> Tottenham | C42: 0 | D42: x | E42: 2 | F42: =Classificação!P14 -> Real Madrid | I42: =Classificação!P14 -> Real Madrid | J42: 0 | K42: x | L42: 3 | M42: =Classificação!P24 -> Ajax
B44: =Classificação!P30 -> Liverpool | C44: 2 | D44: x | E44: 0 | F44: =Classificação!P15 -> Velência | I44: =Classificação!P15 -> Velência | J44: 0 | K44: x | L44: 2 | M44: =Classificação!P25 -> Napoli
B46: =Classificação!P31 -> B. Leverkusen | C46: 6 | D46: x | E46: 0 | F46: =Classificação!P16 -> Man. United | I46: =Classificação!P16 -> Man. United | J46: 0 | K46: x | L46: 6 | M46: =Classificação!P26 -> Barcelona
B48: =Classificação!P32 -> RB Leipzig | C48: 1 | D48: x | E48: 2 | F48: =Classificação!P17 -> B. München | I48: =Classificação!P17 -> B. München | J48: 3 | K48: x | L48: 2 | M48: =Classificação!P27 -> PSG
B50: =Classificação!P33 -> Roma | C50: 0 | D50: x | E50: 2 | F50: =Classificação!P18 -> Man. City | I50: =Classificação!P18 -> Man. City | J50: 3 | K50: x | L50: 2 | M50: =Classificação!P28 -> Borussia
B52: =Classificação!P24 -> Ajax | C52: 2 | D52: x | E52: 0 | F52: =Classificação!P19 -> Chelsea | I52: =Classificação!P19 -> Chelsea | J52: 1 | K52: x | L52: 1 | M52: =Classificação!P29 -> Tottenham
B56: 3º Rodada | I56: 8º Rodada
B59: =Classificação!P10 -> Internazionale | C59: 1 | D59: x | E59: 1 | F59: =Classificação!P26 -> Barcelona | I59: =Classificação!P31 -> B. Leverkusen | J59: 3 | K59: x | L59: 3 | M59: =Classificação!P10 -> Internazionale
B61: =Classificação!P11 -> Atl. De Madrid | C61: 0 | D61: x | E61: 9 | F61: =Classificação!P27 -> PSG | I61: =Classificação!P32 -> RB Leipzig | J61: 1 | K61: x | L61: 1 | M61: =Classificação!P11 -> Atl. De Madrid
B63: =Classificação!P12 -> Juventus | C63: 4 | D63: x | E63: 0 | F63: =Classificação!P28 -> Borussia | I63: =Classificação!P33 -> Roma | J63: 0 | K63: x | L63: 8 | M63: =Classificação!P12 -> Juventus
B65: =Classificação!P13 -> Arsenal | C65: 1 | D65: x | E65: 0 | F65: =Classificação!P29 -> Tottenham | I65: =Classificação!P24 -> Ajax | J65: 2 | K65: x | L65: 1 | M65: =Classificação!P13 -> Arsenal
B67: =Classificação!P14 -> Real Madrid | C67: 0 | D67: x | E67: 1 | F67: =Classificação!P30 -> Liverpool | I67: =Classificação!P25 -> Napoli | J67: 0 | K67: x | L67: 4 | M67: =Classificação!P14 -> Real Madrid
B69: =Classificação!P15 -> Velência | C69: 1 | D69: x | E69: 4 | F69: =Classificação!P31 -> B. Leverkusen | I69: =Classificação!P26 -> Barcelona | J69: 2 | K69: x | L69: 1 | M69: =Classificação!P15 -> Velência
B71: =Classificação!P16 -> Man. United | C71: 0 | D71: x | E71: 2 | F71: =Classificação!P32 -> RB Leipzig | I71: =Classificação!P27 -> PSG | J71: 7 | K71: x | L71: 3 | M71: =Classificação!P16 -> Man. United
B73: =Classificação!P17 -> B. München | C73: 1 | D73: x | E73: 1 | F73: =Classificação!P33 -> Roma | I73: =Classificação!P28 -> Borussia | J73: 1 | K73: x | L73: 2 | M73: =Classificação!P17 -> B. München
B75: =Classificação!P18 -> Man. City | C75: 2 | D75: x | E75: 2 | F75: =Classificação!P24 -> Ajax | I75: =Classificação!P29 -> Tottenham | J75: 2 | K75: x | L75: 4 | M75: =Classificação!P18 -> Man. City
B77: =Classificação!P19 -> Chelsea | C77: 1 | D77: x | E77: 3 | F77: =Classificação!P25 -> Napoli | I77: =Classificação!P30 -> Liverpool | J77: 3 | K77: x | L77: 0 | M77: =Classificação!P19 -> Chelsea
B81: 4º Rodada | I81: 9º Rodada
B84: =Classificação!P27 -> PSG | C84: 2 | D84: x | E84: 1 | F84: =Classificação!P10 -> Internazionale | I84: =Classificação!P10 -> Internazionale | J84: 1 | K84: x | L84: 0 | M84: =Classificação!P32 -> RB Leipzig
B86: =Classificação!P28 -> Borussia | C86: 3 | D86: x | E86: 1 | F86: =Classificação!P11 -> Atl. De Madrid | I86: =Classificação!P11 -> Atl. De Madrid | J86: 3 | K86: x | L86: 2 | M86: =Classificação!P33 -> Roma
B88: =Classificação!P29 -> Tottenham | C88: 1 | D88: x | E88: 2 | F88: =Classificação!P12 -> Juventus | I88: =Classificação!P12 -> Juventus | J88: 3 | K88: x | L88: 0 | M88: =Classificação!P24 -> Ajax
B90: =Classificação!P30 -> Liverpool | C90: 2 | D90: x | E90: 1 | F90: =Classificação!P13 -> Arsenal | I90: =Classificação!P13 -> Arsenal | J90: 2 | K90: x | L90: 1 | M90: =Classificação!P25 -> Napoli
B92: =Classificação!P31 -> B. Leverkusen | C92: 1 | D92: x | E92: 2 | F92: =Classificação!P14 -> Real Madrid | I92: =Classificação!P14 -> Real Madrid | J92: 4 | K92: x | L92: 0 | M92: =Classificação!P26 -> Barcelona
B94: =Classificação!P32 -> RB Leipzig | C94: 3 | D94: x | E94: 1 | F94: =Classificação!P15 -> Velência | I94: =Classificação!P15 -> Velência | J94: 0 | K94: x | L94: 2 | M94: =Classificação!P27 -> PSG
B96: =Classificação!P33 -> Roma | C96: 3 | D96: x | E96: 3 | F96: =Classificação!P16 -> Man. United | I96: =Classificação!P16 -> Man. United | J96: 2 | K96: x | L96: 2 | M96: =Classificação!P28 -> Borussia
B98: =Classificação!P24 -> Ajax | C98: 2 | D98: x | E98: 0 | F98: =Classificação!P17 -> B. München | I98: =Classificação!P17 -> B. München | J98: 5 | K98: x | L98: 1 | M98: =Classificação!P29 -> Tottenham
B100: =Classificação!P25 -> Napoli | C100: 1 | D100: x | E100: 2 | F100: =Classificação!P18 -> Man. City | I100: =Classificação!P18 -> Man. City | J100: 0 | K100: x | L100: 1 | M100: =Classificação!P30 -> Liverpool
B102: =Classificação!P26 -> Barcelona | C102: 3 | D102: x | E102: 0 | F102: =Classificação!P19 -> Chelsea | I102: =Classificação!P19 -> Chelsea | J102: 0 | K102: x | L102: 6 | M102: =Classificação!P31 -> B. Leverkusen
B106: 5º Rodada | I106: 10º Rodada
B109: =Classificação!P10 -> Internazionale | C109: 2 | D109: x | E109: 0 | F109: =Classificação!P28 -> Borussia | I109: =Classificação!P33 -> Roma | J109: 1 | K109: x | L109: 2 | M109: =Classificação!P10 -> Internazionale
B111: =Classificação!P11 -> Atl. De Madrid | C111: 1 | D111: x | E111: 0 | F111: =Classificação!P29 -> Tottenham | I111: =Classificação!P24 -> Ajax | J111: 2 | K111: x | L111: 2 | M111: =Classificação!P11 -> Atl. De Madrid
B113: =Classificação!P12 -> Juventus | C113: 0 | D113: x | E113: 2 | F113: =Classificação!P30 -> Liverpool | I113: =Classificação!P25 -> Napoli | J113: 1 | K113: x | L113: 6 | M113: =Classificação!P12 -> Juventus
B115: =Classificação!P13 -> Arsenal | C115: 0 | D115: x | E115: 5 | F115: =Classificação!P31 -> B. Leverkusen | I115: =Classificação!P26 -> Barcelona | J115: 1 | K115: x | L115: 0 | M115: =Classificação!P13 -> Arsenal
B117: =Classificação!P14 -> Real Madrid | C117: 3 | D117: x | E117: 0 | F117: =Classificação!P32 -> RB Leipzig | I117: =Classificação!P27 -> PSG | J117: 1 | K117: x | L117: 1 | M117: =Classificação!P14 -> Real Madrid
B119: =Classificação!P15 -> Velência | C119: 2 | D119: x | E119: 0 | F119: =Classificação!P33 -> Roma | I119: =Classificação!P28 -> Borussia | J119: 1 | K119: x | L119: 1 | M119: =Classificação!P15 -> Velência
B121: =Classificação!P16 -> Man. United | C121: 0 | D121: x | E121: 3 | F121: =Classificação!P24 -> Ajax | I121: =Classificação!P29 -> Tottenham | J121: 3 | K121: x | L121: 1 | M121: =Classificação!P16 -> Man. United | R121: Grupo A | AA121: Ordem Crescente
R122: Posição | S122: Time | T122: Pontos | U122: ID_TIME | W122: Posição
B123: =Classificação!P17 -> B. München | C123: 2 | D123: x | E123: 0 | F123: =Classificação!P25 -> Napoli | I123: =Classificação!P30 -> Liverpool | J123: 1 | K123: x | L123: 3 | M123: =Classificação!P17 -> B. München | R123: 1 | S123: =Classificação!P10 -> Internazionale | T123: =Classificação!AA10 -> 170554151012 | U123: =Classificação!Y10 -> 1 | W123: 1 | X123: =LARGE($T$123:$T$132,W123) -> 250874331010 | AA123: 1 | AB123: =MATCH(X123,$T$123:$T$132,0) -> 3
R124: 2 | S124: =Classificação!P11 -> Atl. De Madrid | T124: =Classificação!AA11 -> 110329111011 | U124: =Classificação!Y11 -> 2 | W124: 2 | X124: =LARGE($T$123:$T$132,W124) -> 230760211005 | AA124: 2 | AB124: =MATCH(X124,$T$123:$T$132,0) -> 8
B125: =Classificação!P18 -> Man. City | C125: 3 | D125: x | E125: 4 | F125: =Classificação!P26 -> Barcelona | I125: =Classificação!P31 -> B. Leverkusen | J125: 5 | K125: x | L125: 1 | M125: =Classificação!P18 -> Man. City | R125: 3 | S125: =Classificação!P12 -> Juventus | T125: =Classificação!AA12 -> 250874331010 | U125: =Classificação!Y12 -> 3 | W125: 3 | X125: =LARGE($T$123:$T$132,W125) -> 220770261008 | AA125: 3 | AB125: =MATCH(X125,$T$123:$T$132,0) -> 5
R126: 4 | S126: =Classificação!P13 -> Arsenal | T126: =Classificação!AA13 -> 130444081009 | U126: =Classificação!Y13 -> 4 | W126: 4 | X126: =LARGE($T$123:$T$132,W126) -> 170554151012 | AA126: 4 | AB126: =MATCH(X126,$T$123:$T$132,0) -> 1
B127: =Classificação!P19 -> Chelsea | C127: 0 | D127: x | E127: 6 | F127: =Classificação!P27 -> PSG | I127: =Classificação!P32 -> RB Leipzig | J127: 1 | K127: x | L127: 2 | M127: =Classificação!P19 -> Chelsea | R127: 5 | S127: =Classificação!P14 -> Real Madrid | T127: =Classificação!AA14 -> 220770261008 | U127: =Classificação!Y14 -> 5 | W127: 5 | X127: =LARGE($T$123:$T$132,W127) -> 160555241004 | AA127: 5 | AB127: =MATCH(X127,$T$123:$T$132,0) -> 9
R128: 6 | S128: =Classificação!P15 -> Velência | T128: =Classificação!AA15 -> 40133061007 | U128: =Classificação!Y15 -> 6 | W128: 6 | X128: =LARGE($T$123:$T$132,W128) -> 130444081009 | AA128: 6 | AB128: =MATCH(X128,$T$123:$T$132,0) -> 4
R129: 7 | S129: =Classificação!P16 -> Man. United | T129: =Classificação!AA16 -> 30026111006 | U129: =Classificação!Y16 -> 7 | W129: 7 | X129: =LARGE($T$123:$T$132,W129) -> 110329111011 | AA129: 7 | AB129: =MATCH(X129,$T$123:$T$132,0) -> 2
R130: 8 | S130: =Classificação!P17 -> B. München | T130: =Classificação!AA17 -> 230760211005 | U130: =Classificação!Y17 -> 8 | W130: 8 | X130: =LARGE($T$123:$T$132,W130) -> 70230061003 | AA130: 8 | AB130: =MATCH(X130,$T$123:$T$132,0) -> 10
R131: 9 | S131: =Classificação!P18 -> Man. City | T131: =Classificação!AA18 -> 160555241004 | U131: =Classificação!Y18 -> 9 | W131: 9 | X131: =LARGE($T$123:$T$132,W131) -> 40133061007 | AA131: 9 | AB131: =MATCH(X131,$T$123:$T$132,0) -> 6
G132: Repescagem | R132: 10 | S132: =Classificação!P19 -> Chelsea | T132: =Classificação!AA19 -> 70230061003 | U132: =Classificação!Y19 -> 10 | W132: 10 | X132: =LARGE($T$123:$T$132,W132) -> 30026111006 | AA132: 10 | AB132: =MATCH(X132,$T$123:$T$132,0) -> 7
B135: ok
B136: =IF($B$135="ok",(VLOOKUP($AB$153,$R$153:$U$160,2))," ") -> Real Madrid | C136: 2 | D136: x | E136: 1 | F136: =IF($B$135="ok",(VLOOKUP($AB$160,$R$153:$U$160,2))," ") -> RB Leipzig | I136: =IF($B$135="ok",(VLOOKUP($AB$155,$R$153:$U$160,2))," ") -> PSG | J136: 3 | K136: x | L136: 1 | M136: =IF($B$135="ok",(VLOOKUP($AB$158,$R$153:$U$160,2))," ") -> Man. City
B137: =IF($B$135="ok",(VLOOKUP($AB$153,$R$153:$U$160,3))," ") -> 220770261008 | F137: =IF($B$135="ok",(VLOOKUP($AB$160,$R$153:$U$160,3))," ") -> 100341101004 | I137: =IF($B$135="ok",(VLOOKUP($AB$155,$R$153:$U$160,3))," ") -> 200671331009 | M137: =IF($B$135="ok",(VLOOKUP($AB$158,$R$153:$U$160,3))," ") -> 160555241004 | R137: Grupo B | AA137: Ordem Crescente
B138: =IF($B$135="ok",(VLOOKUP($AB$153,$R$153:$U$160,4))," ") -> 5 | F138: =IF($B$135="ok",(VLOOKUP($AB$160,$R$153:$U$160,4))," ") -> 19 | I138: =IF($B$135="ok",(VLOOKUP($AB$155,$R$153:$U$160,4))," ") -> 14 | M138: =IF($B$135="ok",(VLOOKUP($AB$158,$R$153:$U$160,4))," ") -> 9 | R138: Posição | S138: Time | T138: Pontos | U138: ID_TIME | W138: Posição
R139: 1 | S139: =Classificação!P24 -> Ajax | T139: =Classificação!AA24 -> 230764231012 | U139: =Classificação!Y24 -> 11 | W139: 1 | X139: =LARGE($T$139:$T$148,W139) -> 270962191006 | AA139: 1 | AB139: =MATCH(X139,$T$139:$T$148,0) -> 7
B140: =IF($B$135="ok",(VLOOKUP($AB$154,$R$153:$U$160,2))," ") -> B. Leverkusen | C140: 0 | D140: x | E140: 1 | F140: =IF($B$135="ok",(VLOOKUP($AB$159,$R$153:$U$160,2))," ") -> Arsenal | I140: =IF($B$135="ok",(VLOOKUP($AB$156,$R$153:$U$160,2))," ") -> Barcelona | J140: 3 | K140: x | L140: 0 | M140: =IF($B$135="ok",(VLOOKUP($AB$157,$R$153:$U$160,2))," ") -> Internazionale | R140: 2 | S140: =Classificação!P25 -> Napoli | T140: =Classificação!AA25 -> 70238091011 | U140: =Classificação!Y25 -> 12 | W140: 2 | X140: =LARGE($T$139:$T$148,W140) -> 230764231012 | AA140: 2 | AB140: =MATCH(X140,$T$139:$T$148,0) -> 1
B141: =IF($B$135="ok",(VLOOKUP($AB$154,$R$153:$U$160,3))," ") -> 210680411005 | F141: =IF($B$135="ok",(VLOOKUP($AB$159,$R$153:$U$160,3))," ") -> 130444081009 | I141: =IF($B$135="ok",(VLOOKUP($AB$156,$R$153:$U$160,3))," ") -> 190661241010 | M141: =IF($B$135="ok",(VLOOKUP($AB$157,$R$153:$U$160,3))," ") -> 170554151012 | R141: 3 | S141: =Classificação!P26 -> Barcelona | T141: =Classificação!AA26 -> 190661241010 | U141: =Classificação!Y26 -> 13 | W141: 3 | X141: =LARGE($T$139:$T$148,W141) -> 210680411005 | AA141: 3 | AB141: =MATCH(X141,$T$139:$T$148,0) -> 8
B142: =IF($B$135="ok",(VLOOKUP($AB$154,$R$153:$U$160,4))," ") -> 18 | F142: =IF($B$135="ok",(VLOOKUP($AB$159,$R$153:$U$160,4))," ") -> 4 | I142: =IF($B$135="ok",(VLOOKUP($AB$156,$R$153:$U$160,4))," ") -> 13 | M142: =IF($B$135="ok",(VLOOKUP($AB$157,$R$153:$U$160,4))," ") -> 1 | R142: 4 | S142: =Classificação!P27 -> PSG | T142: =Classificação!AA27 -> 200671331009 | U142: =Classificação!Y27 -> 14 | W142: 4 | X142: =LARGE($T$139:$T$148,W142) -> 200671331009 | AA142: 4 | AB142: =MATCH(X142,$T$139:$T$148,0) -> 4
R143: 5 | S143: =Classificação!P28 -> Borussia | T143: =Classificação!AA28 -> 80241101008 | U143: =Classificação!Y28 -> 15 | W143: 5 | X143: =LARGE($T$139:$T$148,W143) -> 190661241010 | AA143: 5 | AB143: =MATCH(X143,$T$139:$T$148,0) -> 3
R144: 6 | S144: =Classificação!P29 -> Tottenham | T144: =Classificação!AA29 -> 70241101007 | U144: =Classificação!Y29 -> 16 | W144: 6 | X144: =LARGE($T$139:$T$148,W144) -> 100341101004 | AA144: 6 | AB144: =MATCH(X144,$T$139:$T$148,0) -> 9
G145: Quartas de Final | R145: 7 | S145: =Classificação!P30 -> Liverpool | T145: =Classificação!AA30 -> 270962191006 | U145: =Classificação!Y30 -> 17 | W145: 7 | X145: =LARGE($T$139:$T$148,W145) -> 80241101008 | AA145: 7 | AB145: =MATCH(X145,$T$139:$T$148,0) -> 5
R146: 8 | S146: =Classificação!P31 -> B. Leverkusen | T146: =Classificação!AA31 -> 210680411005 | U146: =Classificação!Y31 -> 18 | W146: 8 | X146: =LARGE($T$139:$T$148,W146) -> 70241101007 | AA146: 8 | AB146: =MATCH(X146,$T$139:$T$148,0) -> 6
R147: 9 | S147: =Classificação!P32 -> RB Leipzig | T147: =Classificação!AA32 -> 100341101004 | U147: =Classificação!Y32 -> 19 | W147: 9 | X147: =LARGE($T$139:$T$148,W147) -> 70238091011 | AA147: 9 | AB147: =MATCH(X147,$T$139:$T$148,0) -> 2
B148: ok | R148: 10 | S148: =Classificação!P33 -> Roma | T148: =Classificação!AA33 -> 20026071003 | U148: =Classificação!Y33 -> 20 | W148: 10 | X148: =LARGE($T$139:$T$148,W148) -> 20026071003 | AA148: 10 | AB148: =MATCH(X148,$T$139:$T$148,0) -> 10
B149: =IF($B$148="ok",(VLOOKUP($AB$165,$R$165:$U$172,2))," ") -> Liverpool | C149: 1 | D149: x | E149: 1 | F149: =IF($B$148="ok",(VLOOKUP($AB$172,$R$165:$U$172,2))," ") -> Arsenal | I149: =IF($B$148="ok",(VLOOKUP($AB$167,$R$165:$U$172,2))," ") -> Ajax | J149: 1 | K149: x | L149: 5 | M149: =IF($B$148="ok",(VLOOKUP($AB$170,$R$165:$U$172,2))," ") -> PSG
B150: =IF($B$135="ok",(VLOOKUP($AB$165,$R$165:$U$172,3))," ") -> 270962191006 | C150: 3 | E150: 4 | F150: =IF($B$135="ok",(VLOOKUP($AB$170,$R$165:$U$172,3))," ") -> 200671331009 | I150: =IF($B$135="ok",(VLOOKUP($AB$167,$R$165:$U$172,3))," ") -> 230764231012 | M150: =IF($B$135="ok",(VLOOKUP($AB$170,$R$165:$U$172,3))," ") -> 200671331009
B151: =IF($B$135="ok",(VLOOKUP($AB$165,$R$165:$U$172,4))," ") -> 17 | F151: =IF($B$135="ok",(VLOOKUP($AB$172,$R$165:$U$172,4))," ") -> 4 | I151: =IF($B$135="ok",(VLOOKUP($AB$167,$R$165:$U$172,4))," ") -> 11 | M151: =IF($B$135="ok",(VLOOKUP($AB$170,$R$165:$U$172,4))," ") -> 14 | R151: Repescagem | AA151: Ordem Crescente
R152: Posição | S152: Time | T152: Pontos | U152: ID_TIME | W152: Posição | AH152: Repescagem
B153: =IF($B$148="ok",(VLOOKUP($AB$166,$R$165:$U$172,2))," ") -> Juventus | C153: 3 | D153: x | E153: 1 | F153: =IF($B$148="ok",(VLOOKUP($AB$171,$R$165:$U$172,2))," ") -> Barcelona | I153: =IF($B$148="ok",(VLOOKUP($AB$168,$R$165:$U$172,2))," ") -> B. München | J153: 4 | K153: x | L153: 1 | M153: =IF($B$148="ok",(VLOOKUP($AB$169,$R$165:$U$172,2))," ") -> Real Madrid | R153: 1 | S153: =(VLOOKUP(AB125,$R$123:$U$132,2)) -> Real Madrid | T153: =(VLOOKUP(AB125,$R$123:$U$132,3)) -> 220770261008 | U153: =(VLOOKUP(AB125,$R$123:$U$132,4)) -> 5 | W153: 1 | X153: =LARGE($T$153:$T$160,W153) -> 220770261008 | AA153: 1 | AB153: =MATCH(X153,$T$153:$T$160,0) -> 1
B154: =IF($B$135="ok",(VLOOKUP($AB$166,$R$165:$U$172,3))," ") -> 250874331010 | F154: =IF($B$135="ok",(VLOOKUP($AB$172,$R$165:$U$172,3))," ") -> 130444081009 | I154: =IF($B$135="ok",(VLOOKUP($AB$168,$R$165:$U$172,3))," ") -> 230760211005 | M154: =IF($B$135="ok",(VLOOKUP($AB$169,$R$165:$U$172,3))," ") -> 220770261008 | R154: 2 | S154: =(VLOOKUP(AB126,$R$123:$U$132,2)) -> Internazionale | T154: =(VLOOKUP(AB126,$R$123:$U$132,3)) -> 170554151012 | U154: =(VLOOKUP(AB126,$R$123:$U$132,4)) -> 1 | W154: 2 | X154: =LARGE($T$153:$T$160,W154) -> 210680411005 | AA154: 2 | AB154: =MATCH(X154,$T$153:$T$160,0) -> 5 | AD154: Nº | AE154: ID | AF154: Times | AG154: Jogos | AH154: Vitorias | AI154: Empates | AJ154: Derrotas | AK154: Gols Pró | AL154: Gols Cont. | AM154: Saldo | AN154: Pontos | AP154: Pontos Oitavas | AR154: pontos 1 fase | AS154: atualizado
B155: =IF($B$135="ok",(VLOOKUP($AB$166,$R$165:$U$172,4))," ") -> 3 | F155: =IF($B$135="ok",(VLOOKUP($AB$171,$R$165:$U$172,4))," ") -> 13 | I155: =IF($B$135="ok",(VLOOKUP($AB$168,$R$165:$U$172,4))," ") -> 8 | M155: =IF($B$135="ok",(VLOOKUP($AB$169,$R$165:$U$172,4))," ") -> 5 | R155: 3 | S155: =(VLOOKUP(AB127,$R$123:$U$132,2)) -> Man. City | T155: =(VLOOKUP(AB127,$R$123:$U$132,3)) -> 160555241004 | U155: =(VLOOKUP(AB127,$R$123:$U$132,4)) -> 9 | W155: 3 | X155: =LARGE($T$153:$T$160,W155) -> 200671331009 | AA155: 3 | AB155: =MATCH(X155,$T$153:$T$160,0) -> 6 | AD155: 1 | AE155: =B138 -> 5 | AF155: =B136 -> Real Madrid | AG155: 1 | AH155: 1 | AI155: 0 | AJ155: 0 | AK155: 2 | AL155: 1 | AM155: =AK155-AL155 -> 1 | AN155: =AH155*3+AI155 -> 3 | AO155: 1 | AP155: =(10^10)*AN155+(10^8)*AH155+(10^6)*(50+AM155)+(10^4)*AK155+(10^2)*AG155+(13-AE155) -> 30151020108 | AR155: =B137 -> 220770261008 | AS155: =AR155 -> 220770261008
R156: 4 | S156: =(VLOOKUP(AB128,$R$123:$U$132,2)) -> Arsenal | T156: =(VLOOKUP(AB128,$R$123:$U$132,3)) -> 130444081009 | U156: =(VLOOKUP(AB128,$R$123:$U$132,4)) -> 4 | W156: 4 | X156: =LARGE($T$153:$T$160,W156) -> 190661241010 | AA156: 4 | AB156: =MATCH(X156,$T$153:$T$160,0) -> 7 | AD156: 2 | AE156: =B142 -> 18 | AF156: =B140 -> B. Leverkusen | AG156: =IF(C140<>"",1,0) -> 1 | AH156: =IF(C140>E140,1,0) -> 0 | AI156: =AG156-AH156-AJ156 -> 0 | AJ156: =IF(C140<E140,1,0) -> 1 | AK156: =C140 -> 0 | AL156: =E140 -> 1 | AM156: =AK156-AL156 -> -1 | AN156: =AH156*3+AI156 -> 0 | AO156: 2 | AP156: =(10^10)*AN156+(10^8)*AH156+(10^6)*(50+AM156)+(10^4)*AK156+(10^2)*AG156+(13-AE156) -> 49000095 | AR156: =B141 -> 210680411005 | AS156: =AR156 -> 210680411005
R157: 5 | S157: =(VLOOKUP(AB141,$R$139:$U$148,2)) -> B. Leverkusen | T157: =(VLOOKUP(AB141,$R$139:$U$148,3)) -> 210680411005 | U157: =(VLOOKUP(AB141,$R$139:$U$148,4)) -> 18 | W157: 5 | X157: =LARGE($T$153:$T$160,W157) -> 170554151012 | AA157: 5 | AB157: =MATCH(X157,$T$153:$T$160,0) -> 2 | AD157: 3 | AE157: =I138 -> 14 | AF157: =I136 -> PSG | AG157: =IF(J136<>"",1,0) -> 1 | AH157: =IF(J136>L136,1,0) -> 1 | AI157: =AG157-AH157-AJ157 -> 0 | AJ157: =IF(J136<L136,1,0) -> 0 | AK157: =J136 -> 3 | AL157: =L136 -> 1 | AM157: =AK157-AL157 -> 2 | AN157: =AH157*3+AI157 -> 3 | AO157: 3 | AP157: =(10^10)*AN157+(10^8)*AH157+(10^6)*(50+AM157)+(10^4)*AK157+(10^2)*AG157+(13-AE157) -> 30152030099 | AR157: =I137 -> 200671331009 | AS157: =AR157 -> 200671331009
G158: Semi - Final | R158: 6 | S158: =(VLOOKUP(AB142,$R$139:$U$148,2)) -> PSG | T158: =(VLOOKUP(AB142,$R$139:$U$148,3)) -> 200671331009 | U158: =(VLOOKUP(AB142,$R$139:$U$148,4)) -> 14 | W158: 6 | X158: =LARGE($T$153:$T$160,W158) -> 160555241004 | AA158: 6 | AB158: =MATCH(X158,$T$153:$T$160,0) -> 3 | AD158: 4 | AE158: =I142 -> 13 | AF158: =I140 -> Barcelona | AG158: =IF(J140<>"",1,0) -> 1 | AH158: =IF(J140>L140,1,0) -> 1 | AI158: =AG158-AH158-AJ158 -> 0 | AJ158: =IF(J140<L140,1,0) -> 0 | AK158: =J140 -> 3 | AL158: =L140 -> 0 | AM158: =AK158-AL158 -> 3 | AN158: =AH158*3+AI158 -> 3 | AO158: 4 | AP158: =(10^10)*AN158+(10^8)*AH158+(10^6)*(50+AM158)+(10^4)*AK158+(10^2)*AG158+(13-AE158) -> 30153030100 | AR158: =I141 -> 190661241010 | AS158: =AR158 -> 190661241010
R159: 7 | S159: =(VLOOKUP(AB143,$R$139:$U$148,2)) -> Barcelona | T159: =(VLOOKUP(AB143,$R$139:$U$148,3)) -> 190661241010 | U159: =(VLOOKUP(AB143,$R$139:$U$148,4)) -> 13 | W159: 7 | X159: =LARGE($T$153:$T$160,W159) -> 130444081009 | AA159: 7 | AB159: =MATCH(X159,$T$153:$T$160,0) -> 4 | AD159: 5 | AE159: =F138 -> 19 | AF159: =F136 -> RB Leipzig | AG159: =IF(E136<>"",1,0) -> 1 | AH159: =IF(E136>C136,1,0) -> 0 | AI159: =AG159-AH159-AJ159 -> 0 | AJ159: =IF(E136<C136,1,0) -> 1 | AK159: =E136 -> 1 | AL159: =C136 -> 2 | AM159: =AK159-AL159 -> -1 | AN159: =AH159*3+AI159 -> 0 | AO159: 5 | AP159: =(10^10)*AN159+(10^8)*AH159+(10^6)*(50+AM159)+(10^4)*AK159+(10^2)*AG159+(13-AE159) -> 49010094 | AR159: =F137 -> 100341101004 | AS159: =AR159 -> 100341101004
R160: 8 | S160: =(VLOOKUP(AB144,$R$139:$U$148,2)) -> RB Leipzig | T160: =(VLOOKUP(AB144,$R$139:$U$148,3)) -> 100341101004 | U160: =(VLOOKUP(AB144,$R$139:$U$148,4)) -> 19 | W160: 8 | X160: =LARGE($T$153:$T$160,W160) -> 100341101004 | AA160: 8 | AB160: =MATCH(X160,$T$153:$T$160,0) -> 8 | AD160: 6 | AE160: =F142 -> 4 | AF160: =F140 -> Arsenal | AG160: =IF(E140<>"",1,0) -> 1 | AH160: =IF(E140>C140,1,0) -> 1 | AI160: =AG160-AH160-AJ160 -> 0 | AJ160: =IF(E140<C140,1,0) -> 0 | AK160: =E140 -> 1 | AL160: =C140 -> 0 | AM160: =AK160-AL160 -> 1 | AN160: =AH160*3+AI160 -> 3 | AO160: 6 | AP160: =(10^10)*AN160+(10^8)*AH160+(10^6)*(50+AM160)+(10^4)*AK160+(10^2)*AG160+(13-AE160) -> 30151010109 | AR160: =F141 -> 130444081009 | AS160: =AR160 -> 130444081009
B161: ok | AD161: 7 | AE161: =M138 -> 9 | AF161: =M136 -> Man. City | AG161: =IF(L136<>"",1,0) -> 1 | AH161: =IF(L136>J136,1,0) -> 0 | AI161: =AG161-AH161-AJ161 -> 0 | AJ161: =IF(L136<J136,1,0) -> 1 | AK161: =L136 -> 1 | AL161: =J136 -> 3 | AM161: =AK161-AL161 -> -2 | AN161: =AH161*3+AI161 -> 0 | AO161: 7 | AP161: =(10^10)*AN161+(10^8)*AH161+(10^6)*(50+AM161)+(10^4)*AK161+(10^2)*AG161+(13-AE161) -> 48010104 | AR161: =M137 -> 160555241004 | AS161: =AR161 -> 160555241004
B162: =IF($B$161="ok",(VLOOKUP($AB$190,$R$190:$U$193,2))," ") -> Juventus | C162: 5 | D162: x | E162: 1 | F162: =IF($B$161="ok",(VLOOKUP($AB$193,$R$190:$U$193,2))," ") -> Arsenal | I162: =IF($B$161="ok",(VLOOKUP($AB$191,$R$190:$U$193,2))," ") -> B. München | J162: 2 | K162: x | L162: 2 | M162: =IF($B$161="ok",(VLOOKUP($AB$192,$R$190:$U$193,2))," ") -> PSG | AD162: 8 | AE162: =M142 -> 1 | AF162: =M140 -> Internazionale | AG162: =IF(L140<>"",1,0) -> 1 | AH162: =IF(L140>J140,1,0) -> 0 | AI162: =AG162-AH162-AJ162 -> 0 | AJ162: =IF(L140<J140,1,0) -> 1 | AK162: =L140 -> 0 | AL162: =J140 -> 3 | AM162: =AK162-AL162 -> -3 | AN162: =AH162*3+AI162 -> 0 | AO162: 8 | AP162: =(10^10)*AN162+(10^8)*AH162+(10^6)*(50+AM162)+(10^4)*AK162+(10^2)*AG162+(13-AE162) -> 47000112 | AR162: =M141 -> 170554151012 | AS162: =AR162 -> 170554151012
B163: =IF($B$161="ok",(VLOOKUP($AB$190,$R$190:$U$193,3))," ") -> 281026361120 | F163: =IF($B$161="ok",(VLOOKUP($AB$193,$R$190:$U$193,3))," ") -> 210721341118 | I163: =IF($B$161="ok",(VLOOKUP($AB$191,$R$190:$U$193,3))," ") -> 260913251110 | J163: 4 | L163: 2 | M163: =IF($B$161="ok",(VLOOKUP($AB$192,$R$190:$U$193,3))," ") -> 220825381108 | R163: Quartas de Finais | AA163: Ordem Crescente
B164: =IF($B$161="ok",(VLOOKUP($AB$190,$R$190:$U$193,4))," ") -> 3 | F164: =IF($B$161="ok",(VLOOKUP($AB$193,$R$190:$U$193,4))," ") -> 4 | I164: =IF($B$161="ok",(VLOOKUP($AB$191,$R$190:$U$193,4))," ") -> 8 | M164: =IF($B$161="ok",(VLOOKUP($AB$192,$R$190:$U$193,4))," ") -> 14 | R164: Posição | S164: Time | T164: Pontos | U164: ID_TIME | W164: Posição
R165: 1 | S165: =(VLOOKUP(AB123,$R$123:$U$132,2)) -> Juventus | T165: =(VLOOKUP(AB123,$R$123:$U$132,3)) -> 250874331010 | U165: =(VLOOKUP(AB123,$R$123:$U$132,4)) -> 3 | W165: 1 | X165: =LARGE($T$165:$T$172,W165) -> 270962191006 | AA165: 1 | AB165: =MATCH(X165,$T$165:$T$172,0) -> 3
I166: ok | R166: 2 | S166: =(VLOOKUP(AB124,$R$123:$U$132,2)) -> B. München | T166: =(VLOOKUP(AB124,$R$123:$U$132,3)) -> 230760211005 | U166: =(VLOOKUP(AB124,$R$123:$U$132,4)) -> 8 | W166: 2 | X166: =LARGE($T$165:$T$172,W166) -> 250874331010 | AA166: 2 | AB166: =MATCH(X166,$T$165:$T$172,0) -> 1
R167: 3 | S167: =(VLOOKUP(AB139,$R$139:$U$148,2)) -> Liverpool | T167: =(VLOOKUP(AB139,$R$139:$U$148,3)) -> 270962191006 | U167: =(VLOOKUP(AB139,$R$139:$U$148,4)) -> 17 | W167: 3 | X167: =LARGE($T$165:$T$172,W167) -> 230764231012 | AA167: 3 | AB167: =MATCH(X167,$T$165:$T$172,0) -> 4
D168: 3º e 4º | R168: 4 | S168: =(VLOOKUP(AB140,$R$139:$U$148,2)) -> Ajax | T168: =(VLOOKUP(AB140,$R$139:$U$148,3)) -> 230764231012 | U168: =(VLOOKUP(AB140,$R$139:$U$148,4)) -> 11 | W168: 4 | X168: =LARGE($T$165:$T$172,W168) -> 230760211005 | AA168: 4 | AB168: =MATCH(X168,$T$165:$T$172,0) -> 2
I169: Campeão: | K169: =IF(I166="ok",IF(C181+C182>E181+E182,B181,F181),"") -> Juventus | R169: 5 | S169: =IF($C$136+$C$137>$E$136+$E$137,$B$136,$F$136) -> Real Madrid | T169: =IF($C$136+$C$137>$E$136+$E$137,$AS$155,$AS$159) -> 220770261008 | U169: =IF($C$136+$C$137>$E$136+$E$137,$B$138,$F$138) -> 5 | W169: 5 | X169: =LARGE($T$165:$T$172,W169) -> 220770261008 | AA169: 5 | AB169: =MATCH(X169,$T$165:$T$172,0) -> 5
B170: ok | R170: 6 | S170: =IF($C$140+$C$141>$E$140+$E$141,$B$140,$F$140) -> Arsenal | T170: =IF($C$140+$C$141>$E$140+$E$141,$AS$156,$AS$160) -> 130444081009 | U170: =IF($C$140+$C$141>$E$140+$E$141,$B$142,$F$142) -> 4 | W170: 6 | X170: =LARGE($T$165:$T$172,W170) -> 200671331009 | AA170: 6 | AB170: =MATCH(X170,$T$165:$T$172,0) -> 7
B171: =IF($B$170="ok",(VLOOKUP($AB$208,$R$208:$U$209,2))," ") -> PSG | C171: 4 | E171: 1 | F171: =IF($B$170="ok",(VLOOKUP($AB$209,$R$208:$U$209,2))," ") -> Arsenal | R171: 7 | S171: =IF($J$136+$J$137>$L$136+$L$137,$I$136,$M$136) -> PSG | T171: =IF($J$136+$J$137>$L$136+$L$137,$AS$157,$AS$161) -> 200671331009 | U171: =IF($J$136+$J$137>$L$136+$L$137,$I$138,$M$138) -> 14 | W171: 7 | X171: =LARGE($T$165:$T$172,W171) -> 190661241010 | AA171: 7 | AB171: =MATCH(X171,$T$165:$T$172,0) -> 8
...

Sheet Geral 2º Turno
B2: CLASSIFICAÇÃO GERAL - 2º Turno | P2: 1º FASE | AA2: OITAVAS DE FINAL | AL2: QUARTAS DE FINAL | AW2: SEMI FINAL | BI2: FINAL
B4: Posição | C4: Times | D4: Jogos | E4: Vitorias | F4: Empates | G4: Derrotas | H4: Gols Pró | I4: Gols Cont. | J4: Saldo | K4: Pontos | P4: ID_TIME | Q4: Times | R4: Jogos | S4: Vitorias | T4: Empates | U4: Derrotas | V4: Gols Pró | W4: Gols Cont. | X4: Saldo | Y4: Pontos | AA4: ID_TIME | AB4: Times | AC4: Jogos | AD4: Vitorias | AE4: Empates | AF4: Derrotas | AG4: Gols Pró | AH4: Gols Cont. | AI4: Saldo | AJ4: Pontos | AL4: ID_TIME | AM4: Times | AN4: Jogos | AO4: Vitorias | AP4: Empates | AQ4: Derrotas | AR4: Gols Pró | AS4: Gols Cont. | AT4: Saldo | AU4: Pontos | AW4: ID_TIME | AX4: Times | AY4: Jogos | AZ4: Vitorias | BA4: Empates | BB4: Derrotas | BC4: Gols Pró | BD4: Gols Cont. | BE4: Saldo | BF4: Pontos | BI4: ID_TIME | BJ4: Times | BK4: Jogos | BL4: Vitorias | BM4: Empates | BN4: Derrotas | BO4: Gols Pró | BP4: Gols Cont. | BQ4: Saldo | BR4: Pontos | BY4: ID_TIME | BZ4: Times | CA4: Jogos | CB4: Vitorias | CC4: Empates | CD4: Derrotas | CE4: Gols Pró | CF4: Gols Cont. | CG4: Saldo | CH4: Pontos
B6: 1º | C6: =VLOOKUP(CO6,$BY$6:$CH$23,2) -> #REF! | D6: =VLOOKUP(CO6,$BY$6:$CH$23,3) -> #REF! | E6: =VLOOKUP(CO6,$BY$6:$CH$23,4) -> #REF! | F6: =D6-E6-G6 -> #REF! | G6: =VLOOKUP(CO6,$BY$6:$CH$23,6) -> #REF! | H6: =VLOOKUP(CO6,$BY$6:$CH$23,7) -> #REF! | I6: =VLOOKUP(CO6,$BY$6:$CH$23,8) -> #REF! | J6: =H6-I6 -> #REF! | K6: =E6*3+F6 -> #REF! | P6: =#REF! -> #REF! | Q6: =Classificação!P10 -> Internazionale | R6: =Classificação!Q10 -> 10 | S6: =Classificação!R10 -> 5 | T6: =Classificação!S10 -> 2 | U6: =Classificação!T10 -> 3 | V6: =Classificação!U10 -> 15 | W6: =Classificação!V10 -> 11 | X6: =Classificação!W10 -> 4 | Y6: =Classificação!X10 -> 17 | Z6: =(10^10)*Y6+(10^8)*S6+(10^6)*(50+X6)+(10^4)*V6+(10^2)*R6+(13-P6) -> #REF! | AK6: 0 | AL6: =#REF! -> #REF! | AM6: =IF(ISERROR(VLOOKUP(AL6,$AL$27:$AN$34,2,FALSE)),0,(VLOOKUP(AL6,$AL$27:$AN$34,2,FALSE))) -> 0 | AN6: =IF(ISERROR(VLOOKUP(AL6,$AL$27:$AN$34,3,FALSE)),0,(VLOOKUP(AL6,$AL$27:$AN$34,3,FALSE))) -> 0 | AO6: =IF(ISERROR(VLOOKUP(AL6,$AL$27:$AO$34,4,FALSE)),0,(VLOOKUP(AL6,$AL$27:$AO$34,4,FALSE))) -> 0 | AP6: =AN6-AO6-AQ6 -> 0 | AQ6: =IF(ISERROR(VLOOKUP(AL6,$AL$27:$AQ$34,6,FALSE)),0,(VLOOKUP(AL6,$AL$27:$AQ$34,6,FALSE))) -> 0 | AR6: =IF(ISERROR(VLOOKUP(AL6,$AL$27:$AR$34,7,FALSE)),0,(VLOOKUP(AL6,$AL$27:$AR$34,7,FALSE))) -> 0 | AS6: =IF(ISERROR(VLOOKUP(AL6,$AL$27:$AS$34,8,FALSE)),0,(VLOOKUP(AL6,$AL$27:$AS$34,8,FALSE))) -> 0 | AT6: =AR6-AS6 -> 0 | AU6: =AO6*3+AP6 -> 0 | AW6: 1 | AX6: =IF(ISERROR(VLOOKUP(AW6,$AW$26:$AY$29,2,FALSE)),0,(VLOOKUP(AW6,$AW$26:$AY$29,2,FALSE))) -> 0 | AY6: =IF(ISERROR(VLOOKUP(AW6,$AW$26:$BF$29,3,FALSE)),0,(VLOOKUP(AW6,$AW$26:$BF$29,3,FALSE))) -> 0 | AZ6: =IF(ISERROR(VLOOKUP(AW6,$AW$26:$BF$29,4,FALSE)),0,(VLOOKUP(AW6,$AW$26:$BF$29,4,FALSE))) -> 0 | BA6: =AY6-AZ6-BB6 -> 0 | BB6: =IF(ISERROR(VLOOKUP(AW6,$AW$26:$BF$29,6,FALSE)),0,(VLOOKUP(AW6,$AW$26:$BF$29,6,FALSE))) -> 0 | BC6: =IF(ISERROR(VLOOKUP(AW6,$AW$26:$BF$29,7,FALSE)),0,(VLOOKUP(AW6,$AW$26:$BF$29,7,FALSE))) -> 0 | BD6: =IF(ISERROR(VLOOKUP(AW6,$AW$26:$BF$29,8,FALSE)),0,(VLOOKUP(AW6,$AW$26:$BF$29,8,FALSE))) -> 0 | BE6: =BC6-BD6 -> 0 | BF6: =AZ6*3+BA6 -> 0 | BI6: 1 | BJ6: =IF(ISERROR(VLOOKUP(BI6,$BI$26:$BK$29,2,FALSE)),0,(VLOOKUP(BI6,$BI$26:$BK$29,2,FALSE))) -> 0 | BK6: =IF(ISERROR(VLOOKUP(BI6,$BI$26:$BR$27,3,FALSE)),0,(VLOOKUP(BI6,$BI$26:$BR$27,3,FALSE))) -> 0 | BL6: =IF(ISERROR(VLOOKUP(BI6,$BI$26:$BR$27,4,FALSE)),0,(VLOOKUP(BI6,$BI$26:$BR$27,4,FALSE))) -> 0 | BM6: =BK6-BL6-BN6 -> 0 | BN6: =IF(ISERROR(VLOOKUP(BI6,$BI$26:$BR$27,6,FALSE)),0,(VLOOKUP(BI6,$BI$26:$BR$27,6,FALSE))) -> 0 | BO6: =IF(ISERROR(VLOOKUP(BI6,$BI$26:$BR$27,7,FALSE)),0,(VLOOKUP(BI6,$BI$26:$BR$27,7,FALSE))) -> 0 | BP6: =IF(ISERROR(VLOOKUP(BI6,$BI$26:$BR$27,8,FALSE)),0,(VLOOKUP(BI6,$BI$26:$BR$27,8,FALSE))) -> 0 | BQ6: =BO6-BP6 -> 0 | BR6: =BL6*3+BM6 -> 0 | BY6: =P6 -> #REF! | BZ6: =Q6 -> Internazionale | CA6: =R6+AN6+AY6+BK6 -> 10 | CB6: =S6+AO6+AZ6+BL6 -> 5 | CC6: =T6+AP6+BA6+BM6 -> 2 | CD6: =U6+AQ6+BB6+BN6 -> 3 | CE6: =V6+AR6+BC6+BO6 -> 15 | CF6: =W6+AS6+BD6+BP6 -> 11 | CG6: =X6+AT6+BE6+BQ6 -> 4 | CH6: =Y6+AU6+BF6+BR6 -> 17 | CJ6: =(10^10)*CH6+(10^8)*CB6+(10^6)*(50+CG6)+(10^4)*CE6+(10^2)*CA6+(13-BY6) -> #REF! | CK6: 1 | CL6: =LARGE($CJ$6:$CJ$23,CK6) -> #REF! | CN6: 1 | CO6: =MATCH(CL6,$CJ$6:$CJ$23,0) -> #REF!
B7: 2º | C7: =VLOOKUP(CO7,$BY$6:$CH$23,2) -> #REF! | D7: =VLOOKUP(CO7,$BY$6:$CH$23,3) -> #REF! | E7: =VLOOKUP(CO7,$BY$6:$CH$23,4) -> #REF! | F7: =D7-E7-G7 -> #REF! | G7: =VLOOKUP(CO7,$BY$6:$CH$23,6) -> #REF! | H7: =VLOOKUP(CO7,$BY$6:$CH$23,7) -> #REF! | I7: =VLOOKUP(CO7,$BY$6:$CH$23,8) -> #REF! | J7: =H7-I7 -> #REF! | K7: =E7*3+F7 -> #REF! | P7: =#REF! -> #REF! | Q7: =Classificação!P11 -> Atl. De Madrid | R7: =Classificação!Q11 -> 10 | S7: =Classificação!R11 -> 3 | T7: =Classificação!S11 -> 2 | U7: =Classificação!T11 -> 5 | V7: =Classificação!U11 -> 11 | W7: =Classificação!V11 -> 32 | X7: =Classificação!W11 -> -21 | Y7: =Classificação!X11 -> 11 | Z7: =(10^10)*Y7+(10^8)*S7+(10^6)*(50+X7)+(10^4)*V7+(10^2)*R7+(13-P7) -> #REF! | AK7: 0 | AL7: =#REF! -> #REF! | AM7: =IF(ISERROR(VLOOKUP(AL7,$AL$27:$AN$34,2,FALSE)),0,(VLOOKUP(AL7,$AL$27:$AN$34,2,FALSE))) -> 0 | AN7: =IF(ISERROR(VLOOKUP(AL7,$AL$27:$AN$34,3,FALSE)),0,(VLOOKUP(AL7,$AL$27:$AN$34,3,FALSE))) -> 0 | AO7: =IF(ISERROR(VLOOKUP(AL7,$AL$27:$AO$34,4,FALSE)),0,(VLOOKUP(AL7,$AL$27:$AO$34,4,FALSE))) -> 0 | AP7: =AN7-AO7-AQ7 -> 0 | AQ7: =IF(ISERROR(VLOOKUP(AL7,$AL$27:$AQ$34,6,FALSE)),0,(VLOOKUP(AL7,$AL$27:$AQ$34,6,FALSE))) -> 0 | AR7: =IF(ISERROR(VLOOKUP(AL7,$AL$27:$AR$34,7,FALSE)),0,(VLOOKUP(AL7,$AL$27:$AR$34,7,FALSE))) -> 0 | AS7: =IF(ISERROR(VLOOKUP(AL7,$AL$27:$AS$34,8,FALSE)),0,(VLOOKUP(AL7,$AL$27:$AS$34,8,FALSE))) -> 0 | AT7: =AR7-AS7 -> 0 | AU7: =AO7*3+AP7 -> 0 | AW7: 2 | AX7: =IF(ISERROR(VLOOKUP(AW7,$AW$26:$AY$29,2,FALSE)),0,(VLOOKUP(AW7,$AW$26:$AY$29,2,FALSE))) -> 0 | AY7: =IF(ISERROR(VLOOKUP(AW7,$AW$26:$BF$29,3,FALSE)),0,(VLOOKUP(AW7,$AW$26:$BF$29,3,FALSE))) -> 0 | AZ7: =IF(ISERROR(VLOOKUP(AW7,$AW$26:$BF$29,4,FALSE)),0,(VLOOKUP(AW7,$AW$26:$BF$29,4,FALSE))) -> 0 | BA7: =AY7-AZ7-BB7 -> 0 | BB7: =IF(ISERROR(VLOOKUP(AW7,$AW$26:$BF$29,6,FALSE)),0,(VLOOKUP(AW7,$AW$26:$BF$29,6,FALSE))) -> 0 | BC7: =IF(ISERROR(VLOOKUP(AW7,$AW$26:$BF$29,7,FALSE)),0,(VLOOKUP(AW7,$AW$26:$BF$29,7,FALSE))) -> 0 | BD7: =IF(ISERROR(VLOOKUP(AW7,$AW$26:$BF$29,8,FALSE)),0,(VLOOKUP(AW7,$AW$26:$BF$29,8,FALSE))) -> 0 | BE7: =BC7-BD7 -> 0 | BF7: =AZ7*3+BA7 -> 0 | BI7: 2 | BJ7: =IF(ISERROR(VLOOKUP(BI7,$BI$26:$BK$29,2,FALSE)),0,(VLOOKUP(BI7,$BI$26:$BK$29,2,FALSE))) -> 0 | BK7: =IF(ISERROR(VLOOKUP(BI7,$BI$26:$BR$27,3,FALSE)),0,(VLOOKUP(BI7,$BI$26:$BR$27,3,FALSE))) -> 0 | BL7: =IF(ISERROR(VLOOKUP(BI7,$BI$26:$BR$27,4,FALSE)),0,(VLOOKUP(BI7,$BI$26:$BR$27,4,FALSE))) -> 0 | BM7: =BK7-BL7-BN7 -> 0 | BN7: =IF(ISERROR(VLOOKUP(BI7,$BI$26:$BR$27,6,FALSE)),0,(VLOOKUP(BI7,$BI$26:$BR$27,6,FALSE))) -> 0 | BO7: =IF(ISERROR(VLOOKUP(BI7,$BI$26:$BR$27,7,FALSE)),0,(VLOOKUP(BI7,$BI$26:$BR$27,7,FALSE))) -> 0 | BP7: =IF(ISERROR(VLOOKUP(BI7,$BI$26:$BR$27,8,FALSE)),0,(VLOOKUP(BI7,$BI$26:$BR$27,8,FALSE))) -> 0 | BQ7: =BO7-BP7 -> 0 | BR7: =BL7*3+BM7 -> 0 | BY7: =P7 -> #REF! | BZ7: =Q7 -> Atl. De Madrid | CA7: =R7+AN7+AY7+BK7 -> 10 | CB7: =S7+AO7+AZ7+BL7 -> 3 | CC7: =T7+AP7+BA7+BM7 -> 2 | CD7: =U7+AQ7+BB7+BN7 -> 5 | CE7: =V7+AR7+BC7+BO7 -> 11 | CF7: =W7+AS7+BD7+BP7 -> 32 | CG7: =X7+AT7+BE7+BQ7 -> -21 | CH7: =Y7+AU7+BF7+BR7 -> 11 | CJ7: =(10^10)*CH7+(10^8)*CB7+(10^6)*(50+CG7)+(10^4)*CE7+(10^2)*CA7+(13-BY7) -> #REF! | CK7: 2 | CL7: =LARGE($CJ$6:$CJ$23,CK7) -> #REF! | CN7: 2 | CO7: =MATCH(CL7,$CJ$6:$CJ$23,0) -> #REF!
B8: 3º | C8: =VLOOKUP(CO8,$BY$6:$CH$23,2) -> #REF! | D8: =VLOOKUP(CO8,$BY$6:$CH$23,3) -> #REF! | E8: =VLOOKUP(CO8,$BY$6:$CH$23,4) -> #REF! | F8: =D8-E8-G8 -> #REF! | G8: =VLOOKUP(CO8,$BY$6:$CH$23,6) -> #REF! | H8: =VLOOKUP(CO8,$BY$6:$CH$23,7) -> #REF! | I8: =VLOOKUP(CO8,$BY$6:$CH$23,8) -> #REF! | J8: =H8-I8 -> #REF! | K8: =E8*3+F8 -> #REF! | P8: =#REF! -> #REF! | Q8: =Classificação!P12 -> Juventus | R8: =Classificação!Q12 -> 10 | S8: =Classificação!R12 -> 8 | T8: =Classificação!S12 -> 1 | U8: =Classificação!T12 -> 1 | V8: =Classificação!U12 -> 33 | W8: =Classificação!V12 -> 9 | X8: =Classificação!W12 -> 24 | Y8: =Classificação!X12 -> 25 | Z8: =(10^10)*Y8+(10^8)*S8+(10^6)*(50+X8)+(10^4)*V8+(10^2)*R8+(13-P8) -> #REF! | AK8: 0 | AL8: =#REF! -> #REF! | AM8: =IF(ISERROR(VLOOKUP(AL8,$AL$27:$AN$34,2,FALSE)),0,(VLOOKUP(AL8,$AL$27:$AN$34,2,FALSE))) -> 0 | AN8: =IF(ISERROR(VLOOKUP(AL8,$AL$27:$AN$34,3,FALSE)),0,(VLOOKUP(AL8,$AL$27:$AN$34,3,FALSE))) -> 0 | AO8: =IF(ISERROR(VLOOKUP(AL8,$AL$27:$AO$34,4,FALSE)),0,(VLOOKUP(AL8,$AL$27:$AO$34,4,FALSE))) -> 0 | AP8: =AN8-AO8-AQ8 -> 0 | AQ8: =IF(ISERROR(VLOOKUP(AL8,$AL$27:$AQ$34,6,FALSE)),0,(VLOOKUP(AL8,$AL$27:$AQ$34,6,FALSE))) -> 0 | AR8: =IF(ISERROR(VLOOKUP(AL8,$AL$27:$AR$34,7,FALSE)),0,(VLOOKUP(AL8,$AL$27:$AR$34,7,FALSE))) -> 0 | AS8: =IF(ISERROR(VLOOKUP(AL8,$AL$27:$AS$34,8,FALSE)),0,(VLOOKUP(AL8,$AL$27:$AS$34,8,FALSE))) -> 0 | AT8: =AR8-AS8 -> 0 | AU8: =AO8*3+AP8 -> 0 | AW8: 3 | AX8: =IF(ISERROR(VLOOKUP(AW8,$AW$26:$AY$29,2,FALSE)),0,(VLOOKUP(AW8,$AW$26:$AY$29,2,FALSE))) -> 0 | AY8: =IF(ISERROR(VLOOKUP(AW8,$AW$26:$BF$29,3,FALSE)),0,(VLOOKUP(AW8,$AW$26:$BF$29,3,FALSE))) -> 0 | AZ8: =IF(ISERROR(VLOOKUP(AW8,$AW$26:$BF$29,4,FALSE)),0,(VLOOKUP(AW8,$AW$26:$BF$29,4,FALSE))) -> 0 | BA8: =AY8-AZ8-BB8 -> 0 | BB8: =IF(ISERROR(VLOOKUP(AW8,$AW$26:$BF$29,6,FALSE)),0,(VLOOKUP(AW8,$AW$26:$BF$29,6,FALSE))) -> 0 | BC8: =IF(ISERROR(VLOOKUP(AW8,$AW$26:$BF$29,7,FALSE)),0,(VLOOKUP(AW8,$AW$26:$BF$29,7,FALSE))) -> 0 | BD8: =IF(ISERROR(VLOOKUP(AW8,$AW$26:$BF$29,8,FALSE)),0,(VLOOKUP(AW8,$AW$26:$BF$29,8,FALSE))) -> 0 | BE8: =BC8-BD8 -> 0 | BF8: =AZ8*3+BA8 -> 0 | BI8: 3 | BJ8: =IF(ISERROR(VLOOKUP(BI8,$BI$26:$BK$29,2,FALSE)),0,(VLOOKUP(BI8,$BI$26:$BK$29,2,FALSE))) -> 0 | BK8: =IF(ISERROR(VLOOKUP(BI8,$BI$26:$BR$27,3,FALSE)),0,(VLOOKUP(BI8,$BI$26:$BR$27,3,FALSE))) -> 0 | BL8: =IF(ISERROR(VLOOKUP(BI8,$BI$26:$BR$27,4,FALSE)),0,(VLOOKUP(BI8,$BI$26:$BR$27,4,FALSE))) -> 0 | BM8: =BK8-BL8-BN8 -> 0 | BN8: =IF(ISERROR(VLOOKUP(BI8,$BI$26:$BR$27,6,FALSE)),0,(VLOOKUP(BI8,$BI$26:$BR$27,6,FALSE))) -> 0 | BO8: =IF(ISERROR(VLOOKUP(BI8,$BI$26:$BR$27,7,FALSE)),0,(VLOOKUP(BI8,$BI$26:$BR$27,7,FALSE))) -> 0 | BP8: =IF(ISERROR(VLOOKUP(BI8,$BI$26:$BR$27,8,FALSE)),0,(VLOOKUP(BI8,$BI$26:$BR$27,8,FALSE))) -> 0 | BQ8: =BO8-BP8 -> 0 | BR8: =BL8*3+BM8 -> 0 | BY8: =P8 -> #REF! | BZ8: =Q8 -> Juventus | CA8: =R8+AN8+AY8+BK8 -> 10 | CB8: =S8+AO8+AZ8+BL8 -> 8 | CC8: =T8+AP8+BA8+BM8 -> 1 | CD8: =U8+AQ8+BB8+BN8 -> 1 | CE8: =V8+AR8+BC8+BO8 -> 33 | CF8: =W8+AS8+BD8+BP8 -> 9 | CG8: =X8+AT8+BE8+BQ8 -> 24 | CH8: =Y8+AU8+BF8+BR8 -> 25 | CJ8: =(10^10)*CH8+(10^8)*CB8+(10^6)*(50+CG8)+(10^4)*CE8+(10^2)*CA8+(13-BY8) -> #REF! | CK8: 3 | CL8: =LARGE($CJ$6:$CJ$23,CK8) -> #REF! | CN8: 3 | CO8: =MATCH(CL8,$CJ$6:$CJ$23,0) -> #REF!
B9: 4º | C9: =VLOOKUP(CO9,$BY$6:$CH$23,2) -> #REF! | D9: =VLOOKUP(CO9,$BY$6:$CH$23,3) -> #REF! | E9: =VLOOKUP(CO9,$BY$6:$CH$23,4) -> #REF! | F9: =D9-E9-G9 -> #REF! | G9: =VLOOKUP(CO9,$BY$6:$CH$23,6) -> #REF! | H9: =VLOOKUP(CO9,$BY$6:$CH$23,7) -> #REF! | I9: =VLOOKUP(CO9,$BY$6:$CH$23,8) -> #REF! | J9: =H9-I9 -> #REF! | K9: =E9*3+F9 -> #REF! | P9: =#REF! -> #REF! | Q9: =Classificação!P13 -> Arsenal | R9: =Classificação!Q13 -> 10 | S9: =Classificação!R13 -> 4 | T9: =Classificação!S13 -> 1 | U9: =Classificação!T13 -> 5 | V9: =Classificação!U13 -> 8 | W9: =Classificação!V13 -> 14 | X9: =Classificação!W13 -> -6 | Y9: =Classificação!X13 -> 13 | Z9: =(10^10)*Y9+(10^8)*S9+(10^6)*(50+X9)+(10^4)*V9+(10^2)*R9+(13-P9) -> #REF! | AK9: 0 | AL9: =#REF! -> #REF! | AM9: =IF(ISERROR(VLOOKUP(AL9,$AL$27:$AN$34,2,FALSE)),0,(VLOOKUP(AL9,$AL$27:$AN$34,2,FALSE))) -> 0 | AN9: =IF(ISERROR(VLOOKUP(AL9,$AL$27:$AN$34,3,FALSE)),0,(VLOOKUP(AL9,$AL$27:$AN$34,3,FALSE))) -> 0 | AO9: =IF(ISERROR(VLOOKUP(AL9,$AL$27:$AO$34,4,FALSE)),0,(VLOOKUP(AL9,$AL$27:$AO$34,4,FALSE))) -> 0 | AP9: =AN9-AO9-AQ9 -> 0 | AQ9: =IF(ISERROR(VLOOKUP(AL9,$AL$27:$AQ$34,6,FALSE)),0,(VLOOKUP(AL9,$AL$27:$AQ$34,6,FALSE))) -> 0 | AR9: =IF(ISERROR(VLOOKUP(AL9,$AL$27:$AR$34,7,FALSE)),0,(VLOOKUP(AL9,$AL$27:$AR$34,7,FALSE))) -> 0 | AS9: =IF(ISERROR(VLOOKUP(AL9,$AL$27:$AS$34,8,FALSE)),0,(VLOOKUP(AL9,$AL$27:$AS$34,8,FALSE))) -> 0 | AT9: =AR9-AS9 -> 0 | AU9: =AO9*3+AP9 -> 0 | AW9: 4 | AX9: =IF(ISERROR(VLOOKUP(AW9,$AW$26:$AY$29,2,FALSE)),0,(VLOOKUP(AW9,$AW$26:$AY$29,2,FALSE))) -> 0 | AY9: =IF(ISERROR(VLOOKUP(AW9,$AW$26:$BF$29,3,FALSE)),0,(VLOOKUP(AW9,$AW$26:$BF$29,3,FALSE))) -> 0 | AZ9: =IF(ISERROR(VLOOKUP(AW9,$AW$26:$BF$29,4,FALSE)),0,(VLOOKUP(AW9,$AW$26:$BF$29,4,FALSE))) -> 0 | BA9: =AY9-AZ9-BB9 -> 0 | BB9: =IF(ISERROR(VLOOKUP(AW9,$AW$26:$BF$29,6,FALSE)),0,(VLOOKUP(AW9,$AW$26:$BF$29,6,FALSE))) -> 0 | BC9: =IF(ISERROR(VLOOKUP(AW9,$AW$26:$BF$29,7,FALSE)),0,(VLOOKUP(AW9,$AW$26:$BF$29,7,FALSE))) -> 0 | BD9: =IF(ISERROR(VLOOKUP(AW9,$AW$26:$BF$29,8,FALSE)),0,(VLOOKUP(AW9,$AW$26:$BF$29,8,FALSE))) -> 0 | BE9: =BC9-BD9 -> 0 | BF9: =AZ9*3+BA9 -> 0 | BI9: 4 | BJ9: =IF(ISERROR(VLOOKUP(BI9,$BI$26:$BK$29,2,FALSE)),0,(VLOOKUP(BI9,$BI$26:$BK$29,2,FALSE))) -> 0 | BK9: =IF(ISERROR(VLOOKUP(BI9,$BI$26:$BR$27,3,FALSE)),0,(VLOOKUP(BI9,$BI$26:$BR$27,3,FALSE))) -> 0 | BL9: =IF(ISERROR(VLOOKUP(BI9,$BI$26:$BR$27,4,FALSE)),0,(VLOOKUP(BI9,$BI$26:$BR$27,4,FALSE))) -> 0 | BM9: =BK9-BL9-BN9 -> 0 | BN9: =IF(ISERROR(VLOOKUP(BI9,$BI$26:$BR$27,6,FALSE)),0,(VLOOKUP(BI9,$BI$26:$BR$27,6,FALSE))) -> 0 | BO9: =IF(ISERROR(VLOOKUP(BI9,$BI$26:$BR$27,7,FALSE)),0,(VLOOKUP(BI9,$BI$26:$BR$27,7,FALSE))) -> 0 | BP9: =IF(ISERROR(VLOOKUP(BI9,$BI$26:$BR$27,8,FALSE)),0,(VLOOKUP(BI9,$BI$26:$BR$27,8,FALSE))) -> 0 | BQ9: =BO9-BP9 -> 0 | BR9: =BL9*3+BM9 -> 0 | BY9: =P9 -> #REF! | BZ9: =Q9 -> Arsenal | CA9: =R9+AN9+AY9+BK9 -> 10 | CB9: =S9+AO9+AZ9+BL9 -> 4 | CC9: =T9+AP9+BA9+BM9 -> 1 | CD9: =U9+AQ9+BB9+BN9 -> 5 | CE9: =V9+AR9+BC9+BO9 -> 8 | CF9: =W9+AS9+BD9+BP9 -> 14 | CG9: =X9+AT9+BE9+BQ9 -> -6 | CH9: =Y9+AU9+BF9+BR9 -> 13 | CJ9: =(10^10)*CH9+(10^8)*CB9+(10^6)*(50+CG9)+(10^4)*CE9+(10^2)*CA9+(13-BY9) -> #REF! | CK9: 4 | CL9: =LARGE($CJ$6:$CJ$23,CK9) -> #REF! | CN9: 4 | CO9: =MATCH(CL9,$CJ$6:$CJ$23,0) -> #REF!
B10: 5º | C10: =VLOOKUP(CO10,$BY$6:$CH$23,2) -> #REF! | D10: =VLOOKUP(CO10,$BY$6:$CH$23,3) -> #REF! | E10: =VLOOKUP(CO10,$BY$6:$CH$23,4) -> #REF! | F10: =D10-E10-G10 -> #REF! | G10: =VLOOKUP(CO10,$BY$6:$CH$23,6) -> #REF! | H10: =VLOOKUP(CO10,$BY$6:$CH$23,7) -> #REF! | I10: =VLOOKUP(CO10,$BY$6:$CH$23,8) -> #REF! | J10: =H10-I10 -> #REF! | K10: =E10*3+F10 -> #REF! | P10: =#REF! -> #REF! | Q10: =Classificação!P14 -> Real Madrid | R10: =Classificação!Q14 -> 10 | S10: =Classificação!R14 -> 7 | T10: =Classificação!S14 -> 1 | U10: =Classificação!T14 -> 2 | V10: =Classificação!U14 -> 26 | W10: =Classificação!V14 -> 6 | X10: =Classificação!W14 -> 20 | Y10: =Classificação!X14 -> 22 | Z10: =(10^10)*Y10+(10^8)*S10+(10^6)*(50+X10)+(10^4)*V10+(10^2)*R10+(13-P10) -> #REF! | AK10: 0 | AL10: =#REF! -> #REF! | AM10: =IF(ISERROR(VLOOKUP(AL10,$AL$27:$AN$34,2,FALSE)),0,(VLOOKUP(AL10,$AL$27:$AN$34,2,FALSE))) -> 0 | AN10: =IF(ISERROR(VLOOKUP(AL10,$AL$27:$AN$34,3,FALSE)),0,(VLOOKUP(AL10,$AL$27:$AN$34,3,FALSE))) -> 0 | AO10: =IF(ISERROR(VLOOKUP(AL10,$AL$27:$AO$34,4,FALSE)),0,(VLOOKUP(AL10,$AL$27:$AO$34,4,FALSE))) -> 0 | AP10: =AN10-AO10-AQ10 -> 0 | AQ10: =IF(ISERROR(VLOOKUP(AL10,$AL$27:$AQ$34,6,FALSE)),0,(VLOOKUP(AL10,$AL$27:$AQ$34,6,FALSE))) -> 0 | AR10: =IF(ISERROR(VLOOKUP(AL10,$AL$27:$AR$34,7,FALSE)),0,(VLOOKUP(AL10,$AL$27:$AR$34,7,FALSE))) -> 0 | AS10: =IF(ISERROR(VLOOKUP(AL10,$AL$27:$AS$34,8,FALSE)),0,(VLOOKUP(AL10,$AL$27:$AS$34,8,FALSE))) -> 0 | AT10: =AR10-AS10 -> 0 | AU10: =AO10*3+AP10 -> 0 | AW10: 5 | AX10: =IF(ISERROR(VLOOKUP(AW10,$AW$26:$AY$29,2,FALSE)),0,(VLOOKUP(AW10,$AW$26:$AY$29,2,FALSE))) -> 0 | AY10: =IF(ISERROR(VLOOKUP(AW10,$AW$26:$BF$29,3,FALSE)),0,(VLOOKUP(AW10,$AW$26:$BF$29,3,FALSE))) -> 0 | AZ10: =IF(ISERROR(VLOOKUP(AW10,$AW$26:$BF$29,4,FALSE)),0,(VLOOKUP(AW10,$AW$26:$BF$29,4,FALSE))) -> 0 | BA10: =AY10-AZ10-BB10 -> 0 | BB10: =IF(ISERROR(VLOOKUP(AW10,$AW$26:$BF$29,6,FALSE)),0,(VLOOKUP(AW10,$AW$26:$BF$29,6,FALSE))) -> 0 | BC10: =IF(ISERROR(VLOOKUP(AW10,$AW$26:$BF$29,7,FALSE)),0,(VLOOKUP(AW10,$AW$26:$BF$29,7,FALSE))) -> 0 | BD10: =IF(ISERROR(VLOOKUP(AW10,$AW$26:$BF$29,8,FALSE)),0,(VLOOKUP(AW10,$AW$26:$BF$29,8,FALSE))) -> 0 | BE10: =BC10-BD10 -> 0 | BF10: =AZ10*3+BA10 -> 0 | BI10: 5 | BJ10: =IF(ISERROR(VLOOKUP(BI10,$BI$26:$BK$29,2,FALSE)),0,(VLOOKUP(BI10,$BI$26:$BK$29,2,FALSE))) -> 0 | BK10: =IF(ISERROR(VLOOKUP(BI10,$BI$26:$BR$27,3,FALSE)),0,(VLOOKUP(BI10,$BI$26:$BR$27,3,FALSE))) -> 0 | BL10: =IF(ISERROR(VLOOKUP(BI10,$BI$26:$BR$27,4,FALSE)),0,(VLOOKUP(BI10,$BI$26:$BR$27,4,FALSE))) -> 0 | BM10: =BK10-BL10-BN10 -> 0 | BN10: =IF(ISERROR(VLOOKUP(BI10,$BI$26:$BR$27,6,FALSE)),0,(VLOOKUP(BI10,$BI$26:$BR$27,6,FALSE))) -> 0 | BO10: =IF(ISERROR(VLOOKUP(BI10,$BI$26:$BR$27,7,FALSE)),0,(VLOOKUP(BI10,$BI$26:$BR$27,7,FALSE))) -> 0 | BP10: =IF(ISERROR(VLOOKUP(BI10,$BI$26:$BR$27,8,FALSE)),0,(VLOOKUP(BI10,$BI$26:$BR$27,8,FALSE))) -> 0 | BQ10: =BO10-BP10 -> 0 | BR10: =BL10*3+BM10 -> 0 | BY10: =P10 -> #REF! | BZ10: =Q10 -> Real Madrid | CA10: =R10+AN10+AY10+BK10 -> 10 | CB10: =S10+AO10+AZ10+BL10 -> 7 | CC10: =T10+AP10+BA10+BM10 -> 1 | CD10: =U10+AQ10+BB10+BN10 -> 2 | CE10: =V10+AR10+BC10+BO10 -> 26 | CF10: =W10+AS10+BD10+BP10 -> 6 | CG10: =X10+AT10+BE10+BQ10 -> 20 | CH10: =Y10+AU10+BF10+BR10 -> 22 | CJ10: =(10^10)*CH10+(10^8)*CB10+(10^6)*(50+CG10)+(10^4)*CE10+(10^2)*CA10+(13-BY10) -> #REF! | CK10: 5 | CL10: =LARGE($CJ$6:$CJ$23,CK10) -> #REF! | CN10: 5 | CO10: =MATCH(CL10,$CJ$6:$CJ$23,0) -> #REF!
B11: 6º | C11: =VLOOKUP(CO11,$BY$6:$CH$23,2) -> #REF! | D11: =VLOOKUP(CO11,$BY$6:$CH$23,3) -> #REF! | E11: =VLOOKUP(CO11,$BY$6:$CH$23,4) -> #REF! | F11: =D11-E11-G11 -> #REF! | G11: =VLOOKUP(CO11,$BY$6:$CH$23,6) -> #REF! | H11: =VLOOKUP(CO11,$BY$6:$CH$23,7) -> #REF! | I11: =VLOOKUP(CO11,$BY$6:$CH$23,8) -> #REF! | J11: =H11-I11 -> #REF! | K11: =E11*3+F11 -> #REF! | P11: =#REF! -> #REF! | Q11: =Classificação!P15 -> Velência | R11: =Classificação!Q15 -> 10 | S11: =Classificação!R15 -> 1 | T11: =Classificação!S15 -> 1 | U11: =Classificação!T15 -> 8 | V11: =Classificação!U15 -> 6 | W11: =Classificação!V15 -> 23 | X11: =Classificação!W15 -> -17 | Y11: =Classificação!X15 -> 4 | Z11: =(10^10)*Y11+(10^8)*S11+(10^6)*(50+X11)+(10^4)*V11+(10^2)*R11+(13-P11) -> #REF! | AK11: 0 | AL11: =#REF! -> #REF! | AM11: =IF(ISERROR(VLOOKUP(AL11,$AL$27:$AN$34,2,FALSE)),0,(VLOOKUP(AL11,$AL$27:$AN$34,2,FALSE))) -> 0 | AN11: =IF(ISERROR(VLOOKUP(AL11,$AL$27:$AN$34,3,FALSE)),0,(VLOOKUP(AL11,$AL$27:$AN$34,3,FALSE))) -> 0 | AO11: =IF(ISERROR(VLOOKUP(AL11,$AL$27:$AO$34,4,FALSE)),0,(VLOOKUP(AL11,$AL$27:$AO$34,4,FALSE))) -> 0 | AP11: =AN11-AO11-AQ11 -> 0 | AQ11: =IF(ISERROR(VLOOKUP(AL11,$AL$27:$AQ$34,6,FALSE)),0,(VLOOKUP(AL11,$AL$27:$AQ$34,6,FALSE))) -> 0 | AR11: =IF(ISERROR(VLOOKUP(AL11,$AL$27:$AR$34,7,FALSE)),0,(VLOOKUP(AL11,$AL$27:$AR$34,7,FALSE))) -> 0 | AS11: =IF(ISERROR(VLOOKUP(AL11,$AL$27:$AS$34,8,FALSE)),0,(VLOOKUP(AL11,$AL$27:$AS$34,8,FALSE))) -> 0 | AT11: =AR11-AS11 -> 0 | AU11: =AO11*3+AP11 -> 0 | AW11: 6 | AX11: =IF(ISERROR(VLOOKUP(AW11,$AW$26:$AY$29,2,FALSE)),0,(VLOOKUP(AW11,$AW$26:$AY$29,2,FALSE))) -> 0 | AY11: =IF(ISERROR(VLOOKUP(AW11,$AW$26:$BF$29,3,FALSE)),0,(VLOOKUP(AW11,$AW$26:$BF$29,3,FALSE))) -> 0 | AZ11: =IF(ISERROR(VLOOKUP(AW11,$AW$26:$BF$29,4,FALSE)),0,(VLOOKUP(AW11,$AW$26:$BF$29,4,FALSE))) -> 0 | BA11: =AY11-AZ11-BB11 -> 0 | BB11: =IF(ISERROR(VLOOKUP(AW11,$AW$26:$BF$29,6,FALSE)),0,(VLOOKUP(AW11,$AW$26:$BF$29,6,FALSE))) -> 0 | BC11: =IF(ISERROR(VLOOKUP(AW11,$AW$26:$BF$29,7,FALSE)),0,(VLOOKUP(AW11,$AW$26:$BF$29,7,FALSE))) -> 0 | BD11: =IF(ISERROR(VLOOKUP(AW11,$AW$26:$BF$29,8,FALSE)),0,(VLOOKUP(AW11,$AW$26:$BF$29,8,FALSE))) -> 0 | BE11: =BC11-BD11 -> 0 | BF11: =AZ11*3+BA11 -> 0 | BI11: 6 | BJ11: =IF(ISERROR(VLOOKUP(BI11,$BI$26:$BK$29,2,FALSE)),0,(VLOOKUP(BI11,$BI$26:$BK$29,2,FALSE))) -> 0 | BK11: =IF(ISERROR(VLOOKUP(BI11,$BI$26:$BR$27,3,FALSE)),0,(VLOOKUP(BI11,$BI$26:$BR$27,3,FALSE))) -> 0 | BL11: =IF(ISERROR(VLOOKUP(BI11,$BI$26:$BR$27,4,FALSE)),0,(VLOOKUP(BI11,$BI$26:$BR$27,4,FALSE))) -> 0 | BM11: =BK11-BL11-BN11 -> 0 | BN11: =IF(ISERROR(VLOOKUP(BI11,$BI$26:$BR$27,6,FALSE)),0,(VLOOKUP(BI11,$BI$26:$BR$27,6,FALSE))) -> 0 | BO11: =IF(ISERROR(VLOOKUP(BI11,$BI$26:$BR$27,7,FALSE)),0,(VLOOKUP(BI11,$BI$26:$BR$27,7,FALSE))) -> 0 | BP11: =IF(ISERROR(VLOOKUP(BI11,$BI$26:$BR$27,8,FALSE)),0,(VLOOKUP(BI11,$BI$26:$BR$27,8,FALSE))) -> 0 | BQ11: =BO11-BP11 -> 0 | BR11: =BL11*3+BM11 -> 0 | BY11: =P11 -> #REF! | BZ11: =Q11 -> Velência | CA11: =R11+AN11+AY11+BK11 -> 10 | CB11: =S11+AO11+AZ11+BL11 -> 1 | CC11: =T11+AP11+BA11+BM11 -> 1 | CD11: =U11+AQ11+BB11+BN11 -> 8 | CE11: =V11+AR11+BC11+BO11 -> 6 | CF11: =W11+AS11+BD11+BP11 -> 23 | CG11: =X11+AT11+BE11+BQ11 -> -17 | CH11: =Y11+AU11+BF11+BR11 -> 4 | CJ11: =(10^10)*CH11+(10^8)*CB11+(10^6)*(50+CG11)+(10^4)*CE11+(10^2)*CA11+(13-BY11) -> #REF! | CK11: 6 | CL11: =LARGE($CJ$6:$CJ$23,CK11) -> #REF! | CN11: 6 | CO11: =MATCH(CL11,$CJ$6:$CJ$23,0) -> #REF!
B12: 7º | C12: =VLOOKUP(CO12,$BY$6:$CH$23,2) -> #REF! | D12: =VLOOKUP(CO12,$BY$6:$CH$23,3) -> #REF! | E12: =VLOOKUP(CO12,$BY$6:$CH$23,4) -> #REF! | F12: =D12-E12-G12 -> #REF! | G12: =VLOOKUP(CO12,$BY$6:$CH$23,6) -> #REF! | H12: =VLOOKUP(CO12,$BY$6:$CH$23,7) -> #REF! | I12: =VLOOKUP(CO12,$BY$6:$CH$23,8) -> #REF! | J12: =H12-I12 -> #REF! | K12: =E12*3+F12 -> #REF! | P12: =#REF! -> #REF! | Q12: =Classificação!P16 -> Man. United | R12: =Classificação!Q16 -> 10 | S12: =Classificação!R16 -> 0 | T12: =Classificação!S16 -> 3 | U12: =Classificação!T16 -> 7 | V12: =Classificação!U16 -> 11 | W12: =Classificação!V16 -> 35 | X12: =Classificação!W16 -> -24 | Y12: =Classificação!X16 -> 3 | Z12: =(10^10)*Y12+(10^8)*S12+(10^6)*(50+X12)+(10^4)*V12+(10^2)*R12+(13-P12) -> #REF! | AK12: 0 | AL12: =#REF! -> #REF! | AM12: =IF(ISERROR(VLOOKUP(AL12,$AL$27:$AN$34,2,FALSE)),0,(VLOOKUP(AL12,$AL$27:$AN$34,2,FALSE))) -> 0 | AN12: =IF(ISERROR(VLOOKUP(AL12,$AL$27:$AN$34,3,FALSE)),0,(VLOOKUP(AL12,$AL$27:$AN$34,3,FALSE))) -> 0 | AO12: =IF(ISERROR(VLOOKUP(AL12,$AL$27:$AO$34,4,FALSE)),0,(VLOOKUP(AL12,$AL$27:$AO$34,4,FALSE))) -> 0 | AP12: =AN12-AO12-AQ12 -> 0 | AQ12: =IF(ISERROR(VLOOKUP(AL12,$AL$27:$AQ$34,6,FALSE)),0,(VLOOKUP(AL12,$AL$27:$AQ$34,6,FALSE))) -> 0 | AR12: =IF(ISERROR(VLOOKUP(AL12,$AL$27:$AR$34,7,FALSE)),0,(VLOOKUP(AL12,$AL$27:$AR$34,7,FALSE))) -> 0 | AS12: =IF(ISERROR(VLOOKUP(AL12,$AL$27:$AS$34,8,FALSE)),0,(VLOOKUP(AL12,$AL$27:$AS$34,8,FALSE))) -> 0 | AT12: =AR12-AS12 -> 0 | AU12: =AO12*3+AP12 -> 0 | AW12: 7 | AX12: =IF(ISERROR(VLOOKUP(AW12,$AW$26:$AY$29,2,FALSE)),0,(VLOOKUP(AW12,$AW$26:$AY$29,2,FALSE))) -> 0 | AY12: =IF(ISERROR(VLOOKUP(AW12,$AW$26:$BF$29,3,FALSE)),0,(VLOOKUP(AW12,$AW$26:$BF$29,3,FALSE))) -> 0 | AZ12: =IF(ISERROR(VLOOKUP(AW12,$AW$26:$BF$29,4,FALSE)),0,(VLOOKUP(AW12,$AW$26:$BF$29,4,FALSE))) -> 0 | BA12: =AY12-AZ12-BB12 -> 0 | BB12: =IF(ISERROR(VLOOKUP(AW12,$AW$26:$BF$29,6,FALSE)),0,(VLOOKUP(AW12,$AW$26:$BF$29,6,FALSE))) -> 0 | BC12: =IF(ISERROR(VLOOKUP(AW12,$AW$26:$BF$29,7,FALSE)),0,(VLOOKUP(AW12,$AW$26:$BF$29,7,FALSE))) -> 0 | BD12: =IF(ISERROR(VLOOKUP(AW12,$AW$26:$BF$29,8,FALSE)),0,(VLOOKUP(AW12,$AW$26:$BF$29,8,FALSE))) -> 0 | BE12: =BC12-BD12 -> 0 | BF12: =AZ12*3+BA12 -> 0 | BI12: 7 | BJ12: =IF(ISERROR(VLOOKUP(BI12,$BI$26:$BK$29,2,FALSE)),0,(VLOOKUP(BI12,$BI$26:$BK$29,2,FALSE))) -> 0 | BK12: =IF(ISERROR(VLOOKUP(BI12,$BI$26:$BR$27,3,FALSE)),0,(VLOOKUP(BI12,$BI$26:$BR$27,3,FALSE))) -> 0 | BL12: =IF(ISERROR(VLOOKUP(BI12,$BI$26:$BR$27,4,FALSE)),0,(VLOOKUP(BI12,$BI$26:$BR$27,4,FALSE))) -> 0 | BM12: =BK12-BL12-BN12 -> 0 | BN12: =IF(ISERROR(VLOOKUP(BI12,$BI$26:$BR$27,6,FALSE)),0,(VLOOKUP(BI12,$BI$26:$BR$27,6,FALSE))) -> 0 | BO12: =IF(ISERROR(VLOOKUP(BI12,$BI$26:$BR$27,7,FALSE)),0,(VLOOKUP(BI12,$BI$26:$BR$27,7,FALSE))) -> 0 | BP12: =IF(ISERROR(VLOOKUP(BI12,$BI$26:$BR$27,8,FALSE)),0,(VLOOKUP(BI12,$BI$26:$BR$27,8,FALSE))) -> 0 | BQ12: =BO12-BP12 -> 0 | BR12: =BL12*3+BM12 -> 0 | BY12: =P12 -> #REF! | BZ12: =Q12 -> Man. United | CA12: =R12+AN12+AY12+BK12 -> 10 | CB12: =S12+AO12+AZ12+BL12 -> 0 | CC12: =T12+AP12+BA12+BM12 -> 3 | CD12: =U12+AQ12+BB12+BN12 -> 7 | CE12: =V12+AR12+BC12+BO12 -> 11 | CF12: =W12+AS12+BD12+BP12 -> 35 | CG12: =X12+AT12+BE12+BQ12 -> -24 | CH12: =Y12+AU12+BF12+BR12 -> 3 | CJ12: =(10^10)*CH12+(10^8)*CB12+(10^6)*(50+CG12)+(10^4)*CE12+(10^2)*CA12+(13-BY12) -> #REF! | CK12: 7 | CL12: =LARGE($CJ$6:$CJ$23,CK12) -> #REF! | CN12: 7 | CO12: =MATCH(CL12,$CJ$6:$CJ$23,0) -> #REF!
B13: 8º | C13: =VLOOKUP(CO13,$BY$6:$CH$23,2) -> #REF! | D13: =VLOOKUP(CO13,$BY$6:$CH$23,3) -> #REF! | E13: =VLOOKUP(CO13,$BY$6:$CH$23,4) -> #REF! | F13: =D13-E13-G13 -> #REF! | G13: =VLOOKUP(CO13,$BY$6:$CH$23,6) -> #REF! | H13: =VLOOKUP(CO13,$BY$6:$CH$23,7) -> #REF! | I13: =VLOOKUP(CO13,$BY$6:$CH$23,8) -> #REF! | J13: =H13-I13 -> #REF! | K13: =E13*3+F13 -> #REF! | P13: =#REF! -> #REF! | Q13: =Classificação!P17 -> B. München | R13: =Classificação!Q17 -> 10 | S13: =Classificação!R17 -> 7 | T13: =Classificação!S17 -> 2 | U13: =Classificação!T17 -> 1 | V13: =Classificação!U17 -> 21 | W13: =Classificação!V17 -> 11 | X13: =Classificação!W17 -> 10 | Y13: =Classificação!X17 -> 23 | Z13: =(10^10)*Y13+(10^8)*S13+(10^6)*(50+X13)+(10^4)*V13+(10^2)*R13+(13-P13) -> #REF! | AK13: 0 | AL13: =#REF! -> #REF! | AM13: =IF(ISERROR(VLOOKUP(AL13,$AL$27:$AN$34,2,FALSE)),0,(VLOOKUP(AL13,$AL$27:$AN$34,2,FALSE))) -> 0 | AN13: =IF(ISERROR(VLOOKUP(AL13,$AL$27:$AN$34,3,FALSE)),0,(VLOOKUP(AL13,$AL$27:$AN$34,3,FALSE))) -> 0 | AO13: =IF(ISERROR(VLOOKUP(AL13,$AL$27:$AO$34,4,FALSE)),0,(VLOOKUP(AL13,$AL$27:$AO$34,4,FALSE))) -> 0 | AP13: =AN13-AO13-AQ13 -> 0 | AQ13: =IF(ISERROR(VLOOKUP(AL13,$AL$27:$AQ$34,6,FALSE)),0,(VLOOKUP(AL13,$AL$27:$AQ$34,6,FALSE))) -> 0 | AR13: =IF(ISERROR(VLOOKUP(AL13,$AL$27:$AR$34,7,FALSE)),0,(VLOOKUP(AL13,$AL$27:$AR$34,7,FALSE))) -> 0 | AS13: =IF(ISERROR(VLOOKUP(AL13,$AL$27:$AS$34,8,FALSE)),0,(VLOOKUP(AL13,$AL$27:$AS$34,8,FALSE))) -> 0 | AT13: =AR13-AS13 -> 0 | AU13: =AO13*3+AP13 -> 0 | AW13: 8 | AX13: =IF(ISERROR(VLOOKUP(AW13,$AW$26:$AY$29,2,FALSE)),0,(VLOOKUP(AW13,$AW$26:$AY$29,2,FALSE))) -> 0 | AY13: =IF(ISERROR(VLOOKUP(AW13,$AW$26:$BF$29,3,FALSE)),0,(VLOOKUP(AW13,$AW$26:$BF$29,3,FALSE))) -> 0 | AZ13: =IF(ISERROR(VLOOKUP(AW13,$AW$26:$BF$29,4,FALSE)),0,(VLOOKUP(AW13,$AW$26:$BF$29,4,FALSE))) -> 0 | BA13: =AY13-AZ13-BB13 -> 0 | BB13: =IF(ISERROR(VLOOKUP(AW13,$AW$26:$BF$29,6,FALSE)),0,(VLOOKUP(AW13,$AW$26:$BF$29,6,FALSE))) -> 0 | BC13: =IF(ISERROR(VLOOKUP(AW13,$AW$26:$BF$29,7,FALSE)),0,(VLOOKUP(AW13,$AW$26:$BF$29,7,FALSE))) -> 0 | BD13: =IF(ISERROR(VLOOKUP(AW13,$AW$26:$BF$29,8,FALSE)),0,(VLOOKUP(AW13,$AW$26:$BF$29,8,FALSE))) -> 0 | BE13: =BC13-BD13 -> 0 | BF13: =AZ13*3+BA13 -> 0 | BI13: 8 | BJ13: =IF(ISERROR(VLOOKUP(BI13,$BI$26:$BK$29,2,FALSE)),0,(VLOOKUP(BI13,$BI$26:$BK$29,2,FALSE))) -> 0 | BK13: =IF(ISERROR(VLOOKUP(BI13,$BI$26:$BR$27,3,FALSE)),0,(VLOOKUP(BI13,$BI$26:$BR$27,3,FALSE))) -> 0 | BL13: =IF(ISERROR(VLOOKUP(BI13,$BI$26:$BR$27,4,FALSE)),0,(VLOOKUP(BI13,$BI$26:$BR$27,4,FALSE))) -> 0 | BM13: =BK13-BL13-BN13 -> 0 | BN13: =IF(ISERROR(VLOOKUP(BI13,$BI$26:$BR$27,6,FALSE)),0,(VLOOKUP(BI13,$BI$26:$BR$27,6,FALSE))) -> 0 | BO13: =IF(ISERROR(VLOOKUP(BI13,$BI$26:$BR$27,7,FALSE)),0,(VLOOKUP(BI13,$BI$26:$BR$27,7,FALSE))) -> 0 | BP13: =IF(ISERROR(VLOOKUP(BI13,$BI$26:$BR$27,8,FALSE)),0,(VLOOKUP(BI13,$BI$26:$BR$27,8,FALSE))) -> 0 | BQ13: =BO13-BP13 -> 0 | BR13: =BL13*3+BM13 -> 0 | BY13: =P13 -> #REF! | BZ13: =Q13 -> B. München | CA13: =R13+AN13+AY13+BK13 -> 10 | CB13: =S13+AO13+AZ13+BL13 -> 7 | CC13: =T13+AP13+BA13+BM13 -> 2 | CD13: =U13+AQ13+BB13+BN13 -> 1 | CE13: =V13+AR13+BC13+BO13 -> 21 | CF13: =W13+AS13+BD13+BP13 -> 11 | CG13: =X13+AT13+BE13+BQ13 -> 10 | CH13: =Y13+AU13+BF13+BR13 -> 23 | CJ13: =(10^10)*CH13+(10^8)*CB13+(10^6)*(50+CG13)+(10^4)*CE13+(10^2)*CA13+(13-BY13) -> #REF! | CK13: 8 | CL13: =LARGE($CJ$6:$CJ$23,CK13) -> #REF! | CN13: 8 | CO13: =MATCH(CL13,$CJ$6:$CJ$23,0) -> #REF!
B14: 9º | C14: =VLOOKUP(CO14,$BY$6:$CH$23,2) -> #REF! | D14: =VLOOKUP(CO14,$BY$6:$CH$23,3) -> #REF! | E14: =VLOOKUP(CO14,$BY$6:$CH$23,4) -> #REF! | F14: =D14-E14-G14 -> #REF! | G14: =VLOOKUP(CO14,$BY$6:$CH$23,6) -> #REF! | H14: =VLOOKUP(CO14,$BY$6:$CH$23,7) -> #REF! | I14: =VLOOKUP(CO14,$BY$6:$CH$23,8) -> #REF! | J14: =H14-I14 -> #REF! | K14: =E14*3+F14 -> #REF! | P14: =#REF! -> #REF! | Q14: =Classificação!P18 -> Man. City | R14: =Classificação!Q18 -> 10 | S14: =Classificação!R18 -> 5 | T14: =Classificação!S18 -> 1 | U14: =Classificação!T18 -> 4 | V14: =Classificação!U18 -> 24 | W14: =Classificação!V18 -> 19 | X14: =Classificação!W18 -> 5 | Y14: =Classificação!X18 -> 16 | Z14: =(10^10)*Y14+(10^8)*S14+(10^6)*(50+X14)+(10^4)*V14+(10^2)*R14+(13-P14) -> #REF! | AK14: 0 | AL14: =#REF! -> #REF! | AM14: =IF(ISERROR(VLOOKUP(AL14,$AL$27:$AN$34,2,FALSE)),0,(VLOOKUP(AL14,$AL$27:$AN$34,2,FALSE))) -> 0 | AN14: =IF(ISERROR(VLOOKUP(AL14,$AL$27:$AN$34,3,FALSE)),0,(VLOOKUP(AL14,$AL$27:$AN$34,3,FALSE))) -> 0 | AO14: =IF(ISERROR(VLOOKUP(AL14,$AL$27:$AO$34,4,FALSE)),0,(VLOOKUP(AL14,$AL$27:$AO$34,4,FALSE))) -> 0 | AP14: =AN14-AO14-AQ14 -> 0 | AQ14: =IF(ISERROR(VLOOKUP(AL14,$AL$27:$AQ$34,6,FALSE)),0,(VLOOKUP(AL14,$AL$27:$AQ$34,6,FALSE))) -> 0 | AR14: =IF(ISERROR(VLOOKUP(AL14,$AL$27:$AR$34,7,FALSE)),0,(VLOOKUP(AL14,$AL$27:$AR$34,7,FALSE))) -> 0 | AS14: =IF(ISERROR(VLOOKUP(AL14,$AL$27:$AS$34,8,FALSE)),0,(VLOOKUP(AL14,$AL$27:$AS$34,8,FALSE))) -> 0 | AT14: =AR14-AS14 -> 0 | AU14: =AO14*3+AP14 -> 0 | AW14: 9 | AX14: =IF(ISERROR(VLOOKUP(AW14,$AW$26:$AY$29,2,FALSE)),0,(VLOOKUP(AW14,$AW$26:$AY$29,2,FALSE))) -> 0 | AY14: =IF(ISERROR(VLOOKUP(AW14,$AW$26:$BF$29,3,FALSE)),0,(VLOOKUP(AW14,$AW$26:$BF$29,3,FALSE))) -> 0 | AZ14: =IF(ISERROR(VLOOKUP(AW14,$AW$26:$BF$29,4,FALSE)),0,(VLOOKUP(AW14,$AW$26:$BF$29,4,FALSE))) -> 0 | BA14: =AY14-AZ14-BB14 -> 0 | BB14: =IF(ISERROR(VLOOKUP(AW14,$AW$26:$BF$29,6,FALSE)),0,(VLOOKUP(AW14,$AW$26:$BF$29,6,FALSE))) -> 0 | BC14: =IF(ISERROR(VLOOKUP(AW14,$AW$26:$BF$29,7,FALSE)),0,(VLOOKUP(AW14,$AW$26:$BF$29,7,FALSE))) -> 0 | BD14: =IF(ISERROR(VLOOKUP(AW14,$AW$26:$BF$29,8,FALSE)),0,(VLOOKUP(AW14,$AW$26:$BF$29,8,FALSE))) -> 0 | BE14: =BC14-BD14 -> 0 | BF14: =AZ14*3+BA14 -> 0 | BI14: 9 | BJ14: =IF(ISERROR(VLOOKUP(BI14,$BI$26:$BK$29,2,FALSE)),0,(VLOOKUP(BI14,$BI$26:$BK$29,2,FALSE))) -> 0 | BK14: =IF(ISERROR(VLOOKUP(BI14,$BI$26:$BR$27,3,FALSE)),0,(VLOOKUP(BI14,$BI$26:$BR$27,3,FALSE))) -> 0 | BL14: =IF(ISERROR(VLOOKUP(BI14,$BI$26:$BR$27,4,FALSE)),0,(VLOOKUP(BI14,$BI$26:$BR$27,4,FALSE))) -> 0 | BM14: =BK14-BL14-BN14 -> 0 | BN14: =IF(ISERROR(VLOOKUP(BI14,$BI$26:$BR$27,6,FALSE)),0,(VLOOKUP(BI14,$BI$26:$BR$27,6,FALSE))) -> 0 | BO14: =IF(ISERROR(VLOOKUP(BI14,$BI$26:$BR$27,7,FALSE)),0,(VLOOKUP(BI14,$BI$26:$BR$27,7,FALSE))) -> 0 | BP14: =IF(ISERROR(VLOOKUP(BI14,$BI$26:$BR$27,8,FALSE)),0,(VLOOKUP(BI14,$BI$26:$BR$27,8,FALSE))) -> 0 | BQ14: =BO14-BP14 -> 0 | BR14: =BL14*3+BM14 -> 0 | BY14: =P14 -> #REF! | BZ14: =Q14 -> Man. City | CA14: =R14+AN14+AY14+BK14 -> 10 | CB14: =S14+AO14+AZ14+BL14 -> 5 | CC14: =T14+AP14+BA14+BM14 -> 1 | CD14: =U14+AQ14+BB14+BN14 -> 4 | CE14: =V14+AR14+BC14+BO14 -> 24 | CF14: =W14+AS14+BD14+BP14 -> 19 | CG14: =X14+AT14+BE14+BQ14 -> 5 | CH14: =Y14+AU14+BF14+BR14 -> 16 | CJ14: =(10^10)*CH14+(10^8)*CB14+(10^6)*(50+CG14)+(10^4)*CE14+(10^2)*CA14+(13-BY14) -> #REF! | CK14: 9 | CL14: =LARGE($CJ$6:$CJ$23,CK14) -> #REF! | CN14: 9 | CO14: =MATCH(CL14,$CJ$6:$CJ$23,0) -> #REF!
B15: 10º | C15: =VLOOKUP(CO15,$BY$6:$CH$23,2) -> #REF! | D15: =VLOOKUP(CO15,$BY$6:$CH$23,3) -> #REF! | E15: =VLOOKUP(CO15,$BY$6:$CH$23,4) -> #REF! | F15: =D15-E15-G15 -> #REF! | G15: =VLOOKUP(CO15,$BY$6:$CH$23,6) -> #REF! | H15: =VLOOKUP(CO15,$BY$6:$CH$23,7) -> #REF! | I15: =VLOOKUP(CO15,$BY$6:$CH$23,8) -> #REF! | J15: =H15-I15 -> #REF! | K15: =E15*3+F15 -> #REF! | P15: =#REF! -> #REF! | Q15: =Classificação!P24 -> Ajax | R15: =Classificação!Q24 -> 10 | S15: =Classificação!R24 -> 7 | T15: =Classificação!S24 -> 2 | U15: =Classificação!T24 -> 1 | V15: =Classificação!U24 -> 23 | W15: =Classificação!V24 -> 9 | X15: =Classificação!W24 -> 14 | Y15: =Classificação!X24 -> 23 | Z15: =(10^10)*Y15+(10^8)*S15+(10^6)*(50+X15)+(10^4)*V15+(10^2)*R15+(13-P15) -> #REF! | AK15: 0 | AL15: =#REF! -> #REF! | AM15: =IF(ISERROR(VLOOKUP(AL15,$AL$27:$AN$34,2,FALSE)),0,(VLOOKUP(AL15,$AL$27:$AN$34,2,FALSE))) -> 0 | AN15: =IF(ISERROR(VLOOKUP(AL15,$AL$27:$AN$34,3,FALSE)),0,(VLOOKUP(AL15,$AL$27:$AN$34,3,FALSE))) -> 0 | AO15: =IF(ISERROR(VLOOKUP(AL15,$AL$27:$AO$34,4,FALSE)),0,(VLOOKUP(AL15,$AL$27:$AO$34,4,FALSE))) -> 0 | AP15: =AN15-AO15-AQ15 -> 0 | AQ15: =IF(ISERROR(VLOOKUP(AL15,$AL$27:$AQ$34,6,FALSE)),0,(VLOOKUP(AL15,$AL$27:$AQ$34,6,FALSE))) -> 0 | AR15: =IF(ISERROR(VLOOKUP(AL15,$AL$27:$AR$34,7,FALSE)),0,(VLOOKUP(AL15,$AL$27:$AR$34,7,FALSE))) -> 0 | AS15: =IF(ISERROR(VLOOKUP(AL15,$AL$27:$AS$34,8,FALSE)),0,(VLOOKUP(AL15,$AL$27:$AS$34,8,FALSE))) -> 0 | AT15: =AR15-AS15 -> 0 | AU15: =AO15*3+AP15 -> 0 | AW15: 10 | AX15: =IF(ISERROR(VLOOKUP(AW15,$AW$26:$AY$29,2,FALSE)),0,(VLOOKUP(AW15,$AW$26:$AY$29,2,FALSE))) -> 0 | AY15: =IF(ISERROR(VLOOKUP(AW15,$AW$26:$BF$29,3,FALSE)),0,(VLOOKUP(AW15,$AW$26:$BF$29,3,FALSE))) -> 0 | AZ15: =IF(ISERROR(VLOOKUP(AW15,$AW$26:$BF$29,4,FALSE)),0,(VLOOKUP(AW15,$AW$26:$BF$29,4,FALSE))) -> 0 | BA15: =AY15-AZ15-BB15 -> 0 | BB15: =IF(ISERROR(VLOOKUP(AW15,$AW$26:$BF$29,6,FALSE)),0,(VLOOKUP(AW15,$AW$26:$BF$29,6,FALSE))) -> 0 | BC15: =IF(ISERROR(VLOOKUP(AW15,$AW$26:$BF$29,7,FALSE)),0,(VLOOKUP(AW15,$AW$26:$BF$29,7,FALSE))) -> 0 | BD15: =IF(ISERROR(VLOOKUP(AW15,$AW$26:$BF$29,8,FALSE)),0,(VLOOKUP(AW15,$AW$26:$BF$29,8,FALSE))) -> 0 | BE15: =BC15-BD15 -> 0 | BF15: =AZ15*3+BA15 -> 0 | BI15: 10 | BJ15: =IF(ISERROR(VLOOKUP(BI15,$BI$26:$BK$29,2,FALSE)),0,(VLOOKUP(BI15,$BI$26:$BK$29,2,FALSE))) -> 0 | BK15: =IF(ISERROR(VLOOKUP(BI15,$BI$26:$BR$27,3,FALSE)),0,(VLOOKUP(BI15,$BI$26:$BR$27,3,FALSE))) -> 0 | BL15: =IF(ISERROR(VLOOKUP(BI15,$BI$26:$BR$27,4,FALSE)),0,(VLOOKUP(BI15,$BI$26:$BR$27,4,FALSE))) -> 0 | BM15: =BK15-BL15-BN15 -> 0 | BN15: =IF(ISERROR(VLOOKUP(BI15,$BI$26:$BR$27,6,FALSE)),0,(VLOOKUP(BI15,$BI$26:$BR$27,6,FALSE))) -> 0 | BO15: =IF(ISERROR(VLOOKUP(BI15,$BI$26:$BR$27,7,FALSE)),0,(VLOOKUP(BI15,$BI$26:$BR$27,7,FALSE))) -> 0 | BP15: =IF(ISERROR(VLOOKUP(BI15,$BI$26:$BR$27,8,FALSE)),0,(VLOOKUP(BI15,$BI$26:$BR$27,8,FALSE))) -> 0 | BQ15: =BO15-BP15 -> 0 | BR15: =BL15*3+BM15 -> 0 | BY15: =P15 -> #REF! | BZ15: =Q15 -> Ajax | CA15: =R15+AN15+AY15+BK15 -> 10 | CB15: =S15+AO15+AZ15+BL15 -> 7 | CC15: =T15+AP15+BA15+BM15 -> 2 | CD15: =U15+AQ15+BB15+BN15 -> 1 | CE15: =V15+AR15+BC15+BO15 -> 23 | CF15: =W15+AS15+BD15+BP15 -> 9 | CG15: =X15+AT15+BE15+BQ15 -> 14 | CH15: =Y15+AU15+BF15+BR15 -> 23 | CJ15: =(10^10)*CH15+(10^8)*CB15+(10^6)*(50+CG15)+(10^4)*CE15+(10^2)*CA15+(13-BY15) -> #REF! | CK15: 10 | CL15: =LARGE($CJ$6:$CJ$23,CK15) -> #REF! | CN15: 10 | CO15: =MATCH(CL15,$CJ$6:$CJ$23,0) -> #REF!
B16: 11º | C16: =VLOOKUP(CO16,$BY$6:$CH$23,2) -> #REF! | D16: =VLOOKUP(CO16,$BY$6:$CH$23,3) -> #REF! | E16: =VLOOKUP(CO16,$BY$6:$CH$23,4) -> #REF! | F16: =D16-E16-G16 -> #REF! | G16: =VLOOKUP(CO16,$BY$6:$CH$23,6) -> #REF! | H16: =VLOOKUP(CO16,$BY$6:$CH$23,7) -> #REF! | I16: =VLOOKUP(CO16,$BY$6:$CH$23,8) -> #REF! | J16: =H16-I16 -> #REF! | K16: =E16*3+F16 -> #REF! | P16: =#REF! -> #REF! | Q16: =Classificação!P25 -> Napoli | R16: =Classificação!Q25 -> 10 | S16: =Classificação!R25 -> 2 | T16: =Classificação!S25 -> 1 | U16: =Classificação!T25 -> 7 | V16: =Classificação!U25 -> 9 | W16: =Classificação!V25 -> 21 | X16: =Classificação!W25 -> -12 | Y16: =Classificação!X25 -> 7 | Z16: =(10^10)*Y16+(10^8)*S16+(10^6)*(50+X16)+(10^4)*V16+(10^2)*R16+(13-P16) -> #REF! | AK16: 0 | AL16: =#REF! -> #REF! | AM16: =IF(ISERROR(VLOOKUP(AL16,$AL$27:$AN$34,2,FALSE)),0,(VLOOKUP(AL16,$AL$27:$AN$34,2,FALSE))) -> 0 | AN16: =IF(ISERROR(VLOOKUP(AL16,$AL$27:$AN$34,3,FALSE)),0,(VLOOKUP(AL16,$AL$27:$AN$34,3,FALSE))) -> 0 | AO16: =IF(ISERROR(VLOOKUP(AL16,$AL$27:$AO$34,4,FALSE)),0,(VLOOKUP(AL16,$AL$27:$AO$34,4,FALSE))) -> 0 | AP16: =AN16-AO16-AQ16 -> 0 | AQ16: =IF(ISERROR(VLOOKUP(AL16,$AL$27:$AQ$34,6,FALSE)),0,(VLOOKUP(AL16,$AL$27:$AQ$34,6,FALSE))) -> 0 | AR16: =IF(ISERROR(VLOOKUP(AL16,$AL$27:$AR$34,7,FALSE)),0,(VLOOKUP(AL16,$AL$27:$AR$34,7,FALSE))) -> 0 | AS16: =IF(ISERROR(VLOOKUP(AL16,$AL$27:$AS$34,8,FALSE)),0,(VLOOKUP(AL16,$AL$27:$AS$34,8,FALSE))) -> 0 | AT16: =AR16-AS16 -> 0 | AU16: =AO16*3+AP16 -> 0 | AW16: 11 | AX16: =IF(ISERROR(VLOOKUP(AW16,$AW$26:$AY$29,2,FALSE)),0,(VLOOKUP(AW16,$AW$26:$AY$29,2,FALSE))) -> 0 | AY16: =IF(ISERROR(VLOOKUP(AW16,$AW$26:$BF$29,3,FALSE)),0,(VLOOKUP(AW16,$AW$26:$BF$29,3,FALSE))) -> 0 | AZ16: =IF(ISERROR(VLOOKUP(AW16,$AW$26:$BF$29,4,FALSE)),0,(VLOOKUP(AW16,$AW$26:$BF$29,4,FALSE))) -> 0 | BA16: =AY16-AZ16-BB16 -> 0 | BB16: =IF(ISERROR(VLOOKUP(AW16,$AW$26:$BF$29,6,FALSE)),0,(VLOOKUP(AW16,$AW$26:$BF$29,6,FALSE))) -> 0 | BC16: =IF(ISERROR(VLOOKUP(AW16,$AW$26:$BF$29,7,FALSE)),0,(VLOOKUP(AW16,$AW$26:$BF$29,7,FALSE))) -> 0 | BD16: =IF(ISERROR(VLOOKUP(AW16,$AW$26:$BF$29,8,FALSE)),0,(VLOOKUP(AW16,$AW$26:$BF$29,8,FALSE))) -> 0 | BE16: =BC16-BD16 -> 0 | BF16: =AZ16*3+BA16 -> 0 | BI16: 11 | BJ16: =IF(ISERROR(VLOOKUP(BI16,$BI$26:$BK$29,2,FALSE)),0,(VLOOKUP(BI16,$BI$26:$BK$29,2,FALSE))) -> 0 | BK16: =IF(ISERROR(VLOOKUP(BI16,$BI$26:$BR$27,3,FALSE)),0,(VLOOKUP(BI16,$BI$26:$BR$27,3,FALSE))) -> 0 | BL16: =IF(ISERROR(VLOOKUP(BI16,$BI$26:$BR$27,4,FALSE)),0,(VLOOKUP(BI16,$BI$26:$BR$27,4,FALSE))) -> 0 | BM16: =BK16-BL16-BN16 -> 0 | BN16: =IF(ISERROR(VLOOKUP(BI16,$BI$26:$BR$27,6,FALSE)),0,(VLOOKUP(BI16,$BI$26:$BR$27,6,FALSE))) -> 0 | BO16: =IF(ISERROR(VLOOKUP(BI16,$BI$26:$BR$27,7,FALSE)),0,(VLOOKUP(BI16,$BI$26:$BR$27,7,FALSE))) -> 0 | BP16: =IF(ISERROR(VLOOKUP(BI16,$BI$26:$BR$27,8,FALSE)),0,(VLOOKUP(BI16,$BI$26:$BR$27,8,FALSE))) -> 0 | BQ16: =BO16-BP16 -> 0 | BR16: =BL16*3+BM16 -> 0 | BY16: =P16 -> #REF! | BZ16: =Q16 -> Napoli | CA16: =R16+AN16+AY16+BK16 -> 10 | CB16: =S16+AO16+AZ16+BL16 -> 2 | CC16: =T16+AP16+BA16+BM16 -> 1 | CD16: =U16+AQ16+BB16+BN16 -> 7 | CE16: =V16+AR16+BC16+BO16 -> 9 | CF16: =W16+AS16+BD16+BP16 -> 21 | CG16: =X16+AT16+BE16+BQ16 -> -12 | CH16: =Y16+AU16+BF16+BR16 -> 7 | CJ16: =(10^10)*CH16+(10^8)*CB16+(10^6)*(50+CG16)+(10^4)*CE16+(10^2)*CA16+(13-BY16) -> #REF! | CK16: 11 | CL16: =LARGE($CJ$6:$CJ$23,CK16) -> #REF! | CN16: 11 | CO16: =MATCH(CL16,$CJ$6:$CJ$23,0) -> #REF!
B17: 12º | C17: =VLOOKUP(CO17,$BY$6:$CH$23,2) -> #REF! | D17: =VLOOKUP(CO17,$BY$6:$CH$23,3) -> #REF! | E17: =VLOOKUP(CO17,$BY$6:$CH$23,4) -> #REF! | F17: =D17-E17-G17 -> #REF! | G17: =VLOOKUP(CO17,$BY$6:$CH$23,6) -> #REF! | H17: =VLOOKUP(CO17,$BY$6:$CH$23,7) -> #REF! | I17: =VLOOKUP(CO17,$BY$6:$CH$23,8) -> #REF! | J17: =H17-I17 -> #REF! | K17: =E17*3+F17 -> #REF! | P17: =#REF! -> #REF! | Q17: =Classificação!P26 -> Barcelona | R17: =Classificação!Q26 -> 10 | S17: =Classificação!R26 -> 6 | T17: =Classificação!S26 -> 1 | U17: =Classificação!T26 -> 3 | V17: =Classificação!U26 -> 24 | W17: =Classificação!V26 -> 13 | X17: =Classificação!W26 -> 11 | Y17: =Classificação!X26 -> 19 | Z17: =(10^10)*Y17+(10^8)*S17+(10^6)*(50+X17)+(10^4)*V17+(10^2)*R17+(13-P17) -> #REF! | AK17: 0 | AL17: =#REF! -> #REF! | AM17: =IF(ISERROR(VLOOKUP(AL17,$AL$27:$AN$34,2,FALSE)),0,(VLOOKUP(AL17,$AL$27:$AN$34,2,FALSE))) -> 0 | AN17: =IF(ISERROR(VLOOKUP(AL17,$AL$27:$AN$34,3,FALSE)),0,(VLOOKUP(AL17,$AL$27:$AN$34,3,FALSE))) -> 0 | AO17: =IF(ISERROR(VLOOKUP(AL17,$AL$27:$AO$34,4,FALSE)),0,(VLOOKUP(AL17,$AL$27:$AO$34,4,FALSE))) -> 0 | AP17: =AN17-AO17-AQ17 -> 0 | AQ17: =IF(ISERROR(VLOOKUP(AL17,$AL$27:$AQ$34,6,FALSE)),0,(VLOOKUP(AL17,$AL$27:$AQ$34,6,FALSE))) -> 0 | AR17: =IF(ISERROR(VLOOKUP(AL17,$AL$27:$AR$34,7,FALSE)),0,(VLOOKUP(AL17,$AL$27:$AR$34,7,FALSE))) -> 0 | AS17: =IF(ISERROR(VLOOKUP(AL17,$AL$27:$AS$34,8,FALSE)),0,(VLOOKUP(AL17,$AL$27:$AS$34,8,FALSE))) -> 0 | AT17: =AR17-AS17 -> 0 | AU17: =AO17*3+AP17 -> 0 | AW17: 12 | AX17: =IF(ISERROR(VLOOKUP(AW17,$AW$26:$AY$29,2,FALSE)),0,(VLOOKUP(AW17,$AW$26:$AY$29,2,FALSE))) -> 0 | AY17: =IF(ISERROR(VLOOKUP(AW17,$AW$26:$BF$29,3,FALSE)),0,(VLOOKUP(AW17,$AW$26:$BF$29,3,FALSE))) -> 0 | AZ17: =IF(ISERROR(VLOOKUP(AW17,$AW$26:$BF$29,4,FALSE)),0,(VLOOKUP(AW17,$AW$26:$BF$29,4,FALSE))) -> 0 | BA17: =AY17-AZ17-BB17 -> 0 | BB17: =IF(ISERROR(VLOOKUP(AW17,$AW$26:$BF$29,6,FALSE)),0,(VLOOKUP(AW17,$AW$26:$BF$29,6,FALSE))) -> 0 | BC17: =IF(ISERROR(VLOOKUP(AW17,$AW$26:$BF$29,7,FALSE)),0,(VLOOKUP(AW17,$AW$26:$BF$29,7,FALSE))) -> 0 | BD17: =IF(ISERROR(VLOOKUP(AW17,$AW$26:$BF$29,8,FALSE)),0,(VLOOKUP(AW17,$AW$26:$BF$29,8,FALSE))) -> 0 | BE17: =BC17-BD17 -> 0 | BF17: =AZ17*3+BA17 -> 0 | BI17: 12 | BJ17: =IF(ISERROR(VLOOKUP(BI17,$BI$26:$BK$29,2,FALSE)),0,(VLOOKUP(BI17,$BI$26:$BK$29,2,FALSE))) -> 0 | BK17: =IF(ISERROR(VLOOKUP(BI17,$BI$26:$BR$27,3,FALSE)),0,(VLOOKUP(BI17,$BI$26:$BR$27,3,FALSE))) -> 0 | BL17: =IF(ISERROR(VLOOKUP(BI17,$BI$26:$BR$27,4,FALSE)),0,(VLOOKUP(BI17,$BI$26:$BR$27,4,FALSE))) -> 0 | BM17: =BK17-BL17-BN17 -> 0 | BN17: =IF(ISERROR(VLOOKUP(BI17,$BI$26:$BR$27,6,FALSE)),0,(VLOOKUP(BI17,$BI$26:$BR$27,6,FALSE))) -> 0 | BO17: =IF(ISERROR(VLOOKUP(BI17,$BI$26:$BR$27,7,FALSE)),0,(VLOOKUP(BI17,$BI$26:$BR$27,7,FALSE))) -> 0 | BP17: =IF(ISERROR(VLOOKUP(BI17,$BI$26:$BR$27,8,FALSE)),0,(VLOOKUP(BI17,$BI$26:$BR$27,8,FALSE))) -> 0 | BQ17: =BO17-BP17 -> 0 | BR17: =BL17*3+BM17 -> 0 | BY17: =P17 -> #REF! | BZ17: =Q17 -> Barcelona | CA17: =R17+AN17+AY17+BK17 -> 10 | CB17: =S17+AO17+AZ17+BL17 -> 6 | CC17: =T17+AP17+BA17+BM17 -> 1 | CD17: =U17+AQ17+BB17+BN17 -> 3 | CE17: =V17+AR17+BC17+BO17 -> 24 | CF17: =W17+AS17+BD17+BP17 -> 13 | CG17: =X17+AT17+BE17+BQ17 -> 11 | CH17: =Y17+AU17+BF17+BR17 -> 19 | CJ17: =(10^10)*CH17+(10^8)*CB17+(10^6)*(50+CG17)+(10^4)*CE17+(10^2)*CA17+(13-BY17) -> #REF! | CK17: 12 | CL17: =LARGE($CJ$6:$CJ$23,CK17) -> #REF! | CN17: 12 | CO17: =MATCH(CL17,$CJ$6:$CJ$23,0) -> #REF!
B18: 13º | C18: =VLOOKUP(CO18,$BY$6:$CH$23,2) -> #REF! | D18: =VLOOKUP(CO18,$BY$6:$CH$23,3) -> #REF! | E18: =VLOOKUP(CO18,$BY$6:$CH$23,4) -> #REF! | F18: =D18-E18-G18 -> #REF! | G18: =VLOOKUP(CO18,$BY$6:$CH$23,6) -> #REF! | H18: =VLOOKUP(CO18,$BY$6:$CH$23,7) -> #REF! | I18: =VLOOKUP(CO18,$BY$6:$CH$23,8) -> #REF! | J18: =H18-I18 -> #REF! | K18: =E18*3+F18 -> #REF! | P18: =#REF! -> #REF! | Q18: =Classificação!P27 -> PSG | R18: =Classificação!Q27 -> 10 | S18: =Classificação!R27 -> 6 | T18: =Classificação!S27 -> 2 | U18: =Classificação!T27 -> 2 | V18: =Classificação!U27 -> 33 | W18: =Classificação!V27 -> 12 | X18: =Classificação!W27 -> 21 | Y18: =Classificação!X27 -> 20 | Z18: =(10^10)*Y18+(10^8)*S18+(10^6)*(50+X18)+(10^4)*V18+(10^2)*R18+(13-P18) -> #REF! | AK18: 0 | AL18: =#REF! -> #REF! | AM18: =IF(ISERROR(VLOOKUP(AL18,$AL$27:$AN$34,2,FALSE)),0,(VLOOKUP(AL18,$AL$27:$AN$34,2,FALSE))) -> 0 | AN18: =IF(ISERROR(VLOOKUP(AL18,$AL$27:$AN$34,3,FALSE)),0,(VLOOKUP(AL18,$AL$27:$AN$34,3,FALSE))) -> 0 | AO18: =IF(ISERROR(VLOOKUP(AL18,$AL$27:$AO$34,4,FALSE)),0,(VLOOKUP(AL18,$AL$27:$AO$34,4,FALSE))) -> 0 | AP18: =AN18-AO18-AQ18 -> 0 | AQ18: =IF(ISERROR(VLOOKUP(AL18,$AL$27:$AQ$34,6,FALSE)),0,(VLOOKUP(AL18,$AL$27:$AQ$34,6,FALSE))) -> 0 | AR18: =IF(ISERROR(VLOOKUP(AL18,$AL$27:$AR$34,7,FALSE)),0,(VLOOKUP(AL18,$AL$27:$AR$34,7,FALSE))) -> 0 | AS18: =IF(ISERROR(VLOOKUP(AL18,$AL$27:$AS$34,8,FALSE)),0,(VLOOKUP(AL18,$AL$27:$AS$34,8,FALSE))) -> 0 | AT18: =AR18-AS18 -> 0 | AU18: =AO18*3+AP18 -> 0 | AW18: 13 | AX18: =IF(ISERROR(VLOOKUP(AW18,$AW$26:$AY$29,2,FALSE)),0,(VLOOKUP(AW18,$AW$26:$AY$29,2,FALSE))) -> 0 | AY18: =IF(ISERROR(VLOOKUP(AW18,$AW$26:$BF$29,3,FALSE)),0,(VLOOKUP(AW18,$AW$26:$BF$29,3,FALSE))) -> 0 | AZ18: =IF(ISERROR(VLOOKUP(AW18,$AW$26:$BF$29,4,FALSE)),0,(VLOOKUP(AW18,$AW$26:$BF$29,4,FALSE))) -> 0 | BA18: =AY18-AZ18-BB18 -> 0 | BB18: =IF(ISERROR(VLOOKUP(AW18,$AW$26:$BF$29,6,FALSE)),0,(VLOOKUP(AW18,$AW$26:$BF$29,6,FALSE))) -> 0 | BC18: =IF(ISERROR(VLOOKUP(AW18,$AW$26:$BF$29,7,FALSE)),0,(VLOOKUP(AW18,$AW$26:$BF$29,7,FALSE))) -> 0 | BD18: =IF(ISERROR(VLOOKUP(AW18,$AW$26:$BF$29,8,FALSE)),0,(VLOOKUP(AW18,$AW$26:$BF$29,8,FALSE))) -> 0 | BE18: =BC18-BD18 -> 0 | BF18: =AZ18*3+BA18 -> 0 | BI18: 13 | BJ18: =IF(ISERROR(VLOOKUP(BI18,$BI$26:$BK$29,2,FALSE)),0,(VLOOKUP(BI18,$BI$26:$BK$29,2,FALSE))) -> 0 | BK18: =IF(ISERROR(VLOOKUP(BI18,$BI$26:$BR$27,3,FALSE)),0,(VLOOKUP(BI18,$BI$26:$BR$27,3,FALSE))) -> 0 | BL18: =IF(ISERROR(VLOOKUP(BI18,$BI$26:$BR$27,4,FALSE)),0,(VLOOKUP(BI18,$BI$26:$BR$27,4,FALSE))) -> 0 | BM18: =BK18-BL18-BN18 -> 0 | BN18: =IF(ISERROR(VLOOKUP(BI18,$BI$26:$BR$27,6,FALSE)),0,(VLOOKUP(BI18,$BI$26:$BR$27,6,FALSE))) -> 0 | BO18: =IF(ISERROR(VLOOKUP(BI18,$BI$26:$BR$27,7,FALSE)),0,(VLOOKUP(BI18,$BI$26:$BR$27,7,FALSE))) -> 0 | BP18: =IF(ISERROR(VLOOKUP(BI18,$BI$26:$BR$27,8,FALSE)),0,(VLOOKUP(BI18,$BI$26:$BR$27,8,FALSE))) -> 0 | BQ18: =BO18-BP18 -> 0 | BR18: =BL18*3+BM18 -> 0 | BY18: =P18 -> #REF! | BZ18: =Q18 -> PSG | CA18: =R18+AN18+AY18+BK18 -> 10 | CB18: =S18+AO18+AZ18+BL18 -> 6 | CC18: =T18+AP18+BA18+BM18 -> 2 | CD18: =U18+AQ18+BB18+BN18 -> 2 | CE18: =V18+AR18+BC18+BO18 -> 33 | CF18: =W18+AS18+BD18+BP18 -> 12 | CG18: =X18+AT18+BE18+BQ18 -> 21 | CH18: =Y18+AU18+BF18+BR18 -> 20 | CJ18: =(10^10)*CH18+(10^8)*CB18+(10^6)*(50+CG18)+(10^4)*CE18+(10^2)*CA18+(13-BY18) -> #REF! | CK18: 13 | CL18: =LARGE($CJ$6:$CJ$23,CK18) -> #REF! | CN18: 13 | CO18: =MATCH(CL18,$CJ$6:$CJ$23,0) -> #REF!
B19: 14º | C19: =VLOOKUP(CO19,$BY$6:$CH$23,2) -> #REF! | D19: =VLOOKUP(CO19,$BY$6:$CH$23,3) -> #REF! | E19: =VLOOKUP(CO19,$BY$6:$CH$23,4) -> #REF! | F19: =D19-E19-G19 -> #REF! | G19: =VLOOKUP(CO19,$BY$6:$CH$23,6) -> #REF! | H19: =VLOOKUP(CO19,$BY$6:$CH$23,7) -> #REF! | I19: =VLOOKUP(CO19,$BY$6:$CH$23,8) -> #REF! | J19: =H19-I19 -> #REF! | K19: =E19*3+F19 -> #REF! | P19: =#REF! -> #REF! | Q19: =Classificação!P28 -> Borussia | R19: =Classificação!Q28 -> 10 | S19: =Classificação!R28 -> 2 | T19: =Classificação!S28 -> 2 | U19: =Classificação!T28 -> 6 | V19: =Classificação!U28 -> 10 | W19: =Classificação!V28 -> 19 | X19: =Classificação!W28 -> -9 | Y19: =Classificação!X28 -> 8 | Z19: =(10^10)*Y19+(10^8)*S19+(10^6)*(50+X19)+(10^4)*V19+(10^2)*R19+(13-P19) -> #REF! | AK19: 0 | AL19: =#REF! -> #REF! | AM19: =IF(ISERROR(VLOOKUP(AL19,$AL$27:$AN$34,2,FALSE)),0,(VLOOKUP(AL19,$AL$27:$AN$34,2,FALSE))) -> 0 | AN19: =IF(ISERROR(VLOOKUP(AL19,$AL$27:$AN$34,3,FALSE)),0,(VLOOKUP(AL19,$AL$27:$AN$34,3,FALSE))) -> 0 | AO19: =IF(ISERROR(VLOOKUP(AL19,$AL$27:$AO$34,4,FALSE)),0,(VLOOKUP(AL19,$AL$27:$AO$34,4,FALSE))) -> 0 | AP19: =AN19-AO19-AQ19 -> 0 | AQ19: =IF(ISERROR(VLOOKUP(AL19,$AL$27:$AQ$34,6,FALSE)),0,(VLOOKUP(AL19,$AL$27:$AQ$34,6,FALSE))) -> 0 | AR19: =IF(ISERROR(VLOOKUP(AL19,$AL$27:$AR$34,7,FALSE)),0,(VLOOKUP(AL19,$AL$27:$AR$34,7,FALSE))) -> 0 | AS19: =IF(ISERROR(VLOOKUP(AL19,$AL$27:$AS$34,8,FALSE)),0,(VLOOKUP(AL19,$AL$27:$AS$34,8,FALSE))) -> 0 | AT19: =AR19-AS19 -> 0 | AU19: =AO19*3+AP19 -> 0 | AW19: 14 | AX19: =IF(ISERROR(VLOOKUP(AW19,$AW$26:$AY$29,2,FALSE)),0,(VLOOKUP(AW19,$AW$26:$AY$29,2,FALSE))) -> 0 | AY19: =IF(ISERROR(VLOOKUP(AW19,$AW$26:$BF$29,3,FALSE)),0,(VLOOKUP(AW19,$AW$26:$BF$29,3,FALSE))) -> 0 | AZ19: =IF(ISERROR(VLOOKUP(AW19,$AW$26:$BF$29,4,FALSE)),0,(VLOOKUP(AW19,$AW$26:$BF$29,4,FALSE))) -> 0 | BA19: =AY19-AZ19-BB19 -> 0 | BB19: =IF(ISERROR(VLOOKUP(AW19,$AW$26:$BF$29,6,FALSE)),0,(VLOOKUP(AW19,$AW$26:$BF$29,6,FALSE))) -> 0 | BC19: =IF(ISERROR(VLOOKUP(AW19,$AW$26:$BF$29,7,FALSE)),0,(VLOOKUP(AW19,$AW$26:$BF$29,7,FALSE))) -> 0 | BD19: =IF(ISERROR(VLOOKUP(AW19,$AW$26:$BF$29,8,FALSE)),0,(VLOOKUP(AW19,$AW$26:$BF$29,8,FALSE))) -> 0 | BE19: =BC19-BD19 -> 0 | BF19: =AZ19*3+BA19 -> 0 | BI19: 14 | BJ19: =IF(ISERROR(VLOOKUP(BI19,$BI$26:$BK$29,2,FALSE)),0,(VLOOKUP(BI19,$BI$26:$BK$29,2,FALSE))) -> 0 | BK19: =IF(ISERROR(VLOOKUP(BI19,$BI$26:$BR$27,3,FALSE)),0,(VLOOKUP(BI19,$BI$26:$BR$27,3,FALSE))) -> 0 | BL19: =IF(ISERROR(VLOOKUP(BI19,$BI$26:$BR$27,4,FALSE)),0,(VLOOKUP(BI19,$BI$26:$BR$27,4,FALSE))) -> 0 | BM19: =BK19-BL19-BN19 -> 0 | BN19: =IF(ISERROR(VLOOKUP(BI19,$BI$26:$BR$27,6,FALSE)),0,(VLOOKUP(BI19,$BI$26:$BR$27,6,FALSE))) -> 0 | BO19: =IF(ISERROR(VLOOKUP(BI19,$BI$26:$BR$27,7,FALSE)),0,(VLOOKUP(BI19,$BI$26:$BR$27,7,FALSE))) -> 0 | BP19: =IF(ISERROR(VLOOKUP(BI19,$BI$26:$BR$27,8,FALSE)),0,(VLOOKUP(BI19,$BI$26:$BR$27,8,FALSE))) -> 0 | BQ19: =BO19-BP19 -> 0 | BR19: =BL19*3+BM19 -> 0 | BY19: =P19 -> #REF! | BZ19: =Q19 -> Borussia | CA19: =R19+AN19+AY19+BK19 -> 10 | CB19: =S19+AO19+AZ19+BL19 -> 2 | CC19: =T19+AP19+BA19+BM19 -> 2 | CD19: =U19+AQ19+BB19+BN19 -> 6 | CE19: =V19+AR19+BC19+BO19 -> 10 | CF19: =W19+AS19+BD19+BP19 -> 19 | CG19: =X19+AT19+BE19+BQ19 -> -9 | CH19: =Y19+AU19+BF19+BR19 -> 8 | CJ19: =(10^10)*CH19+(10^8)*CB19+(10^6)*(50+CG19)+(10^4)*CE19+(10^2)*CA19+(13-BY19) -> #REF! | CK19: 14 | CL19: =LARGE($CJ$6:$CJ$23,CK19) -> #REF! | CN19: 14 | CO19: =MATCH(CL19,$CJ$6:$CJ$23,0) -> #REF!
B20: 15º | C20: =VLOOKUP(CO20,$BY$6:$CH$23,2) -> #REF! | D20: =VLOOKUP(CO20,$BY$6:$CH$23,3) -> #REF! | E20: =VLOOKUP(CO20,$BY$6:$CH$23,4) -> #REF! | F20: =D20-E20-G20 -> #REF! | G20: =VLOOKUP(CO20,$BY$6:$CH$23,6) -> #REF! | H20: =VLOOKUP(CO20,$BY$6:$CH$23,7) -> #REF! | I20: =VLOOKUP(CO20,$BY$6:$CH$23,8) -> #REF! | J20: =H20-I20 -> #REF! | K20: =E20*3+F20 -> #REF! | P20: =#REF! -> #REF! | Q20: =Classificação!P29 -> Tottenham | R20: =Classificação!Q29 -> 10 | S20: =Classificação!R29 -> 2 | T20: =Classificação!S29 -> 1 | U20: =Classificação!T29 -> 7 | V20: =Classificação!U29 -> 10 | W20: =Classificação!V29 -> 19 | X20: =Classificação!W29 -> -9 | Y20: =Classificação!X29 -> 7 | Z20: =(10^10)*Y20+(10^8)*S20+(10^6)*(50+X20)+(10^4)*V20+(10^2)*R20+(13-P20) -> #REF! | AK20: 0 | AL20: =#REF! -> #REF! | AM20: =IF(ISERROR(VLOOKUP(AL20,$AL$27:$AN$34,2,FALSE)),0,(VLOOKUP(AL20,$AL$27:$AN$34,2,FALSE))) -> 0 | AN20: =IF(ISERROR(VLOOKUP(AL20,$AL$27:$AN$34,3,FALSE)),0,(VLOOKUP(AL20,$AL$27:$AN$34,3,FALSE))) -> 0 | AO20: =IF(ISERROR(VLOOKUP(AL20,$AL$27:$AO$34,4,FALSE)),0,(VLOOKUP(AL20,$AL$27:$AO$34,4,FALSE))) -> 0 | AP20: =AN20-AO20-AQ20 -> 0 | AQ20: =IF(ISERROR(VLOOKUP(AL20,$AL$27:$AQ$34,6,FALSE)),0,(VLOOKUP(AL20,$AL$27:$AQ$34,6,FALSE))) -> 0 | AR20: =IF(ISERROR(VLOOKUP(AL20,$AL$27:$AR$34,7,FALSE)),0,(VLOOKUP(AL20,$AL$27:$AR$34,7,FALSE))) -> 0 | AS20: =IF(ISERROR(VLOOKUP(AL20,$AL$27:$AS$34,8,FALSE)),0,(VLOOKUP(AL20,$AL$27:$AS$34,8,FALSE))) -> 0 | AT20: =AR20-AS20 -> 0 | AU20: =AO20*3+AP20 -> 0 | AW20: 15 | AX20: =IF(ISERROR(VLOOKUP(AW20,$AW$26:$AY$29,2,FALSE)),0,(VLOOKUP(AW20,$AW$26:$AY$29,2,FALSE))) -> 0 | AY20: =IF(ISERROR(VLOOKUP(AW20,$AW$26:$BF$29,3,FALSE)),0,(VLOOKUP(AW20,$AW$26:$BF$29,3,FALSE))) -> 0 | AZ20: =IF(ISERROR(VLOOKUP(AW20,$AW$26:$BF$29,4,FALSE)),0,(VLOOKUP(AW20,$AW$26:$BF$29,4,FALSE))) -> 0 | BA20: =AY20-AZ20-BB20 -> 0 | BB20: =IF(ISERROR(VLOOKUP(AW20,$AW$26:$BF$29,6,FALSE)),0,(VLOOKUP(AW20,$AW$26:$BF$29,6,FALSE))) -> 0 | BC20: =IF(ISERROR(VLOOKUP(AW20,$AW$26:$BF$29,7,FALSE)),0,(VLOOKUP(AW20,$AW$26:$BF$29,7,FALSE))) -> 0 | BD20: =IF(ISERROR(VLOOKUP(AW20,$AW$26:$BF$29,8,FALSE)),0,(VLOOKUP(AW20,$AW$26:$BF$29,8,FALSE))) -> 0 | BE20: =BC20-BD20 -> 0 | BF20: =AZ20*3+BA20 -> 0 | BI20: 15 | BJ20: =IF(ISERROR(VLOOKUP(BI20,$BI$26:$BK$29,2,FALSE)),0,(VLOOKUP(BI20,$BI$26:$BK$29,2,FALSE))) -> 0 | BK20: =IF(ISERROR(VLOOKUP(BI20,$BI$26:$BR$27,3,FALSE)),0,(VLOOKUP(BI20,$BI$26:$BR$27,3,FALSE))) -> 0 | BL20: =IF(ISERROR(VLOOKUP(BI20,$BI$26:$BR$27,4,FALSE)),0,(VLOOKUP(BI20,$BI$26:$BR$27,4,FALSE))) -> 0 | BM20: =BK20-BL20-BN20 -> 0 | BN20: =IF(ISERROR(VLOOKUP(BI20,$BI$26:$BR$27,6,FALSE)),0,(VLOOKUP(BI20,$BI$26:$BR$27,6,FALSE))) -> 0 | BO20: =IF(ISERROR(VLOOKUP(BI20,$BI$26:$BR$27,7,FALSE)),0,(VLOOKUP(BI20,$BI$26:$BR$27,7,FALSE))) -> 0 | BP20: =IF(ISERROR(VLOOKUP(BI20,$BI$26:$BR$27,8,FALSE)),0,(VLOOKUP(BI20,$BI$26:$BR$27,8,FALSE))) -> 0 | BQ20: =BO20-BP20 -> 0 | BR20: =BL20*3+BM20 -> 0 | BY20: =P20 -> #REF! | BZ20: =Q20 -> Tottenham | CA20: =R20+AN20+AY20+BK20 -> 10 | CB20: =S20+AO20+AZ20+BL20 -> 2 | CC20: =T20+AP20+BA20+BM20 -> 1 | CD20: =U20+AQ20+BB20+BN20 -> 7 | CE20: =V20+AR20+BC20+BO20 -> 10 | CF20: =W20+AS20+BD20+BP20 -> 19 | CG20: =X20+AT20+BE20+BQ20 -> -9 | CH20: =Y20+AU20+BF20+BR20 -> 7 | CJ20: =(10^10)*CH20+(10^8)*CB20+(10^6)*(50+CG20)+(10^4)*CE20+(10^2)*CA20+(13-BY20) -> #REF! | CK20: 15 | CL20: =LARGE($CJ$6:$CJ$23,CK20) -> #REF! | CN20: 15 | CO20: =MATCH(CL20,$CJ$6:$CJ$23,0) -> #REF!
B21: 16º | C21: =VLOOKUP(CO21,$BY$6:$CH$23,2) -> #REF! | D21: =VLOOKUP(CO21,$BY$6:$CH$23,3) -> #REF! | E21: =VLOOKUP(CO21,$BY$6:$CH$23,4) -> #REF! | F21: =D21-E21-G21 -> #REF! | G21: =VLOOKUP(CO21,$BY$6:$CH$23,6) -> #REF! | H21: =VLOOKUP(CO21,$BY$6:$CH$23,7) -> #REF! | I21: =VLOOKUP(CO21,$BY$6:$CH$23,8) -> #REF! | J21: =H21-I21 -> #REF! | K21: =E21*3+F21 -> #REF! | P21: =#REF! -> #REF! | Q21: =Classificação!P30 -> Liverpool | R21: =Classificação!Q30 -> 10 | S21: =Classificação!R30 -> 9 | T21: =Classificação!S30 -> 0 | U21: =Classificação!T30 -> 1 | V21: =Classificação!U30 -> 19 | W21: =Classificação!V30 -> 7 | X21: =Classificação!W30 -> 12 | Y21: =Classificação!X30 -> 27 | Z21: =(10^10)*Y21+(10^8)*S21+(10^6)*(50+X21)+(10^4)*V21+(10^2)*R21+(13-P21) -> #REF! | AK21: 0 | AL21: =#REF! -> #REF! | AM21: =IF(ISERROR(VLOOKUP(AL21,$AL$27:$AN$34,2,FALSE)),0,(VLOOKUP(AL21,$AL$27:$AN$34,2,FALSE))) -> 0 | AN21: =IF(ISERROR(VLOOKUP(AL21,$AL$27:$AN$34,3,FALSE)),0,(VLOOKUP(AL21,$AL$27:$AN$34,3,FALSE))) -> 0 | AO21: =IF(ISERROR(VLOOKUP(AL21,$AL$27:$AO$34,4,FALSE)),0,(VLOOKUP(AL21,$AL$27:$AO$34,4,FALSE))) -> 0 | AP21: =AN21-AO21-AQ21 -> 0 | AQ21: =IF(ISERROR(VLOOKUP(AL21,$AL$27:$AQ$34,6,FALSE)),0,(VLOOKUP(AL21,$AL$27:$AQ$34,6,FALSE))) -> 0 | AR21: =IF(ISERROR(VLOOKUP(AL21,$AL$27:$AR$34,7,FALSE)),0,(VLOOKUP(AL21,$AL$27:$AR$34,7,FALSE))) -> 0 | AS21: =IF(ISERROR(VLOOKUP(AL21,$AL$27:$AS$34,8,FALSE)),0,(VLOOKUP(AL21,$AL$27:$AS$34,8,FALSE))) -> 0 | AT21: =AR21-AS21 -> 0 | AU21: =AO21*3+AP21 -> 0 | AW21: 16 | AX21: =IF(ISERROR(VLOOKUP(AW21,$AW$26:$AY$29,2,FALSE)),0,(VLOOKUP(AW21,$AW$26:$AY$29,2,FALSE))) -> 0 | AY21: =IF(ISERROR(VLOOKUP(AW21,$AW$26:$BF$29,3,FALSE)),0,(VLOOKUP(AW21,$AW$26:$BF$29,3,FALSE))) -> 0 | AZ21: =IF(ISERROR(VLOOKUP(AW21,$AW$26:$BF$29,4,FALSE)),0,(VLOOKUP(AW21,$AW$26:$BF$29,4,FALSE))) -> 0 | BA21: =AY21-AZ21-BB21 -> 0 | BB21: =IF(ISERROR(VLOOKUP(AW21,$AW$26:$BF$29,6,FALSE)),0,(VLOOKUP(AW21,$AW$26:$BF$29,6,FALSE))) -> 0 | BC21: =IF(ISERROR(VLOOKUP(AW21,$AW$26:$BF$29,7,FALSE)),0,(VLOOKUP(AW21,$AW$26:$BF$29,7,FALSE))) -> 0 | BD21: =IF(ISERROR(VLOOKUP(AW21,$AW$26:$BF$29,8,FALSE)),0,(VLOOKUP(AW21,$AW$26:$BF$29,8,FALSE))) -> 0 | BE21: =BC21-BD21 -> 0 | BF21: =AZ21*3+BA21 -> 0 | BI21: 16 | BJ21: =IF(ISERROR(VLOOKUP(BI21,$BI$26:$BK$29,2,FALSE)),0,(VLOOKUP(BI21,$BI$26:$BK$29,2,FALSE))) -> 0 | BK21: =IF(ISERROR(VLOOKUP(BI21,$BI$26:$BR$27,3,FALSE)),0,(VLOOKUP(BI21,$BI$26:$BR$27,3,FALSE))) -> 0 | BL21: =IF(ISERROR(VLOOKUP(BI21,$BI$26:$BR$27,4,FALSE)),0,(VLOOKUP(BI21,$BI$26:$BR$27,4,FALSE))) -> 0 | BM21: =BK21-BL21-BN21 -> 0 | BN21: =IF(ISERROR(VLOOKUP(BI21,$BI$26:$BR$27,6,FALSE)),0,(VLOOKUP(BI21,$BI$26:$BR$27,6,FALSE))) -> 0 | BO21: =IF(ISERROR(VLOOKUP(BI21,$BI$26:$BR$27,7,FALSE)),0,(VLOOKUP(BI21,$BI$26:$BR$27,7,FALSE))) -> 0 | BP21: =IF(ISERROR(VLOOKUP(BI21,$BI$26:$BR$27,8,FALSE)),0,(VLOOKUP(BI21,$BI$26:$BR$27,8,FALSE))) -> 0 | BQ21: =BO21-BP21 -> 0 | BR21: =BL21*3+BM21 -> 0 | BY21: =P21 -> #REF! | BZ21: =Q21 -> Liverpool | CA21: =R21+AN21+AY21+BK21 -> 10 | CB21: =S21+AO21+AZ21+BL21 -> 9 | CC21: =T21+AP21+BA21+BM21 -> 0 | CD21: =U21+AQ21+BB21+BN21 -> 1 | CE21: =V21+AR21+BC21+BO21 -> 19 | CF21: =W21+AS21+BD21+BP21 -> 7 | CG21: =X21+AT21+BE21+BQ21 -> 12 | CH21: =Y21+AU21+BF21+BR21 -> 27 | CJ21: =(10^10)*CH21+(10^8)*CB21+(10^6)*(50+CG21)+(10^4)*CE21+(10^2)*CA21+(13-BY21) -> #REF! | CK21: 16 | CL21: =LARGE($CJ$6:$CJ$23,CK21) -> #REF! | CN21: 16 | CO21: =MATCH(CL21,$CJ$6:$CJ$23,0) -> #REF!
B22: 17º | C22: =VLOOKUP(CO22,$BY$6:$CH$23,2) -> #REF! | D22: =VLOOKUP(CO22,$BY$6:$CH$23,3) -> #REF! | E22: =VLOOKUP(CO22,$BY$6:$CH$23,4) -> #REF! | F22: =D22-E22-G22 -> #REF! | G22: =VLOOKUP(CO22,$BY$6:$CH$23,6) -> #REF! | H22: =VLOOKUP(CO22,$BY$6:$CH$23,7) -> #REF! | I22: =VLOOKUP(CO22,$BY$6:$CH$23,8) -> #REF! | J22: =H22-I22 -> #REF! | K22: =E22*3+F22 -> #REF! | P22: =#REF! -> #REF! | Q22: =Classificação!P31 -> B. Leverkusen | R22: =Classificação!Q31 -> 10 | S22: =Classificação!R31 -> 6 | T22: =Classificação!S31 -> 3 | U22: =Classificação!T31 -> 1 | V22: =Classificação!U31 -> 41 | W22: =Classificação!V31 -> 11 | X22: =Classificação!W31 -> 30 | Y22: =Classificação!X31 -> 21 | Z22: =(10^10)*Y22+(10^8)*S22+(10^6)*(50+X22)+(10^4)*V22+(10^2)*R22+(13-P22) -> #REF! | AK22: 0 | AL22: =#REF! -> #REF! | AM22: =IF(ISERROR(VLOOKUP(AL22,$AL$27:$AN$34,2,FALSE)),0,(VLOOKUP(AL22,$AL$27:$AN$34,2,FALSE))) -> 0 | AN22: =IF(ISERROR(VLOOKUP(AL22,$AL$27:$AN$34,3,FALSE)),0,(VLOOKUP(AL22,$AL$27:$AN$34,3,FALSE))) -> 0 | AO22: =IF(ISERROR(VLOOKUP(AL22,$AL$27:$AO$34,4,FALSE)),0,(VLOOKUP(AL22,$AL$27:$AO$34,4,FALSE))) -> 0 | AP22: =AN22-AO22-AQ22 -> 0 | AQ22: =IF(ISERROR(VLOOKUP(AL22,$AL$27:$AQ$34,6,FALSE)),0,(VLOOKUP(AL22,$AL$27:$AQ$34,6,FALSE))) -> 0 | AR22: =IF(ISERROR(VLOOKUP(AL22,$AL$27:$AR$34,7,FALSE)),0,(VLOOKUP(AL22,$AL$27:$AR$34,7,FALSE))) -> 0 | AS22: =IF(ISERROR(VLOOKUP(AL22,$AL$27:$AS$34,8,FALSE)),0,(VLOOKUP(AL22,$AL$27:$AS$34,8,FALSE))) -> 0 | AT22: =AR22-AS22 -> 0 | AU22: =AO22*3+AP22 -> 0 | AW22: 17 | AX22: =IF(ISERROR(VLOOKUP(AW22,$AW$26:$AY$29,2,FALSE)),0,(VLOOKUP(AW22,$AW$26:$AY$29,2,FALSE))) -> 0 | AY22: =IF(ISERROR(VLOOKUP(AW22,$AW$26:$BF$29,3,FALSE)),0,(VLOOKUP(AW22,$AW$26:$BF$29,3,FALSE))) -> 0 | AZ22: =IF(ISERROR(VLOOKUP(AW22,$AW$26:$BF$29,4,FALSE)),0,(VLOOKUP(AW22,$AW$26:$BF$29,4,FALSE))) -> 0 | BA22: =AY22-AZ22-BB22 -> 0 | BB22: =IF(ISERROR(VLOOKUP(AW22,$AW$26:$BF$29,6,FALSE)),0,(VLOOKUP(AW22,$AW$26:$BF$29,6,FALSE))) -> 0 | BC22: =IF(ISERROR(VLOOKUP(AW22,$AW$26:$BF$29,7,FALSE)),0,(VLOOKUP(AW22,$AW$26:$BF$29,7,FALSE))) -> 0 | BD22: =IF(ISERROR(VLOOKUP(AW22,$AW$26:$BF$29,8,FALSE)),0,(VLOOKUP(AW22,$AW$26:$BF$29,8,FALSE))) -> 0 | BE22: =BC22-BD22 -> 0 | BF22: =AZ22*3+BA22 -> 0 | BI22: 17 | BJ22: =IF(ISERROR(VLOOKUP(BI22,$BI$26:$BK$29,2,FALSE)),0,(VLOOKUP(BI22,$BI$26:$BK$29,2,FALSE))) -> 0 | BK22: =IF(ISERROR(VLOOKUP(BI22,$BI$26:$BR$27,3,FALSE)),0,(VLOOKUP(BI22,$BI$26:$BR$27,3,FALSE))) -> 0 | BL22: =IF(ISERROR(VLOOKUP(BI22,$BI$26:$BR$27,4,FALSE)),0,(VLOOKUP(BI22,$BI$26:$BR$27,4,FALSE))) -> 0 | BM22: =BK22-BL22-BN22 -> 0 | BN22: =IF(ISERROR(VLOOKUP(BI22,$BI$26:$BR$27,6,FALSE)),0,(VLOOKUP(BI22,$BI$26:$BR$27,6,FALSE))) -> 0 | BO22: =IF(ISERROR(VLOOKUP(BI22,$BI$26:$BR$27,7,FALSE)),0,(VLOOKUP(BI22,$BI$26:$BR$27,7,FALSE))) -> 0 | BP22: =IF(ISERROR(VLOOKUP(BI22,$BI$26:$BR$27,8,FALSE)),0,(VLOOKUP(BI22,$BI$26:$BR$27,8,FALSE))) -> 0 | BQ22: =BO22-BP22 -> 0 | BR22: =BL22*3+BM22 -> 0 | BY22: =P22 -> #REF! | BZ22: =Q22 -> B. Leverkusen | CA22: =R22+AN22+AY22+BK22 -> 10 | CB22: =S22+AO22+AZ22+BL22 -> 6 | CC22: =T22+AP22+BA22+BM22 -> 3 | CD22: =U22+AQ22+BB22+BN22 -> 1 | CE22: =V22+AR22+BC22+BO22 -> 41 | CF22: =W22+AS22+BD22+BP22 -> 11 | CG22: =X22+AT22+BE22+BQ22 -> 30 | CH22: =Y22+AU22+BF22+BR22 -> 21 | CJ22: =(10^10)*CH22+(10^8)*CB22+(10^6)*(50+CG22)+(10^4)*CE22+(10^2)*CA22+(13-BY22) -> #REF! | CK22: 17 | CL22: =LARGE($CJ$6:$CJ$23,CK22) -> #REF! | CN22: 17 | CO22: =MATCH(CL22,$CJ$6:$CJ$23,0) -> #REF!
B23: 18º | C23: =VLOOKUP(CO23,$BY$6:$CH$23,2) -> #REF! | D23: =VLOOKUP(CO23,$BY$6:$CH$23,3) -> #REF! | E23: =VLOOKUP(CO23,$BY$6:$CH$23,4) -> #REF! | F23: =D23-E23-G23 -> #REF! | G23: =VLOOKUP(CO23,$BY$6:$CH$23,6) -> #REF! | H23: =VLOOKUP(CO23,$BY$6:$CH$23,7) -> #REF! | I23: =VLOOKUP(CO23,$BY$6:$CH$23,8) -> #REF! | J23: =H23-I23 -> #REF! | K23: =E23*3+F23 -> #REF! | P23: =#REF! -> #REF! | Q23: =Classificação!P32 -> RB Leipzig | R23: =Classificação!Q32 -> 10 | S23: =Classificação!R32 -> 3 | T23: =Classificação!S32 -> 1 | U23: =Classificação!T32 -> 6 | V23: =Classificação!U32 -> 10 | W23: =Classificação!V32 -> 19 | X23: =Classificação!W32 -> -9 | Y23: =Classificação!X32 -> 10 | Z23: =(10^10)*Y23+(10^8)*S23+(10^6)*(50+X23)+(10^4)*V23+(10^2)*R23+(13-P23) -> #REF! | AK23: 0 | AL23: =#REF! -> #REF! | AM23: =IF(ISERROR(VLOOKUP(AL23,$AL$27:$AN$34,2,FALSE)),0,(VLOOKUP(AL23,$AL$27:$AN$34,2,FALSE))) -> 0 | AN23: =IF(ISERROR(VLOOKUP(AL23,$AL$27:$AN$34,3,FALSE)),0,(VLOOKUP(AL23,$AL$27:$AN$34,3,FALSE))) -> 0 | AO23: =IF(ISERROR(VLOOKUP(AL23,$AL$27:$AO$34,4,FALSE)),0,(VLOOKUP(AL23,$AL$27:$AO$34,4,FALSE))) -> 0 | AP23: =AN23-AO23-AQ23 -> 0 | AQ23: =IF(ISERROR(VLOOKUP(AL23,$AL$27:$AQ$34,6,FALSE)),0,(VLOOKUP(AL23,$AL$27:$AQ$34,6,FALSE))) -> 0 | AR23: =IF(ISERROR(VLOOKUP(AL23,$AL$27:$AR$34,7,FALSE)),0,(VLOOKUP(AL23,$AL$27:$AR$34,7,FALSE))) -> 0 | AS23: =IF(ISERROR(VLOOKUP(AL23,$AL$27:$AS$34,8,FALSE)),0,(VLOOKUP(AL23,$AL$27:$AS$34,8,FALSE))) -> 0 | AT23: =AR23-AS23 -> 0 | AU23: =AO23*3+AP23 -> 0 | AW23: 18 | AX23: =IF(ISERROR(VLOOKUP(AW23,$AW$26:$AY$29,2,FALSE)),0,(VLOOKUP(AW23,$AW$26:$AY$29,2,FALSE))) -> 0 | AY23: =IF(ISERROR(VLOOKUP(AW23,$AW$26:$BF$29,3,FALSE)),0,(VLOOKUP(AW23,$AW$26:$BF$29,3,FALSE))) -> 0 | AZ23: =IF(ISERROR(VLOOKUP(AW23,$AW$26:$BF$29,4,FALSE)),0,(VLOOKUP(AW23,$AW$26:$BF$29,4,FALSE))) -> 0 | BA23: =AY23-AZ23-BB23 -> 0 | BB23: =IF(ISERROR(VLOOKUP(AW23,$AW$26:$BF$29,6,FALSE)),0,(VLOOKUP(AW23,$AW$26:$BF$29,6,FALSE))) -> 0 | BC23: =IF(ISERROR(VLOOKUP(AW23,$AW$26:$BF$29,7,FALSE)),0,(VLOOKUP(AW23,$AW$26:$BF$29,7,FALSE))) -> 0 | BD23: =IF(ISERROR(VLOOKUP(AW23,$AW$26:$BF$29,8,FALSE)),0,(VLOOKUP(AW23,$AW$26:$BF$29,8,FALSE))) -> 0 | BE23: =BC23-BD23 -> 0 | BF23: =AZ23*3+BA23 -> 0 | BI23: 18 | BJ23: =IF(ISERROR(VLOOKUP(BI23,$BI$26:$BK$29,2,FALSE)),0,(VLOOKUP(BI23,$BI$26:$BK$29,2,FALSE))) -> 0 | BK23: =IF(ISERROR(VLOOKUP(BI23,$BI$26:$BR$27,3,FALSE)),0,(VLOOKUP(BI23,$BI$26:$BR$27,3,FALSE))) -> 0 | BL23: =IF(ISERROR(VLOOKUP(BI23,$BI$26:$BR$27,4,FALSE)),0,(VLOOKUP(BI23,$BI$26:$BR$27,4,FALSE))) -> 0 | BM23: =BK23-BL23-BN23 -> 0 | BN23: =IF(ISERROR(VLOOKUP(BI23,$BI$26:$BR$27,6,FALSE)),0,(VLOOKUP(BI23,$BI$26:$BR$27,6,FALSE))) -> 0 | BO23: =IF(ISERROR(VLOOKUP(BI23,$BI$26:$BR$27,7,FALSE)),0,(VLOOKUP(BI23,$BI$26:$BR$27,7,FALSE))) -> 0 | BP23: =IF(ISERROR(VLOOKUP(BI23,$BI$26:$BR$27,8,FALSE)),0,(VLOOKUP(BI23,$BI$26:$BR$27,8,FALSE))) -> 0 | BQ23: =BO23-BP23 -> 0 | BR23: =BL23*3+BM23 -> 0 | BY23: =P23 -> #REF! | BZ23: =Q23 -> RB Leipzig | CA23: =R23+AN23+AY23+BK23 -> 10 | CB23: =S23+AO23+AZ23+BL23 -> 3 | CC23: =T23+AP23+BA23+BM23 -> 1 | CD23: =U23+AQ23+BB23+BN23 -> 6 | CE23: =V23+AR23+BC23+BO23 -> 10 | CF23: =W23+AS23+BD23+BP23 -> 19 | CG23: =X23+AT23+BE23+BQ23 -> -9 | CH23: =Y23+AU23+BF23+BR23 -> 10 | CJ23: =(10^10)*CH23+(10^8)*CB23+(10^6)*(50+CG23)+(10^4)*CE23+(10^2)*CA23+(13-BY23) -> #REF! | CK23: 18 | CL23: =LARGE($CJ$6:$CJ$23,CK23) -> #REF! | CN23: 18 | CO23: =MATCH(CL23,$CJ$6:$CJ$23,0) -> #REF!
AL24: QUARTAS DE FINAL | AW24: SEMI FINAL | BI24: FINAL
AL25: ID_TIME | AM25: Times | AN25: Jogos | AO25: Vitorias | AP25: Empates | AQ25: Derrotas | AR25: Gols Pró | AS25: Gols Cont. | AT25: Saldo | AU25: Pontos | AW25: ID_TIME | AX25: Times | AY25: Jogos | AZ25: Vitorias | BA25: Empates | BB25: Derrotas | BC25: Gols Pró | BD25: Gols Cont. | BE25: Saldo | BF25: Pontos | BI25: ID_TIME | BJ25: Times | BK25: Jogos | BL25: Vitorias | BM25: Empates | BN25: Derrotas | BO25: Gols Pró | BP25: Gols Cont. | BQ25: Saldo | BR25: Pontos
AW26: =Jogos!#REF! -> #REF! | AX26: =Jogos!#REF! -> #REF! | AY26: =Jogos!#REF! -> #REF! | AZ26: =Jogos!#REF! -> #REF! | BA26: =Jogos!#REF! -> #REF! | BB26: =Jogos!#REF! -> #REF! | BC26: =Jogos!#REF! -> #REF! | BD26: =Jogos!#REF! -> #REF! | ... BF26: =Jogos!#REF! -> #REF! | BI26: =Jogos!#REF! -> #REF! | BJ26: =Jogos!#REF! -> #REF! | BK26: =Jogos!#REF! -> #REF! | BL26: =Jogos!#REF! -> #REF! | BM26: =Jogos!#REF! -> #REF! | BN26: =Jogos!#REF! -> #REF! | BO26: =Jogos!#REF! -> #REF! | BP26: =Jogos!#REF! -> #REF! | ... BR26: =Jogos!#REF! -> #REF!
AL27: =Jogos!#REF! -> #REF! | AM27: =Jogos!#REF! -> #REF! | AN27: =Jogos!#REF! -> #REF! | AO27: =Jogos!#REF! -> #REF! | AP27: =Jogos!#REF! -> #REF! | AQ27: =Jogos!#REF! -> #REF! | AR27: =Jogos!#REF! -> #REF! | AS27: =Jogos!#REF! -> #REF! | ... AU27: =Jogos!#REF! -> #REF! | AW27: =Jogos!#REF! -> #REF! | AX27: =Jogos!#REF! -> #REF! | AY27: =Jogos!#REF! -> #REF! | AZ27: =Jogos!#REF! -> #REF! | BA27: =Jogos!#REF! -> #REF! | BB27: =Jogos!#REF! -> #REF! | BC27: =Jogos!#REF! -> #REF! | BD27: =Jogos!#REF! -> #REF! | ... BF27: =Jogos!#REF! -> #REF! | BI27: =Jogos!#REF! -> #REF! | BJ27: =Jogos!#REF! -> #REF! | BK27: =Jogos!#REF! -> #REF! | BL27: =Jogos!#REF! -> #REF! | BM27: =Jogos!#REF! -> #REF! | BN27: =Jogos!#REF! -> #REF! | BO27: =Jogos!#REF! -> #REF! | BP27: =Jogos!#REF! -> #REF! | ... BR27: =Jogos!#REF! -> #REF!
AL28: =Jogos!#REF! -> #REF! | AM28: =Jogos!#REF! -> #REF! | AN28: =Jogos!#REF! -> #REF! | AO28: =Jogos!#REF! -> #REF! | AP28: =Jogos!#REF! -> #REF! | AQ28: =Jogos!#REF! -> #REF! | AR28: =Jogos!#REF! -> #REF! | AS28: =Jogos!#REF! -> #REF! | ... AU28: =Jogos!#REF! -> #REF! | AW28: =Jogos!#REF! -> #REF! | AX28: =Jogos!#REF! -> #REF! | AY28: =Jogos!#REF! -> #REF! | AZ28: =Jogos!#REF! -> #REF! | BA28: =Jogos!#REF! -> #REF! | BB28: =Jogos!#REF! -> #REF! | BC28: =Jogos!#REF! -> #REF! | BD28: =Jogos!#REF! -> #REF! | ... BF28: =Jogos!#REF! -> #REF!
AL29: =Jogos!#REF! -> #REF! | AM29: =Jogos!#REF! -> #REF! | AN29: =Jogos!#REF! -> #REF! | AO29: =Jogos!#REF! -> #REF! | AP29: =Jogos!#REF! -> #REF! | AQ29: =Jogos!#REF! -> #REF! | AR29: =Jogos!#REF! -> #REF! | AS29: =Jogos!#REF! -> #REF! | ... AU29: =Jogos!#REF! -> #REF! | AW29: =Jogos!#REF! -> #REF! | AX29: =Jogos!#REF! -> #REF! | AY29: =Jogos!#REF! -> #REF! | AZ29: =Jogos!#REF! -> #REF! | BA29: =Jogos!#REF! -> #REF! | BB29: =Jogos!#REF! -> #REF! | BC29: =Jogos!#REF! -> #REF! | BD29: =Jogos!#REF! -> #REF! | ... BF29: =Jogos!#REF! -> #REF!
AL30: =Jogos!#REF! -> #REF! | AM30: =Jogos!#REF! -> #REF! | AN30: =Jogos!#REF! -> #REF! | AO30: =Jogos!#REF! -> #REF! | AP30: =Jogos!#REF! -> #REF! | AQ30: =Jogos!#REF! -> #REF! | AR30: =Jogos!#REF! -> #REF! | AS30: =Jogos!#REF! -> #REF! | ... AU30: =Jogos!#REF! -> #REF!
AL31: =Jogos!#REF! -> #REF! | AM31: =Jogos!#REF! -> #REF! | AN31: =Jogos!#REF! -> #REF! | AO31: =Jogos!#REF! -> #REF! | AP31: =Jogos!#REF! -> #REF! | AQ31: =Jogos!#REF! -> #REF! | AR31: =Jogos!#REF! -> #REF! | AS31: =Jogos!#REF! -> #REF! | ... AU31: =Jogos!#REF! -> #REF!
AL32: =Jogos!#REF! -> #REF! | AM32: =Jogos!#REF! -> #REF! | AN32: =Jogos!#REF! -> #REF! | AO32: =Jogos!#REF! -> #REF! | AP32: =Jogos!#REF! -> #REF! | AQ32: =Jogos!#REF! -> #REF! | AR32: =Jogos!#REF! -> #REF! | AS32: =Jogos!#REF! -> #REF! | ... AU32: =Jogos!#REF! -> #REF!
AL33: =Jogos!#REF! -> #REF! | AM33: =Jogos!#REF! -> #REF! | AN33: =Jogos!#REF! -> #REF! | AO33: =Jogos!#REF! -> #REF! | AP33: =Jogos!#REF! -> #REF! | AQ33: =Jogos!#REF! -> #REF! | AR33: =Jogos!#REF! -> #REF! | AS33: =Jogos!#REF! -> #REF! | ... AU33: =Jogos!#REF! -> #REF!
AL34: =Jogos!#REF! -> #REF! | AM34: =Jogos!#REF! -> #REF! | AN34: =Jogos!#REF! -> #REF! | AO34: =Jogos!#REF! -> #REF! | AP34: =Jogos!#REF! -> #REF! | AQ34: =Jogos!#REF! -> #REF! | AR34: =Jogos!#REF! -> #REF! | AS34: =Jogos!#REF! -> #REF! | ... AU34: =Jogos!#REF! -> #REF!

Sheet Geral
B2: CLASSIFICAÇÃO GERAL | P2: 1º FASE | AB2: REPESCAGEM | AM2: QUARTAS DE FINAL | AX2: SEMI FINAL | BJ2: FINAL
B4: Posição | C4: Times | D4: Jogos | E4: Vitorias | F4: Empates | G4: Derrotas | H4: Gols Pró | I4: Gols Cont. | J4: Saldo | K4: Pontos | P4: ID_TIME | Q4: Times | R4: Jogos | S4: Vitorias | T4: Empates | U4: Derrotas | V4: Gols Pró | W4: Gols Cont. | X4: Saldo | Y4: Pontos | AB4: ID_TIME | AC4: Times | AD4: Jogos | AE4: Vitorias | AF4: Empates | AG4: Derrotas | AH4: Gols Pró | AI4: Gols Cont. | AJ4: Saldo | AK4: Pontos | AM4: ID_TIME | AN4: Times | AO4: Jogos | AP4: Vitorias | AQ4: Empates | AR4: Derrotas | AS4: Gols Pró | AT4: Gols Cont. | AU4: Saldo | AV4: Pontos | AW4: Ranking | AX4: ID_TIME | AY4: Times | AZ4: Jogos | BA4: Vitorias | BB4: Empates | BC4: Derrotas | BD4: Gols Pró | BE4: Gols Cont. | BF4: Saldo | BG4: Pontos | BJ4: ID_TIME | BK4: Times | BL4: Jogos | BM4: Vitorias | BN4: Empates | BO4: Derrotas | BP4: Gols Pró | BQ4: Gols Cont. | BR4: Saldo | BS4: Pontos | BZ4: ID_TIME | CA4: Times | CB4: Jogos | CC4: Vitorias | CD4: Empates | CE4: Derrotas | CF4: Gols Pró | CG4: Gols Cont. | CH4: Saldo | CI4: Pontos
B6: 1º | C6: =VLOOKUP(CR6,$BZ$6:$CI$25,2) -> Juventus | D6: =VLOOKUP(CR6,$BZ$6:$CI$25,3) -> 13 | E6: =VLOOKUP(CR6,$BZ$6:$CI$25,4) -> 10 | F6: =D6-E6-G6 -> 2 | G6: =VLOOKUP(CR6,$BZ$6:$CI$25,6) -> 1 | H6: =VLOOKUP(CR6,$BZ$6:$CI$25,7) -> 42 | I6: =VLOOKUP(CR6,$BZ$6:$CI$25,8) -> 12 | J6: =H6-I6 -> 30 | K6: =E6*3+F6 -> 32 | P6: =Classificação!Y10 -> 1 | Q6: =Classificação!P10 -> Internazionale | R6: =Classificação!Q10 -> 10 | S6: =Classificação!R10 -> 5 | T6: =Classificação!S10 -> 2 | U6: =Classificação!T10 -> 3 | V6: =Classificação!U10 -> 15 | W6: =Classificação!V10 -> 11 | X6: =Classificação!W10 -> 4 | Y6: =Classificação!X10 -> 17 | Z6: 321060261712 | AB6: 1 | AC6: =IF(ISERROR(VLOOKUP(AB6,$AB$30:$AK$37,2,FALSE)),0,(VLOOKUP(AB6,$AB$30:$AK$37,2,FALSE))) -> Internazionale | AD6: =IF(ISERROR(VLOOKUP(AB6,$AB$30:$AK$37,3,FALSE)),0,(VLOOKUP(AB6,$AB$30:$AK$37,3,FALSE))) -> 1 | AE6: =IF(ISERROR(VLOOKUP(AB6,$AB$30:$AK$37,4,FALSE)),0,(VLOOKUP(AB6,$AB$30:$AK$37,4,FALSE))) -> 0 | AF6: =AD6-AE6-AG6 -> 0 | AG6: =IF(ISERROR(VLOOKUP(AB6,$AB$30:$AK$37,6,FALSE)),0,(VLOOKUP(AB6,$AB$30:$AK$37,6,FALSE))) -> 1 | AH6: =IF(ISERROR(VLOOKUP(AB6,$AB$30:$AK$37,7,FALSE)),0,(VLOOKUP(AB6,$AB$30:$AK$37,7,FALSE))) -> 0 | AI6: =IF(ISERROR(VLOOKUP(AB6,$AB$30:$AK$37,8,FALSE)),0,(VLOOKUP(AB6,$AB$30:$AK$37,8,FALSE))) -> 3 | AJ6: =AH6-AI6 -> -3 | AK6: =AE6*3+AF6 -> 0 | AM6: 1 | AN6: =IF(ISERROR(VLOOKUP(AM6,$AM$30:$AO$37,2,FALSE)),0,(VLOOKUP(AM6,$AM$30:$AO$37,2,FALSE))) -> 0 | AO6: =IF(ISERROR(VLOOKUP(AM6,$AM$30:$AO$37,3,FALSE)),0,(VLOOKUP(AM6,$AM$30:$AO$37,3,FALSE))) -> 0 | AP6: =IF(ISERROR(VLOOKUP(AM6,$AM$30:$AP$37,4,FALSE)),0,(VLOOKUP(AM6,$AM$30:$AP$37,4,FALSE))) -> 0 | AQ6: =AO6-AP6-AR6 -> 0 | AR6: =IF(ISERROR(VLOOKUP(AM6,$AM$30:$AR$37,6,FALSE)),0,(VLOOKUP(AM6,$AM$30:$AR$37,6,FALSE))) -> 0 | AS6: =IF(ISERROR(VLOOKUP(AM6,$AM$30:$AS$37,7,FALSE)),0,(VLOOKUP(AM6,$AM$30:$AS$37,7,FALSE))) -> 0 | AT6: =IF(ISERROR(VLOOKUP(AM6,$AM$30:$AT$37,8,FALSE)),0,(VLOOKUP(AM6,$AM$30:$AT$37,8,FALSE))) -> 0 | AU6: =AS6-AT6 -> 0 | AV6: =AP6*3+AQ6 -> 0 | AX6: 1 | AY6: =IF(ISERROR(VLOOKUP(AX6,$AX$29:$AZ$32,2,FALSE)),0,(VLOOKUP(AX6,$AX$29:$AZ$32,2,FALSE))) -> 0 | AZ6: =IF(ISERROR(VLOOKUP(AX6,$AX$29:$BA$32,3,FALSE)),0,(VLOOKUP(AX6,$AX$29:$BA$32,3,FALSE))) -> 0 | BA6: =IF(ISERROR(VLOOKUP(AX6,$AX$29:$BA$32,4,FALSE)),0,(VLOOKUP(AX6,$AX$29:$BA$32,4,FALSE))) -> 0 | BB6: =AZ6-BA6-BC6 -> 0 | BC6: =IF(ISERROR(VLOOKUP(AX6,$AX$29:$BC$32,6,FALSE)),0,(VLOOKUP(AX6,$AX$29:$BC$32,6,FALSE))) -> 0 | BD6: =IF(ISERROR(VLOOKUP(AX6,$AX$29:$BD$32,7,FALSE)),0,(VLOOKUP(AX6,$AX$29:$BD$32,7,FALSE))) -> 0 | BE6: =IF(ISERROR(VLOOKUP(AX6,$AX$29:$BE$32,8,FALSE)),0,(VLOOKUP(AX6,$AX$29:$BE$32,8,FALSE))) -> 0 | BF6: =BD6-BE6 -> 0 | BG6: =BA6*3+BB6 -> 0 | BJ6: 1 | BK6: =IF(ISERROR(VLOOKUP(BJ6,$BJ$29:$BL$32,2,FALSE)),0,(VLOOKUP(BJ6,$BJ$29:$BL$32,2,FALSE))) -> 0 | BL6: =IF(ISERROR(VLOOKUP(BJ6,$BJ$29:$BM$32,3,FALSE)),0,(VLOOKUP(BJ6,$BJ$29:$BM$32,3,FALSE))) -> 0 | BM6: =IF(ISERROR(VLOOKUP(BJ6,$BJ$29:$BM$32,4,FALSE)),0,(VLOOKUP(BJ6,$BJ$29:$BM$32,4,FALSE))) -> 0 | BN6: =BL6-BM6-BO6 -> 0 | BO6: =IF(ISERROR(VLOOKUP(BJ6,$BJ$29:$BO$32,6,FALSE)),0,(VLOOKUP(BJ6,$BJ$29:$BO$32,6,FALSE))) -> 0 | BP6: =IF(ISERROR(VLOOKUP(BJ6,$BJ$29:$BP$32,7,FALSE)),0,(VLOOKUP(BJ6,$BJ$29:$BP$32,7,FALSE))) -> 0 | BQ6: =IF(ISERROR(VLOOKUP(BJ6,$BJ$29:$BQ$32,8,FALSE)),0,(VLOOKUP(BJ6,$BJ$29:$BQ$32,8,FALSE))) -> 0 | BR6: =BP6-BQ6 -> 0 | BS6: =BM6*3+BN6 -> 0 | BZ6: 1 | CA6: =Q6 -> Internazionale | CB6: =R6+AO6+AZ6+BL6+AD6 -> 11 | CC6: =S6+AP6+BA6+BM6+AE6 -> 5 | CD6: =T6+AQ6+BB6+BN6+AF6 -> 2 | CE6: =U6+AR6+BC6+BO6+AG6 -> 4 | CF6: =V6+AS6+BD6+BP6+AH6 -> 15 | CG6: =W6+AT6+BE6+BQ6+AI6 -> 14 | CH6: =X6+AU6+BF6+BR6+AJ6 -> 1 | CI6: =Y6+AV6+BG6+BS6+AK6 -> 17 | CL6: =(10^10)*CI6+(10^8)*CC6+(10^6)*(50+CH6)+(10^4)*CF6+(10^2)*CB6+(13-BZ6) -> 170551151112 | CN6: 1 | CO6: =LARGE($CL$6:$CL$25,CN6) -> 321080421310 | CQ6: 1 | CR6: =MATCH(CO6,$CL$6:$CL$25,0) -> 3
B7: 2º | C7: =VLOOKUP(CR7,$BZ$6:$CI$25,2) -> PSG | D7: =VLOOKUP(CR7,$BZ$6:$CI$25,3) -> 14 | E7: =VLOOKUP(CR7,$BZ$6:$CI$25,4) -> 9 | F7: =D7-E7-G7 -> 1 | G7: =VLOOKUP(CR7,$BZ$6:$CI$25,6) -> 4 | H7: =VLOOKUP(CR7,$BZ$6:$CI$25,7) -> 46 | I7: =VLOOKUP(CR7,$BZ$6:$CI$25,8) -> 20 | J7: =H7-I7 -> 26 | K7: =E7*3+F7 -> 28 | P7: =Classificação!Y11 -> 2 | Q7: =Classificação!P11 -> Atl. De Madrid | R7: =Classificação!Q11 -> 10 | S7: =Classificação!R11 -> 3 | T7: =Classificação!S11 -> 2 | U7: =Classificação!T11 -> 5 | V7: =Classificação!U11 -> 11 | W7: =Classificação!V11 -> 32 | X7: =Classificação!W11 -> -21 | Y7: =Classificação!X11 -> 11 | Z7: 220548161711 | AB7: 2 | AC7: =IF(ISERROR(VLOOKUP(AB7,$AB$30:$AK$37,2,FALSE)),0,(VLOOKUP(AB7,$AB$30:$AK$37,2,FALSE))) -> 0 | AD7: =IF(ISERROR(VLOOKUP(AB7,$AB$30:$AK$37,3,FALSE)),0,(VLOOKUP(AB7,$AB$30:$AK$37,3,FALSE))) -> 0 | AE7: =IF(ISERROR(VLOOKUP(AB7,$AB$30:$AK$37,4,FALSE)),0,(VLOOKUP(AB7,$AB$30:$AK$37,4,FALSE))) -> 0 | AF7: =AD7-AE7-AG7 -> 0 | AG7: =IF(ISERROR(VLOOKUP(AB7,$AB$30:$AK$37,6,FALSE)),0,(VLOOKUP(AB7,$AB$30:$AK$37,6,FALSE))) -> 0 | AH7: =IF(ISERROR(VLOOKUP(AB7,$AB$30:$AK$37,7,FALSE)),0,(VLOOKUP(AB7,$AB$30:$AK$37,7,FALSE))) -> 0 | AI7: =IF(ISERROR(VLOOKUP(AB7,$AB$30:$AK$37,8,FALSE)),0,(VLOOKUP(AB7,$AB$30:$AK$37,8,FALSE))) -> 0 | AJ7: =AH7-AI7 -> 0 | AK7: =AE7*3+AF7 -> 0 | AM7: 2 | AN7: =IF(ISERROR(VLOOKUP(AM7,$AM$30:$AO$37,2,FALSE)),0,(VLOOKUP(AM7,$AM$30:$AO$37,2,FALSE))) -> 0 | AO7: =IF(ISERROR(VLOOKUP(AM7,$AM$30:$AO$37,3,FALSE)),0,(VLOOKUP(AM7,$AM$30:$AO$37,3,FALSE))) -> 0 | AP7: =IF(ISERROR(VLOOKUP(AM7,$AM$30:$AP$37,4,FALSE)),0,(VLOOKUP(AM7,$AM$30:$AP$37,4,FALSE))) -> 0 | AQ7: =AO7-AP7-AR7 -> 0 | AR7: =IF(ISERROR(VLOOKUP(AM7,$AM$30:$AR$37,6,FALSE)),0,(VLOOKUP(AM7,$AM$30:$AR$37,6,FALSE))) -> 0 | AS7: =IF(ISERROR(VLOOKUP(AM7,$AM$30:$AS$37,7,FALSE)),0,(VLOOKUP(AM7,$AM$30:$AS$37,7,FALSE))) -> 0 | AT7: =IF(ISERROR(VLOOKUP(AM7,$AM$30:$AT$37,8,FALSE)),0,(VLOOKUP(AM7,$AM$30:$AT$37,8,FALSE))) -> 0 | AU7: =AS7-AT7 -> 0 | AV7: =AP7*3+AQ7 -> 0 | AX7: 2 | AY7: =IF(ISERROR(VLOOKUP(AX7,$AX$29:$AZ$32,2,FALSE)),0,(VLOOKUP(AX7,$AX$29:$AZ$32,2,FALSE))) -> 0 | AZ7: =IF(ISERROR(VLOOKUP(AX7,$AX$29:$BA$32,3,FALSE)),0,(VLOOKUP(AX7,$AX$29:$BA$32,3,FALSE))) -> 0 | BA7: =IF(ISERROR(VLOOKUP(AX7,$AX$29:$BA$32,4,FALSE)),0,(VLOOKUP(AX7,$AX$29:$BA$32,4,FALSE))) -> 0 | BB7: =AZ7-BA7-BC7 -> 0 | BC7: =IF(ISERROR(VLOOKUP(AX7,$AX$29:$BC$32,6,FALSE)),0,(VLOOKUP(AX7,$AX$29:$BC$32,6,FALSE))) -> 0 | BD7: =IF(ISERROR(VLOOKUP(AX7,$AX$29:$BD$32,7,FALSE)),0,(VLOOKUP(AX7,$AX$29:$BD$32,7,FALSE))) -> 0 | BE7: =IF(ISERROR(VLOOKUP(AX7,$AX$29:$BE$32,8,FALSE)),0,(VLOOKUP(AX7,$AX$29:$BE$32,8,FALSE))) -> 0 | BF7: =BD7-BE7 -> 0 | BG7: =BA7*3+BB7 -> 0 | BJ7: 2 | BK7: =IF(ISERROR(VLOOKUP(BJ7,$BJ$29:$BL$32,2,FALSE)),0,(VLOOKUP(BJ7,$BJ$29:$BL$32,2,FALSE))) -> 0 | BL7: =IF(ISERROR(VLOOKUP(BJ7,$BJ$29:$BM$32,3,FALSE)),0,(VLOOKUP(BJ7,$BJ$29:$BM$32,3,FALSE))) -> 0 | BM7: =IF(ISERROR(VLOOKUP(BJ7,$BJ$29:$BM$32,4,FALSE)),0,(VLOOKUP(BJ7,$BJ$29:$BM$32,4,FALSE))) -> 0 | BN7: =BL7-BM7-BO7 -> 0 | BO7: =IF(ISERROR(VLOOKUP(BJ7,$BJ$29:$BO$32,6,FALSE)),0,(VLOOKUP(BJ7,$BJ$29:$BO$32,6,FALSE))) -> 0 | BP7: =IF(ISERROR(VLOOKUP(BJ7,$BJ$29:$BP$32,7,FALSE)),0,(VLOOKUP(BJ7,$BJ$29:$BP$32,7,FALSE))) -> 0 | BQ7: =IF(ISERROR(VLOOKUP(BJ7,$BJ$29:$BQ$32,8,FALSE)),0,(VLOOKUP(BJ7,$BJ$29:$BQ$32,8,FALSE))) -> 0 | BR7: =BP7-BQ7 -> 0 | BS7: =BM7*3+BN7 -> 0 | BZ7: 2 | CA7: =Q7 -> Atl. De Madrid | CB7: =R7+AO7+AZ7+BL7+AD7 -> 10 | CC7: =S7+AP7+BA7+BM7+AE7 -> 3 | CD7: =T7+AQ7+BB7+BN7+AF7 -> 2 | CE7: =U7+AR7+BC7+BO7+AG7 -> 5 | CF7: =V7+AS7+BD7+BP7+AH7 -> 11 | CG7: =W7+AT7+BE7+BQ7+AI7 -> 32 | CH7: =X7+AU7+BF7+BR7+AJ7 -> -21 | CI7: =Y7+AV7+BG7+BS7+AK7 -> 11 | CL7: =(10^10)*CI7+(10^8)*CC7+(10^6)*(50+CH7)+(10^4)*CF7+(10^2)*CB7+(13-BZ7) -> 110329111011 | CN7: 2 | CO7: =LARGE($CL$6:$CL$25,CN7) -> 280976461399 | CQ7: 2 | CR7: =MATCH(CO7,$CL$6:$CL$25,0) -> 14
B8: 3º | C8: =VLOOKUP(CR8,$BZ$6:$CI$25,2) -> Liverpool | D8: =VLOOKUP(CR8,$BZ$6:$CI$25,3) -> 11 | E8: =VLOOKUP(CR8,$BZ$6:$CI$25,4) -> 9 | F8: =D8-E8-G8 -> 1 | G8: =VLOOKUP(CR8,$BZ$6:$CI$25,6) -> 1 | H8: =VLOOKUP(CR8,$BZ$6:$CI$25,7) -> 20 | I8: =VLOOKUP(CR8,$BZ$6:$CI$25,8) -> 8 | J8: =H8-I8 -> 12 | K8: =E8*3+F8 -> 28 | P8: =Classificação!Y12 -> 3 | Q8: =Classificação!P12 -> Juventus | R8: =Classificação!Q12 -> 10 | S8: =Classificação!R12 -> 8 | T8: =Classificação!S12 -> 1 | U8: =Classificação!T12 -> 1 | V8: =Classificação!U12 -> 33 | W8: =Classificação!V12 -> 9 | X8: =Classificação!W12 -> 24 | Y8: =Classificação!X12 -> 25 | Z8: 200545131710 | AB8: 3 | AC8: =IF(ISERROR(VLOOKUP(AB8,$AB$30:$AK$37,2,FALSE)),0,(VLOOKUP(AB8,$AB$30:$AK$37,2,FALSE))) -> 0 | AD8: =IF(ISERROR(VLOOKUP(AB8,$AB$30:$AK$37,3,FALSE)),0,(VLOOKUP(AB8,$AB$30:$AK$37,3,FALSE))) -> 0 | AE8: =IF(ISERROR(VLOOKUP(AB8,$AB$30:$AK$37,4,FALSE)),0,(VLOOKUP(AB8,$AB$30:$AK$37,4,FALSE))) -> 0 | AF8: =AD8-AE8-AG8 -> 0 | AG8: =IF(ISERROR(VLOOKUP(AB8,$AB$30:$AK$37,6,FALSE)),0,(VLOOKUP(AB8,$AB$30:$AK$37,6,FALSE))) -> 0 | AH8: =IF(ISERROR(VLOOKUP(AB8,$AB$30:$AK$37,7,FALSE)),0,(VLOOKUP(AB8,$AB$30:$AK$37,7,FALSE))) -> 0 | AI8: =IF(ISERROR(VLOOKUP(AB8,$AB$30:$AK$37,8,FALSE)),0,(VLOOKUP(AB8,$AB$30:$AK$37,8,FALSE))) -> 0 | AJ8: =AH8-AI8 -> 0 | AK8: =AE8*3+AF8 -> 0 | AM8: 3 | AN8: =IF(ISERROR(VLOOKUP(AM8,$AM$30:$AO$37,2,FALSE)),0,(VLOOKUP(AM8,$AM$30:$AO$37,2,FALSE))) -> Juventus | AO8: =IF(ISERROR(VLOOKUP(AM8,$AM$30:$AO$37,3,FALSE)),0,(VLOOKUP(AM8,$AM$30:$AO$37,3,FALSE))) -> 1 | AP8: =IF(ISERROR(VLOOKUP(AM8,$AM$30:$AP$37,4,FALSE)),0,(VLOOKUP(AM8,$AM$30:$AP$37,4,FALSE))) -> 1 | AQ8: =AO8-AP8-AR8 -> 0 | AR8: =IF(ISERROR(VLOOKUP(AM8,$AM$30:$AR$37,6,FALSE)),0,(VLOOKUP(AM8,$AM$30:$AR$37,6,FALSE))) -> 0 | AS8: =IF(ISERROR(VLOOKUP(AM8,$AM$30:$AS$37,7,FALSE)),0,(VLOOKUP(AM8,$AM$30:$AS$37,7,FALSE))) -> 3 | AT8: =IF(ISERROR(VLOOKUP(AM8,$AM$30:$AT$37,8,FALSE)),0,(VLOOKUP(AM8,$AM$30:$AT$37,8,FALSE))) -> 1 | AU8: =AS8-AT8 -> 2 | AV8: =AP8*3+AQ8 -> 3 | AX8: 3 | AY8: =IF(ISERROR(VLOOKUP(AX8,$AX$29:$AZ$32,2,FALSE)),0,(VLOOKUP(AX8,$AX$29:$AZ$32,2,FALSE))) -> Juventus | AZ8: =IF(ISERROR(VLOOKUP(AX8,$AX$29:$BA$32,3,FALSE)),0,(VLOOKUP(AX8,$AX$29:$BA$32,3,FALSE))) -> 1 | BA8: =IF(ISERROR(VLOOKUP(AX8,$AX$29:$BA$32,4,FALSE)),0,(VLOOKUP(AX8,$AX$29:$BA$32,4,FALSE))) -> 1 | BB8: =AZ8-BA8-BC8 -> 0 | BC8: =IF(ISERROR(VLOOKUP(AX8,$AX$29:$BC$32,6,FALSE)),0,(VLOOKUP(AX8,$AX$29:$BC$32,6,FALSE))) -> 0 | BD8: =IF(ISERROR(VLOOKUP(AX8,$AX$29:$BD$32,7,FALSE)),0,(VLOOKUP(AX8,$AX$29:$BD$32,7,FALSE))) -> 5 | BE8: =IF(ISERROR(VLOOKUP(AX8,$AX$29:$BE$32,8,FALSE)),0,(VLOOKUP(AX8,$AX$29:$BE$32,8,FALSE))) -> 1 | BF8: =BD8-BE8 -> 4 | BG8: =BA8*3+BB8 -> 3 | BJ8: 3 | BK8: =IF(ISERROR(VLOOKUP(BJ8,$BJ$29:$BL$32,2,FALSE)),0,(VLOOKUP(BJ8,$BJ$29:$BL$32,2,FALSE))) -> Juventus | BL8: =IF(ISERROR(VLOOKUP(BJ8,$BJ$29:$BM$32,3,FALSE)),0,(VLOOKUP(BJ8,$BJ$29:$BM$32,3,FALSE))) -> 1 | BM8: =IF(ISERROR(VLOOKUP(BJ8,$BJ$29:$BM$32,4,FALSE)),0,(VLOOKUP(BJ8,$BJ$29:$BM$32,4,FALSE))) -> 0 | BN8: =BL8-BM8-BO8 -> 1 | BO8: =IF(ISERROR(VLOOKUP(BJ8,$BJ$29:$BO$32,6,FALSE)),0,(VLOOKUP(BJ8,$BJ$29:$BO$32,6,FALSE))) -> 0 | BP8: =IF(ISERROR(VLOOKUP(BJ8,$BJ$29:$BP$32,7,FALSE)),0,(VLOOKUP(BJ8,$BJ$29:$BP$32,7,FALSE))) -> 1 | BQ8: =IF(ISERROR(VLOOKUP(BJ8,$BJ$29:$BQ$32,8,FALSE)),0,(VLOOKUP(BJ8,$BJ$29:$BQ$32,8,FALSE))) -> 1 | BR8: =BP8-BQ8 -> 0 | BS8: =BM8*3+BN8 -> 1 | BZ8: 3 | CA8: =Q8 -> Juventus | CB8: =R8+AO8+AZ8+BL8+AD8 -> 13 | CC8: =S8+AP8+BA8+BM8+AE8 -> 10 | CD8: =T8+AQ8+BB8+BN8+AF8 -> 2 | CE8: =U8+AR8+BC8+BO8+AG8 -> 1 | CF8: =V8+AS8+BD8+BP8+AH8 -> 42 | CG8: =W8+AT8+BE8+BQ8+AI8 -> 12 | CH8: =X8+AU8+BF8+BR8+AJ8 -> 30 | CI8: =Y8+AV8+BG8+BS8+AK8 -> 32 | CL8: =(10^10)*CI8+(10^8)*CC8+(10^6)*(50+CH8)+(10^4)*CF8+(10^2)*CB8+(13-BZ8) -> 321080421310 | CN8: 3 | CO8: =LARGE($CL$6:$CL$25,CN8) -> 280962201096 | CQ8: 3 | CR8: =MATCH(CO8,$CL$6:$CL$25,0) -> 17
B9: 4º | C9: =VLOOKUP(CR9,$BZ$6:$CI$23,2) -> B. München | D9: =VLOOKUP(CR9,$BZ$6:$CI$25,3) -> 13 | E9: =VLOOKUP(CR9,$BZ$6:$CI$25,4) -> 8 | F9: =D9-E9-G9 -> 4 | G9: =VLOOKUP(CR9,$BZ$6:$CI$25,6) -> 1 | H9: =VLOOKUP(CR9,$BZ$6:$CI$25,7) -> 28 | I9: =VLOOKUP(CR9,$BZ$6:$CI$25,8) -> 15 | J9: =H9-I9 -> 13 | K9: =E9*3+F9 -> 28 | P9: =Classificação!Y13 -> 4 | Q9: =Classificação!P13 -> Arsenal | R9: =Classificação!Q13 -> 10 | S9: =Classificação!R13 -> 4 | T9: =Classificação!S13 -> 1 | U9: =Classificação!T13 -> 5 | V9: =Classificação!U13 -> 8 | W9: =Classificação!V13 -> 14 | X9: =Classificação!W13 -> -6 | Y9: =Classificação!X13 -> 13 | Z9: 16001709 | AB9: 4 | AC9: =IF(ISERROR(VLOOKUP(AB9,$AB$30:$AK$37,2,FALSE)),0,(VLOOKUP(AB9,$AB$30:$AK$37,2,FALSE))) -> Arsenal | AD9: =IF(ISERROR(VLOOKUP(AB9,$AB$30:$AK$37,3,FALSE)),0,(VLOOKUP(AB9,$AB$30:$AK$37,3,FALSE))) -> 1 | AE9: =IF(ISERROR(VLOOKUP(AB9,$AB$30:$AK$37,4,FALSE)),0,(VLOOKUP(AB9,$AB$30:$AK$37,4,FALSE))) -> 1 | AF9: =AD9-AE9-AG9 -> 0 | AG9: =IF(ISERROR(VLOOKUP(AB9,$AB$30:$AK$37,6,FALSE)),0,(VLOOKUP(AB9,$AB$30:$AK$37,6,FALSE))) -> 0 | AH9: =IF(ISERROR(VLOOKUP(AB9,$AB$30:$AK$37,7,FALSE)),0,(VLOOKUP(AB9,$AB$30:$AK$37,7,FALSE))) -> 1 | AI9: =IF(ISERROR(VLOOKUP(AB9,$AB$30:$AK$37,8,FALSE)),0,(VLOOKUP(AB9,$AB$30:$AK$37,8,FALSE))) -> 0 | AJ9: =AH9-AI9 -> 1 | AK9: =AE9*3+AF9 -> 3 | AM9: 4 | AN9: =IF(ISERROR(VLOOKUP(AM9,$AM$30:$AO$37,2,FALSE)),0,(VLOOKUP(AM9,$AM$30:$AO$37,2,FALSE))) -> Arsenal | AO9: =IF(ISERROR(VLOOKUP(AM9,$AM$30:$AO$37,3,FALSE)),0,(VLOOKUP(AM9,$AM$30:$AO$37,3,FALSE))) -> 1 | AP9: =IF(ISERROR(VLOOKUP(AM9,$AM$30:$AP$37,4,FALSE)),0,(VLOOKUP(AM9,$AM$30:$AP$37,4,FALSE))) -> 0 | AQ9: =AO9-AP9-AR9 -> 1 | AR9: =IF(ISERROR(VLOOKUP(AM9,$AM$30:$AR$37,6,FALSE)),0,(VLOOKUP(AM9,$AM$30:$AR$37,6,FALSE))) -> 0 | AS9: =IF(ISERROR(VLOOKUP(AM9,$AM$30:$AS$37,7,FALSE)),0,(VLOOKUP(AM9,$AM$30:$AS$37,7,FALSE))) -> 1 | AT9: =IF(ISERROR(VLOOKUP(AM9,$AM$30:$AT$37,8,FALSE)),0,(VLOOKUP(AM9,$AM$30:$AT$37,8,FALSE))) -> 1 | AU9: =AS9-AT9 -> 0 | AV9: =AP9*3+AQ9 -> 1 | AX9: 4 | AY9: =IF(ISERROR(VLOOKUP(AX9,$AX$29:$AZ$32,2,FALSE)),0,(VLOOKUP(AX9,$AX$29:$AZ$32,2,FALSE))) -> PSG | AZ9: =IF(ISERROR(VLOOKUP(AX9,$AX$29:$BA$32,3,FALSE)),0,(VLOOKUP(AX9,$AX$29:$BA$32,3,FALSE))) -> 1 | BA9: =IF(ISERROR(VLOOKUP(AX9,$AX$29:$BA$32,4,FALSE)),0,(VLOOKUP(AX9,$AX$29:$BA$32,4,FALSE))) -> 0 | BB9: =AZ9-BA9-BC9 -> 1 | BC9: =IF(ISERROR(VLOOKUP(AX9,$AX$29:$BC$32,6,FALSE)),0,(VLOOKUP(AX9,$AX$29:$BC$32,6,FALSE))) -> 0 | BD9: =IF(ISERROR(VLOOKUP(AX9,$AX$29:$BD$32,7,FALSE)),0,(VLOOKUP(AX9,$AX$29:$BD$32,7,FALSE))) -> 2 | BE9: =IF(ISERROR(VLOOKUP(AX9,$AX$29:$BE$32,8,FALSE)),0,(VLOOKUP(AX9,$AX$29:$BE$32,8,FALSE))) -> 2 | BF9: =BD9-BE9 -> 0 | BG9: =BA9*3+BB9 -> 1 | BJ9: 4 | BK9: =IF(ISERROR(VLOOKUP(BJ9,$BJ$29:$BL$32,2,FALSE)),0,(VLOOKUP(BJ9,$BJ$29:$BL$32,2,FALSE))) -> Arsenal | BL9: =IF(ISERROR(VLOOKUP(BJ9,$BJ$29:$BM$32,3,FALSE)),0,(VLOOKUP(BJ9,$BJ$29:$BM$32,3,FALSE))) -> 1 | BM9: =IF(ISERROR(VLOOKUP(BJ9,$BJ$29:$BM$32,4,FALSE)),0,(VLOOKUP(BJ9,$BJ$29:$BM$32,4,FALSE))) -> 0 | BN9: =BL9-BM9-BO9 -> 0 | BO9: =IF(ISERROR(VLOOKUP(BJ9,$BJ$29:$BO$32,6,FALSE)),0,(VLOOKUP(BJ9,$BJ$29:$BO$32,6,FALSE))) -> 1 | BP9: =IF(ISERROR(VLOOKUP(BJ9,$BJ$29:$BP$32,7,FALSE)),0,(VLOOKUP(BJ9,$BJ$29:$BP$32,7,FALSE))) -> 1 | BQ9: =IF(ISERROR(VLOOKUP(BJ9,$BJ$29:$BQ$32,8,FALSE)),0,(VLOOKUP(BJ9,$BJ$29:$BQ$32,8,FALSE))) -> 4 | BR9: =BP9-BQ9 -> -3 | BS9: =BM9*3+BN9 -> 0 | BZ9: 4 | CA9: =Q9 -> Arsenal | CB9: =R9+AO9+AZ9+BL9+AD9 -> 14 | CC9: =S9+AP9+BA9+BM9+AE9 -> 5 | CD9: =T9+AQ9+BB9+BN9+AF9 -> 3 | CE9: =U9+AR9+BC9+BO9+AG9 -> 6 | CF9: =V9+AS9+BD9+BP9+AH9 -> 13 | CG9: =W9+AT9+BE9+BQ9+AI9 -> 21 | CH9: =X9+AU9+BF9+BR9+AJ9 -> -8 | CI9: =Y9+AV9+BG9+BS9+AK9 -> 18 | CL9: =(10^10)*CI9+(10^8)*CC9+(10^6)*(50+CH9)+(10^4)*CF9+(10^2)*CB9+(13-BZ9) -> 180542131409 | CN9: 4 | CO9: =LARGE($CL$6:$CL$25,CN9) -> 280863281305 | CQ9: 4 | CR9: =MATCH(CO9,$CL$6:$CL$25,0) -> 8
