Workbook

Sheet Geral 1º Turno
B2: CLASSIFICAÇÃO GERAL - 1º Turno | P2: 1º FASE | AA2: OITAVAS DE FINAL | AL2: QUARTAS DE FINAL | AW2: SEMI FINAL | BI2: FINAL
B4: Posição | C4: Times | D4: Jogos | E4: Vitorias | F4: Empates | G4: Derrotas | H4: Gols Pró | I4: Gols Cont. | J4: Saldo | K4: Pontos | P4: ID_TIME | Q4: Times | R4: Jogos | S4: Vitorias | T4: Empates | U4: Derrotas | V4: Gols Pró | W4: Gols Cont. | X4: Saldo | Y4: Pontos | AA4: ID_TIME | AB4: Times | AC4: Jogos | AD4: Vitorias | AE4: Empates | AF4: Derrotas | AG4: Gols Pró | AH4: Gols Cont. | AI4: Saldo | AJ4: Pontos | AL4: ID_TIME | AM4: Times | AN4: Jogos | AO4: Vitorias | AP4: Empates | AQ4: Derrotas | AR4: Gols Pró | AS4: Gols Cont. | AT4: Saldo | AU4: Pontos | AW4: ID_TIME | AX4: Times | AY4: Jogos | AZ4: Vitorias | BA4: Empates | BB4: Derrotas | BC4: Gols Pró | BD4: Gols Cont. | BE4: Saldo | BF4: Pontos | BI4: ID_TIME | BJ4: Times | BK4: Jogos | BL4: Vitorias | BM4: Empates | BN4: Derrotas | BO4: Gols Pró | BP4: Gols Cont. | BQ4: Saldo | BR4: Pontos | BY4: ID_TIME | BZ4: Times | CA4: Jogos | CB4: Vitorias | CC4: Empates | CD4: Derrotas | CE4: Gols Pró | CF4: Gols Cont. | CG4: Saldo | CH4: Pontos
B6: 1º | C6: =VLOOKUP(CO6,$BY$6:$CH$23,2) -> #REF! | D6: =VLOOKUP(CO6,$BY$6:$CH$23,3) -> #REF! | E6: =VLOOKUP(CO6,$BY$6:$CH$23,4) -> #REF! | F6: =D6-E6-G6 -> #REF! | G6: =VLOOKUP(CO6,$BY$6:$CH$23,6) -> #REF! | H6: =VLOOKUP(CO6,$BY$6:$CH$23,7) -> #REF! | I6: =VLOOKUP(CO6,$BY$6:$CH$23,8) -> #REF! | J6: =H6-I6 -> #REF! | K6: =E6*3+F6 -> #REF! | P6: =#REF! -> #REF! | Q6: =#REF! -> #REF! | R6: =#REF! -> #REF! | S6: =#REF! -> #REF! | T6: =#REF! -> #REF! | U6: =#REF! -> #REF! | V6: =#REF! -> #REF! | W6: =#REF! -> #REF! | ... Y6: =#REF! -> #REF! | Z6: =(10^10)*Y6+(10^8)*S6+(10^6)*(50+X6)+(10^4)*V6+(10^2)*R6+(13-P6) -> #REF! | AK6: 0 | AL6: =#REF! -> #REF! | AM6: =IF(ISERROR(VLOOKUP(AL6,$AL$27:$AN$34,2,FALSE)),0,(VLOOKUP(AL6,$AL$27:$AN$34,2,FALSE))) -> 0 | AN6: =IF(ISERROR(VLOOKUP(AL6,$AL$27:$AN$34,3,FALSE)),0,(VLOOKUP(AL6,$AL$27:$AN$34,3,FALSE))) -> 0 | AO6: =IF(ISERROR(VLOOKUP(AL6,$AL$27:$AO$34,4,FALSE)),0,(VLOOKUP(AL6,$AL$27:$AO$34,4,FALSE))) -> 0 | AP6: =AN6-AO6-AQ6 -> 0 | AQ6: =IF(ISERROR(VLOOKUP(AL6,$AL$27:$AQ$34,6,FALSE)),0,(VLOOKUP(AL6,$AL$27:$AQ$34,6,FALSE))) -> 0 | AR6: =IF(ISERROR(VLOOKUP(AL6,$AL$27:$AR$34,7,FALSE)),0,(VLOOKUP(AL6,$AL$27:$AR$34,7,FALSE))) -> 0 | AS6: =IF(ISERROR(VLOOKUP(AL6,$AL$27:$AS$34,8,FALSE)),0,(VLOOKUP(AL6,$AL$27:$AS$34,8,FALSE))) -> 0 | AT6: =AR6-AS6 -> 0 | AU6: =AO6*3+AP6 -> 0 | AW6: 1 | AX6: =IF(ISERROR(VLOOKUP(AW6,$AW$26:$AY$29,2,FALSE)),0,(VLOOKUP(AW6,$AW$26:$AY$29,2,FALSE))) -> 0 | AY6: =IF(ISERROR(VLOOKUP(AW6,$AW$26:$BF$29,3,FALSE)),0,(VLOOKUP(AW6,$AW$26:$BF$29,3,FALSE))) -> 0 | AZ6: =IF(ISERROR(VLOOKUP(AW6,$AW$26:$BF$29,4,FALSE)),0,(VLOOKUP(AW6,$AW$26:$BF$29,4,FALSE))) -> 0 | BA6: =AY6-AZ6-BB6 -> 0 | BB6: =IF(ISERROR(VLOOKUP(AW6,$AW$26:$BF$29,6,FALSE)),0,(VLOOKUP(AW6,$AW$26:$BF$29,6,FALSE))) -> 0 | BC6: =IF(ISERROR(VLOOKUP(AW6,$AW$26:$BF$29,7,FALSE)),0,(VLOOKUP(AW6,$AW$26:$BF$29,7,FALSE))) -> 0 | BD6: =IF(ISERROR(VLOOKUP(AW6,$AW$26:$BF$29,8,FALSE)),0,(VLOOKUP(AW6,$AW$26:$BF$29,8,FALSE))) -> 0 | BE6: =BC6-BD6 -> 0 | BF6: =AZ6*3+BA6 -> 0 | BI6: 1 | BJ6: =IF(ISERROR(VLOOKUP(BI6,$BI$26:$BK$29,2,FALSE)),0,(VLOOKUP(BI6,$BI$26:$BK$29,2,FALSE))) -> 0 | BK6: =IF(ISERROR(VLOOKUP(BI6,$BI$26:$BR$27,3,FALSE)),0,(VLOOKUP(BI6,$BI$26:$BR$27,3,FALSE))) -> 0 | BL6: =IF(ISERROR(VLOOKUP(BI6,$BI$26:$BR$27,4,FALSE)),0,(VLOOKUP(BI6,$BI$26:$BR$27,4,FALSE))) -> 0 | BM6: =BK6-BL6-BN6 -> 0 | BN6: =IF(ISERROR(VLOOKUP(BI6,$BI$26:$BR$27,6,FALSE)),0,(VLOOKUP(BI6,$BI$26:$BR$27,6,FALSE))) -> 0 | BO6: =IF(ISERROR(VLOOKUP(BI6,$BI$26:$BR$27,7,FALSE)),0,(VLOOKUP(BI6,$BI$26:$BR$27,7,FALSE))) -> 0 | BP6: =IF(ISERROR(VLOOKUP(BI6,$BI$26:$BR$27,8,FALSE)),0,(VLOOKUP(BI6,$BI$26:$BR$27,8,FALSE))) -> 0 | BQ6: =BO6-BP6 -> 0 | BR6: =BL6*3+BM6 -> 0 | BY6: =P6 -> #REF! | BZ6: =Q6 -> #REF! | CA6: =R6+AN6+AY6+BK6 -> #REF! | CB6: =S6+AO6+AZ6+BL6 -> #REF! | CC6: =T6+AP6+BA6+BM6 -> #REF! | CD6: =U6+AQ6+BB6+BN6 -> #REF! | CE6: =V6+AR6+BC6+BO6 -> #REF! | CF6: =W6+AS6+BD6+BP6 -> #REF! | CG6: =X6+AT6+BE6+BQ6 -> #REF! | CH6: =Y6+AU6+BF6+BR6 -> #REF! | CJ6: =(10^10)*CH6+(10^8)*CB6+(10^6)*(50+CG6)+(10^4)*CE6+(10^2)*CA6+(13-BY6) -> #REF! | CK6: 1 | CL6: =LARGE($CJ$6:$CJ$23,CK6) -> #REF! | CN6: 1 | CO6: =MATCH(CL6,$CJ$6:$CJ$23,0) -> #REF!
B7: 2º | C7: =VLOOKUP(CO7,$BY$6:$CH$23,2) -> #REF! | D7: =VLOOKUP(CO7,$BY$6:$CH$23,3) -> #REF! | E7: =VLOOKUP(CO7,$BY$6:$CH$23,4) -> #REF! | F7: =D7-E7-G7 -> #REF! | G7: =VLOOKUP(CO7,$BY$6:$CH$23,6) -> #REF! | H7: =VLOOKUP(CO7,$BY$6:$CH$23,7) -> #REF! | I7: =VLOOKUP(CO7,$BY$6:$CH$23,8) -> #REF! | J7: =H7-I7 -> #REF! | K7: =E7*3+F7 -> #REF! | P7: =#REF! -> #REF! | Q7: =#REF! -> #REF! | R7: =#REF! -> #REF! | S7: =#REF! -> #REF! | T7: =#REF! -> #REF! | U7: =#REF! -> #REF! | V7: =#REF! -> #REF! | W7: =#REF! -> #REF! | ... Y7: =#REF! -> #REF! | Z7: =(10^10)*Y7+(10^8)*S7+(10^6)*(50+X7)+(10^4)*V7+(10^2)*R7+(13-P7) -> #REF! | AK7: 0 | AL7: =#REF! -> #REF! | AM7: =IF(ISERROR(VLOOKUP(AL7,$AL$27:$AN$34,2,FALSE)),0,(VLOOKUP(AL7,$AL$27:$AN$34,2,FALSE))) -> 0 | AN7: =IF(ISERROR(VLOOKUP(AL7,$AL$27:$AN$34,3,FALSE)),0,(VLOOKUP(AL7,$AL$27:$AN$34,3,FALSE))) -> 0 | AO7: =IF(ISERROR(VLOOKUP(AL7,$AL$27:$AO$34,4,FALSE)),0,(VLOOKUP(AL7,$AL$27:$AO$34,4,FALSE))) -> 0 | AP7: =AN7-AO7-AQ7 -> 0 | AQ7: =IF(ISERROR(VLOOKUP(AL7,$AL$27:$AQ$34,6,FALSE)),0,(VLOOKUP(AL7,$AL$27:$AQ$34,6,FALSE))) -> 0 | AR7: =IF(ISERROR(VLOOKUP(AL7,$AL$27:$AR$34,7,FALSE)),0,(VLOOKUP(AL7,$AL$27:$AR$34,7,FALSE))) -> 0 | AS7: =IF(ISERROR(VLOOKUP(AL7,$AL$27:$AS$34,8,FALSE)),0,(VLOOKUP(AL7,$AL$27:$AS$34,8,FALSE))) -> 0 | AT7: =AR7-AS7 -> 0 | AU7: =AO7*3+AP7 -> 0 | AW7: 2 | AX7: =IF(ISERROR(VLOOKUP(AW7,$AW$26:$AY$29,2,FALSE)),0,(VLOOKUP(AW7,$AW$26:$AY$29,2,FALSE))) -> 0 | AY7: =IF(ISERROR(VLOOKUP(AW7,$AW$26:$BF$29,3,FALSE)),0,(VLOOKUP(AW7,$AW$26:$BF$29,3,FALSE))) -> 0 | AZ7: =IF(ISERROR(VLOOKUP(AW7,$AW$26:$BF$29,4,FALSE)),0,(VLOOKUP(AW7,$AW$26:$BF$29,4,FALSE))) -> 0 | BA7: =AY7-AZ7-BB7 -> 0 | BB7: =IF(ISERROR(VLOOKUP(AW7,$AW$26:$BF$29,6,FALSE)),0,(VLOOKUP(AW7,$AW$26:$BF$29,6,FALSE))) -> 0 | BC7: =IF(ISERROR(VLOOKUP(AW7,$AW$26:$BF$29,7,FALSE)),0,(VLOOKUP(AW7,$AW$26:$BF$29,7,FALSE))) -> 0 | BD7: =IF(ISERROR(VLOOKUP(AW7,$AW$26:$BF$29,8,FALSE)),0,(VLOOKUP(AW7,$AW$26:$BF$29,8,FALSE))) -> 0 | BE7: =BC7-BD7 -> 0 | BF7: =AZ7*3+BA7 -> 0 | BI7: 2 | BJ7: =IF(ISERROR(VLOOKUP(BI7,$BI$26:$BK$29,2,FALSE)),0,(VLOOKUP(BI7,$BI$26:$BK$29,2,FALSE))) -> 0 | BK7: =IF(ISERROR(VLOOKUP(BI7,$BI$26:$BR$27,3,FALSE)),0,(VLOOKUP(BI7,$BI$26:$BR$27,3,FALSE))) -> 0 | BL7: =IF(ISERROR(VLOOKUP(BI7,$BI$26:$BR$27,4,FALSE)),0,(VLOOKUP(BI7,$BI$26:$BR$27,4,FALSE))) -> 0 | BM7: =BK7-BL7-BN7 -> 0 | BN7: =IF(ISERROR(VLOOKUP(BI7,$BI$26:$BR$27,6,FALSE)),0,(VLOOKUP(BI7,$BI$26:$BR$27,6,FALSE))) -> 0 | BO7: =IF(ISERROR(VLOOKUP(BI7,$BI$26:$BR$27,7,FALSE)),0,(VLOOKUP(BI7,$BI$26:$BR$27,7,FALSE))) -> 0 | BP7: =IF(ISERROR(VLOOKUP(BI7,$BI$26:$BR$27,8,FALSE)),0,(VLOOKUP(BI7,$BI$26:$BR$27,8,FALSE))) -> 0 | BQ7: =BO7-BP7 -> 0 | BR7: =BL7*3+BM7 -> 0 | BY7: =P7 -> #REF! | BZ7: =Q7 -> #REF! | CA7: =R7+AN7+AY7+BK7 -> #REF! | CB7: =S7+AO7+AZ7+BL7 -> #REF! | CC7: =T7+AP7+BA7+BM7 -> #REF! | CD7: =U7+AQ7+BB7+BN7 -> #REF! | CE7: =V7+AR7+BC7+BO7 -> #REF! | CF7: =W7+AS7+BD7+BP7 -> #REF! | CG7: =X7+AT7+BE7+BQ7 -> #REF! | CH7: =Y7+AU7+BF7+BR7 -> #REF! | CJ7: =(10^10)*CH7+(10^8)*CB7+(10^6)*(50+CG7)+(10^4)*CE7+(10^2)*CA7+(13-BY7) -> #REF! | CK7: 2 | CL7: =LARGE($CJ$6:$CJ$23,CK7) -> #REF! | CN7: 2 | CO7: =MATCH(CL7,$CJ$6:$CJ$23,0) -> #REF!
B8: 3º | C8: =VLOOKUP(CO8,$BY$6:$CH$23,2) -> #REF! | D8: =VLOOKUP(CO8,$BY$6:$CH$23,3) -> #REF! | E8: =VLOOKUP(CO8,$BY$6:$CH$23,4) -> #REF! | F8: =D8-E8-G8 -> #REF! | G8: =VLOOKUP(CO8,$BY$6:$CH$23,6) -> #REF! | H8: =VLOOKUP(CO8,$BY$6:$CH$23,7) -> #REF! | I8: =VLOOKUP(CO8,$BY$6:$CH$23,8) -> #REF! | J8: =H8-I8 -> #REF! | K8: =E8*3+F8 -> #REF! | P8: =#REF! -> #REF! | Q8: =#REF! -> #REF! | R8: =#REF! -> #REF! | S8: =#REF! -> #REF! | T8: =#REF! -> #REF! | U8: =#REF! -> #REF! | V8: =#REF! -> #REF! | W8: =#REF! -> #REF! | ... Y8: =#REF! -> #REF! | Z8: =(10^10)*Y8+(10^8)*S8+(10^6)*(50+X8)+(10^4)*V8+(10^2)*R8+(13-P8) -> #REF! | AK8: 0 | AL8: =#REF! -> #REF! | AM8: =IF(ISERROR(VLOOKUP(AL8,$AL$27:$AN$34,2,FALSE)),0,(VLOOKUP(AL8,$AL$27:$AN$34,2,FALSE))) -> 0 | AN8: =IF(ISERROR(VLOOKUP(AL8,$AL$27:$AN$34,3,FALSE)),0,(VLOOKUP(AL8,$AL$27:$AN$34,3,FALSE))) -> 0 | AO8: =IF(ISERROR(VLOOKUP(AL8,$AL$27:$AO$34,4,FALSE)),0,(VLOOKUP(AL8,$AL$27:$AO$34,4,FALSE))) -> 0 | AP8: =AN8-AO8-AQ8 -> 0 | AQ8: =IF(ISERROR(VLOOKUP(AL8,$AL$27:$AQ$34,6,FALSE)),0,(VLOOKUP(AL8,$AL$27:$AQ$34,6,FALSE))) -> 0 | AR8: =IF(ISERROR(VLOOKUP(AL8,$AL$27:$AR$34,7,FALSE)),0,(VLOOKUP(AL8,$AL$27:$AR$34,7,FALSE))) -> 0 | AS8: =IF(ISERROR(VLOOKUP(AL8,$AL$27:$AS$34,8,FALSE)),0,(VLOOKUP(AL8,$AL$27:$AS$34,8,FALSE))) -> 0 | AT8: =AR8-AS8 -> 0 | AU8: =AO8*3+AP8 -> 0 | AW8: 3 | AX8: =IF(ISERROR(VLOOKUP(AW8,$AW$26:$AY$29,2,FALSE)),0,(VLOOKUP(AW8,$AW$26:$AY$29,2,FALSE))) -> 0 | AY8: =IF(ISERROR(VLOOKUP(AW8,$AW$26:$BF$29,3,FALSE)),0,(VLOOKUP(AW8,$AW$26:$BF$29,3,FALSE))) -> 0 | AZ8: =IF(ISERROR(VLOOKUP(AW8,$AW$26:$BF$29,4,FALSE)),0,(VLOOKUP(AW8,$AW$26:$BF$29,4,FALSE))) -> 0 | BA8: =AY8-AZ8-BB8 -> 0 | BB8: =IF(ISERROR(VLOOKUP(AW8,$AW$26:$BF$29,6,FALSE)),0,(VLOOKUP(AW8,$AW$26:$BF$29,6,FALSE))) -> 0 | BC8: =IF(ISERROR(VLOOKUP(AW8,$AW$26:$BF$29,7,FALSE)),0,(VLOOKUP(AW8,$AW$26:$BF$29,7,FALSE))) -> 0 | BD8: =IF(ISERROR(VLOOKUP(AW8,$AW$26:$BF$29,8,FALSE)),0,(VLOOKUP(AW8,$AW$26:$BF$29,8,FALSE))) -> 0 | BE8: =BC8-BD8 -> 0 | BF8: =AZ8*3+BA8 -> 0 | BI8: 3 | BJ8: =IF(ISERROR(VLOOKUP(BI8,$BI$26:$BK$29,2,FALSE)),0,(VLOOKUP(BI8,$BI$26:$BK$29,2,FALSE))) -> 0 | BK8: =IF(ISERROR(VLOOKUP(BI8,$BI$26:$BR$27,3,FALSE)),0,(VLOOKUP(BI8,$BI$26:$BR$27,3,FALSE))) -> 0 | BL8: =IF(ISERROR(VLOOKUP(BI8,$BI$26:$BR$27,4,FALSE)),0,(VLOOKUP(BI8,$BI$26:$BR$27,4,FALSE))) -> 0 | BM8: =BK8-BL8-BN8 -> 0 | BN8: =IF(ISERROR(VLOOKUP(BI8,$BI$26:$BR$27,6,FALSE)),0,(VLOOKUP(BI8,$BI$26:$BR$27,6,FALSE))) -> 0 | BO8: =IF(ISERROR(VLOOKUP(BI8,$BI$26:$BR$27,7,FALSE)),0,(VLOOKUP(BI8,$BI$26:$BR$27,7,FALSE))) -> 0 | BP8: =IF(ISERROR(VLOOKUP(BI8,$BI$26:$BR$27,8,FALSE)),0,(VLOOKUP(BI8,$BI$26:$BR$27,8,FALSE))) -> 0 | BQ8: =BO8-BP8 -> 0 | BR8: =BL8*3+BM8 -> 0 | BY8: =P8 -> #REF! | BZ8: =Q8 -> #REF! | CA8: =R8+AN8+AY8+BK8 -> #REF! | CB8: =S8+AO8+AZ8+BL8 -> #REF! | CC8: =T8+AP8+BA8+BM8 -> #REF! | CD8: =U8+AQ8+BB8+BN8 -> #REF! | CE8: =V8+AR8+BC8+BO8 -> #REF! | CF8: =W8+AS8+BD8+BP8 -> #REF! | CG8: =X8+AT8+BE8+BQ8 -> #REF! | CH8: =Y8+AU8+BF8+BR8 -> #REF! | CJ8: =(10^10)*CH8+(10^8)*CB8+(10^6)*(50+CG8)+(10^4)*CE8+(10^2)*CA8+(13-BY8) -> #REF! | CK8: 3 | CL8: =LARGE($CJ$6:$CJ$23,CK8) -> #REF! | CN8: 3 | CO8: =MATCH(CL8,$CJ$6:$CJ$23,0) -> #REF!
B9: 4º | C9: =VLOOKUP(CO9,$BY$6:$CH$23,2) -> #REF! | D9: =VLOOKUP(CO9,$BY$6:$CH$23,3) -> #REF! | E9: =VLOOKUP(CO9,$BY$6:$CH$23,4) -> #REF! | F9: =D9-E9-G9 -> #REF! | G9: =VLOOKUP(CO9,$BY$6:$CH$23,6) -> #REF! | H9: =VLOOKUP(CO9,$BY$6:$CH$23,7) -> #REF! | I9: =VLOOKUP(CO9,$BY$6:$CH$23,8) -> #REF! | J9: =H9-I9 -> #REF! | K9: =E9*3+F9 -> #REF! | P9: =#REF! -> #REF! | Q9: =#REF! -> #REF! | R9: =#REF! -> #REF! | S9: =#REF! -> #REF! | T9: =#REF! -> #REF! | U9: =#REF! -> #REF! | V9: =#REF! -> #REF! | W9: =#REF! -> #REF! | ... Y9: =#REF! -> #REF! | Z9: =(10^10)*Y9+(10^8)*S9+(10^6)*(50+X9)+(10^4)*V9+(10^2)*R9+(13-P9) -> #REF! | AK9: 0 | AL9: =#REF! -> #REF! | AM9: =IF(ISERROR(VLOOKUP(AL9,$AL$27:$AN$34,2,FALSE)),0,(VLOOKUP(AL9,$AL$27:$AN$34,2,FALSE))) -> 0 | AN9: =IF(ISERROR(VLOOKUP(AL9,$AL$27:$AN$34,3,FALSE)),0,(VLOOKUP(AL9,$AL$27:$AN$34,3,FALSE))) -> 0 | AO9: =IF(ISERROR(VLOOKUP(AL9,$AL$27:$AO$34,4,FALSE)),0,(VLOOKUP(AL9,$AL$27:$AO$34,4,FALSE))) -> 0 | AP9: =AN9-AO9-AQ9 -> 0 | AQ9: =IF(ISERROR(VLOOKUP(AL9,$AL$27:$AQ$34,6,FALSE)),0,(VLOOKUP(AL9,$AL$27:$AQ$34,6,FALSE))) -> 0 | AR9: =IF(ISERROR(VLOOKUP(AL9,$AL$27:$AR$34,7,FALSE)),0,(VLOOKUP(AL9,$AL$27:$AR$34,7,FALSE))) -> 0 | AS9: =IF(ISERROR(VLOOKUP(AL9,$AL$27:$AS$34,8,FALSE)),0,(VLOOKUP(AL9,$AL$27:$AS$34,8,FALSE))) -> 0 | AT9: =AR9-AS9 -> 0 | AU9: =AO9*3+AP9 -> 0 | AW9: 4 | AX9: =IF(ISERROR(VLOOKUP(AW9,$AW$26:$AY$29,2,FALSE)),0,(VLOOKUP(AW9,$AW$26:$AY$29,2,FALSE))) -> 0 | AY9: =IF(ISERROR(VLOOKUP(AW9,$AW$26:$BF$29,3,FALSE)),0,(VLOOKUP(AW9,$AW$26:$BF$29,3,FALSE))) -> 0 | AZ9: =IF(ISERROR(VLOOKUP(AW9,$AW$26:$BF$29,4,FALSE)),0,(VLOOKUP(AW9,$AW$26:$BF$29,4,FALSE))) -> 0 | BA9: =AY9-AZ9-BB9 -> 0 | BB9: =IF(ISERROR(VLOOKUP(AW9,$AW$26:$BF$29,6,FALSE)),0,(VLOOKUP(AW9,$AW$26:$BF$29,6,FALSE))) -> 0 | BC9: =IF(ISERROR(VLOOKUP(AW9,$AW$26:$BF$29,7,FALSE)),0,(VLOOKUP(AW9,$AW$26:$BF$29,7,FALSE))) -> 0 | BD9: =IF(ISERROR(VLOOKUP(AW9,$AW$26:$BF$29,8,FALSE)),0,(VLOOKUP(AW9,$AW$26:$BF$29,8,FALSE))) -> 0 | BE9: =BC9-BD9 -> 0 | BF9: =AZ9*3+BA9 -> 0 | BI9: 4 | BJ9: =IF(ISERROR(VLOOKUP(BI9,$BI$26:$BK$29,2,FALSE)),0,(VLOOKUP(BI9,$BI$26:$BK$29,2,FALSE))) -> 0 | BK9: =IF(ISERROR(VLOOKUP(BI9,$BI$26:$BR$27,3,FALSE)),0,(VLOOKUP(BI9,$BI$26:$BR$27,3,FALSE))) -> 0 | BL9: =IF(ISERROR(VLOOKUP(BI9,$BI$26:$BR$27,4,FALSE)),0,(VLOOKUP(BI9,$BI$26:$BR$27,4,FALSE))) -> 0 | BM9: =BK9-BL9-BN9 -> 0 | BN9: =IF(ISERROR(VLOOKUP(BI9,$BI$26:$BR$27,6,FALSE)),0,(VLOOKUP(BI9,$BI$26:$BR$27,6,FALSE))) -> 0 | BO9: =IF(ISERROR(VLOOKUP(BI9,$BI$26:$BR$27,7,FALSE)),0,(VLOOKUP(BI9,$BI$26:$BR$27,7,FALSE))) -> 0 | BP9: =IF(ISERROR(VLOOKUP(BI9,$BI$26:$BR$27,8,FALSE)),0,(VLOOKUP(BI9,$BI$26:$BR$27,8,FALSE))) -> 0 | BQ9: =BO9-BP9 -> 0 | BR9: =BL9*3+BM9 -> 0 | BY9: =P9 -> #REF! | BZ9: =Q9 -> #REF! | CA9: =R9+AN9+AY9+BK9 -> #REF! | CB9: =S9+AO9+AZ9+BL9 -> #REF! | CC9: =T9+AP9+BA9+BM9 -> #REF! | CD9: =U9+AQ9+BB9+BN9 -> #REF! | CE9: =V9+AR9+BC9+BO9 -> #REF! | CF9: =W9+AS9+BD9+BP9 -> #REF! | CG9: =X9+AT9+BE9+BQ9 -> #REF! | CH9: =Y9+AU9+BF9+BR9 -> #REF! | CJ9: =(10^10)*CH9+(10^8)*CB9+(10^6)*(50+CG9)+(10^4)*CE9+(10^2)*CA9+(13-BY9) -> #REF! | CK9: 4 | CL9: =LARGE($CJ$6:$CJ$23,CK9) -> #REF! | CN9: 4 | CO9: =MATCH(CL9,$CJ$6:$CJ$23,0) -> #REF!
B10: 5º | C10: =VLOOKUP(CO10,$BY$6:$CH$23,2) -> #REF! | D10: =VLOOKUP(CO10,$BY$6:$CH$23,3) -> #REF! | E10: =VLOOKUP(CO10,$BY$6:$CH$23,4) -> #REF! | F10: =D10-E10-G10 -> #REF! | G10: =VLOOKUP(CO10,$BY$6:$CH$23,6) -> #REF! | H10: =VLOOKUP(CO10,$BY$6:$CH$23,7) -> #REF! | I10: =VLOOKUP(CO10,$BY$6:$CH$23,8) -> #REF! | J10: =H10-I10 -> #REF! | K10: =E10*3+F10 -> #REF! | P10: =#REF! -> #REF! | Q10: =#REF! -> #REF! | R10: =#REF! -> #REF! | S10: =#REF! -> #REF! | T10: =#REF! -> #REF! | U10: =#REF! -> #REF! | V10: =#REF! -> #REF! | W10: =#REF! -> #REF! | ... Y10: =#REF! -> #REF! | Z10: =(10^10)*Y10+(10^8)*S10+(10^6)*(50+X10)+(10^4)*V10+(10^2)*R10+(13-P10) -> #REF! | AK10: 0 | AL10: =#REF! -> #REF! | AM10: =IF(ISERROR(VLOOKUP(AL10,$AL$27:$AN$34,2,FALSE)),0,(VLOOKUP(AL10,$AL$27:$AN$34,2,FALSE))) -> 0 | AN10: =IF(ISERROR(VLOOKUP(AL10,$AL$27:$AN$34,3,FALSE)),0,(VLOOKUP(AL10,$AL$27:$AN$34,3,FALSE))) -> 0 | AO10: =IF(ISERROR(VLOOKUP(AL10,$AL$27:$AO$34,4,FALSE)),0,(VLOOKUP(AL10,$AL$27:$AO$34,4,FALSE))) -> 0 | AP10: =AN10-AO10-AQ10 -> 0 | AQ10: =IF(ISERROR(VLOOKUP(AL10,$AL$27:$AQ$34,6,FALSE)),0,(VLOOKUP(AL10,$AL$27:$AQ$34,6,FALSE))) -> 0 | AR10: =IF(ISERROR(VLOOKUP(AL10,$AL$27:$AR$34,7,FALSE)),0,(VLOOKUP(AL10,$AL$27:$AR$34,7,FALSE))) -> 0 | AS10: =IF(ISERROR(VLOOKUP(AL10,$AL$27:$AS$34,8,FALSE)),0,(VLOOKUP(AL10,$AL$27:$AS$34,8,FALSE))) -> 0 | AT10: =AR10-AS10 -> 0 | AU10: =AO10*3+AP10 -> 0 | AW10: 5 | AX10: =IF(ISERROR(VLOOKUP(AW10,$AW$26:$AY$29,2,FALSE)),0,(VLOOKUP(AW10,$AW$26:$AY$29,2,FALSE))) -> 0 | AY10: =IF(ISERROR(VLOOKUP(AW10,$AW$26:$BF$29,3,FALSE)),0,(VLOOKUP(AW10,$AW$26:$BF$29,3,FALSE))) -> 0 | AZ10: =IF(ISERROR(VLOOKUP(AW10,$AW$26:$BF$29,4,FALSE)),0,(VLOOKUP(AW10,$AW$26:$BF$29,4,FALSE))) -> 0 | BA10: =AY10-AZ10-BB10 -> 0 | BB10: =IF(ISERROR(VLOOKUP(AW10,$AW$26:$BF$29,6,FALSE)),0,(VLOOKUP(AW10,$AW$26:$BF$29,6,FALSE))) -> 0 | BC10: =IF(ISERROR(VLOOKUP(AW10,$AW$26:$BF$29,7,FALSE)),0,(VLOOKUP(AW10,$AW$26:$BF$29,7,FALSE))) -> 0 | BD10: =IF(ISERROR(VLOOKUP(AW10,$AW$26:$BF$29,8,FALSE)),0,(VLOOKUP(AW10,$AW$26:$BF$29,8,FALSE))) -> 0 | BE10: =BC10-BD10 -> 0 | BF10: =AZ10*3+BA10 -> 0 | BI10: 5 | BJ10: =IF(ISERROR(VLOOKUP(BI10,$BI$26:$BK$29,2,FALSE)),0,(VLOOKUP(BI10,$BI$26:$BK$29,2,FALSE))) -> 0 | BK10: =IF(ISERROR(VLOOKUP(BI10,$BI$26:$BR$27,3,FALSE)),0,(VLOOKUP(BI10,$BI$26:$BR$27,3,FALSE))) -> 0 | BL10: =IF(ISERROR(VLOOKUP(BI10,$BI$26:$BR$27,4,FALSE)),0,(VLOOKUP(BI10,$BI$26:$BR$27,4,FALSE))) -> 0 | BM10: =BK10-BL10-BN10 -> 0 | BN10: =IF(ISERROR(VLOOKUP(BI10,$BI$26:$BR$27,6,FALSE)),0,(VLOOKUP(BI10,$BI$26:$BR$27,6,FALSE))) -> 0 | BO10: =IF(ISERROR(VLOOKUP(BI10,$BI$26:$BR$27,7,FALSE)),0,(VLOOKUP(BI10,$BI$26:$BR$27,7,FALSE))) -> 0 | BP10: =IF(ISERROR(VLOOKUP(BI10,$BI$26:$BR$27,8,FALSE)),0,(VLOOKUP(BI10,$BI$26:$BR$27,8,FALSE))) -> 0 | BQ10: =BO10-BP10 -> 0 | BR10: =BL10*3+BM10 -> 0 | BY10: =P10 -> #REF! | BZ10: =Q10 -> #REF! | CA10: =R10+AN10+AY10+BK10 -> #REF! | CB10: =S10+AO10+AZ10+BL10 -> #REF! | CC10: =T10+AP10+BA10+BM10 -> #REF! | CD10: =U10+AQ10+BB10+BN10 -> #REF! | CE10: =V10+AR10+BC10+BO10 -> #REF! | CF10: =W10+AS10+BD10+BP10 -> #REF! | CG10: =X10+AT10+BE10+BQ10 -> #REF! | CH10: =Y10+AU10+BF10+BR10 -> #REF! | CJ10: =(10^10)*CH10+(10^8)*CB10+(10^6)*(50+CG10)+(10^4)*CE10+(10^2)*CA10+(13-BY10) -> #REF! | CK10: 5 | CL10: =LARGE($CJ$6:$CJ$23,CK10) -> #REF! | CN10: 5 | CO10: =MATCH(CL10,$CJ$6:$CJ$23,0) -> #REF!
B11: 6º | C11: =VLOOKUP(CO11,$BY$6:$CH$23,2) -> #REF! | D11: =VLOOKUP(CO11,$BY$6:$CH$23,3) -> #REF! | E11: =VLOOKUP(CO11,$BY$6:$CH$23,4) -> #REF! | F11: =D11-E11-G11 -> #REF! | G11: =VLOOKUP(CO11,$BY$6:$CH$23,6) -> #REF! | H11: =VLOOKUP(CO11,$BY$6:$CH$23,7) -> #REF! | I11: =VLOOKUP(CO11,$BY$6:$CH$23,8) -> #REF! | J11: =H11-I11 -> #REF! | K11: =E11*3+F11 -> #REF! | P11: =#REF! -> #REF! | Q11: =#REF! -> #REF! | R11: =#REF! -> #REF! | S11: =#REF! -> #REF! | T11: =#REF! -> #REF! | U11: =#REF! -> #REF! | V11: =#REF! -> #REF! | W11: =#REF! -> #REF! | ... Y11: =#REF! -> #REF! | Z11: =(10^10)*Y11+(10^8)*S11+(10^6)*(50+X11)+(10^4)*V11+(10^2)*R11+(13-P11) -> #REF! | AK11: 0 | AL11: =#REF! -> #REF! | AM11: =IF(ISERROR(VLOOKUP(AL11,$AL$27:$AN$34,2,FALSE)),0,(VLOOKUP(AL11,$AL$27:$AN$34,2,FALSE))) -> 0 | AN11: =IF(ISERROR(VLOOKUP(AL11,$AL$27:$AN$34,3,FALSE)),0,(VLOOKUP(AL11,$AL$27:$AN$34,3,FALSE))) -> 0 | AO11: =IF(ISERROR(VLOOKUP(AL11,$AL$27:$AO$34,4,FALSE)),0,(VLOOKUP(AL11,$AL$27:$AO$34,4,FALSE))) -> 0 | AP11: =AN11-AO11-AQ11 -> 0 | AQ11: =IF(ISERROR(VLOOKUP(AL11,$AL$27:$AQ$34,6,FALSE)),0,(VLOOKUP(AL11,$AL$27:$AQ$34,6,FALSE))) -> 0 | AR11: =IF(ISERROR(VLOOKUP(AL11,$AL$27:$AR$34,7,FALSE)),0,(VLOOKUP(AL11,$AL$27:$AR$34,7,FALSE))) -> 0 | AS11: =IF(ISERROR(VLOOKUP(AL11,$AL$27:$AS$34,8,FALSE)),0,(VLOOKUP(AL11,$AL$27:$AS$34,8,FALSE))) -> 0 | AT11: =AR11-AS11 -> 0 | AU11: =AO11*3+AP11 -> 0 | AW11: 6 | AX11: =IF(ISERROR(VLOOKUP(AW11,$AW$26:$AY$29,2,FALSE)),0,(VLOOKUP(AW11,$AW$26:$AY$29,2,FALSE))) -> 0 | AY11: =IF(ISERROR(VLOOKUP(AW11,$AW$26:$BF$29,3,FALSE)),0,(VLOOKUP(AW11,$AW$26:$BF$29,3,FALSE))) -> 0 | AZ11: =IF(ISERROR(VLOOKUP(AW11,$AW$26:$BF$29,4,FALSE)),0,(VLOOKUP(AW11,$AW$26:$BF$29,4,FALSE))) -> 0 | BA11: =AY11-AZ11-BB11 -> 0 | BB11: =IF(ISERROR(VLOOKUP(AW11,$AW$26:$BF$29,6,FALSE)),0,(VLOOKUP(AW11,$AW$26:$BF$29,6,FALSE))) -> 0 | BC11: =IF(ISERROR(VLOOKUP(AW11,$AW$26:$BF$29,7,FALSE)),0,(VLOOKUP(AW11,$AW$26:$BF$29,7,FALSE))) -> 0 | BD11: =IF(ISERROR(VLOOKUP(AW11,$AW$26:$BF$29,8,FALSE)),0,(VLOOKUP(AW11,$AW$26:$BF$29,8,FALSE))) -> 0 | BE11: =BC11-BD11 -> 0 | BF11: =AZ11*3+BA11 -> 0 | BI11: 6 | BJ11: =IF(ISERROR(VLOOKUP(BI11,$BI$26:$BK$29,2,FALSE)),0,(VLOOKUP(BI11,$BI$26:$BK$29,2,FALSE))) -> 0 | BK11: =IF(ISERROR(VLOOKUP(BI11,$BI$26:$BR$27,3,FALSE)),0,(VLOOKUP(BI11,$BI$26:$BR$27,3,FALSE))) -> 0 | BL11: =IF(ISERROR(VLOOKUP(BI11,$BI$26:$BR$27,4,FALSE)),0,(VLOOKUP(BI11,$BI$26:$BR$27,4,FALSE))) -> 0 | BM11: =BK11-BL11-BN11 -> 0 | BN11: =IF(ISERROR(VLOOKUP(BI11,$BI$26:$BR$27,6,FALSE)),0,(VLOOKUP(BI11,$BI$26:$BR$27,6,FALSE))) -> 0 | BO11: =IF(ISERROR(VLOOKUP(BI11,$BI$26:$BR$27,7,FALSE)),0,(VLOOKUP(BI11,$BI$26:$BR$27,7,FALSE))) -> 0 | BP11: =IF(ISERROR(VLOOKUP(BI11,$BI$26:$BR$27,8,FALSE)),0,(VLOOKUP(BI11,$BI$26:$BR$27,8,FALSE))) -> 0 | BQ11: =BO11-BP11 -> 0 | BR11: =BL11*3+BM11 -> 0 | BY11: =P11 -> #REF! | BZ11: =Q11 -> #REF! | CA11: =R11+AN11+AY11+BK11 -> #REF! | CB11: =S11+AO11+AZ11+BL11 -> #REF! | CC11: =T11+AP11+BA11+BM11 -> #REF! | CD11: =U11+AQ11+BB11+BN11 -> #REF! | CE11: =V11+AR11+BC11+BO11 -> #REF! | CF11: =W11+AS11+BD11+BP11 -> #REF! | CG11: =X11+AT11+BE11+BQ11 -> #REF! | CH11: =Y11+AU11+BF11+BR11 -> #REF! | CJ11: =(10^10)*CH11+(10^8)*CB11+(10^6)*(50+CG11)+(10^4)*CE11+(10^2)*CA11+(13-BY11) -> #REF! | CK11: 6 | CL11: =LARGE($CJ$6:$CJ$23,CK11) -> #REF! | CN11: 6 | CO11: =MATCH(CL11,$CJ$6:$CJ$23,0) -> #REF!
B12: 7º | C12: =VLOOKUP(CO12,$BY$6:$CH$23,2) -> #REF! | D12: =VLOOKUP(CO12,$BY$6:$CH$23,3) -> #REF! | E12: =VLOOKUP(CO12,$BY$6:$CH$23,4) -> #REF! | F12: =D12-E12-G12 -> #REF! | G12: =VLOOKUP(CO12,$BY$6:$CH$23,6) -> #REF! | H12: =VLOOKUP(CO12,$BY$6:$CH$23,7) -> #REF! | I12: =VLOOKUP(CO12,$BY$6:$CH$23,8) -> #REF! | J12: =H12-I12 -> #REF! | K12: =E12*3+F12 -> #REF! | P12: =#REF! -> #REF! | Q12: =#REF! -> #REF! | R12: =#REF! -> #REF! | S12: =#REF! -> #REF! | T12: =#REF! -> #REF! | U12: =#REF! -> #REF! | V12: =#REF! -> #REF! | W12: =#REF! -> #REF! | ... Y12: =#REF! -> #REF! | Z12: =(10^10)*Y12+(10^8)*S12+(10^6)*(50+X12)+(10^4)*V12+(10^2)*R12+(13-P12) -> #REF! | AK12: 0 | AL12: =#REF! -> #REF! | AM12: =IF(ISERROR(VLOOKUP(AL12,$AL$27:$AN$34,2,FALSE)),0,(VLOOKUP(AL12,$AL$27:$AN$34,2,FALSE))) -> 0 | AN12: =IF(ISERROR(VLOOKUP(AL12,$AL$27:$AN$34,3,FALSE)),0,(VLOOKUP(AL12,$AL$27:$AN$34,3,FALSE))) -> 0 | AO12: =IF(ISERROR(VLOOKUP(AL12,$AL$27:$AO$34,4,FALSE)),0,(VLOOKUP(AL12,$AL$27:$AO$34,4,FALSE))) -> 0 | AP12: =AN12-AO12-AQ12 -> 0 | AQ12: =IF(ISERROR(VLOOKUP(AL12,$AL$27:$AQ$34,6,FALSE)),0,(VLOOKUP(AL12,$AL$27:$AQ$34,6,FALSE))) -> 0 | AR12: =IF(ISERROR(VLOOKUP(AL12,$AL$27:$AR$34,7,FALSE)),0,(VLOOKUP(AL12,$AL$27:$AR$34,7,FALSE))) -> 0 | AS12: =IF(ISERROR(VLOOKUP(AL12,$AL$27:$AS$34,8,FALSE)),0,(VLOOKUP(AL12,$AL$27:$AS$34,8,FALSE))) -> 0 | AT12: =AR12-AS12 -> 0 | AU12: =AO12*3+AP12 -> 0 | AW12: 7 | AX12: =IF(ISERROR(VLOOKUP(AW12,$AW$26:$AY$29,2,FALSE)),0,(VLOOKUP(AW12,$AW$26:$AY$29,2,FALSE))) -> 0 | AY12: =IF(ISERROR(VLOOKUP(AW12,$AW$26:$BF$29,3,FALSE)),0,(VLOOKUP(AW12,$AW$26:$BF$29,3,FALSE))) -> 0 | AZ12: =IF(ISERROR(VLOOKUP(AW12,$AW$26:$BF$29,4,FALSE)),0,(VLOOKUP(AW12,$AW$26:$BF$29,4,FALSE))) -> 0 | BA12: =AY12-AZ12-BB12 -> 0 | BB12: =IF(ISERROR(VLOOKUP(AW12,$AW$26:$BF$29,6,FALSE)),0,(VLOOKUP(AW12,$AW$26:$BF$29,6,FALSE))) -> 0 | BC12: =IF(ISERROR(VLOOKUP(AW12,$AW$26:$BF$29,7,FALSE)),0,(VLOOKUP(AW12,$AW$26:$BF$29,7,FALSE))) -> 0 | BD12: =IF(ISERROR(VLOOKUP(AW12,$AW$26:$BF$29,8,FALSE)),0,(VLOOKUP(AW12,$AW$26:$BF$29,8,FALSE))) -> 0 | BE12: =BC12-BD12 -> 0 | BF12: =AZ12*3+BA12 -> 0 | BI12: 7 | BJ12: =IF(ISERROR(VLOOKUP(BI12,$BI$26:$BK$29,2,FALSE)),0,(VLOOKUP(BI12,$BI$26:$BK$29,2,FALSE))) -> 0 | BK12: =IF(ISERROR(VLOOKUP(BI12,$BI$26:$BR$27,3,FALSE)),0,(VLOOKUP(BI12,$BI$26:$BR$27,3,FALSE))) -> 0 | BL12: =IF(ISERROR(VLOOKUP(BI12,$BI$26:$BR$27,4,FALSE)),0,(VLOOKUP(BI12,$BI$26:$BR$27,4,FALSE))) -> 0 | BM12: =BK12-BL12-BN12 -> 0 | BN12: =IF(ISERROR(VLOOKUP(BI12,$BI$26:$BR$27,6,FALSE)),0,(VLOOKUP(BI12,$BI$26:$BR$27,6,FALSE))) -> 0 | BO12: =IF(ISERROR(VLOOKUP(BI12,$BI$26:$BR$27,7,FALSE)),0,(VLOOKUP(BI12,$BI$26:$BR$27,7,FALSE))) -> 0 | BP12: =IF(ISERROR(VLOOKUP(BI12,$BI$26:$BR$27,8,FALSE)),0,(VLOOKUP(BI12,$BI$26:$BR$27,8,FALSE))) -> 0 | BQ12: =BO12-BP12 -> 0 | BR12: =BL12*3+BM12 -> 0 | BY12: =P12 -> #REF! | BZ12: =Q12 -> #REF! | CA12: =R12+AN12+AY12+BK12 -> #REF! | CB12: =S12+AO12+AZ12+BL12 -> #REF! | CC12: =T12+AP12+BA12+BM12 -> #REF! | CD12: =U12+AQ12+BB12+BN12 -> #REF! | CE12: =V12+AR12+BC12+BO12 -> #REF! | CF12: =W12+AS12+BD12+BP12 -> #REF! | CG12: =X12+AT12+BE12+BQ12 -> #REF! | CH12: =Y12+AU12+BF12+BR12 -> #REF! | CJ12: =(10^10)*CH12+(10^8)*CB12+(10^6)*(50+CG12)+(10^4)*CE12+(10^2)*CA12+(13-BY12) -> #REF! | CK12: 7 | CL12: =LARGE($CJ$6:$CJ$23,CK12) -> #REF! | CN12: 7 | CO12: =MATCH(CL12,$CJ$6:$CJ$23,0) -> #REF!
B13: 8º | C13: =VLOOKUP(CO13,$BY$6:$CH$23,2) -> #REF! | D13: =VLOOKUP(CO13,$BY$6:$CH$23,3) -> #REF! | E13: =VLOOKUP(CO13,$BY$6:$CH$23,4) -> #REF! | F13: =D13-E13-G13 -> #REF! | G13: =VLOOKUP(CO13,$BY$6:$CH$23,6) -> #REF! | H13: =VLOOKUP(CO13,$BY$6:$CH$23,7) -> #REF! | I13: =VLOOKUP(CO13,$BY$6:$CH$23,8) -> #REF! | J13: =H13-I13 -> #REF! | K13: =E13*3+F13 -> #REF! | P13: =#REF! -> #REF! | Q13: =#REF! -> #REF! | R13: =#REF! -> #REF! | S13: =#REF! -> #REF! | T13: =#REF! -> #REF! | U13: =#REF! -> #REF! | V13: =#REF! -> #REF! | W13: =#REF! -> #REF! | ... Y13: =#REF! -> #REF! | Z13: =(10^10)*Y13+(10^8)*S13+(10^6)*(50+X13)+(10^4)*V13+(10^2)*R13+(13-P13) -> #REF! | AK13: 0 | AL13: =#REF! -> #REF! | AM13: =IF(ISERROR(VLOOKUP(AL13,$AL$27:$AN$34,2,FALSE)),0,(VLOOKUP(AL13,$AL$27:$AN$34,2,FALSE))) -> 0 | AN13: =IF(ISERROR(VLOOKUP(AL13,$AL$27:$AN$34,3,FALSE)),0,(VLOOKUP(AL13,$AL$27:$AN$34,3,FALSE))) -> 0 | AO13: =IF(ISERROR(VLOOKUP(AL13,$AL$27:$AO$34,4,FALSE)),0,(VLOOKUP(AL13,$AL$27:$AO$34,4,FALSE))) -> 0 | AP13: =AN13-AO13-AQ13 -> 0 | AQ13: =IF(ISERROR(VLOOKUP(AL13,$AL$27:$AQ$34,6,FALSE)),0,(VLOOKUP(AL13,$AL$27:$AQ$34,6,FALSE))) -> 0 | AR13: =IF(ISERROR(VLOOKUP(AL13,$AL$27:$AR$34,7,FALSE)),0,(VLOOKUP(AL13,$AL$27:$AR$34,7,FALSE))) -> 0 | AS13: =IF(ISERROR(VLOOKUP(AL13,$AL$27:$AS$34,8,FALSE)),0,(VLOOKUP(AL13,$AL$27:$AS$34,8,FALSE))) -> 0 | AT13: =AR13-AS13 -> 0 | AU13: =AO13*3+AP13 -> 0 | AW13: 8 | AX13: =IF(ISERROR(VLOOKUP(AW13,$AW$26:$AY$29,2,FALSE)),0,(VLOOKUP(AW13,$AW$26:$AY$29,2,FALSE))) -> 0 | AY13: =IF(ISERROR(VLOOKUP(AW13,$AW$26:$BF$29,3,FALSE)),0,(VLOOKUP(AW13,$AW$26:$BF$29,3,FALSE))) -> 0 | AZ13: =IF(ISERROR(VLOOKUP(AW13,$AW$26:$BF$29,4,FALSE)),0,(VLOOKUP(AW13,$AW$26:$BF$29,4,FALSE))) -> 0 | BA13: =AY13-AZ13-BB13 -> 0 | BB13: =IF(ISERROR(VLOOKUP(AW13,$AW$26:$BF$29,6,FALSE)),0,(VLOOKUP(AW13,$AW$26:$BF$29,6,FALSE))) -> 0 | BC13: =IF(ISERROR(VLOOKUP(AW13,$AW$26:$BF$29,7,FALSE)),0,(VLOOKUP(AW13,$AW$26:$BF$29,7,FALSE))) -> 0 | BD13: =IF(ISERROR(VLOOKUP(AW13,$AW$26:$BF$29,8,FALSE)),0,(VLOOKUP(AW13,$AW$26:$BF$29,8,FALSE))) -> 0 | BE13: =BC13-BD13 -> 0 | BF13: =AZ13*3+BA13 -> 0 | BI13: 8 | BJ13: =IF(ISERROR(VLOOKUP(BI13,$BI$26:$BK$29,2,FALSE)),0,(VLOOKUP(BI13,$BI$26:$BK$29,2,FALSE))) -> 0 | BK13: =IF(ISERROR(VLOOKUP(BI13,$BI$26:$BR$27,3,FALSE)),0,(VLOOKUP(BI13,$BI$26:$BR$27,3,FALSE))) -> 0 | BL13: =IF(ISERROR(VLOOKUP(BI13,$BI$26:$BR$27,4,FALSE)),0,(VLOOKUP(BI13,$BI$26:$BR$27,4,FALSE))) -> 0 | BM13: =BK13-BL13-BN13 -> 0 | BN13: =IF(ISERROR(VLOOKUP(BI13,$BI$26:$BR$27,6,FALSE)),0,(VLOOKUP(BI13,$BI$26:$BR$27,6,FALSE))) -> 0 | BO13: =IF(ISERROR(VLOOKUP(BI13,$BI$26:$BR$27,7,FALSE)),0,(VLOOKUP(BI13,$BI$26:$BR$27,7,FALSE))) -> 0 | BP13: =IF(ISERROR(VLOOKUP(BI13,$BI$26:$BR$27,8,FALSE)),0,(VLOOKUP(BI13,$BI$26:$BR$27,8,FALSE))) -> 0 | BQ13: =BO13-BP13 -> 0 | BR13: =BL13*3+BM13 -> 0 | BY13: =P13 -> #REF! | BZ13: =Q13 -> #REF! | CA13: =R13+AN13+AY13+BK13 -> #REF! | CB13: =S13+AO13+AZ13+BL13 -> #REF! | CC13: =T13+AP13+BA13+BM13 -> #REF! | CD13: =U13+AQ13+BB13+BN13 -> #REF! | CE13: =V13+AR13+BC13+BO13 -> #REF! | CF13: =W13+AS13+BD13+BP13 -> #REF! | CG13: =X13+AT13+BE13+BQ13 -> #REF! | CH13: =Y13+AU13+BF13+BR13 -> #REF! | CJ13: =(10^10)*CH13+(10^8)*CB13+(10^6)*(50+CG13)+(10^4)*CE13+(10^2)*CA13+(13-BY13) -> #REF! | CK13: 8 | CL13: =LARGE($CJ$6:$CJ$23,CK13) -> #REF! | CN13: 8 | CO13: =MATCH(CL13,$CJ$6:$CJ$23,0) -> #REF!
B14: 9º | C14: =VLOOKUP(CO14,$BY$6:$CH$23,2) -> #REF! | D14: =VLOOKUP(CO14,$BY$6:$CH$23,3) -> #REF! | E14: =VLOOKUP(CO14,$BY$6:$CH$23,4) -> #REF! | F14: =D14-E14-G14 -> #REF! | G14: =VLOOKUP(CO14,$BY$6:$CH$23,6) -> #REF! | H14: =VLOOKUP(CO14,$BY$6:$CH$23,7) -> #REF! | I14: =VLOOKUP(CO14,$BY$6:$CH$23,8) -> #REF! | J14: =H14-I14 -> #REF! | K14: =E14*3+F14 -> #REF! | P14: =#REF! -> #REF! | Q14: =#REF! -> #REF! | R14: =#REF! -> #REF! | S14: =#REF! -> #REF! | T14: =#REF! -> #REF! | U14: =#REF! -> #REF! | V14: =#REF! -> #REF! | W14: =#REF! -> #REF! | ... Y14: =#REF! -> #REF! | Z14: =(10^10)*Y14+(10^8)*S14+(10^6)*(50+X14)+(10^4)*V14+(10^2)*R14+(13-P14) -> #REF! | AK14: 0 | AL14: =#REF! -> #REF! | AM14: =IF(ISERROR(VLOOKUP(AL14,$AL$27:$AN$34,2,FALSE)),0,(VLOOKUP(AL14,$AL$27:$AN$34,2,FALSE))) -> 0 | AN14: =IF(ISERROR(VLOOKUP(AL14,$AL$27:$AN$34,3,FALSE)),0,(VLOOKUP(AL14,$AL$27:$AN$34,3,FALSE))) -> 0 | AO14: =IF(ISERROR(VLOOKUP(AL14,$AL$27:$AO$34,4,FALSE)),0,(VLOOKUP(AL14,$AL$27:$AO$34,4,FALSE))) -> 0 | AP14: =AN14-AO14-AQ14 -> 0 | AQ14: =IF(ISERROR(VLOOKUP(AL14,$AL$27:$AQ$34,6,FALSE)),0,(VLOOKUP(AL14,$AL$27:$AQ$34,6,FALSE))) -> 0 | AR14: =IF(ISERROR(VLOOKUP(AL14,$AL$27:$AR$34,7,FALSE)),0,(VLOOKUP(AL14,$AL$27:$AR$34,7,FALSE))) -> 0 | AS14: =IF(ISERROR(VLOOKUP(AL14,$AL$27:$AS$34,8,FALSE)),0,(VLOOKUP(AL14,$AL$27:$AS$34,8,FALSE))) -> 0 | AT14: =AR14-AS14 -> 0 | AU14: =AO14*3+AP14 -> 0 | AW14: 9 | AX14: =IF(ISERROR(VLOOKUP(AW14,$AW$26:$AY$29,2,FALSE)),0,(VLOOKUP(AW14,$AW$26:$AY$29,2,FALSE))) -> 0 | AY14: =IF(ISERROR(VLOOKUP(AW14,$AW$26:$BF$29,3,FALSE)),0,(VLOOKUP(AW14,$AW$26:$BF$29,3,FALSE))) -> 0 | AZ14: =IF(ISERROR(VLOOKUP(AW14,$AW$26:$BF$29,4,FALSE)),0,(VLOOKUP(AW14,$AW$26:$BF$29,4,FALSE))) -> 0 | BA14: =AY14-AZ14-BB14 -> 0 | BB14: =IF(ISERROR(VLOOKUP(AW14,$AW$26:$BF$29,6,FALSE)),0,(VLOOKUP(AW14,$AW$26:$BF$29,6,FALSE))) -> 0 | BC14: =IF(ISERROR(VLOOKUP(AW14,$AW$26:$BF$29,7,FALSE)),0,(VLOOKUP(AW14,$AW$26:$BF$29,7,FALSE))) -> 0 | BD14: =IF(ISERROR(VLOOKUP(AW14,$AW$26:$BF$29,8,FALSE)),0,(VLOOKUP(AW14,$AW$26:$BF$29,8,FALSE))) -> 0 | BE14: =BC14-BD14 -> 0 | BF14: =AZ14*3+BA14 -> 0 | BI14: 9 | BJ14: =IF(ISERROR(VLOOKUP(BI14,$BI$26:$BK$29,2,FALSE)),0,(VLOOKUP(BI14,$BI$26:$BK$29,2,FALSE))) -> 0 | BK14: =IF(ISERROR(VLOOKUP(BI14,$BI$26:$BR$27,3,FALSE)),0,(VLOOKUP(BI14,$BI$26:$BR$27,3,FALSE))) -> 0 | BL14: =IF(ISERROR(VLOOKUP(BI14,$BI$26:$BR$27,4,FALSE)),0,(VLOOKUP(BI14,$BI$26:$BR$27,4,FALSE))) -> 0 | BM14: =BK14-BL14-BN14 -> 0 | BN14: =IF(ISERROR(VLOOKUP(BI14,$BI$26:$BR$27,6,FALSE)),0,(VLOOKUP(BI14,$BI$26:$BR$27,6,FALSE))) -> 0 | BO14: =IF(ISERROR(VLOOKUP(BI14,$BI$26:$BR$27,7,FALSE)),0,(VLOOKUP(BI14,$BI$26:$BR$27,7,FALSE))) -> 0 | BP14: =IF(ISERROR(VLOOKUP(BI14,$BI$26:$BR$27,8,FALSE)),0,(VLOOKUP(BI14,$BI$26:$BR$27,8,FALSE))) -> 0 | BQ14: =BO14-BP14 -> 0 | BR14: =BL14*3+BM14 -> 0 | BY14: =P14 -> #REF! | BZ14: =Q14 -> #REF! | CA14: =R14+AN14+AY14+BK14 -> #REF! | CB14: =S14+AO14+AZ14+BL14 -> #REF! | CC14: =T14+AP14+BA14+BM14 -> #REF! | CD14: =U14+AQ14+BB14+BN14 -> #REF! | CE14: =V14+AR14+BC14+BO14 -> #REF! | CF14: =W14+AS14+BD14+BP14 -> #REF! | CG14: =X14+AT14+BE14+BQ14 -> #REF! | CH14: =Y14+AU14+BF14+BR14 -> #REF! | CJ14: =(10^10)*CH14+(10^8)*CB14+(10^6)*(50+CG14)+(10^4)*CE14+(10^2)*CA14+(13-BY14) -> #REF! | CK14: 9 | CL14: =LARGE($CJ$6:$CJ$23,CK14) -> #REF! | CN14: 9 | CO14: =MATCH(CL14,$CJ$6:$CJ$23,0) -> #REF!
B15: 10º | C15: =VLOOKUP(CO15,$BY$6:$CH$23,2) -> #REF! | D15: =VLOOKUP(CO15,$BY$6:$CH$23,3) -> #REF! | E15: =VLOOKUP(CO15,$BY$6:$CH$23,4) -> #REF! | F15: =D15-E15-G15 -> #REF! | G15: =VLOOKUP(CO15,$BY$6:$CH$23,6) -> #REF! | H15: =VLOOKUP(CO15,$BY$6:$CH$23,7) -> #REF! | I15: =VLOOKUP(CO15,$BY$6:$CH$23,8) -> #REF! | J15: =H15-I15 -> #REF! | K15: =E15*3+F15 -> #REF! | P15: =#REF! -> #REF! | Q15: =#REF! -> #REF! | R15: =#REF! -> #REF! | S15: =#REF! -> #REF! | T15: =#REF! -> #REF! | U15: =#REF! -> #REF! | V15: =#REF! -> #REF! | W15: =#REF! -> #REF! | ... Y15: =#REF! -> #REF! | Z15: =(10^10)*Y15+(10^8)*S15+(10^6)*(50+X15)+(10^4)*V15+(10^2)*R15+(13-P15) -> #REF! | AK15: 0 | AL15: =#REF! -> #REF! | AM15: =IF(ISERROR(VLOOKUP(AL15,$AL$27:$AN$34,2,FALSE)),0,(VLOOKUP(AL15,$AL$27:$AN$34,2,FALSE))) -> 0 | AN15: =IF(ISERROR(VLOOKUP(AL15,$AL$27:$AN$34,3,FALSE)),0,(VLOOKUP(AL15,$AL$27:$AN$34,3,FALSE))) -> 0 | AO15: =IF(ISERROR(VLOOKUP(AL15,$AL$27:$AO$34,4,FALSE)),0,(VLOOKUP(AL15,$AL$27:$AO$34,4,FALSE))) -> 0 | AP15: =AN15-AO15-AQ15 -> 0 | AQ15: =IF(ISERROR(VLOOKUP(AL15,$AL$27:$AQ$34,6,FALSE)),0,(VLOOKUP(AL15,$AL$27:$AQ$34,6,FALSE))) -> 0 | AR15: =IF(ISERROR(VLOOKUP(AL15,$AL$27:$AR$34,7,FALSE)),0,(VLOOKUP(AL15,$AL$27:$AR$34,7,FALSE))) -> 0 | AS15: =IF(ISERROR(VLOOKUP(AL15,$AL$27:$AS$34,8,FALSE)),0,(VLOOKUP(AL15,$AL$27:$AS$34,8,FALSE))) -> 0 | AT15: =AR15-AS15 -> 0 | AU15: =AO15*3+AP15 -> 0 | AW15: 10 | AX15: =IF(ISERROR(VLOOKUP(AW15,$AW$26:$AY$29,2,FALSE)),0,(VLOOKUP(AW15,$AW$26:$AY$29,2,FALSE))) -> 0 | AY15: =IF(ISERROR(VLOOKUP(AW15,$AW$26:$BF$29,3,FALSE)),0,(VLOOKUP(AW15,$AW$26:$BF$29,3,FALSE))) -> 0 | AZ15: =IF(ISERROR(VLOOKUP(AW15,$AW$26:$BF$29,4,FALSE)),0,(VLOOKUP(AW15,$AW$26:$BF$29,4,FALSE))) -> 0 | BA15: =AY15-AZ15-BB15 -> 0 | BB15: =IF(ISERROR(VLOOKUP(AW15,$AW$26:$BF$29,6,FALSE)),0,(VLOOKUP(AW15,$AW$26:$BF$29,6,FALSE))) -> 0 | BC15: =IF(ISERROR(VLOOKUP(AW15,$AW$26:$BF$29,7,FALSE)),0,(VLOOKUP(AW15,$AW$26:$BF$29,7,FALSE))) -> 0 | BD15: =IF(ISERROR(VLOOKUP(AW15,$AW$26:$BF$29,8,FALSE)),0,(VLOOKUP(AW15,$AW$26:$BF$29,8,FALSE))) -> 0 | BE15: =BC15-BD15 -> 0 | BF15: =AZ15*3+BA15 -> 0 | BI15: 10 | BJ15: =IF(ISERROR(VLOOKUP(BI15,$BI$26:$BK$29,2,FALSE)),0,(VLOOKUP(BI15,$BI$26:$BK$29,2,FALSE))) -> 0 | BK15: =IF(ISERROR(VLOOKUP(BI15,$BI$26:$BR$27,3,FALSE)),0,(VLOOKUP(BI15,$BI$26:$BR$27,3,FALSE))) -> 0 | BL15: =IF(ISERROR(VLOOKUP(BI15,$BI$26:$BR$27,4,FALSE)),0,(VLOOKUP(BI15,$BI$26:$BR$27,4,FALSE))) -> 0 | BM15: =BK15-BL15-BN15 -> 0 | BN15: =IF(ISERROR(VLOOKUP(BI15,$BI$26:$BR$27,6,FALSE)),0,(VLOOKUP(BI15,$BI$26:$BR$27,6,FALSE))) -> 0 | BO15: =IF(ISERROR(VLOOKUP(BI15,$BI$26:$BR$27,7,FALSE)),0,(VLOOKUP(BI15,$BI$26:$BR$27,7,FALSE))) -> 0 | BP15: =IF(ISERROR(VLOOKUP(BI15,$BI$26:$BR$27,8,FALSE)),0,(VLOOKUP(BI15,$BI$26:$BR$27,8,FALSE))) -> 0 | BQ15: =BO15-BP15 -> 0 | BR15: =BL15*3+BM15 -> 0 | BY15: =P15 -> #REF! | BZ15: =Q15 -> #REF! | CA15: =R15+AN15+AY15+BK15 -> #REF! | CB15: =S15+AO15+AZ15+BL15 -> #REF! | CC15: =T15+AP15+BA15+BM15 -> #REF! | CD15: =U15+AQ15+BB15+BN15 -> #REF! | CE15: =V15+AR15+BC15+BO15 -> #REF! | CF15: =W15+AS15+BD15+BP15 -> #REF! | CG15: =X15+AT15+BE15+BQ15 -> #REF! | CH15: =Y15+AU15+BF15+BR15 -> #REF! | CJ15: =(10^10)*CH15+(10^8)*CB15+(10^6)*(50+CG15)+(10^4)*CE15+(10^2)*CA15+(13-BY15) -> #REF! | CK15: 10 | CL15: =LARGE($CJ$6:$CJ$23,CK15) -> #REF! | CN15: 10 | CO15: =MATCH(CL15,$CJ$6:$CJ$23,0) -> #REF!
B16: 11º | C16: =VLOOKUP(CO16,$BY$6:$CH$23,2) -> #REF! | D16: =VLOOKUP(CO16,$BY$6:$CH$23,3) -> #REF! | E16: =VLOOKUP(CO16,$BY$6:$CH$23,4) -> #REF! | F16: =D16-E16-G16 -> #REF! | G16: =VLOOKUP(CO16,$BY$6:$CH$23,6) -> #REF! | H16: =VLOOKUP(CO16,$BY$6:$CH$23,7) -> #REF! | I16: =VLOOKUP(CO16,$BY$6:$CH$23,8) -> #REF! | J16: =H16-I16 -> #REF! | K16: =E16*3+F16 -> #REF! | P16: =#REF! -> #REF! | Q16: =#REF! -> #REF! | R16: =#REF! -> #REF! | S16: =#REF! -> #REF! | T16: =#REF! -> #REF! | U16: =#REF! -> #REF! | V16: =#REF! -> #REF! | W16: =#REF! -> #REF! | ... Y16: =#REF! -> #REF! | Z16: =(10^10)*Y16+(10^8)*S16+(10^6)*(50+X16)+(10^4)*V16+(10^2)*R16+(13-P16) -> #REF! | AK16: 0 | AL16: =#REF! -> #REF! | AM16: =IF(ISERROR(VLOOKUP(AL16,$AL$27:$AN$34,2,FALSE)),0,(VLOOKUP(AL16,$AL$27:$AN$34,2,FALSE))) -> 0 | AN16: =IF(ISERROR(VLOOKUP(AL16,$AL$27:$AN$34,3,FALSE)),0,(VLOOKUP(AL16,$AL$27:$AN$34,3,FALSE))) -> 0 | AO16: =IF(ISERROR(VLOOKUP(AL16,$AL$27:$AO$34,4,FALSE)),0,(VLOOKUP(AL16,$AL$27:$AO$34,4,FALSE))) -> 0 | AP16: =AN16-AO16-AQ16 -> 0 | AQ16: =IF(ISERROR(VLOOKUP(AL16,$AL$27:$AQ$34,6,FALSE)),0,(VLOOKUP(AL16,$AL$27:$AQ$34,6,FALSE))) -> 0 | AR16: =IF(ISERROR(VLOOKUP(AL16,$AL$27:$AR$34,7,FALSE)),0,(VLOOKUP(AL16,$AL$27:$AR$34,7,FALSE))) -> 0 | AS16: =IF(ISERROR(VLOOKUP(AL16,$AL$27:$AS$34,8,FALSE)),0,(VLOOKUP(AL16,$AL$27:$AS$34,8,FALSE))) -> 0 | AT16: =AR16-AS16 -> 0 | AU16: =AO16*3+AP16 -> 0 | AW16: 11 | AX16: =IF(ISERROR(VLOOKUP(AW16,$AW$26:$AY$29,2,FALSE)),0,(VLOOKUP(AW16,$AW$26:$AY$29,2,FALSE))) -> 0 | AY16: =IF(ISERROR(VLOOKUP(AW16,$AW$26:$BF$29,3,FALSE)),0,(VLOOKUP(AW16,$AW$26:$BF$29,3,FALSE))) -> 0 | AZ16: =IF(ISERROR(VLOOKUP(AW16,$AW$26:$BF$29,4,FALSE)),0,(VLOOKUP(AW16,$AW$26:$BF$29,4,FALSE))) -> 0 | BA16: =AY16-AZ16-BB16 -> 0 | BB16: =IF(ISERROR(VLOOKUP(AW16,$AW$26:$BF$29,6,FALSE)),0,(VLOOKUP(AW16,$AW$26:$BF$29,6,FALSE))) -> 0 | BC16: =IF(ISERROR(VLOOKUP(AW16,$AW$26:$BF$29,7,FALSE)),0,(VLOOKUP(AW16,$AW$26:$BF$29,7,FALSE))) -> 0 | BD16: =IF(ISERROR(VLOOKUP(AW16,$AW$26:$BF$29,8,FALSE)),0,(VLOOKUP(AW16,$AW$26:$BF$29,8,FALSE))) -> 0 | BE16: =BC16-BD16 -> 0 | BF16: =AZ16*3+BA16 -> 0 | BI16: 11 | BJ16: =IF(ISERROR(VLOOKUP(BI16,$BI$26:$BK$29,2,FALSE)),0,(VLOOKUP(BI16,$BI$26:$BK$29,2,FALSE))) -> 0 | BK16: =IF(ISERROR(VLOOKUP(BI16,$BI$26:$BR$27,3,FALSE)),0,(VLOOKUP(BI16,$BI$26:$BR$27,3,FALSE))) -> 0 | BL16: =IF(ISERROR(VLOOKUP(BI16,$BI$26:$BR$27,4,FALSE)),0,(VLOOKUP(BI16,$BI$26:$BR$27,4,FALSE))) -> 0 | BM16: =BK16-BL16-BN16 -> 0 | BN16: =IF(ISERROR(VLOOKUP(BI16,$BI$26:$BR$27,6,FALSE)),0,(VLOOKUP(BI16,$BI$26:$BR$27,6,FALSE))) -> 0 | BO16: =IF(ISERROR(VLOOKUP(BI16,$BI$26:$BR$27,7,FALSE)),0,(VLOOKUP(BI16,$BI$26:$BR$27,7,FALSE))) -> 0 | BP16: =IF(ISERROR(VLOOKUP(BI16,$BI$26:$BR$27,8,FALSE)),0,(VLOOKUP(BI16,$BI$26:$BR$27,8,FALSE))) -> 0 | BQ16: =BO16-BP16 -> 0 | BR16: =BL16*3+BM16 -> 0 | BY16: =P16 -> #REF! | BZ16: =Q16 -> #REF! | CA16: =R16+AN16+AY16+BK16 -> #REF! | CB16: =S16+AO16+AZ16+BL16 -> #REF! | CC16: =T16+AP16+BA16+BM16 -> #REF! | CD16: =U16+AQ16+BB16+BN16 -> #REF! | CE16: =V16+AR16+BC16+BO16 -> #REF! | CF16: =W16+AS16+BD16+BP16 -> #REF! | CG16: =X16+AT16+BE16+BQ16 -> #REF! | CH16: =Y16+AU16+BF16+BR16 -> #REF! | CJ16: =(10^10)*CH16+(10^8)*CB16+(10^6)*(50+CG16)+(10^4)*CE16+(10^2)*CA16+(13-BY16) -> #REF! | CK16: 11 | CL16: =LARGE($CJ$6:$CJ$23,CK16) -> #REF! | CN16: 11 | CO16: =MATCH(CL16,$CJ$6:$CJ$23,0) -> #REF!
B17: 12º | C17: =VLOOKUP(CO17,$BY$6:$CH$23,2) -> #REF! | D17: =VLOOKUP(CO17,$BY$6:$CH$23,3) -> #REF! | E17: =VLOOKUP(CO17,$BY$6:$CH$23,4) -> #REF! | F17: =D17-E17-G17 -> #REF! | G17: =VLOOKUP(CO17,$BY$6:$CH$23,6) -> #REF! | H17: =VLOOKUP(CO17,$BY$6:$CH$23,7) -> #REF! | I17: =VLOOKUP(CO17,$BY$6:$CH$23,8) -> #REF! | J17: =H17-I17 -> #REF! | K17: =E17*3+F17 -> #REF! | P17: =#REF! -> #REF! | Q17: =#REF! -> #REF! | R17: =#REF! -> #REF! | S17: =#REF! -> #REF! | T17: =#REF! -> #REF! | U17: =#REF! -> #REF! | V17: =#REF! -> #REF! | W17: =#REF! -> #REF! | ... Y17: =#REF! -> #REF! | Z17: =(10^10)*Y17+(10^8)*S17+(10^6)*(50+X17)+(10^4)*V17+(10^2)*R17+(13-P17) -> #REF! | AK17: 0 | AL17: =#REF! -> #REF! | AM17: =IF(ISERROR(VLOOKUP(AL17,$AL$27:$AN$34,2,FALSE)),0,(VLOOKUP(AL17,$AL$27:$AN$34,2,FALSE))) -> 0 | AN17: =IF(ISERROR(VLOOKUP(AL17,$AL$27:$AN$34,3,FALSE)),0,(VLOOKUP(AL17,$AL$27:$AN$34,3,FALSE))) -> 0 | AO17: =IF(ISERROR(VLOOKUP(AL17,$AL$27:$AO$34,4,FALSE)),0,(VLOOKUP(AL17,$AL$27:$AO$34,4,FALSE))) -> 0 | AP17: =AN17-AO17-AQ17 -> 0 | AQ17: =IF(ISERROR(VLOOKUP(AL17,$AL$27:$AQ$34,6,FALSE)),0,(VLOOKUP(AL17,$AL$27:$AQ$34,6,FALSE))) -> 0 | AR17: =IF(ISERROR(VLOOKUP(AL17,$AL$27:$AR$34,7,FALSE)),0,(VLOOKUP(AL17,$AL$27:$AR$34,7,FALSE))) -> 0 | AS17: =IF(ISERROR(VLOOKUP(AL17,$AL$27:$AS$34,8,FALSE)),0,(VLOOKUP(AL17,$AL$27:$AS$34,8,FALSE))) -> 0 | AT17: =AR17-AS17 -> 0 | AU17: =AO17*3+AP17 -> 0 | AW17: 12 | AX17: =IF(ISERROR(VLOOKUP(AW17,$AW$26:$AY$29,2,FALSE)),0,(VLOOKUP(AW17,$AW$26:$AY$29,2,FALSE))) -> 0 | AY17: =IF(ISERROR(VLOOKUP(AW17,$AW$26:$BF$29,3,FALSE)),0,(VLOOKUP(AW17,$AW$26:$BF$29,3,FALSE))) -> 0 | AZ17: =IF(ISERROR(VLOOKUP(AW17,$AW$26:$BF$29,4,FALSE)),0,(VLOOKUP(AW17,$AW$26:$BF$29,4,FALSE))) -> 0 | BA17: =AY17-AZ17-BB17 -> 0 | BB17: =IF(ISERROR(VLOOKUP(AW17,$AW$26:$BF$29,6,FALSE)),0,(VLOOKUP(AW17,$AW$26:$BF$29,6,FALSE))) -> 0 | BC17: =IF(ISERROR(VLOOKUP(AW17,$AW$26:$BF$29,7,FALSE)),0,(VLOOKUP(AW17,$AW$26:$BF$29,7,FALSE))) -> 0 | BD17: =IF(ISERROR(VLOOKUP(AW17,$AW$26:$BF$29,8,FALSE)),0,(VLOOKUP(AW17,$AW$26:$BF$29,8,FALSE))) -> 0 | BE17: =BC17-BD17 -> 0 | BF17: =AZ17*3+BA17 -> 0 | BI17: 12 | BJ17: =IF(ISERROR(VLOOKUP(BI17,$BI$26:$BK$29,2,FALSE)),0,(VLOOKUP(BI17,$BI$26:$BK$29,2,FALSE))) -> 0 | BK17: =IF(ISERROR(VLOOKUP(BI17,$BI$26:$BR$27,3,FALSE)),0,(VLOOKUP(BI17,$BI$26:$BR$27,3,FALSE))) -> 0 | BL17: =IF(ISERROR(VLOOKUP(BI17,$BI$26:$BR$27,4,FALSE)),0,(VLOOKUP(BI17,$BI$26:$BR$27,4,FALSE))) -> 0 | BM17: =BK17-BL17-BN17 -> 0 | BN17: =IF(ISERROR(VLOOKUP(BI17,$BI$26:$BR$27,6,FALSE)),0,(VLOOKUP(BI17,$BI$26:$BR$27,6,FALSE))) -> 0 | BO17: =IF(ISERROR(VLOOKUP(BI17,$BI$26:$BR$27,7,FALSE)),0,(VLOOKUP(BI17,$BI$26:$BR$27,7,FALSE))) -> 0 | BP17: =IF(ISERROR(VLOOKUP(BI17,$BI$26:$BR$27,8,FALSE)),0,(VLOOKUP(BI17,$BI$26:$BR$27,8,FALSE))) -> 0 | BQ17: =BO17-BP17 -> 0 | BR17: =BL17*3+BM17 -> 0 | BY17: =P17 -> #REF! | BZ17: =Q17 -> #REF! | CA17: =R17+AN17+AY17+BK17 -> #REF! | CB17: =S17+AO17+AZ17+BL17 -> #REF! | CC17: =T17+AP17+BA17+BM17 -> #REF! | CD17: =U17+AQ17+BB17+BN17 -> #REF! | CE17: =V17+AR17+BC17+BO17 -> #REF! | CF17: =W17+AS17+BD17+BP17 -> #REF! | CG17: =X17+AT17+BE17+BQ17 -> #REF! | CH17: =Y17+AU17+BF17+BR17 -> #REF! | CJ17: =(10^10)*CH17+(10^8)*CB17+(10^6)*(50+CG17)+(10^4)*CE17+(10^2)*CA17+(13-BY17) -> #REF! | CK17: 12 | CL17: =LARGE($CJ$6:$CJ$23,CK17) -> #REF! | CN17: 12 | CO17: =MATCH(CL17,$CJ$6:$CJ$23,0) -> #REF!
... B23: 18º | C23: =VLOOKUP(CO23,$BY$6:$CH$23,2) -> #REF! | D23: =VLOOKUP(CO23,$BY$6:$CH$23,3) -> #REF! | E23: =VLOOKUP(CO23,$BY$6:$CH$23,4) -> #REF! | F23: =D23-E23-G23 -> #REF! | G23: =VLOOKUP(CO23,$BY$6:$CH$23,6) -> #REF! | H23: =VLOOKUP(CO23,$BY$6:$CH$23,7) -> #REF! | I23: =VLOOKUP(CO23,$BY$6:$CH$23,8) -> #REF! | J23: =H23-I23 -> #REF! | K23: =E23*3+F23 -> #REF! | P23: =#REF! -> #REF! | Q23: =#REF! -> #REF! | R23: =#REF! -> #REF! | S23: =#REF! -> #REF! | T23: =#REF! -> #REF! | U23: =#REF! -> #REF! | V23: =#REF! -> #REF! | W23: =#REF! -> #REF! | ... Y23: =#REF! -> #REF! | Z23: =(10^10)*Y23+(10^8)*S23+(10^6)*(50+X23)+(10^4)*V23+(10^2)*R23+(13-P23) -> #REF! | AK23: 0 | AL23: =#REF! -> #REF! | AM23: =IF(ISERROR(VLOOKUP(AL23,$AL$27:$AN$34,2,FALSE)),0,(VLOOKUP(AL23,$AL$27:$AN$34,2,FALSE))) -> 0 | AN23: =IF(ISERROR(VLOOKUP(AL23,$AL$27:$AN$34,3,FALSE)),0,(VLOOKUP(AL23,$AL$27:$AN$34,3,FALSE))) -> 0 | AO23: =IF(ISERROR(VLOOKUP(AL23,$AL$27:$AO$34,4,FALSE)),0,(VLOOKUP(AL23,$AL$27:$AO$34,4,FALSE))) -> 0 | AP23: =AN23-AO23-AQ23 -> 0 | AQ23: =IF(ISERROR(VLOOKUP(AL23,$AL$27:$AQ$34,6,FALSE)),0,(VLOOKUP(AL23,$AL$27:$AQ$34,6,FALSE))) -> 0 | AR23: =IF(ISERROR(VLOOKUP(AL23,$AL$27:$AR$34,7,FALSE)),0,(VLOOKUP(AL23,$AL$27:$AR$34,7,FALSE))) -> 0 | AS23: =IF(ISERROR(VLOOKUP(AL23,$AL$27:$AS$34,8,FALSE)),0,(VLOOKUP(AL23,$AL$27:$AS$34,8,FALSE))) -> 0 | AT23: =AR23-AS23 -> 0 | AU23: =AO23*3+AP23 -> 0 | AW23: 18 | AX23: =IF(ISERROR(VLOOKUP(AW23,$AW$26:$AY$29,2,FALSE)),0,(VLOOKUP(AW23,$AW$26:$AY$29,2,FALSE))) -> 0 | AY23: =IF(ISERROR(VLOOKUP(AW23,$AW$26:$BF$29,3,FALSE)),0,(VLOOKUP(AW23,$AW$26:$BF$29,3,FALSE))) -> 0 | AZ23: =IF(ISERROR(VLOOKUP(AW23,$AW$26:$BF$29,4,FALSE)),0,(VLOOKUP(AW23,$AW$26:$BF$29,4,FALSE))) -> 0 | BA23: =AY23-AZ23-BB23 -> 0 | BB23: =IF(ISERROR(VLOOKUP(AW23,$AW$26:$BF$29,6,FALSE)),0,(VLOOKUP(AW23,$AW$26:$BF$29,6,FALSE))) -> 0 | BC23: =IF(ISERROR(VLOOKUP(AW23,$AW$26:$BF$29,7,FALSE)),0,(VLOOKUP(AW23,$AW$26:$BF$29,7,FALSE))) -> 0 | BD23: =IF(ISERROR(VLOOKUP(AW23,$AW$26:$BF$29,8,FALSE)),0,(VLOOKUP(AW23,$AW$26:$BF$29,8,FALSE))) -> 0 | BE23: =BC23-BD23 -> 0 | BF23: =AZ23*3+BA23 -> 0 | BI23: 18 | BJ23: =IF(ISERROR(VLOOKUP(BI23,$BI$26:$BK$29,2,FALSE)),0,(VLOOKUP(BI23,$BI$26:$BK$29,2,FALSE))) -> 0 | BK23: =IF(ISERROR(VLOOKUP(BI23,$BI$26:$BR$27,3,FALSE)),0,(VLOOKUP(BI23,$BI$26:$BR$27,3,FALSE))) -> 0 | BL23: =IF(ISERROR(VLOOKUP(BI23,$BI$26:$BR$27,4,FALSE)),0,(VLOOKUP(BI23,$BI$26:$BR$27,4,FALSE))) -> 0 | BM23: =BK23-BL23-BN23 -> 0 | BN23: =IF(ISERROR(VLOOKUP(BI23,$BI$26:$BR$27,6,FALSE)),0,(VLOOKUP(BI23,$BI$26:$BR$27,6,FALSE))) -> 0 | BO23: =IF(ISERROR(VLOOKUP(BI23,$BI$26:$BR$27,7,FALSE)),0,(VLOOKUP(BI23,$BI$26:$BR$27,7,FALSE))) -> 0 | BP23: =IF(ISERROR(VLOOKUP(BI23,$BI$26:$BR$27,8,FALSE)),0,(VLOOKUP(BI23,$BI$26:$BR$27,8,FALSE))) -> 0 | BQ23: =BO23-BP23 -> 0 | BR23: =BL23*3+BM23 -> 0 | BY23: =P23 -> #REF! | BZ23: =Q23 -> #REF! | CA23: =R23+AN23+AY23+BK23 -> #REF! | CB23: =S23+AO23+AZ23+BL23 -> #REF! | CC23: =T23+AP23+BA23+BM23 -> #REF! | CD23: =U23+AQ23+BB23+BN23 -> #REF! | CE23: =V23+AR23+BC23+BO23 -> #REF! | CF23: =W23+AS23+BD23+BP23 -> #REF! | CG23: =X23+AT23+BE23+BQ23 -> #REF! | CH23: =Y23+AU23+BF23+BR23 -> #REF! | CJ23: =(10^10)*CH23+(10^8)*CB23+(10^6)*(50+CG23)+(10^4)*CE23+(10^2)*CA23+(13-BY23) -> #REF! | CK23: 18 | CL23: =LARGE($CJ$6:$CJ$23,CK23) -> #REF! | CN23: 18 | CO23: =MATCH(CL23,$CJ$6:$CJ$23,0) -> #REF!
AL24: QUARTAS DE FINAL | AW24: SEMI FINAL | BI24: FINAL
AL25: ID_TIME | AM25: Times | AN25: Jogos | AO25: Vitorias | AP25: Empates | AQ25: Derrotas | AR25: Gols Pró | AS25: Gols Cont. | AT25: Saldo | AU25: Pontos | AW25: ID_TIME | AX25: Times | AY25: Jogos | AZ25: Vitorias | BA25: Empates | BB25: Derrotas | BC25: Gols Pró | BD25: Gols Cont. | BE25: Saldo | BF25: Pontos | BI25: ID_TIME | BJ25: Times | BK25: Jogos | BL25: Vitorias | BM25: Empates | BN25: Derrotas | BO25: Gols Pró | BP25: Gols Cont. | BQ25: Saldo | BR25: Pontos
AW26: =#REF! -> #REF! | AX26: =#REF! -> #REF! | AY26: =#REF! -> #REF! | AZ26: =#REF! -> #REF! | BA26: =#REF! -> #REF! | BB26: =#REF! -> #REF! | BC26: =#REF! -> #REF! | BD26: =#REF! -> #REF! | ... BF26: =#REF! -> #REF! | BI26: =#REF! -> #REF! | BJ26: =#REF! -> #REF! | BK26: =#REF! -> #REF! | BL26: =#REF! -> #REF! | BM26: =#REF! -> #REF! | BN26: =#REF! -> #REF! | BO26: =#REF! -> #REF! | BP26: =#REF! -> #REF! | ... BR26: =#REF! -> #REF!
AL27: =#REF! -> #REF! | AM27: =#REF! -> #REF! | AN27: =#REF! -> #REF! | AO27: =#REF! -> #REF! | AP27: =#REF! -> #REF! | AQ27: =#REF! -> #REF! | AR27: =#REF! -> #REF! | AS27: =#REF! -> #REF! | ... AU27: =#REF! -> #REF! | AW27: =#REF! -> #REF! | AX27: =#REF! -> #REF! | AY27: =#REF! -> #REF! | AZ27: =#REF! -> #REF! | BA27: =#REF! -> #REF! | BB27: =#REF! -> #REF! | BC27: =#REF! -> #REF! | BD27: =#REF! -> #REF! | ... BF27: =#REF! -> #REF! | BI27: =#REF! -> #REF! | BJ27: =#REF! -> #REF! | BK27: =#REF! -> #REF! | BL27: =#REF! -> #REF! | BM27: =#REF! -> #REF! | BN27: =#REF! -> #REF! | BO27: =#REF! -> #REF! | BP27: =#REF! -> #REF! | ... BR27: =#REF! -> #REF!
AL28: =#REF! -> #REF! | AM28: =#REF! -> #REF! | AN28: =#REF! -> #REF! | AO28: =#REF! -> #REF! | AP28: =#REF! -> #REF! | AQ28: =#REF! -> #REF! | AR28: =#REF! -> #REF! | AS28: =#REF! -> #REF! | ... AU28: =#REF! -> #REF! | AW28: =#REF! -> #REF! | AX28: =#REF! -> #REF! | AY28: =#REF! -> #REF! | AZ28: =#REF! -> #REF! | BA28: =#REF! -> #REF! | BB28: =#REF! -> #REF! | BC28: =#REF! -> #REF! | BD28: =#REF! -> #REF! | ... BF28: =#REF! -> #REF!
AL29: =#REF! -> #REF! | AM29: =#REF! -> #REF! | AN29: =#REF! -> #REF! | AO29: =#REF! -> #REF! | AP29: =#REF! -> #REF! | AQ29: =#REF! -> #REF! | AR29: =#REF! -> #REF! | AS29: =#REF! -> #REF! | ... AU29: =#REF! -> #REF! | AW29: =#REF! -> #REF! | AX29: =#REF! -> #REF! | AY29: =#REF! -> #REF! | AZ29: =#REF! -> #REF! | BA29: =#REF! -> #REF! | BB29: =#REF! -> #REF! | BC29: =#REF! -> #REF! | BD29: =#REF! -> #REF! | ... BF29: =#REF! -> #REF!
AL30: =#REF! -> #REF! | AM30: =#REF! -> #REF! | AN30: =#REF! -> #REF! | AO30: =#REF! -> #REF! | AP30: =#REF! -> #REF! | AQ30: =#REF! -> #REF! | AR30: =#REF! -> #REF! | AS30: =#REF! -> #REF! | ... AU30: =#REF! -> #REF!
AL31: =#REF! -> #REF! | AM31: =#REF! -> #REF! | AN31: =#REF! -> #REF! | AO31: =#REF! -> #REF! | AP31: =#REF! -> #REF! | AQ31: =#REF! -> #REF! | AR31: =#REF! -> #REF! | AS31: =#REF! -> #REF! | ... AU31: =#REF! -> #REF!
AL32: =#REF! -> #REF! | AM32: =#REF! -> #REF! | AN32: =#REF! -> #REF! | AO32: =#REF! -> #REF! | AP32: =#REF! -> #REF! | AQ32: =#REF! -> #REF! | AR32: =#REF! -> #REF! | AS32: =#REF! -> #REF! | ... AU32: =#REF! -> #REF!
AL33: =#REF! -> #REF! | AM33: =#REF! -> #REF! | AN33: =#REF! -> #REF! | AO33: =#REF! -> #REF! | AP33: =#REF! -> #REF! | AQ33: =#REF! -> #REF! | AR33: =#REF! -> #REF! | AS33: =#REF! -> #REF! | ... AU33: =#REF! -> #REF!
AL34: =#REF! -> #REF! | AM34: =#REF! -> #REF! | AN34: =#REF! -> #REF! | AO34: =#REF! -> #REF! | AP34: =#REF! -> #REF! | AQ34: =#REF! -> #REF! | AR34: =#REF! -> #REF! | AS34: =#REF! -> #REF! | ... AU34: =#REF! -> #REF!

Sheet Classificação
C2: LXXVIII Campeonato
C4: EURO COPA
D5: 43568
C7: Grupo A
C8: Posição | D8: Times | E8: Jogos | F8: Vitorias | G8: Empates | H8: Derrotas | I8: Gols Pró | J8: Gols Cont. | K8: Saldo | L8: Pontos | M8: Aprov. | P8: Times | Q8: Jogos | R8: Vitorias | S8: Empates | T8: Derrotas | U8: Gols Pró | V8: Gols Cont. | W8: Saldo | X8: Pontos | Y8: ID_TIME | AA8: Times | AE8: Maior | AG8: Ordem Crescente
C10: 1º | D10: =VLOOKUP(AH10,$O$10:$Y$21,2) -> Grécia | E10: =VLOOKUP(AH10,$O$10:$Y$21,3) -> 12 | F10: =VLOOKUP(AH10,$O$10:$Y$21,4) -> 5 | G10: =VLOOKUP(AH10,$O$10:$Y$21,5) -> 3 | H10: =VLOOKUP(AH10,$O$10:$Y$21,6) -> 4 | I10: =VLOOKUP(AH10,$O$10:$Y$21,7) -> 17 | J10: =VLOOKUP(AH10,$O$10:$Y$21,8) -> 13 | K10: =VLOOKUP(AH10,$O$10:$Y$21,9) -> 4 | L10: =VLOOKUP(AH10,$O$10:$Y$21,10) -> 18 | M10: =IF(E10>0,((L10*100)/N10)/100,0) -> 0.5 | N10: =E10*3 -> 36 | O10: 1 | P10: Islândia | Q10: =IF(Jogos!C9<>"",1,0)+IF(Jogos!L9<>"",1,0)+IF(Jogos!E38<>"",1,0)+IF(Jogos!J38<>"",1,0)+IF(Jogos!C67<>"",1,0)+IF(Jogos!L67<>"",1,0)+IF(Jogos!E96<>"",1,0)+IF(Jogos!J96<>"",1,0)+IF(Jogos!C125<>"",1,0)+IF(Jogos!L125<>"",1,0)+IF(Jogos!E154<>"",1,0)+IF(Jogos!J154<>"",1,0) -> 12 | R10: =IF(Jogos!C9>Jogos!E9,1,0)+IF(Jogos!L9>Jogos!J9,1,0)+IF(Jogos!E38>Jogos!C38,1,0)+IF(Jogos!J38>Jogos!L38,1,0)+IF(Jogos!C67>Jogos!E67,1,0)+IF(Jogos!L67>Jogos!J67,1,0)+IF(Jogos!E96>Jogos!C96,1,0)+IF(Jogos!J96>Jogos!L96,1,0)+IF(Jogos!C125>Jogos!E125,1,0)+IF(Jogos!L125>Jogos!J125,1,0)+IF(Jogos!E154>Jogos!C154,1,0)+IF(Jogos!J154>Jogos!L154,1,0) -> 2 | S10: =Q10-R10-T10 -> 4 | T10: =IF(Jogos!C9<Jogos!E9,1,0)+IF(Jogos!L9<Jogos!J9,1,0)+IF(Jogos!E38<Jogos!C38,1,0)+IF(Jogos!J38<Jogos!L38,1,0)+IF(Jogos!C67<Jogos!E67,1,0)+IF(Jogos!L67<Jogos!J67,1,0)+IF(Jogos!E96<Jogos!C96,1,0)+IF(Jogos!J96<Jogos!L96,1,0)+IF(Jogos!C125<Jogos!E125,1,0)+IF(Jogos!L125<Jogos!J125,1,0)+IF(Jogos!E154<Jogos!C154,1,0)+IF(Jogos!J154<Jogos!L154,1,0) -> 6 | U10: =Jogos!C9+Jogos!L9+Jogos!E38+Jogos!J38+Jogos!C67+Jogos!L67+Jogos!E96+Jogos!J96+Jogos!C125+Jogos!L125+Jogos!E154+Jogos!J154 -> 10 | V10: =Jogos!E9+Jogos!J9+Jogos!C38+Jogos!L38+Jogos!E67+Jogos!J67+Jogos!C96+Jogos!L96+Jogos!E125+Jogos!J125+Jogos!C154+Jogos!L154 -> 21 | W10: =U10-V10 -> -11 | X10: =R10*3+S10 -> 10 | Y10: 1 | AA10: =(10^10)*X10+(10^8)*R10+(10^6)*(50+W10)+(10^4)*U10+(10^2)*Q10+(13-O10) -> 100239101212 | AD10: 1 | AE10: =LARGE(AA10:AA21,AD10) -> 180554171210 | AG10: 1 | AH10: =MATCH(AE10,AA10:AA21,0) -> 3
C11: 2º | D11: =VLOOKUP(AH11,$O$10:$Y$21,2) -> Rep. Tcheca | E11: =VLOOKUP(AH11,$O$10:$Y$21,3) -> 12 | F11: =VLOOKUP(AH11,$O$10:$Y$21,4) -> 5 | G11: =VLOOKUP(AH11,$O$10:$Y$21,5) -> 3 | H11: =VLOOKUP(AH11,$O$10:$Y$21,6) -> 4 | I11: =VLOOKUP(AH11,$O$10:$Y$21,7) -> 13 | J11: =VLOOKUP(AH11,$O$10:$Y$21,8) -> 11 | K11: =VLOOKUP(AH11,$O$10:$Y$21,9) -> 2 | L11: =VLOOKUP(AH11,$O$10:$Y$21,10) -> 18 | M11: =IF(E11>0,((L11*100)/N11)/100,0) -> 0.5 | N11: =E11*3 -> 36 | O11: 2 | P11: Itália | Q11: =IF(Jogos!C11<>"",1,0)+IF(Jogos!L11<>"",1,0)+IF(Jogos!E40<>"",1,0)+IF(Jogos!J40<>"",1,0)+IF(Jogos!C69<>"",1,0)+IF(Jogos!L69<>"",1,0)+IF(Jogos!E98<>"",1,0)+IF(Jogos!J98<>"",1,0)+IF(Jogos!C127<>"",1,0)+IF(Jogos!L127<>"",1,0)+IF(Jogos!E156<>"",1,0)+IF(Jogos!J156<>"",1,0) -> 12 | R11: =IF(Jogos!C11>Jogos!E11,1,0)+IF(Jogos!L11>Jogos!J11,1,0)+IF(Jogos!E40>Jogos!C40,1,0)+IF(Jogos!J40>Jogos!L40,1,0)+IF(Jogos!C69>Jogos!E69,1,0)+IF(Jogos!L69>Jogos!J69,1,0)+IF(Jogos!E98>Jogos!C98,1,0)+IF(Jogos!J98>Jogos!L98,1,0)+IF(Jogos!C127>Jogos!E127,1,0)+IF(Jogos!L127>Jogos!J127,1,0)+IF(Jogos!E156>Jogos!C156,1,0)+IF(Jogos!J156>Jogos!L156,1,0) -> 0 | S11: =Q11-R11-T11 -> 1 | T11: =IF(Jogos!C11<Jogos!E11,1,0)+IF(Jogos!L11<Jogos!J11,1,0)+IF(Jogos!E40<Jogos!C40,1,0)+IF(Jogos!J40<Jogos!L40,1,0)+IF(Jogos!C69<Jogos!E69,1,0)+IF(Jogos!L69<Jogos!J69,1,0)+IF(Jogos!E98<Jogos!C98,1,0)+IF(Jogos!J98<Jogos!L98,1,0)+IF(Jogos!C127<Jogos!E127,1,0)+IF(Jogos!L127<Jogos!J127,1,0)+IF(Jogos!E156<Jogos!C156,1,0)+IF(Jogos!J156<Jogos!L156,1,0) -> 11 | U11: =Jogos!C11+Jogos!L11+Jogos!E40+Jogos!J40+Jogos!C69+Jogos!L69+Jogos!E98+Jogos!J98+Jogos!C127+Jogos!L127+Jogos!E156+Jogos!J156 -> 7 | V11: =Jogos!E11+Jogos!J11+Jogos!C40+Jogos!L40+Jogos!E69+Jogos!J69+Jogos!C98+Jogos!L98+Jogos!E127+Jogos!J127+Jogos!C156+Jogos!L156 -> 31 | W11: =U11-V11 -> -24 | X11: =R11*3+S11 -> 1 | Y11: 2 | AA11: =(10^10)*X11+(10^8)*R11+(10^6)*(50+W11)+(10^4)*U11+(10^2)*Q11+(13-O11) -> 10026071211 | AD11: 2 | AE11: =LARGE(AA10:AA21,AD11) -> 180552131208 | AG11: 2 | AH11: =MATCH(AE11,AA10:AA21,0) -> 5
C12: 3º | D12: =VLOOKUP(AH12,$O$10:$Y$21,2) -> Eslôvenia | E12: =VLOOKUP(AH12,$O$10:$Y$21,3) -> 12 | F12: =VLOOKUP(AH12,$O$10:$Y$21,4) -> 5 | G12: =VLOOKUP(AH12,$O$10:$Y$21,5) -> 3 | H12: =VLOOKUP(AH12,$O$10:$Y$21,6) -> 4 | I12: =VLOOKUP(AH12,$O$10:$Y$21,7) -> 8 | J12: =VLOOKUP(AH12,$O$10:$Y$21,8) -> 9 | K12: =VLOOKUP(AH12,$O$10:$Y$21,9) -> -1 | L12: =VLOOKUP(AH12,$O$10:$Y$21,10) -> 18 | M12: =IF(E12>0,((L12*100)/N12)/100,0) -> 0.5 | N12: =E12*3 -> 36 | O12: 3 | P12: Grécia | Q12: =IF(Jogos!C13<>"",1,0)+IF(Jogos!L13<>"",1,0)+IF(Jogos!E42<>"",1,0)+IF(Jogos!J42<>"",1,0)+IF(Jogos!C71<>"",1,0)+IF(Jogos!L71<>"",1,0)+IF(Jogos!E100<>"",1,0)+IF(Jogos!J100<>"",1,0)+IF(Jogos!C129<>"",1,0)+IF(Jogos!L129<>"",1,0)+IF(Jogos!E158<>"",1,0)+IF(Jogos!J158<>"",1,0) -> 12 | R12: =IF(Jogos!C13>Jogos!E13,1,0)+IF(Jogos!L13>Jogos!J13,1,0)+IF(Jogos!E42>Jogos!C42,1,0)+IF(Jogos!J42>Jogos!L42,1,0)+IF(Jogos!C71>Jogos!E71,1,0)+IF(Jogos!L71>Jogos!J71,1,0)+IF(Jogos!E100>Jogos!C100,1,0)+IF(Jogos!J100>Jogos!L100,1,0)+IF(Jogos!C129>Jogos!E129,1,0)+IF(Jogos!L129>Jogos!J129,1,0)+IF(Jogos!E158>Jogos!C158,1,0)+IF(Jogos!J158>Jogos!L158,1,0) -> 5 | S12: =Q12-R12-T12 -> 3 | T12: =IF(Jogos!C13<Jogos!E13,1,0)+IF(Jogos!L13<Jogos!J13,1,0)+IF(Jogos!E42<Jogos!C42,1,0)+IF(Jogos!J42<Jogos!L42,1,0)+IF(Jogos!C71<Jogos!E71,1,0)+IF(Jogos!L71<Jogos!J71,1,0)+IF(Jogos!E100<Jogos!C100,1,0)+IF(Jogos!J100<Jogos!L100,1,0)+IF(Jogos!C129<Jogos!E129,1,0)+IF(Jogos!L129<Jogos!J129,1,0)+IF(Jogos!E158<Jogos!C158,1,0)+IF(Jogos!J158<Jogos!L158,1,0) -> 4 | U12: =Jogos!C13+Jogos!L13+Jogos!E42+Jogos!J42+Jogos!C71+Jogos!L71+Jogos!E100+Jogos!J100+Jogos!C129+Jogos!L129+Jogos!E158+Jogos!J158 -> 17 | V12: =Jogos!E13+Jogos!J13+Jogos!C42+Jogos!L42+Jogos!E71+Jogos!J71+Jogos!C100+Jogos!L100+Jogos!E129+Jogos!J129+Jogos!C158+Jogos!L158 -> 13 | W12: =U12-V12 -> 4 | X12: =R12*3+S12 -> 18 | Y12: 3 | AA12: =(10^10)*X12+(10^8)*R12+(10^6)*(50+W12)+(10^4)*U12+(10^2)*Q12+(13-O12) -> 180554171210 | AD12: 3 | AE12: =LARGE(AA10:AA21,AD12) -> 180549081203 | AG12: 3 | AH12: =MATCH(AE12,AA10:AA21,0) -> 10
C13: 4º | D13: =VLOOKUP(AH13,$O$10:$Y$21,2) -> Turquia | E13: =VLOOKUP(AH13,$O$10:$Y$21,3) -> 12 | F13: =VLOOKUP(AH13,$O$10:$Y$21,4) -> 5 | G13: =VLOOKUP(AH13,$O$10:$Y$21,5) -> 2 | H13: =VLOOKUP(AH13,$O$10:$Y$21,6) -> 5 | I13: =VLOOKUP(AH13,$O$10:$Y$21,7) -> 12 | J13: =VLOOKUP(AH13,$O$10:$Y$21,8) -> 17 | K13: =VLOOKUP(AH13,$O$10:$Y$21,9) -> -5 | L13: =VLOOKUP(AH13,$O$10:$Y$21,10) -> 17 | M13: =IF(E13>0,((L13*100)/N13)/100,0) -> 0.47222222 | N13: =E13*3 -> 36 | O13: 4 | P13: Turquia | Q13: =IF(Jogos!C15<>"",1,0)+IF(Jogos!L15<>"",1,0)+IF(Jogos!E44<>"",1,0)+IF(Jogos!J44<>"",1,0)+IF(Jogos!C73<>"",1,0)+IF(Jogos!L73<>"",1,0)+IF(Jogos!E102<>"",1,0)+IF(Jogos!J102<>"",1,0)+IF(Jogos!C131<>"",1,0)+IF(Jogos!L131<>"",1,0)+IF(Jogos!E160<>"",1,0)+IF(Jogos!J160<>"",1,0) -> 12 | R13: =IF(Jogos!C15>Jogos!E15,1,0)+IF(Jogos!L15>Jogos!J15,1,0)+IF(Jogos!E44>Jogos!C44,1,0)+IF(Jogos!J44>Jogos!L44,1,0)+IF(Jogos!C73>Jogos!E73,1,0)+IF(Jogos!L73>Jogos!J73,1,0)+IF(Jogos!E102>Jogos!C102,1,0)+IF(Jogos!J102>Jogos!L102,1,0)+IF(Jogos!C131>Jogos!E131,1,0)+IF(Jogos!L131>Jogos!J131,1,0)+IF(Jogos!E160>Jogos!C160,1,0)+IF(Jogos!J160>Jogos!L160,1,0) -> 5 | S13: =Q13-R13-T13 -> 2 | T13: =IF(Jogos!C15<Jogos!E15,1,0)+IF(Jogos!L15<Jogos!J15,1,0)+IF(Jogos!E44<Jogos!C44,1,0)+IF(Jogos!J44<Jogos!L44,1,0)+IF(Jogos!C73<Jogos!E73,1,0)+IF(Jogos!L73<Jogos!J73,1,0)+IF(Jogos!E102<Jogos!C102,1,0)+IF(Jogos!J102<Jogos!L102,1,0)+IF(Jogos!C131<Jogos!E131,1,0)+IF(Jogos!L131<Jogos!J131,1,0)+IF(Jogos!E160<Jogos!C160,1,0)+IF(Jogos!J160<Jogos!L160,1,0) -> 5 | U13: =Jogos!C15+Jogos!L15+Jogos!E44+Jogos!J44+Jogos!C73+Jogos!L73+Jogos!E102+Jogos!J102+Jogos!C131+Jogos!L131+Jogos!E160+Jogos!J160 -> 12 | V13: =Jogos!E15+Jogos!J15+Jogos!C44+Jogos!L44+Jogos!E73+Jogos!J73+Jogos!C102+Jogos!L102+Jogos!E131+Jogos!J131+Jogos!C160+Jogos!L160 -> 17 | W13: =U13-V13 -> -5 | X13: =R13*3+S13 -> 17 | Y13: 4 | AA13: =(10^10)*X13+(10^8)*R13+(10^6)*(50+W13)+(10^4)*U13+(10^2)*Q13+(13-O13) -> 170545121209 | AD13: 4 | AE13: =LARGE(AA10:AA21,AD13) -> 170545121209 | AG13: 4 | AH13: =MATCH(AE13,AA10:AA21,0) -> 4
C14: 5º | D14: =VLOOKUP(AH14,$O$10:$Y$21,2) -> Austria | E14: =VLOOKUP(AH14,$O$10:$Y$21,3) -> 12 | F14: =VLOOKUP(AH14,$O$10:$Y$21,4) -> 3 | G14: =VLOOKUP(AH14,$O$10:$Y$21,5) -> 4 | H14: =VLOOKUP(AH14,$O$10:$Y$21,6) -> 5 | I14: =VLOOKUP(AH14,$O$10:$Y$21,7) -> 10 | J14: =VLOOKUP(AH14,$O$10:$Y$21,8) -> 12 | K14: =VLOOKUP(AH14,$O$10:$Y$21,9) -> -2 | L14: =VLOOKUP(AH14,$O$10:$Y$21,10) -> 13 | M14: =IF(E14>0,((L14*100)/N14)/100,0) -> 0.36111111 | N14: =E14*3 -> 36 | O14: 5 | P14: Rep. Tcheca | Q14: =IF(Jogos!C17<>"",1,0)+IF(Jogos!L17<>"",1,0)+IF(Jogos!E46<>"",1,0)+IF(Jogos!J46<>"",1,0)+IF(Jogos!C75<>"",1,0)+IF(Jogos!L75<>"",1,0)+IF(Jogos!E104<>"",1,0)+IF(Jogos!J104<>"",1,0)+IF(Jogos!C133<>"",1,0)+IF(Jogos!L133<>"",1,0)+IF(Jogos!E162<>"",1,0)+IF(Jogos!J162<>"",1,0) -> 12 | R14: =IF(Jogos!C17>Jogos!E17,1,0)+IF(Jogos!L17>Jogos!J17,1,0)+IF(Jogos!E46>Jogos!C46,1,0)+IF(Jogos!J46>Jogos!L46,1,0)+IF(Jogos!C75>Jogos!E75,1,0)+IF(Jogos!L75>Jogos!J75,1,0)+IF(Jogos!E104>Jogos!C104,1,0)+IF(Jogos!J104>Jogos!L104,1,0)+IF(Jogos!C133>Jogos!E133,1,0)+IF(Jogos!L133>Jogos!J133,1,0)+IF(Jogos!E162>Jogos!C162,1,0)+IF(Jogos!J162>Jogos!L162,1,0) -> 5 | S14: =Q14-R14-T14 -> 3 | T14: =IF(Jogos!C17<Jogos!E17,1,0)+IF(Jogos!L17<Jogos!J17,1,0)+IF(Jogos!E46<Jogos!C46,1,0)+IF(Jogos!J46<Jogos!L46,1,0)+IF(Jogos!C75<Jogos!E75,1,0)+IF(Jogos!L75<Jogos!J75,1,0)+IF(Jogos!E104<Jogos!C104,1,0)+IF(Jogos!J104<Jogos!L104,1,0)+IF(Jogos!C133<Jogos!E133,1,0)+IF(Jogos!L133<Jogos!J133,1,0)+IF(Jogos!E162<Jogos!C162,1,0)+IF(Jogos!J162<Jogos!L162,1,0) -> 4 | U14: =Jogos!C17+Jogos!L17+Jogos!E46+Jogos!J46+Jogos!C75+Jogos!L75+Jogos!E104+Jogos!J104+Jogos!C133+Jogos!L133+Jogos!E162+Jogos!J162 -> 13 | V14: =Jogos!E17+Jogos!J17+Jogos!C46+Jogos!L46+Jogos!E75+Jogos!J75+Jogos!C104+Jogos!L104+Jogos!E133+Jogos!J133+Jogos!C162+Jogos!L162 -> 11 | W14: =U14-V14 -> 2 | X14: =R14*3+S14 -> 18 | Y14: 5 | AA14: =(10^10)*X14+(10^8)*R14+(10^6)*(50+W14)+(10^4)*U14+(10^2)*Q14+(13-O14) -> 180552131208 | AD14: 5 | AE14: =LARGE(AA10:AA21,AD14) -> 130348101201 | AG14: 5 | AH14: =MATCH(AE14,AA10:AA21,0) -> 12
