Workbook

Sheet Geral 1º Turno
B2: CLASSIFICAÇÃO GERAL - 1º Turno | P2: 1º FASE | AA2: OITAVAS DE FINAL | AL2: QUARTAS DE FINAL | AW2: SEMI FINAL | BI2: FINAL
B4: Posição | C4: Times | D4: Jogos | E4: Vitorias | F4: Empates | G4: Derrotas | H4: Gols Pró | I4: Gols Cont. | J4: Saldo | K4: Pontos | P4: ID_TIME | Q4: Times | R4: Jogos | S4: Vitorias | T4: Empates | U4: Derrotas | V4: Gols Pró | W4: Gols Cont. | X4: Saldo | Y4: Pontos | AA4: ID_TIME | AB4: Times | AC4: Jogos | AD4: Vitorias | AE4: Empates | AF4: Derrotas | AG4: Gols Pró | AH4: Gols Cont. | AI4: Saldo | AJ4: Pontos | AL4: ID_TIME | AM4: Times | AN4: Jogos | AO4: Vitorias | AP4: Empates | AQ4: Derrotas | AR4: Gols Pró | AS4: Gols Cont. | AT4: Saldo | AU4: Pontos | AW4: ID_TIME | AX4: Times | AY4: Jogos | AZ4: Vitorias | BA4: Empates | BB4: Derrotas | BC4: Gols Pró | BD4: Gols Cont. | BE4: Saldo | BF4: Pontos | BI4: ID_TIME | BJ4: Times | BK4: Jogos | BL4: Vitorias | BM4: Empates | BN4: Derrotas | BO4: Gols Pró | BP4: Gols Cont. | BQ4: Saldo | BR4: Pontos | BY4: ID_TIME | BZ4: Times | CA4: Jogos | CB4: Vitorias | CC4: Empates | CD4: Derrotas | CE4: Gols Pró | CF4: Gols Cont. | CG4: Saldo | CH4: Pontos
B6: 1º | C6: =VLOOKUP(CO6,$BY$6:$CH$23,2) -> #REF! | D6: =VLOOKUP(CO6,$BY$6:$CH$23,3) -> #REF! | E6: =VLOOKUP(CO6,$BY$6:$CH$23,4) -> #REF! | F6: =D6-E6-G6 -> #REF! | G6: =VLOOKUP(CO6,$BY$6:$CH$23,6) -> #REF! | H6: =VLOOKUP(CO6,$BY$6:$CH$23,7) -> #REF! | I6: =VLOOKUP(CO6,$BY$6:$CH$23,8) -> #REF! | J6: =H6-I6 -> #REF! | K6: =E6*3+F6 -> #REF! | P6: =#REF! -> #REF! | Q6: =#REF! -> #REF! | R6: =#REF! -> #REF! | S6: =#REF! -> #REF! | T6: =#REF! -> #REF! | U6: =#REF! -> #REF! | V6: =#REF! -> #REF! | W6: =#REF! -> #REF! | ... Y6: =#REF! -> #REF! | Z6: =(10^10)*Y6+(10^8)*S6+(10^6)*(50+X6)+(10^4)*V6+(10^2)*R6+(13-P6) -> #REF! | AK6: 0 | AL6: =#REF! -> #REF! | AM6: =IF(ISERROR(VLOOKUP(AL6,$AL$27:$AN$34,2,FALSE)),0,(VLOOKUP(AL6,$AL$27:$AN$34,2,FALSE))) -> 0 | AN6: =IF(ISERROR(VLOOKUP(AL6,$AL$27:$AN$34,3,FALSE)),0,(VLOOKUP(AL6,$AL$27:$AN$34,3,FALSE))) -> 0 | AO6: =IF(ISERROR(VLOOKUP(AL6,$AL$27:$AO$34,4,FALSE)),0,(VLOOKUP(AL6,$AL$27:$AO$34,4,FALSE))) -> 0 | AP6: =AN6-AO6-AQ6 -> 0 | AQ6: =IF(ISERROR(VLOOKUP(AL6,$AL$27:$AQ$34,6,FALSE)),0,(VLOOKUP(AL6,$AL$27:$AQ$34,6,FALSE))) -> 0 | AR6: =IF(ISERROR(VLOOKUP(AL6,$AL$27:$AR$34,7,FALSE)),0,(VLOOKUP(AL6,$AL$27:$AR$34,7,FALSE))) -> 0 | AS6: =IF(ISERROR(VLOOKUP(AL6,$AL$27:$AS$34,8,FALSE)),0,(VLOOKUP(AL6,$AL$27:$AS$34,8,FALSE))) -> 0 | AT6: =AR6-AS6 -> 0 | AU6: =AO6*3+AP6 -> 0 | AW6: 1 | AX6: =IF(ISERROR(VLOOKUP(AW6,$AW$26:$AY$29,2,FALSE)),0,(VLOOKUP(AW6,$AW$26:$AY$29,2,FALSE))) -> 0 | AY6: =IF(ISERROR(VLOOKUP(AW6,$AW$26:$BF$29,3,FALSE)),0,(VLOOKUP(AW6,$AW$26:$BF$29,3,FALSE))) -> 0 | AZ6: =IF(ISERROR(VLOOKUP(AW6,$AW$26:$BF$29,4,FALSE)),0,(VLOOKUP(AW6,$AW$26:$BF$29,4,FALSE))) -> 0 | BA6: =AY6-AZ6-BB6 -> 0 | BB6: =IF(ISERROR(VLOOKUP(AW6,$AW$26:$BF$29,6,FALSE)),0,(VLOOKUP(AW6,$AW$26:$BF$29,6,FALSE))) -> 0 | BC6: =IF(ISERROR(VLOOKUP(AW6,$AW$26:$BF$29,7,FALSE)),0,(VLOOKUP(AW6,$AW$26:$BF$29,7,FALSE))) -> 0 | BD6: =IF(ISERROR(VLOOKUP(AW6,$AW$26:$BF$29,8,FALSE)),0,(VLOOKUP(AW6,$AW$26:$BF$29,8,FALSE))) -> 0 | BE6: =BC6-BD6 -> 0 | BF6: =AZ6*3+BA6 -> 0 | BI6: 1 | BJ6: =IF(ISERROR(VLOOKUP(BI6,$BI$26:$BK$29,2,FALSE)),0,(VLOOKUP(BI6,$BI$26:$BK$29,2,FALSE))) -> 0 | BK6: =IF(ISERROR(VLOOKUP(BI6,$BI$26:$BR$27,3,FALSE)),0,(VLOOKUP(BI6,$BI$26:$BR$27,3,FALSE))) -> 0 | BL6: =IF(ISERROR(VLOOKUP(BI6,$BI$26:$BR$27,4,FALSE)),0,(VLOOKUP(BI6,$BI$26:$BR$27,4,FALSE))) -> 0 | BM6: =BK6-BL6-BN6 -> 0 | BN6: =IF(ISERROR(VLOOKUP(BI6,$BI$26:$BR$27,6,FALSE)),0,(VLOOKUP(BI6,$BI$26:$BR$27,6,FALSE))) -> 0 | BO6: =IF(ISERROR(VLOOKUP(BI6,$BI$26:$BR$27,7,FALSE)),0,(VLOOKUP(BI6,$BI$26:$BR$27,7,FALSE))) -> 0 | BP6: =IF(ISERROR(VLOOKUP(BI6,$BI$26:$BR$27,8,FALSE)),0,(VLOOKUP(BI6,$BI$26:$BR$27,8,FALSE))) -> 0 | BQ6: =BO6-BP6 -> 0 | BR6: =BL6*3+BM6 -> 0 | BY6: =P6 -> #REF! | BZ6: =Q6 -> #REF! | CA6: =R6+AN6+AY6+BK6 -> #REF! | CB6: =S6+AO6+AZ6+BL6 -> #REF! | CC6: =T6+AP6+BA6+BM6 -> #REF! | CD6: =U6+AQ6+BB6+BN6 -> #REF! | CE6: =V6+AR6+BC6+BO6 -> #REF! | CF6: =W6+AS6+BD6+BP6 -> #REF! | CG6: =X6+AT6+BE6+BQ6 -> #REF! | CH6: =Y6+AU6+BF6+BR6 -> #REF! | CJ6: =(10^10)*CH6+(10^8)*CB6+(10^6)*(50+CG6)+(10^4)*CE6+(10^2)*CA6+(13-BY6) -> #REF! | CK6: 1 | CL6: =LARGE($CJ$6:$CJ$23,CK6) -> #REF! | CN6: 1 | CO6: =MATCH(CL6,$CJ$6:$CJ$23,0) -> #REF!
B7: 2º | C7: =VLOOKUP(CO7,$BY$6:$CH$23,2) -> #REF! | D7: =VLOOKUP(CO7,$BY$6:$CH$23,3) -> #REF! | E7: =VLOOKUP(CO7,$BY$6:$CH$23,4) -> #REF! | F7: =D7-E7-G7 -> #REF! | G7: =VLOOKUP(CO7,$BY$6:$CH$23,6) -> #REF! | H7: =VLOOKUP(CO7,$BY$6:$CH$23,7) -> #REF! | I7: =VLOOKUP(CO7,$BY$6:$CH$23,8) -> #REF! | J7: =H7-I7 -> #REF! | K7: =E7*3+F7 -> #REF! | P7: =#REF! -> #REF! | Q7: =#REF! -> #REF! | R7: =#REF! -> #REF! | S7: =#REF! -> #REF! | T7: =#REF! -> #REF! | U7: =#REF! -> #REF! | V7: =#REF! -> #REF! | W7: =#REF! -> #REF! | ... Y7: =#REF! -> #REF! | Z7: =(10^10)*Y7+(10^8)*S7+(10^6)*(50+X7)+(10^4)*V7+(10^2)*R7+(13-P7) -> #REF! | AK7: 0 | AL7: =#REF! -> #REF! | AM7: =IF(ISERROR(VLOOKUP(AL7,$AL$27:$AN$34,2,FALSE)),0,(VLOOKUP(AL7,$AL$27:$AN$34,2,FALSE))) -> 0 | AN7: =IF(ISERROR(VLOOKUP(AL7,$AL$27:$AN$34,3,FALSE)),0,(VLOOKUP(AL7,$AL$27:$AN$34,3,FALSE))) -> 0 | AO7: =IF(ISERROR(VLOOKUP(AL7,$AL$27:$AO$34,4,FALSE)),0,(VLOOKUP(AL7,$AL$27:$AO$34,4,FALSE))) -> 0 | AP7: =AN7-AO7-AQ7 -> 0 | AQ7: =IF(ISERROR(VLOOKUP(AL7,$AL$27:$AQ$34,6,FALSE)),0,(VLOOKUP(AL7,$AL$27:$AQ$34,6,FALSE))) -> 0 | AR7: =IF(ISERROR(VLOOKUP(AL7,$AL$27:$AR$34,7,FALSE)),0,(VLOOKUP(AL7,$AL$27:$AR$34,7,FALSE))) -> 0 | AS7: =IF(ISERROR(VLOOKUP(AL7,$AL$27:$AS$34,8,FALSE)),0,(VLOOKUP(AL7,$AL$27:$AS$34,8,FALSE))) -> 0 | AT7: =AR7-AS7 -> 0 | AU7: =AO7*3+AP7 -> 0 | AW7: 2 | AX7: =IF(ISERROR(VLOOKUP(AW7,$AW$26:$AY$29,2,FALSE)),0,(VLOOKUP(AW7,$AW$26:$AY$29,2,FALSE))) -> 0 | AY7: =IF(ISERROR(VLOOKUP(AW7,$AW$26:$BF$29,3,FALSE)),0,(VLOOKUP(AW7,$AW$26:$BF$29,3,FALSE))) -> 0 | AZ7: =IF(ISERROR(VLOOKUP(AW7,$AW$26:$BF$29,4,FALSE)),0,(VLOOKUP(AW7,$AW$26:$BF$29,4,FALSE))) -> 0 | BA7: =AY7-AZ7-BB7 -> 0 | BB7: =IF(ISERROR(VLOOKUP(AW7,$AW$26:$BF$29,6,FALSE)),0,(VLOOKUP(AW7,$AW$26:$BF$29,6,FALSE))) -> 0 | BC7: =IF(ISERROR(VLOOKUP(AW7,$AW$26:$BF$29,7,FALSE)),0,(VLOOKUP(AW7,$AW$26:$BF$29,7,FALSE))) -> 0 | BD7: =IF(ISERROR(VLOOKUP(AW7,$AW$26:$BF$29,8,FALSE)),0,(VLOOKUP(AW7,$AW$26:$BF$29,8,FALSE))) -> 0 | BE7: =BC7-BD7 -> 0 | BF7: =AZ7*3+BA7 -> 0 | BI7: 2 | BJ7: =IF(ISERROR(VLOOKUP(BI7,$BI$26:$BK$29,2,FALSE)),0,(VLOOKUP(BI7,$BI$26:$BK$29,2,FALSE))) -> 0 | BK7: =IF(ISERROR(VLOOKUP(BI7,$BI$26:$BR$27,3,FALSE)),0,(VLOOKUP(BI7,$BI$26:$BR$27,3,FALSE))) -> 0 | BL7: =IF(ISERROR(VLOOKUP(BI7,$BI$26:$BR$27,4,FALSE)),0,(VLOOKUP(BI7,$BI$26:$BR$27,4,FALSE))) -> 0 | BM7: =BK7-BL7-BN7 -> 0 | BN7: =IF(ISERROR(VLOOKUP(BI7,$BI$26:$BR$27,6,FALSE)),0,(VLOOKUP(BI7,$BI$26:$BR$27,6,FALSE))) -> 0 | BO7: =IF(ISERROR(VLOOKUP(BI7,$BI$26:$BR$27,7,FALSE)),0,(VLOOKUP(BI7,$BI$26:$BR$27,7,FALSE))) -> 0 | BP7: =IF(ISERROR(VLOOKUP(BI7,$BI$26:$BR$27,8,FALSE)),0,(VLOOKUP(BI7,$BI$26:$BR$27,8,FALSE))) -> 0 | BQ7: =BO7-BP7 -> 0 | BR7: =BL7*3+BM7 -> 0 | BY7: =P7 -> #REF! | BZ7: =Q7 -> #REF! | CA7: =R7+AN7+AY7+BK7 -> #REF! | CB7: =S7+AO7+AZ7+BL7 -> #REF! | CC7: =T7+AP7+BA7+BM7 -> #REF! | CD7: =U7+AQ7+BB7+BN7 -> #REF! | CE7: =V7+AR7+BC7+BO7 -> #REF! | CF7: =W7+AS7+BD7+BP7 -> #REF! | CG7: =X7+AT7+BE7+BQ7 -> #REF! | CH7: =Y7+AU7+BF7+BR7 -> #REF! | CJ7: =(10^10)*CH7+(10^8)*CB7+(10^6)*(50+CG7)+(10^4)*CE7+(10^2)*CA7+(13-BY7) -> #REF! | CK7: 2 | CL7: =LARGE($CJ$6:$CJ$23,CK7) -> #REF! | CN7: 2 | CO7: =MATCH(CL7,$CJ$6:$CJ$23,0) -> #REF!
B8: 3º | C8: =VLOOKUP(CO8,$BY$6:$CH$23,2) -> #REF! | D8: =VLOOKUP(CO8,$BY$6:$CH$23,3) -> #REF! | E8: =VLOOKUP(CO8,$BY$6:$CH$23,4) -> #REF! | F8: =D8-E8-G8 -> #REF! | G8: =VLOOKUP(CO8,$BY$6:$CH$23,6) -> #REF! | H8: =VLOOKUP(CO8,$BY$6:$CH$23,7) -> #REF! | I8: =VLOOKUP(CO8,$BY$6:$CH$23,8) -> #REF! | J8: =H8-I8 -> #REF! | K8: =E8*3+F8 -> #REF! | P8: =#REF! -> #REF! | Q8: =#REF! -> #REF! | R8: =#REF! -> #REF! | S8: =#REF! -> #REF! | T8: =#REF! -> #REF! | U8: =#REF! -> #REF! | V8: =#REF! -> #REF! | W8: =#REF! -> #REF! | ... Y8: =#REF! -> #REF! | Z8: =(10^10)*Y8+(10^8)*S8+(10^6)*(50+X8)+(10^4)*V8+(10^2)*R8+(13-P8) -> #REF! | AK8: 0 | AL8: =#REF! -> #REF! | AM8: =IF(ISERROR(VLOOKUP(AL8,$AL$27:$AN$34,2,FALSE)),0,(VLOOKUP(AL8,$AL$27:$AN$34,2,FALSE))) -> 0 | AN8: =IF(ISERROR(VLOOKUP(AL8,$AL$27:$AN$34,3,FALSE)),0,(VLOOKUP(AL8,$AL$27:$AN$34,3,FALSE))) -> 0 | AO8: =IF(ISERROR(VLOOKUP(AL8,$AL$27:$AO$34,4,FALSE)),0,(VLOOKUP(AL8,$AL$27:$AO$34,4,FALSE))) -> 0 | AP8: =AN8-AO8-AQ8 -> 0 | AQ8: =IF(ISERROR(VLOOKUP(AL8,$AL$27:$AQ$34,6,FALSE)),0,(VLOOKUP(AL8,$AL$27:$AQ$34,6,FALSE))) -> 0 | AR8: =IF(ISERROR(VLOOKUP(AL8,$AL$27:$AR$34,7,FALSE)),0,(VLOOKUP(AL8,$AL$27:$AR$34,7,FALSE))) -> 0 | AS8: =IF(ISERROR(VLOOKUP(AL8,$AL$27:$AS$34,8,FALSE)),0,(VLOOKUP(AL8,$AL$27:$AS$34,8,FALSE))) -> 0 | AT8: =AR8-AS8 -> 0 | AU8: =AO8*3+AP8 -> 0 | AW8: 3 | AX8: =IF(ISERROR(VLOOKUP(AW8,$AW$26:$AY$29,2,FALSE)),0,(VLOOKUP(AW8,$AW$26:$AY$29,2,FALSE))) -> 0 | AY8: =IF(ISERROR(VLOOKUP(AW8,$AW$26:$BF$29,3,FALSE)),0,(VLOOKUP(AW8,$AW$26:$BF$29,3,FALSE))) -> 0 | AZ8: =IF(ISERROR(VLOOKUP(AW8,$AW$26:$BF$29,4,FALSE)),0,(VLOOKUP(AW8,$AW$26:$BF$29,4,FALSE))) -> 0 | BA8: =AY8-AZ8-BB8 -> 0 | BB8: =IF(ISERROR(VLOOKUP(AW8,$AW$26:$BF$29,6,FALSE)),0,(VLOOKUP(AW8,$AW$26:$BF$29,6,FALSE))) -> 0 | BC8: =IF(ISERROR(VLOOKUP(AW8,$AW$26:$BF$29,7,FALSE)),0,(VLOOKUP(AW8,$AW$26:$BF$29,7,FALSE))) -> 0 | BD8: =IF(ISERROR(VLOOKUP(AW8,$AW$26:$BF$29,8,FALSE)),0,(VLOOKUP(AW8,$AW$26:$BF$29,8,FALSE))) -> 0 | BE8: =BC8-BD8 -> 0 | BF8: =AZ8*3+BA8 -> 0 | BI8: 3 | BJ8: =IF(ISERROR(VLOOKUP(BI8,$BI$26:$BK$29,2,FALSE)),0,(VLOOKUP(BI8,$BI$26:$BK$29,2,FALSE))) -> 0 | BK8: =IF(ISERROR(VLOOKUP(BI8,$BI$26:$BR$27,3,FALSE)),0,(VLOOKUP(BI8,$BI$26:$BR$27,3,FALSE))) -> 0 | BL8: =IF(ISERROR(VLOOKUP(BI8,$BI$26:$BR$27,4,FALSE)),0,(VLOOKUP(BI8,$BI$26:$BR$27,4,FALSE))) -> 0 | BM8: =BK8-BL8-BN8 -> 0 | BN8: =IF(ISERROR(VLOOKUP(BI8,$BI$26:$BR$27,6,FALSE)),0,(VLOOKUP(BI8,$BI$26:$BR$27,6,FALSE))) -> 0 | BO8: =IF(ISERROR(VLOOKUP(BI8,$BI$26:$BR$27,7,FALSE)),0,(VLOOKUP(BI8,$BI$26:$BR$27,7,FALSE))) -> 0 | BP8: =IF(ISERROR(VLOOKUP(BI8,$BI$26:$BR$27,8,FALSE)),0,(VLOOKUP(BI8,$BI$26:$BR$27,8,FALSE))) -> 0 | BQ8: =BO8-BP8 -> 0 | BR8: =BL8*3+BM8 -> 0 | BY8: =P8 -> #REF! | BZ8: =Q8 -> #REF! | CA8: =R8+AN8+AY8+BK8 -> #REF! | CB8: =S8+AO8+AZ8+BL8 -> #REF! | CC8: =T8+AP8+BA8+BM8 -> #REF! | CD8: =U8+AQ8+BB8+BN8 -> #REF! | CE8: =V8+AR8+BC8+BO8 -> #REF! | CF8: =W8+AS8+BD8+BP8 -> #REF! | CG8: =X8+AT8+BE8+BQ8 -> #REF! | CH8: =Y8+AU8+BF8+BR8 -> #REF! | CJ8: =(10^10)*CH8+(10^8)*CB8+(10^6)*(50+CG8)+(10^4)*CE8+(10^2)*CA8+(13-BY8) -> #REF! | CK8: 3 | CL8: =LARGE($CJ$6:$CJ$23,CK8) -> #REF! | CN8: 3 | CO8: =MATCH(CL8,$CJ$6:$CJ$23,0) -> #REF!
B9: 4º | C9: =VLOOKUP(CO9,$BY$6:$CH$23,2) -> #REF! | D9: =VLOOKUP(CO9,$BY$6:$CH$23,3) -> #REF! | E9: =VLOOKUP(CO9,$BY$6:$CH$23,4) -> #REF! | F9: =D9-E9-G9 -> #REF! | G9: =VLOOKUP(CO9,$BY$6:$CH$23,6) -> #REF! | H9: =VLOOKUP(CO9,$BY$6:$CH$23,7) -> #REF! | I9: =VLOOKUP(CO9,$BY$6:$CH$23,8) -> #REF! | J9: =H9-I9 -> #REF! | K9: =E9*3+F9 -> #REF! | P9: =#REF! -> #REF! | Q9: =#REF! -> #REF! | R9: =#REF! -> #REF! | S9: =#REF! -> #REF! | T9: =#REF! -> #REF! | U9: =#REF! -> #REF! | V9: =#REF! -> #REF! | W9: =#REF! -> #REF! | ... Y9: =#REF! -> #REF! | Z9: =(10^10)*Y9+(10^8)*S9+(10^6)*(50+X9)+(10^4)*V9+(10^2)*R9+(13-P9) -> #REF! | AK9: 0 | AL9: =#REF! -> #REF! | AM9: =IF(ISERROR(VLOOKUP(AL9,$AL$27:$AN$34,2,FALSE)),0,(VLOOKUP(AL9,$AL$27:$AN$34,2,FALSE))) -> 0 | AN9: =IF(ISERROR(VLOOKUP(AL9,$AL$27:$AN$34,3,FALSE)),0,(VLOOKUP(AL9,$AL$27:$AN$34,3,FALSE))) -> 0 | AO9: =IF(ISERROR(VLOOKUP(AL9,$AL$27:$AO$34,4,FALSE)),0,(VLOOKUP(AL9,$AL$27:$AO$34,4,FALSE))) -> 0 | AP9: =AN9-AO9-AQ9 -> 0 | AQ9: =IF(ISERROR(VLOOKUP(AL9,$AL$27:$AQ$34,6,FALSE)),0,(VLOOKUP(AL9,$AL$27:$AQ$34,6,FALSE))) -> 0 | AR9: =IF(ISERROR(VLOOKUP(AL9,$AL$27:$AR$34,7,FALSE)),0,(VLOOKUP(AL9,$AL$27:$AR$34,7,FALSE))) -> 0 | AS9: =IF(ISERROR(VLOOKUP(AL9,$AL$27:$AS$34,8,FALSE)),0,(VLOOKUP(AL9,$AL$27:$AS$34,8,FALSE))) -> 0 | AT9: =AR9-AS9 -> 0 | AU9: =AO9*3+AP9 -> 0 | AW9: 4 | AX9: =IF(ISERROR(VLOOKUP(AW9,$AW$26:$AY$29,2,FALSE)),0,(VLOOKUP(AW9,$AW$26:$AY$29,2,FALSE))) -> 0 | AY9: =IF(ISERROR(VLOOKUP(AW9,$AW$26:$BF$29,3,FALSE)),0,(VLOOKUP(AW9,$AW$26:$BF$29,3,FALSE))) -> 0 | AZ9: =IF(ISERROR(VLOOKUP(AW9,$AW$26:$BF$29,4,FALSE)),0,(VLOOKUP(AW9,$AW$26:$BF$29,4,FALSE))) -> 0 | BA9: =AY9-AZ9-BB9 -> 0 | BB9: =IF(ISERROR(VLOOKUP(AW9,$AW$26:$BF$29,6,FALSE)),0,(VLOOKUP(AW9,$AW$26:$BF$29,6,FALSE))) -> 0 | BC9: =IF(ISERROR(VLOOKUP(AW9,$AW$26:$BF$29,7,FALSE)),0,(VLOOKUP(AW9,$AW$26:$BF$29,7,FALSE))) -> 0 | BD9: =IF(ISERROR(VLOOKUP(AW9,$AW$26:$BF$29,8,FALSE)),0,(VLOOKUP(AW9,$AW$26:$BF$29,8,FALSE))) -> 0 | BE9: =BC9-BD9 -> 0 | BF9: =AZ9*3+BA9 -> 0 | BI9: 4 | BJ9: =IF(ISERROR(VLOOKUP(BI9,$BI$26:$BK$29,2,FALSE)),0,(VLOOKUP(BI9,$BI$26:$BK$29,2,FALSE))) -> 0 | BK9: =IF(ISERROR(VLOOKUP(BI9,$BI$26:$BR$27,3,FALSE)),0,(VLOOKUP(BI9,$BI$26:$BR$27,3,FALSE))) -> 0 | BL9: =IF(ISERROR(VLOOKUP(BI9,$BI$26:$BR$27,4,FALSE)),0,(VLOOKUP(BI9,$BI$26:$BR$27,4,FALSE))) -> 0 | BM9: =BK9-BL9-BN9 -> 0 | BN9: =IF(ISERROR(VLOOKUP(BI9,$BI$26:$BR$27,6,FALSE)),0,(VLOOKUP(BI9,$BI$26:$BR$27,6,FALSE))) -> 0 | BO9: =IF(ISERROR(VLOOKUP(BI9,$BI$26:$BR$27,7,FALSE)),0,(VLOOKUP(BI9,$BI$26:$BR$27,7,FALSE))) -> 0 | BP9: =IF(ISERROR(VLOOKUP(BI9,$BI$26:$BR$27,8,FALSE)),0,(VLOOKUP(BI9,$BI$26:$BR$27,8,FALSE))) -> 0 | BQ9: =BO9-BP9 -> 0 | BR9: =BL9*3+BM9 -> 0 | BY9: =P9 -> #REF! | BZ9: =Q9 -> #REF! | CA9: =R9+AN9+AY9+BK9 -> #REF! | CB9: =S9+AO9+AZ9+BL9 -> #REF! | CC9: =T9+AP9+BA9+BM9 -> #REF! | CD9: =U9+AQ9+BB9+BN9 -> #REF! | CE9: =V9+AR9+BC9+BO9 -> #REF! | CF9: =W9+AS9+BD9+BP9 -> #REF! | CG9: =X9+AT9+BE9+BQ9 -> #REF! | CH9: =Y9+AU9+BF9+BR9 -> #REF! | CJ9: =(10^10)*CH9+(10^8)*CB9+(10^6)*(50+CG9)+(10^4)*CE9+(10^2)*CA9+(13-BY9) -> #REF! | CK9: 4 | CL9: =LARGE($CJ$6:$CJ$23,CK9) -> #REF! | CN9: 4 | CO9: =MATCH(CL9,$CJ$6:$CJ$23,0) -> #REF!
B10: 5º | C10: =VLOOKUP(CO10,$BY$6:$CH$23,2) -> #REF! | D10: =VLOOKUP(CO10,$BY$6:$CH$23,3) -> #REF! | E10: =VLOOKUP(CO10,$BY$6:$CH$23,4) -> #REF! | F10: =D10-E10-G10 -> #REF! | G10: =VLOOKUP(CO10,$BY$6:$CH$23,6) -> #REF! | H10: =VLOOKUP(CO10,$BY$6:$CH$23,7) -> #REF! | I10: =VLOOKUP(CO10,$BY$6:$CH$23,8) -> #REF! | J10: =H10-I10 -> #REF! | K10: =E10*3+F10 -> #REF! | P10: =#REF! -> #REF! | Q10: =#REF! -> #REF! | R10: =#REF! -> #REF! | S10: =#REF! -> #REF! | T10: =#REF! -> #REF! | U10: =#REF! -> #REF! | V10: =#REF! -> #REF! | W10: =#REF! -> #REF! | ... Y10: =#REF! -> #REF! | Z10: =(10^10)*Y10+(10^8)*S10+(10^6)*(50+X10)+(10^4)*V10+(10^2)*R10+(13-P10) -> #REF! | AK10: 0 | AL10: =#REF! -> #REF! | AM10: =IF(ISERROR(VLOOKUP(AL10,$AL$27:$AN$34,2,FALSE)),0,(VLOOKUP(AL10,$AL$27:$AN$34,2,FALSE))) -> 0 | AN10: =IF(ISERROR(VLOOKUP(AL10,$AL$27:$AN$34,3,FALSE)),0,(VLOOKUP(AL10,$AL$27:$AN$34,3,FALSE))) -> 0 | AO10: =IF(ISERROR(VLOOKUP(AL10,$AL$27:$AO$34,4,FALSE)),0,(VLOOKUP(AL10,$AL$27:$AO$34,4,FALSE))) -> 0 | AP10: =AN10-AO10-AQ10 -> 0 | AQ10: =IF(ISERROR(VLOOKUP(AL10,$AL$27:$AQ$34,6,FALSE)),0,(VLOOKUP(AL10,$AL$27:$AQ$34,6,FALSE))) -> 0 | AR10: =IF(ISERROR(VLOOKUP(AL10,$AL$27:$AR$34,7,FALSE)),0,(VLOOKUP(AL10,$AL$27:$AR$34,7,FALSE))) -> 0 | AS10: =IF(ISERROR(VLOOKUP(AL10,$AL$27:$AS$34,8,FALSE)),0,(VLOOKUP(AL10,$AL$27:$AS$34,8,FALSE))) -> 0 | AT10: =AR10-AS10 -> 0 | AU10: =AO10*3+AP10 -> 0 | AW10: 5 | AX10: =IF(ISERROR(VLOOKUP(AW10,$AW$26:$AY$29,2,FALSE)),0,(VLOOKUP(AW10,$AW$26:$AY$29,2,FALSE))) -> 0 | AY10: =IF(ISERROR(VLOOKUP(AW10,$AW$26:$BF$29,3,FALSE)),0,(VLOOKUP(AW10,$AW$26:$BF$29,3,FALSE))) -> 0 | AZ10: =IF(ISERROR(VLOOKUP(AW10,$AW$26:$BF$29,4,FALSE)),0,(VLOOKUP(AW10,$AW$26:$BF$29,4,FALSE))) -> 0 | BA10: =AY10-AZ10-BB10 -> 0 | BB10: =IF(ISERROR(VLOOKUP(AW10,$AW$26:$BF$29,6,FALSE)),0,(VLOOKUP(AW10,$AW$26:$BF$29,6,FALSE))) -> 0 | BC10: =IF(ISERROR(VLOOKUP(AW10,$AW$26:$BF$29,7,FALSE)),0,(VLOOKUP(AW10,$AW$26:$BF$29,7,FALSE))) -> 0 | BD10: =IF(ISERROR(VLOOKUP(AW10,$AW$26:$BF$29,8,FALSE)),0,(VLOOKUP(AW10,$AW$26:$BF$29,8,FALSE))) -> 0 | BE10: =BC10-BD10 -> 0 | BF10: =AZ10*3+BA10 -> 0 | BI10: 5 | BJ10: =IF(ISERROR(VLOOKUP(BI10,$BI$26:$BK$29,2,FALSE)),0,(VLOOKUP(BI10,$BI$26:$BK$29,2,FALSE))) -> 0 | BK10: =IF(ISERROR(VLOOKUP(BI10,$BI$26:$BR$27,3,FALSE)),0,(VLOOKUP(BI10,$BI$26:$BR$27,3,FALSE))) -> 0 | BL10: =IF(ISERROR(VLOOKUP(BI10,$BI$26:$BR$27,4,FALSE)),0,(VLOOKUP(BI10,$BI$26:$BR$27,4,FALSE))) -> 0 | BM10: =BK10-BL10-BN10 -> 0 | BN10: =IF(ISERROR(VLOOKUP(BI10,$BI$26:$BR$27,6,FALSE)),0,(VLOOKUP(BI10,$BI$26:$BR$27,6,FALSE))) -> 0 | BO10: =IF(ISERROR(VLOOKUP(BI10,$BI$26:$BR$27,7,FALSE)),0,(VLOOKUP(BI10,$BI$26:$BR$27,7,FALSE))) -> 0 | BP10: =IF(ISERROR(VLOOKUP(BI10,$BI$26:$BR$27,8,FALSE)),0,(VLOOKUP(BI10,$BI$26:$BR$27,8,FALSE))) -> 0 | BQ10: =BO10-BP10 -> 0 | BR10: =BL10*3+BM10 -> 0 | BY10: =P10 -> #REF! | BZ10: =Q10 -> #REF! | CA10: =R10+AN10+AY10+BK10 -> #REF! | CB10: =S10+AO10+AZ10+BL10 -> #REF! | CC10: =T10+AP10+BA10+BM10 -> #REF! | CD10: =U10+AQ10+BB10+BN10 -> #REF! | CE10: =V10+AR10+BC10+BO10 -> #REF! | CF10: =W10+AS10+BD10+BP10 -> #REF! | CG10: =X10+AT10+BE10+BQ10 -> #REF! | CH10: =Y10+AU10+BF10+BR10 -> #REF! | CJ10: =(10^10)*CH10+(10^8)*CB10+(10^6)*(50+CG10)+(10^4)*CE10+(10^2)*CA10+(13-BY10) -> #REF! | CK10: 5 | CL10: =LARGE($CJ$6:$CJ$23,CK10) -> #REF! | CN10: 5 | CO10: =MATCH(CL10,$CJ$6:$CJ$23,0) -> #REF!
B11: 6º | C11: =VLOOKUP(CO11,$BY$6:$CH$23,2) -> #REF! | D11: =VLOOKUP(CO11,$BY$6:$CH$23,3) -> #REF! | E11: =VLOOKUP(CO11,$BY$6:$CH$23,4) -> #REF! | F11: =D11-E11-G11 -> #REF! | G11: =VLOOKUP(CO11,$BY$6:$CH$23,6) -> #REF! | H11: =VLOOKUP(CO11,$BY$6:$CH$23,7) -> #REF! | I11: =VLOOKUP(CO11,$BY$6:$CH$23,8) -> #REF! | J11: =H11-I11 -> #REF! | K11: =E11*3+F11 -> #REF! | P11: =#REF! -> #REF! | Q11: =#REF! -> #REF! | R11: =#REF! -> #REF! | S11: =#REF! -> #REF! | T11: =#REF! -> #REF! | U11: =#REF! -> #REF! | V11: =#REF! -> #REF! | W11: =#REF! -> #REF! | ... Y11: =#REF! -> #REF! | Z11: =(10^10)*Y11+(10^8)*S11+(10^6)*(50+X11)+(10^4)*V11+(10^2)*R11+(13-P11) -> #REF! | AK11: 0 | AL11: =#REF! -> #REF! | AM11: =IF(ISERROR(VLOOKUP(AL11,$AL$27:$AN$34,2,FALSE)),0,(VLOOKUP(AL11,$AL$27:$AN$34,2,FALSE))) -> 0 | AN11: =IF(ISERROR(VLOOKUP(AL11,$AL$27:$AN$34,3,FALSE)),0,(VLOOKUP(AL11,$AL$27:$AN$34,3,FALSE))) -> 0 | AO11: =IF(ISERROR(VLOOKUP(AL11,$AL$27:$AO$34,4,FALSE)),0,(VLOOKUP(AL11,$AL$27:$AO$34,4,FALSE))) -> 0 | AP11: =AN11-AO11-AQ11 -> 0 | AQ11: =IF(ISERROR(VLOOKUP(AL11,$AL$27:$AQ$34,6,FALSE)),0,(VLOOKUP(AL11,$AL$27:$AQ$34,6,FALSE))) -> 0 | AR11: =IF(ISERROR(VLOOKUP(AL11,$AL$27:$AR$34,7,FALSE)),0,(VLOOKUP(AL11,$AL$27:$AR$34,7,FALSE))) -> 0 | AS11: =IF(ISERROR(VLOOKUP(AL11,$AL$27:$AS$34,8,FALSE)),0,(VLOOKUP(AL11,$AL$27:$AS$34,8,FALSE))) -> 0 | AT11: =AR11-AS11 -> 0 | AU11: =AO11*3+AP11 -> 0 | AW11: 6 | AX11: =IF(ISERROR(VLOOKUP(AW11,$AW$26:$AY$29,2,FALSE)),0,(VLOOKUP(AW11,$AW$26:$AY$29,2,FALSE))) -> 0 | AY11: =IF(ISERROR(VLOOKUP(AW11,$AW$26:$BF$29,3,FALSE)),0,(VLOOKUP(AW11,$AW$26:$BF$29,3,FALSE))) -> 0 | AZ11: =IF(ISERROR(VLOOKUP(AW11,$AW$26:$BF$29,4,FALSE)),0,(VLOOKUP(AW11,$AW$26:$BF$29,4,FALSE))) -> 0 | BA11: =AY11-AZ11-BB11 -> 0 | BB11: =IF(ISERROR(VLOOKUP(AW11,$AW$26:$BF$29,6,FALSE)),0,(VLOOKUP(AW11,$AW$26:$BF$29,6,FALSE))) -> 0 | BC11: =IF(ISERROR(VLOOKUP(AW11,$AW$26:$BF$29,7,FALSE)),0,(VLOOKUP(AW11,$AW$26:$BF$29,7,FALSE))) -> 0 | BD11: =IF(ISERROR(VLOOKUP(AW11,$AW$26:$BF$29,8,FALSE)),0,(VLOOKUP(AW11,$AW$26:$BF$29,8,FALSE))) -> 0 | BE11: =BC11-BD11 -> 0 | BF11: =AZ11*3+BA11 -> 0 | BI11: 6 | BJ11: =IF(ISERROR(VLOOKUP(BI11,$BI$26:$BK$29,2,FALSE)),0,(VLOOKUP(BI11,$BI$26:$BK$29,2,FALSE))) -> 0 | BK11: =IF(ISERROR(VLOOKUP(BI11,$BI$26:$BR$27,3,FALSE)),0,(VLOOKUP(BI11,$BI$26:$BR$27,3,FALSE))) -> 0 | BL11: =IF(ISERROR(VLOOKUP(BI11,$BI$26:$BR$27,4,FALSE)),0,(VLOOKUP(BI11,$BI$26:$BR$27,4,FALSE))) -> 0 | BM11: =BK11-BL11-BN11 -> 0 | BN11: =IF(ISERROR(VLOOKUP(BI11,$BI$26:$BR$27,6,FALSE)),0,(VLOOKUP(BI11,$BI$26:$BR$27,6,FALSE))) -> 0 | BO11: =IF(ISERROR(VLOOKUP(BI11,$BI$26:$BR$27,7,FALSE)),0,(VLOOKUP(BI11,$BI$26:$BR$27,7,FALSE))) -> 0 | BP11: =IF(ISERROR(VLOOKUP(BI11,$BI$26:$BR$27,8,FALSE)),0,(VLOOKUP(BI11,$BI$26:$BR$27,8,FALSE))) -> 0 | BQ11: =BO11-BP11 -> 0 | BR11: =BL11*3+BM11 -> 0 | BY11: =P11 -> #REF! | BZ11: =Q11 -> #REF! | CA11: =R11+AN11+AY11+BK11 -> #REF! | CB11: =S11+AO11+AZ11+BL11 -> #REF! | CC11: =T11+AP11+BA11+BM11 -> #REF! | CD11: =U11+AQ11+BB11+BN11 -> #REF! | CE11: =V11+AR11+BC11+BO11 -> #REF! | CF11: =W11+AS11+BD11+BP11 -> #REF! | CG11: =X11+AT11+BE11+BQ11 -> #REF! | CH11: =Y11+AU11+BF11+BR11 -> #REF! | CJ11: =(10^10)*CH11+(10^8)*CB11+(10^6)*(50+CG11)+(10^4)*CE11+(10^2)*CA11+(13-BY11) -> #REF! | CK11: 6 | CL11: =LARGE($CJ$6:$CJ$23,CK11) -> #REF! | CN11: 6 | CO11: =MATCH(CL11,$CJ$6:$CJ$23,0) -> #REF!
B12: 7º | C12: =VLOOKUP(CO12,$BY$6:$CH$23,2) -> #REF! | D12: =VLOOKUP(CO12,$BY$6:$CH$23,3) -> #REF! | E12: =VLOOKUP(CO12,$BY$6:$CH$23,4) -> #REF! | F12: =D12-E12-G12 -> #REF! | G12: =VLOOKUP(CO12,$BY$6:$CH$23,6) -> #REF! | H12: =VLOOKUP(CO12,$BY$6:$CH$23,7) -> #REF! | I12: =VLOOKUP(CO12,$BY$6:$CH$23,8) -> #REF! | J12: =H12-I12 -> #REF! | K12: =E12*3+F12 -> #REF! | P12: =#REF! -> #REF! | Q12: =#REF! -> #REF! | R12: =#REF! -> #REF! | S12: =#REF! -> #REF! | T12: =#REF! -> #REF! | U12: =#REF! -> #REF! | V12: =#REF! -> #REF! | W12: =#REF! -> #REF! | ... Y12: =#REF! -> #REF! | Z12: =(10^10)*Y12+(10^8)*S12+(10^6)*(50+X12)+(10^4)*V12+(10^2)*R12+(13-P12) -> #REF! | AK12: 0 | AL12: =#REF! -> #REF! | AM12: =IF(ISERROR(VLOOKUP(AL12,$AL$27:$AN$34,2,FALSE)),0,(VLOOKUP(AL12,$AL$27:$AN$34,2,FALSE))) -> 0 | AN12: =IF(ISERROR(VLOOKUP(AL12,$AL$27:$AN$34,3,FALSE)),0,(VLOOKUP(AL12,$AL$27:$AN$34,3,FALSE))) -> 0 | AO12: =IF(ISERROR(VLOOKUP(AL12,$AL$27:$AO$34,4,FALSE)),0,(VLOOKUP(AL12,$AL$27:$AO$34,4,FALSE))) -> 0 | AP12: =AN12-AO12-AQ12 -> 0 | AQ12: =IF(ISERROR(VLOOKUP(AL12,$AL$27:$AQ$34,6,FALSE)),0,(VLOOKUP(AL12,$AL$27:$AQ$34,6,FALSE))) -> 0 | AR12: =IF(ISERROR(VLOOKUP(AL12,$AL$27:$AR$34,7,FALSE)),0,(VLOOKUP(AL12,$AL$27:$AR$34,7,FALSE))) -> 0 | AS12: =IF(ISERROR(VLOOKUP(AL12,$AL$27:$AS$34,8,FALSE)),0,(VLOOKUP(AL12,$AL$27:$AS$34,8,FALSE))) -> 0 | AT12: =AR12-AS12 -> 0 | AU12: =AO12*3+AP12 -> 0 | AW12: 7 | AX12: =IF(ISERROR(VLOOKUP(AW12,$AW$26:$AY$29,2,FALSE)),0,(VLOOKUP(AW12,$AW$26:$AY$29,2,FALSE))) -> 0 | AY12: =IF(ISERROR(VLOOKUP(AW12,$AW$26:$BF$29,3,FALSE)),0,(VLOOKUP(AW12,$AW$26:$BF$29,3,FALSE))) -> 0 | AZ12: =IF(ISERROR(VLOOKUP(AW12,$AW$26:$BF$29,4,FALSE)),0,(VLOOKUP(AW12,$AW$26:$BF$29,4,FALSE))) -> 0 | BA12: =AY12-AZ12-BB12 -> 0 | BB12: =IF(ISERROR(VLOOKUP(AW12,$AW$26:$BF$29,6,FALSE)),0,(VLOOKUP(AW12,$AW$26:$BF$29,6,FALSE))) -> 0 | BC12: =IF(ISERROR(VLOOKUP(AW12,$AW$26:$BF$29,7,FALSE)),0,(VLOOKUP(AW12,$AW$26:$BF$29,7,FALSE))) -> 0 | BD12: =IF(ISERROR(VLOOKUP(AW12,$AW$26:$BF$29,8,FALSE)),0,(VLOOKUP(AW12,$AW$26:$BF$29,8,FALSE))) -> 0 | BE12: =BC12-BD12 -> 0 | BF12: =AZ12*3+BA12 -> 0 | BI12: 7 | BJ12: =IF(ISERROR(VLOOKUP(BI12,$BI$26:$BK$29,2,FALSE)),0,(VLOOKUP(BI12,$BI$26:$BK$29,2,FALSE))) -> 0 | BK12: =IF(ISERROR(VLOOKUP(BI12,$BI$26:$BR$27,3,FALSE)),0,(VLOOKUP(BI12,$BI$26:$BR$27,3,FALSE))) -> 0 | BL12: =IF(ISERROR(VLOOKUP(BI12,$BI$26:$BR$27,4,FALSE)),0,(VLOOKUP(BI12,$BI$26:$BR$27,4,FALSE))) -> 0 | BM12: =BK12-BL12-BN12 -> 0 | BN12: =IF(ISERROR(VLOOKUP(BI12,$BI$26:$BR$27,6,FALSE)),0,(VLOOKUP(BI12,$BI$26:$BR$27,6,FALSE))) -> 0 | BO12: =IF(ISERROR(VLOOKUP(BI12,$BI$26:$BR$27,7,FALSE)),0,(VLOOKUP(BI12,$BI$26:$BR$27,7,FALSE))) -> 0 | BP12: =IF(ISERROR(VLOOKUP(BI12,$BI$26:$BR$27,8,FALSE)),0,(VLOOKUP(BI12,$BI$26:$BR$27,8,FALSE))) -> 0 | BQ12: =BO12-BP12 -> 0 | BR12: =BL12*3+BM12 -> 0 | BY12: =P12 -> #REF! | BZ12: =Q12 -> #REF! | CA12: =R12+AN12+AY12+BK12 -> #REF! | CB12: =S12+AO12+AZ12+BL12 -> #REF! | CC12: =T12+AP12+BA12+BM12 -> #REF! | CD12: =U12+AQ12+BB12+BN12 -> #REF! | CE12: =V12+AR12+BC12+BO12 -> #REF! | CF12: =W12+AS12+BD12+BP12 -> #REF! | CG12: =X12+AT12+BE12+BQ12 -> #REF! | CH12: =Y12+AU12+BF12+BR12 -> #REF! | CJ12: =(10^10)*CH12+(10^8)*CB12+(10^6)*(50+CG12)+(10^4)*CE12+(10^2)*CA12+(13-BY12) -> #REF! | CK12: 7 | CL12: =LARGE($CJ$6:$CJ$23,CK12) -> #REF! | CN12: 7 | CO12: =MATCH(CL12,$CJ$6:$CJ$23,0) -> #REF!
B13: 8º | C13: =VLOOKUP(CO13,$BY$6:$CH$23,2) -> #REF! | D13: =VLOOKUP(CO13,$BY$6:$CH$23,3) -> #REF! | E13: =VLOOKUP(CO13,$BY$6:$CH$23,4) -> #REF! | F13: =D13-E13-G13 -> #REF! | G13: =VLOOKUP(CO13,$BY$6:$CH$23,6) -> #REF! | H13: =VLOOKUP(CO13,$BY$6:$CH$23,7) -> #REF! | I13: =VLOOKUP(CO13,$BY$6:$CH$23,8) -> #REF! | J13: =H13-I13 -> #REF! | K13: =E13*3+F13 -> #REF! | P13: =#REF! -> #REF! | Q13: =#REF! -> #REF! | R13: =#REF! -> #REF! | S13: =#REF! -> #REF! | T13: =#REF! -> #REF! | U13: =#REF! -> #REF! | V13: =#REF! -> #REF! | W13: =#REF! -> #REF! | ... Y13: =#REF! -> #REF! | Z13: =(10^10)*Y13+(10^8)*S13+(10^6)*(50+X13)+(10^4)*V13+(10^2)*R13+(13-P13) -> #REF! | AK13: 0 | AL13: =#REF! -> #REF! | AM13: =IF(ISERROR(VLOOKUP(AL13,$AL$27:$AN$34,2,FALSE)),0,(VLOOKUP(AL13,$AL$27:$AN$34,2,FALSE))) -> 0 | AN13: =IF(ISERROR(VLOOKUP(AL13,$AL$27:$AN$34,3,FALSE)),0,(VLOOKUP(AL13,$AL$27:$AN$34,3,FALSE))) -> 0 | AO13: =IF(ISERROR(VLOOKUP(AL13,$AL$27:$AO$34,4,FALSE)),0,(VLOOKUP(AL13,$AL$27:$AO$34,4,FALSE))) -> 0 | AP13: =AN13-AO13-AQ13 -> 0 | AQ13: =IF(ISERROR(VLOOKUP(AL13,$AL$27:$AQ$34,6,FALSE)),0,(VLOOKUP(AL13,$AL$27:$AQ$34,6,FALSE))) -> 0 | AR13: =IF(ISERROR(VLOOKUP(AL13,$AL$27:$AR$34,7,FALSE)),0,(VLOOKUP(AL13,$AL$27:$AR$34,7,FALSE))) -> 0 | AS13: =IF(ISERROR(VLOOKUP(AL13,$AL$27:$AS$34,8,FALSE)),0,(VLOOKUP(AL13,$AL$27:$AS$34,8,FALSE))) -> 0 | AT13: =AR13-AS13 -> 0 | AU13: =AO13*3+AP13 -> 0 | AW13: 8 | AX13: =IF(ISERROR(VLOOKUP(AW13,$AW$26:$AY$29,2,FALSE)),0,(VLOOKUP(AW13,$AW$26:$AY$29,2,FALSE))) -> 0 | AY13: =IF(ISERROR(VLOOKUP(AW13,$AW$26:$BF$29,3,FALSE)),0,(VLOOKUP(AW13,$AW$26:$BF$29,3,FALSE))) -> 0 | AZ13: =IF(ISERROR(VLOOKUP(AW13,$AW$26:$BF$29,4,FALSE)),0,(VLOOKUP(AW13,$AW$26:$BF$29,4,FALSE))) -> 0 | BA13: =AY13-AZ13-BB13 -> 0 | BB13: =IF(ISERROR(VLOOKUP(AW13,$AW$26:$BF$29,6,FALSE)),0,(VLOOKUP(AW13,$AW$26:$BF$29,6,FALSE))) -> 0 | BC13: =IF(ISERROR(VLOOKUP(AW13,$AW$26:$BF$29,7,FALSE)),0,(VLOOKUP(AW13,$AW$26:$BF$29,7,FALSE))) -> 0 | BD13: =IF(ISERROR(VLOOKUP(AW13,$AW$26:$BF$29,8,FALSE)),0,(VLOOKUP(AW13,$AW$26:$BF$29,8,FALSE))) -> 0 | BE13: =BC13-BD13 -> 0 | BF13: =AZ13*3+BA13 -> 0 | BI13: 8 | BJ13: =IF(ISERROR(VLOOKUP(BI13,$BI$26:$BK$29,2,FALSE)),0,(VLOOKUP(BI13,$BI$26:$BK$29,2,FALSE))) -> 0 | BK13: =IF(ISERROR(VLOOKUP(BI13,$BI$26:$BR$27,3,FALSE)),0,(VLOOKUP(BI13,$BI$26:$BR$27,3,FALSE))) -> 0 | BL13: =IF(ISERROR(VLOOKUP(BI13,$BI$26:$BR$27,4,FALSE)),0,(VLOOKUP(BI13,$BI$26:$BR$27,4,FALSE))) -> 0 | BM13: =BK13-BL13-BN13 -> 0 | BN13: =IF(ISERROR(VLOOKUP(BI13,$BI$26:$BR$27,6,FALSE)),0,(VLOOKUP(BI13,$BI$26:$BR$27,6,FALSE))) -> 0 | BO13: =IF(ISERROR(VLOOKUP(BI13,$BI$26:$BR$27,7,FALSE)),0,(VLOOKUP(BI13,$BI$26:$BR$27,7,FALSE))) -> 0 | BP13: =IF(ISERROR(VLOOKUP(BI13,$BI$26:$BR$27,8,FALSE)),0,(VLOOKUP(BI13,$BI$26:$BR$27,8,FALSE))) -> 0 | BQ13: =BO13-BP13 -> 0 | BR13: =BL13*3+BM13 -> 0 | BY13: =P13 -> #REF! | BZ13: =Q13 -> #REF! | CA13: =R13+AN13+AY13+BK13 -> #REF! | CB13: =S13+AO13+AZ13+BL13 -> #REF! | CC13: =T13+AP13+BA13+BM13 -> #REF! | CD13: =U13+AQ13+BB13+BN13 -> #REF! | CE13: =V13+AR13+BC13+BO13 -> #REF! | CF13: =W13+AS13+BD13+BP13 -> #REF! | CG13: =X13+AT13+BE13+BQ13 -> #REF! | CH13: =Y13+AU13+BF13+BR13 -> #REF! | CJ13: =(10^10)*CH13+(10^8)*CB13+(10^6)*(50+CG13)+(10^4)*CE13+(10^2)*CA13+(13-BY13) -> #REF! | CK13: 8 | CL13: =LARGE($CJ$6:$CJ$23,CK13) -> #REF! | CN13: 8 | CO13: =MATCH(CL13,$CJ$6:$CJ$23,0) -> #REF!
B14: 9º | C14: =VLOOKUP(CO14,$BY$6:$CH$23,2) -> #REF! | D14: =VLOOKUP(CO14,$BY$6:$CH$23,3) -> #REF! | E14: =VLOOKUP(CO14,$BY$6:$CH$23,4) -> #REF! | F14: =D14-E14-G14 -> #REF! | G14: =VLOOKUP(CO14,$BY$6:$CH$23,6) -> #REF! | H14: =VLOOKUP(CO14,$BY$6:$CH$23,7) -> #REF! | I14: =VLOOKUP(CO14,$BY$6:$CH$23,8) -> #REF! | J14: =H14-I14 -> #REF! | K14: =E14*3+F14 -> #REF! | P14: =#REF! -> #REF! | Q14: =#REF! -> #REF! | R14: =#REF! -> #REF! | S14: =#REF! -> #REF! | T14: =#REF! -> #REF! | U14: =#REF! -> #REF! | V14: =#REF! -> #REF! | W14: =#REF! -> #REF! | ... Y14: =#REF! -> #REF! | Z14: =(10^10)*Y14+(10^8)*S14+(10^6)*(50+X14)+(10^4)*V14+(10^2)*R14+(13-P14) -> #REF! | AK14: 0 | AL14: =#REF! -> #REF! | AM14: =IF(ISERROR(VLOOKUP(AL14,$AL$27:$AN$34,2,FALSE)),0,(VLOOKUP(AL14,$AL$27:$AN$34,2,FALSE))) -> 0 | AN14: =IF(ISERROR(VLOOKUP(AL14,$AL$27:$AN$34,3,FALSE)),0,(VLOOKUP(AL14,$AL$27:$AN$34,3,FALSE))) -> 0 | AO14: =IF(ISERROR(VLOOKUP(AL14,$AL$27:$AO$34,4,FALSE)),0,(VLOOKUP(AL14,$AL$27:$AO$34,4,FALSE))) -> 0 | AP14: =AN14-AO14-AQ14 -> 0 | AQ14: =IF(ISERROR(VLOOKUP(AL14,$AL$27:$AQ$34,6,FALSE)),0,(VLOOKUP(AL14,$AL$27:$AQ$34,6,FALSE))) -> 0 | AR14: =IF(ISERROR(VLOOKUP(AL14,$AL$27:$AR$34,7,FALSE)),0,(VLOOKUP(AL14,$AL$27:$AR$34,7,FALSE))) -> 0 | AS14: =IF(ISERROR(VLOOKUP(AL14,$AL$27:$AS$34,8,FALSE)),0,(VLOOKUP(AL14,$AL$27:$AS$34,8,FALSE))) -> 0 | AT14: =AR14-AS14 -> 0 | AU14: =AO14*3+AP14 -> 0 | AW14: 9 | AX14: =IF(ISERROR(VLOOKUP(AW14,$AW$26:$AY$29,2,FALSE)),0,(VLOOKUP(AW14,$AW$26:$AY$29,2,FALSE))) -> 0 | AY14: =IF(ISERROR(VLOOKUP(AW14,$AW$26:$BF$29,3,FALSE)),0,(VLOOKUP(AW14,$AW$26:$BF$29,3,FALSE))) -> 0 | AZ14: =IF(ISERROR(VLOOKUP(AW14,$AW$26:$BF$29,4,FALSE)),0,(VLOOKUP(AW14,$AW$26:$BF$29,4,FALSE))) -> 0 | BA14: =AY14-AZ14-BB14 -> 0 | BB14: =IF(ISERROR(VLOOKUP(AW14,$AW$26:$BF$29,6,FALSE)),0,(VLOOKUP(AW14,$AW$26:$BF$29,6,FALSE))) -> 0 | BC14: =IF(ISERROR(VLOOKUP(AW14,$AW$26:$BF$29,7,FALSE)),0,(VLOOKUP(AW14,$AW$26:$BF$29,7,FALSE))) -> 0 | BD14: =IF(ISERROR(VLOOKUP(AW14,$AW$26:$BF$29,8,FALSE)),0,(VLOOKUP(AW14,$AW$26:$BF$29,8,FALSE))) -> 0 | BE14: =BC14-BD14 -> 0 | BF14: =AZ14*3+BA14 -> 0 | BI14: 9 | BJ14: =IF(ISERROR(VLOOKUP(BI14,$BI$26:$BK$29,2,FALSE)),0,(VLOOKUP(BI14,$BI$26:$BK$29,2,FALSE))) -> 0 | BK14: =IF(ISERROR(VLOOKUP(BI14,$BI$26:$BR$27,3,FALSE)),0,(VLOOKUP(BI14,$BI$26:$BR$27,3,FALSE))) -> 0 | BL14: =IF(ISERROR(VLOOKUP(BI14,$BI$26:$BR$27,4,FALSE)),0,(VLOOKUP(BI14,$BI$26:$BR$27,4,FALSE))) -> 0 | BM14: =BK14-BL14-BN14 -> 0 | BN14: =IF(ISERROR(VLOOKUP(BI14,$BI$26:$BR$27,6,FALSE)),0,(VLOOKUP(BI14,$BI$26:$BR$27,6,FALSE))) -> 0 | BO14: =IF(ISERROR(VLOOKUP(BI14,$BI$26:$BR$27,7,FALSE)),0,(VLOOKUP(BI14,$BI$26:$BR$27,7,FALSE))) -> 0 | BP14: =IF(ISERROR(VLOOKUP(BI14,$BI$26:$BR$27,8,FALSE)),0,(VLOOKUP(BI14,$BI$26:$BR$27,8,FALSE))) -> 0 | BQ14: =BO14-BP14 -> 0 | BR14: =BL14*3+BM14 -> 0 | BY14: =P14 -> #REF! | BZ14: =Q14 -> #REF! | CA14: =R14+AN14+AY14+BK14 -> #REF! | CB14: =S14+AO14+AZ14+BL14 -> #REF! | CC14: =T14+AP14+BA14+BM14 -> #REF! | CD14: =U14+AQ14+BB14+BN14 -> #REF! | CE14: =V14+AR14+BC14+BO14 -> #REF! | CF14: =W14+AS14+BD14+BP14 -> #REF! | CG14: =X14+AT14+BE14+BQ14 -> #REF! | CH14: =Y14+AU14+BF14+BR14 -> #REF! | CJ14: =(10^10)*CH14+(10^8)*CB14+(10^6)*(50+CG14)+(10^4)*CE14+(10^2)*CA14+(13-BY14) -> #REF! | CK14: 9 | CL14: =LARGE($CJ$6:$CJ$23,CK14) -> #REF! | CN14: 9 | CO14: =MATCH(CL14,$CJ$6:$CJ$23,0) -> #REF!
B15: 10º | C15: =VLOOKUP(CO15,$BY$6:$CH$23,2) -> #REF! | D15: =VLOOKUP(CO15,$BY$6:$CH$23,3) -> #REF! | E15: =VLOOKUP(CO15,$BY$6:$CH$23,4) -> #REF! | F15: =D15-E15-G15 -> #REF! | G15: =VLOOKUP(CO15,$BY$6:$CH$23,6) -> #REF! | H15: =VLOOKUP(CO15,$BY$6:$CH$23,7) -> #REF! | I15: =VLOOKUP(CO15,$BY$6:$CH$23,8) -> #REF! | J15: =H15-I15 -> #REF! | K15: =E15*3+F15 -> #REF! | P15: =#REF! -> #REF! | Q15: =#REF! -> #REF! | R15: =#REF! -> #REF! | S15: =#REF! -> #REF! | T15: =#REF! -> #REF! | U15: =#REF! -> #REF! | V15: =#REF! -> #REF! | W15: =#REF! -> #REF! | ... Y15: =#REF! -> #REF! | Z15: =(10^10)*Y15+(10^8)*S15+(10^6)*(50+X15)+(10^4)*V15+(10^2)*R15+(13-P15) -> #REF! | AK15: 0 | AL15: =#REF! -> #REF! | AM15: =IF(ISERROR(VLOOKUP(AL15,$AL$27:$AN$34,2,FALSE)),0,(VLOOKUP(AL15,$AL$27:$AN$34,2,FALSE))) -> 0 | AN15: =IF(ISERROR(VLOOKUP(AL15,$AL$27:$AN$34,3,FALSE)),0,(VLOOKUP(AL15,$AL$27:$AN$34,3,FALSE))) -> 0 | AO15: =IF(ISERROR(VLOOKUP(AL15,$AL$27:$AO$34,4,FALSE)),0,(VLOOKUP(AL15,$AL$27:$AO$34,4,FALSE))) -> 0 | AP15: =AN15-AO15-AQ15 -> 0 | AQ15: =IF(ISERROR(VLOOKUP(AL15,$AL$27:$AQ$34,6,FALSE)),0,(VLOOKUP(AL15,$AL$27:$AQ$34,6,FALSE))) -> 0 | AR15: =IF(ISERROR(VLOOKUP(AL15,$AL$27:$AR$34,7,FALSE)),0,(VLOOKUP(AL15,$AL$27:$AR$34,7,FALSE))) -> 0 | AS15: =IF(ISERROR(VLOOKUP(AL15,$AL$27:$AS$34,8,FALSE)),0,(VLOOKUP(AL15,$AL$27:$AS$34,8,FALSE))) -> 0 | AT15: =AR15-AS15 -> 0 | AU15: =AO15*3+AP15 -> 0 | AW15: 10 | AX15: =IF(ISERROR(VLOOKUP(AW15,$AW$26:$AY$29,2,FALSE)),0,(VLOOKUP(AW15,$AW$26:$AY$29,2,FALSE))) -> 0 | AY15: =IF(ISERROR(VLOOKUP(AW15,$AW$26:$BF$29,3,FALSE)),0,(VLOOKUP(AW15,$AW$26:$BF$29,3,FALSE))) -> 0 | AZ15: =IF(ISERROR(VLOOKUP(AW15,$AW$26:$BF$29,4,FALSE)),0,(VLOOKUP(AW15,$AW$26:$BF$29,4,FALSE))) -> 0 | BA15: =AY15-AZ15-BB15 -> 0 | BB15: =IF(ISERROR(VLOOKUP(AW15,$AW$26:$BF$29,6,FALSE)),0,(VLOOKUP(AW15,$AW$26:$BF$29,6,FALSE))) -> 0 | BC15: =IF(ISERROR(VLOOKUP(AW15,$AW$26:$BF$29,7,FALSE)),0,(VLOOKUP(AW15,$AW$26:$BF$29,7,FALSE))) -> 0 | BD15: =IF(ISERROR(VLOOKUP(AW15,$AW$26:$BF$29,8,FALSE)),0,(VLOOKUP(AW15,$AW$26:$BF$29,8,FALSE))) -> 0 | BE15: =BC15-BD15 -> 0 | BF15: =AZ15*3+BA15 -> 0 | BI15: 10 | BJ15: =IF(ISERROR(VLOOKUP(BI15,$BI$26:$BK$29,2,FALSE)),0,(VLOOKUP(BI15,$BI$26:$BK$29,2,FALSE))) -> 0 | BK15: =IF(ISERROR(VLOOKUP(BI15,$BI$26:$BR$27,3,FALSE)),0,(VLOOKUP(BI15,$BI$26:$BR$27,3,FALSE))) -> 0 | BL15: =IF(ISERROR(VLOOKUP(BI15,$BI$26:$BR$27,4,FALSE)),0,(VLOOKUP(BI15,$BI$26:$BR$27,4,FALSE))) -> 0 | BM15: =BK15-BL15-BN15 -> 0 | BN15: =IF(ISERROR(VLOOKUP(BI15,$BI$26:$BR$27,6,FALSE)),0,(VLOOKUP(BI15,$BI$26:$BR$27,6,FALSE))) -> 0 | BO15: =IF(ISERROR(VLOOKUP(BI15,$BI$26:$BR$27,7,FALSE)),0,(VLOOKUP(BI15,$BI$26:$BR$27,7,FALSE))) -> 0 | BP15: =IF(ISERROR(VLOOKUP(BI15,$BI$26:$BR$27,8,FALSE)),0,(VLOOKUP(BI15,$BI$26:$BR$27,8,FALSE))) -> 0 | BQ15: =BO15-BP15 -> 0 | BR15: =BL15*3+BM15 -> 0 | BY15: =P15 -> #REF! | BZ15: =Q15 -> #REF! | CA15: =R15+AN15+AY15+BK15 -> #REF! | CB15: =S15+AO15+AZ15+BL15 -> #REF! | CC15: =T15+AP15+BA15+BM15 -> #REF! | CD15: =U15+AQ15+BB15+BN15 -> #REF! | CE15: =V15+AR15+BC15+BO15 -> #REF! | CF15: =W15+AS15+BD15+BP15 -> #REF! | CG15: =X15+AT15+BE15+BQ15 -> #REF! | CH15: =Y15+AU15+BF15+BR15 -> #REF! | CJ15: =(10^10)*CH15+(10^8)*CB15+(10^6)*(50+CG15)+(10^4)*CE15+(10^2)*CA15+(13-BY15) -> #REF! | CK15: 10 | CL15: =LARGE($CJ$6:$CJ$23,CK15) -> #REF! | CN15: 10 | CO15: =MATCH(CL15,$CJ$6:$CJ$23,0) -> #REF!
B16: 11º | C16: =VLOOKUP(CO16,$BY$6:$CH$23,2) -> #REF! | D16: =VLOOKUP(CO16,$BY$6:$CH$23,3) -> #REF! | E16: =VLOOKUP(CO16,$BY$6:$CH$23,4) -> #REF! | F16: =D16-E16-G16 -> #REF! | G16: =VLOOKUP(CO16,$BY$6:$CH$23,6) -> #REF! | H16: =VLOOKUP(CO16,$BY$6:$CH$23,7) -> #REF! | I16: =VLOOKUP(CO16,$BY$6:$CH$23,8) -> #REF! | J16: =H16-I16 -> #REF! | K16: =E16*3+F16 -> #REF! | P16: =#REF! -> #REF! | Q16: =#REF! -> #REF! | R16: =#REF! -> #REF! | S16: =#REF! -> #REF! | T16: =#REF! -> #REF! | U16: =#REF! -> #REF! | V16: =#REF! -> #REF! | W16: =#REF! -> #REF! | ... Y16: =#REF! -> #REF! | Z16: =(10^10)*Y16+(10^8)*S16+(10^6)*(50+X16)+(10^4)*V16+(10^2)*R16+(13-P16) -> #REF! | AK16: 0 | AL16: =#REF! -> #REF! | AM16: =IF(ISERROR(VLOOKUP(AL16,$AL$27:$AN$34,2,FALSE)),0,(VLOOKUP(AL16,$AL$27:$AN$34,2,FALSE))) -> 0 | AN16: =IF(ISERROR(VLOOKUP(AL16,$AL$27:$AN$34,3,FALSE)),0,(VLOOKUP(AL16,$AL$27:$AN$34,3,FALSE))) -> 0 | AO16: =IF(ISERROR(VLOOKUP(AL16,$AL$27:$AO$34,4,FALSE)),0,(VLOOKUP(AL16,$AL$27:$AO$34,4,FALSE))) -> 0 | AP16: =AN16-AO16-AQ16 -> 0 | AQ16: =IF(ISERROR(VLOOKUP(AL16,$AL$27:$AQ$34,6,FALSE)),0,(VLOOKUP(AL16,$AL$27:$AQ$34,6,FALSE))) -> 0 | AR16: =IF(ISERROR(VLOOKUP(AL16,$AL$27:$AR$34,7,FALSE)),0,(VLOOKUP(AL16,$AL$27:$AR$34,7,FALSE))) -> 0 | AS16: =IF(ISERROR(VLOOKUP(AL16,$AL$27:$AS$34,8,FALSE)),0,(VLOOKUP(AL16,$AL$27:$AS$34,8,FALSE))) -> 0 | AT16: =AR16-AS16 -> 0 | AU16: =AO16*3+AP16 -> 0 | AW16: 11 | AX16: =IF(ISERROR(VLOOKUP(AW16,$AW$26:$AY$29,2,FALSE)),0,(VLOOKUP(AW16,$AW$26:$AY$29,2,FALSE))) -> 0 | AY16: =IF(ISERROR(VLOOKUP(AW16,$AW$26:$BF$29,3,FALSE)),0,(VLOOKUP(AW16,$AW$26:$BF$29,3,FALSE))) -> 0 | AZ16: =IF(ISERROR(VLOOKUP(AW16,$AW$26:$BF$29,4,FALSE)),0,(VLOOKUP(AW16,$AW$26:$BF$29,4,FALSE))) -> 0 | BA16: =AY16-AZ16-BB16 -> 0 | BB16: =IF(ISERROR(VLOOKUP(AW16,$AW$26:$BF$29,6,FALSE)),0,(VLOOKUP(AW16,$AW$26:$BF$29,6,FALSE))) -> 0 | BC16: =IF(ISERROR(VLOOKUP(AW16,$AW$26:$BF$29,7,FALSE)),0,(VLOOKUP(AW16,$AW$26:$BF$29,7,FALSE))) -> 0 | BD16: =IF(ISERROR(VLOOKUP(AW16,$AW$26:$BF$29,8,FALSE)),0,(VLOOKUP(AW16,$AW$26:$BF$29,8,FALSE))) -> 0 | BE16: =BC16-BD16 -> 0 | BF16: =AZ16*3+BA16 -> 0 | BI16: 11 | BJ16: =IF(ISERROR(VLOOKUP(BI16,$BI$26:$BK$29,2,FALSE)),0,(VLOOKUP(BI16,$BI$26:$BK$29,2,FALSE))) -> 0 | BK16: =IF(ISERROR(VLOOKUP(BI16,$BI$26:$BR$27,3,FALSE)),0,(VLOOKUP(BI16,$BI$26:$BR$27,3,FALSE))) -> 0 | BL16: =IF(ISERROR(VLOOKUP(BI16,$BI$26:$BR$27,4,FALSE)),0,(VLOOKUP(BI16,$BI$26:$BR$27,4,FALSE))) -> 0 | BM16: =BK16-BL16-BN16 -> 0 | BN16: =IF(ISERROR(VLOOKUP(BI16,$BI$26:$BR$27,6,FALSE)),0,(VLOOKUP(BI16,$BI$26:$BR$27,6,FALSE))) -> 0 | BO16: =IF(ISERROR(VLOOKUP(BI16,$BI$26:$BR$27,7,FALSE)),0,(VLOOKUP(BI16,$BI$26:$BR$27,7,FALSE))) -> 0 | BP16: =IF(ISERROR(VLOOKUP(BI16,$BI$26:$BR$27,8,FALSE)),0,(VLOOKUP(BI16,$BI$26:$BR$27,8,FALSE))) -> 0 | BQ16: =BO16-BP16 -> 0 | BR16: =BL16*3+BM16 -> 0 | BY16: =P16 -> #REF! | BZ16: =Q16 -> #REF! | CA16: =R16+AN16+AY16+BK16 -> #REF! | CB16: =S16+AO16+AZ16+BL16 -> #REF! | CC16: =T16+AP16+BA16+BM16 -> #REF! | CD16: =U16+AQ16+BB16+BN16 -> #REF! | CE16: =V16+AR16+BC16+BO16 -> #REF! | CF16: =W16+AS16+BD16+BP16 -> #REF! | CG16: =X16+AT16+BE16+BQ16 -> #REF! | CH16: =Y16+AU16+BF16+BR16 -> #REF! | CJ16: =(10^10)*CH16+(10^8)*CB16+(10^6)*(50+CG16)+(10^4)*CE16+(10^2)*CA16+(13-BY16) -> #REF! | CK16: 11 | CL16: =LARGE($CJ$6:$CJ$23,CK16) -> #REF! | CN16: 11 | CO16: =MATCH(CL16,$CJ$6:$CJ$23,0) -> #REF!
B17: 12º | C17: =VLOOKUP(CO17,$BY$6:$CH$23,2) -> #REF! | D17: =VLOOKUP(CO17,$BY$6:$CH$23,3) -> #REF! | E17: =VLOOKUP(CO17,$BY$6:$CH$23,4) -> #REF! | F17: =D17-E17-G17 -> #REF! | G17: =VLOOKUP(CO17,$BY$6:$CH$23,6) -> #REF! | H17: =VLOOKUP(CO17,$BY$6:$CH$23,7) -> #REF! | I17: =VLOOKUP(CO17,$BY$6:$CH$23,8) -> #REF! | J17: =H17-I17 -> #REF! | K17: =E17*3+F17 -> #REF! | P17: =#REF! -> #REF! | Q17: =#REF! -> #REF! | R17: =#REF! -> #REF! | S17: =#REF! -> #REF! | T17: =#REF! -> #REF! | U17: =#REF! -> #REF! | V17: =#REF! -> #REF! | W17: =#REF! -> #REF! | ... Y17: =#REF! -> #REF! | Z17: =(10^10)*Y17+(10^8)*S17+(10^6)*(50+X17)+(10^4)*V17+(10^2)*R17+(13-P17) -> #REF! | AK17: 0 | AL17: =#REF! -> #REF! | AM17: =IF(ISERROR(VLOOKUP(AL17,$AL$27:$AN$34,2,FALSE)),0,(VLOOKUP(AL17,$AL$27:$AN$34,2,FALSE))) -> 0 | AN17: =IF(ISERROR(VLOOKUP(AL17,$AL$27:$AN$34,3,FALSE)),0,(VLOOKUP(AL17,$AL$27:$AN$34,3,FALSE))) -> 0 | AO17: =IF(ISERROR(VLOOKUP(AL17,$AL$27:$AO$34,4,FALSE)),0,(VLOOKUP(AL17,$AL$27:$AO$34,4,FALSE))) -> 0 | AP17: =AN17-AO17-AQ17 -> 0 | AQ17: =IF(ISERROR(VLOOKUP(AL17,$AL$27:$AQ$34,6,FALSE)),0,(VLOOKUP(AL17,$AL$27:$AQ$34,6,FALSE))) -> 0 | AR17: =IF(ISERROR(VLOOKUP(AL17,$AL$27:$AR$34,7,FALSE)),0,(VLOOKUP(AL17,$AL$27:$AR$34,7,FALSE))) -> 0 | AS17: =IF(ISERROR(VLOOKUP(AL17,$AL$27:$AS$34,8,FALSE)),0,(VLOOKUP(AL17,$AL$27:$AS$34,8,FALSE))) -> 0 | AT17: =AR17-AS17 -> 0 | AU17: =AO17*3+AP17 -> 0 | AW17: 12 | AX17: =IF(ISERROR(VLOOKUP(AW17,$AW$26:$AY$29,2,FALSE)),0,(VLOOKUP(AW17,$AW$26:$AY$29,2,FALSE))) -> 0 | AY17: =IF(ISERROR(VLOOKUP(AW17,$AW$26:$BF$29,3,FALSE)),0,(VLOOKUP(AW17,$AW$26:$BF$29,3,FALSE))) -> 0 | AZ17: =IF(ISERROR(VLOOKUP(AW17,$AW$26:$BF$29,4,FALSE)),0,(VLOOKUP(AW17,$AW$26:$BF$29,4,FALSE))) -> 0 | BA17: =AY17-AZ17-BB17 -> 0 | BB17: =IF(ISERROR(VLOOKUP(AW17,$AW$26:$BF$29,6,FALSE)),0,(VLOOKUP(AW17,$AW$26:$BF$29,6,FALSE))) -> 0 | BC17: =IF(ISERROR(VLOOKUP(AW17,$AW$26:$BF$29,7,FALSE)),0,(VLOOKUP(AW17,$AW$26:$BF$29,7,FALSE))) -> 0 | BD17: =IF(ISERROR(VLOOKUP(AW17,$AW$26:$BF$29,8,FALSE)),0,(VLOOKUP(AW17,$AW$26:$BF$29,8,FALSE))) -> 0 | BE17: =BC17-BD17 -> 0 | BF17: =AZ17*3+BA17 -> 0 | BI17: 12 | BJ17: =IF(ISERROR(VLOOKUP(BI17,$BI$26:$BK$29,2,FALSE)),0,(VLOOKUP(BI17,$BI$26:$BK$29,2,FALSE))) -> 0 | BK17: =IF(ISERROR(VLOOKUP(BI17,$BI$26:$BR$27,3,FALSE)),0,(VLOOKUP(BI17,$BI$26:$BR$27,3,FALSE))) -> 0 | BL17: =IF(ISERROR(VLOOKUP(BI17,$BI$26:$BR$27,4,FALSE)),0,(VLOOKUP(BI17,$BI$26:$BR$27,4,FALSE))) -> 0 | BM17: =BK17-BL17-BN17 -> 0 | BN17: =IF(ISERROR(VLOOKUP(BI17,$BI$26:$BR$27,6,FALSE)),0,(VLOOKUP(BI17,$BI$26:$BR$27,6,FALSE))) -> 0 | BO17: =IF(ISERROR(VLOOKUP(BI17,$BI$26:$BR$27,7,FALSE)),0,(VLOOKUP(BI17,$BI$26:$BR$27,7,FALSE))) -> 0 | BP17: =IF(ISERROR(VLOOKUP(BI17,$BI$26:$BR$27,8,FALSE)),0,(VLOOKUP(BI17,$BI$26:$BR$27,8,FALSE))) -> 0 | BQ17: =BO17-BP17 -> 0 | BR17: =BL17*3+BM17 -> 0 | BY17: =P17 -> #REF! | BZ17: =Q17 -> #REF! | CA17: =R17+AN17+AY17+BK17 -> #REF! | CB17: =S17+AO17+AZ17+BL17 -> #REF! | CC17: =T17+AP17+BA17+BM17 -> #REF! | CD17: =U17+AQ17+BB17+BN17 -> #REF! | CE17: =V17+AR17+BC17+BO17 -> #REF! | CF17: =W17+AS17+BD17+BP17 -> #REF! | CG17: =X17+AT17+BE17+BQ17 -> #REF! | CH17: =Y17+AU17+BF17+BR17 -> #REF! | CJ17: =(10^10)*CH17+(10^8)*CB17+(10^6)*(50+CG17)+(10^4)*CE17+(10^2)*CA17+(13-BY17) -> #REF! | CK17: 12 | CL17: =LARGE($CJ$6:$CJ$23,CK17) -> #REF! | CN17: 12 | CO17: =MATCH(CL17,$CJ$6:$CJ$23,0) -> #REF!
... B23: 18º | C23: =VLOOKUP(CO23,$BY$6:$CH$23,2) -> #REF! | D23: =VLOOKUP(CO23,$BY$6:$CH$23,3) -> #REF! | E23: =VLOOKUP(CO23,$BY$6:$CH$23,4) -> #REF! | F23: =D23-E23-G23 -> #REF! | G23: =VLOOKUP(CO23,$BY$6:$CH$23,6) -> #REF! | H23: =VLOOKUP(CO23,$BY$6:$CH$23,7) -> #REF! | I23: =VLOOKUP(CO23,$BY$6:$CH$23,8) -> #REF! | J23: =H23-I23 -> #REF! | K23: =E23*3+F23 -> #REF! | P23: =#REF! -> #REF! | Q23: =#REF! -> #REF! | R23: =#REF! -> #REF! | S23: =#REF! -> #REF! | T23: =#REF! -> #REF! | U23: =#REF! -> #REF! | V23: =#REF! -> #REF! | W23: =#REF! -> #REF! | ... Y23: =#REF! -> #REF! | Z23: =(10^10)*Y23+(10^8)*S23+(10^6)*(50+X23)+(10^4)*V23+(10^2)*R23+(13-P23) -> #REF! | AK23: 0 | AL23: =#REF! -> #REF! | AM23: =IF(ISERROR(VLOOKUP(AL23,$AL$27:$AN$34,2,FALSE)),0,(VLOOKUP(AL23,$AL$27:$AN$34,2,FALSE))) -> 0 | AN23: =IF(ISERROR(VLOOKUP(AL23,$AL$27:$AN$34,3,FALSE)),0,(VLOOKUP(AL23,$AL$27:$AN$34,3,FALSE))) -> 0 | AO23: =IF(ISERROR(VLOOKUP(AL23,$AL$27:$AO$34,4,FALSE)),0,(VLOOKUP(AL23,$AL$27:$AO$34,4,FALSE))) -> 0 | AP23: =AN23-AO23-AQ23 -> 0 | AQ23: =IF(ISERROR(VLOOKUP(AL23,$AL$27:$AQ$34,6,FALSE)),0,(VLOOKUP(AL23,$AL$27:$AQ$34,6,FALSE))) -> 0 | AR23: =IF(ISERROR(VLOOKUP(AL23,$AL$27:$AR$34,7,FALSE)),0,(VLOOKUP(AL23,$AL$27:$AR$34,7,FALSE))) -> 0 | AS23: =IF(ISERROR(VLOOKUP(AL23,$AL$27:$AS$34,8,FALSE)),0,(VLOOKUP(AL23,$AL$27:$AS$34,8,FALSE))) -> 0 | AT23: =AR23-AS23 -> 0 | AU23: =AO23*3+AP23 -> 0 | AW23: 18 | AX23: =IF(ISERROR(VLOOKUP(AW23,$AW$26:$AY$29,2,FALSE)),0,(VLOOKUP(AW23,$AW$26:$AY$29,2,FALSE))) -> 0 | AY23: =IF(ISERROR(VLOOKUP(AW23,$AW$26:$BF$29,3,FALSE)),0,(VLOOKUP(AW23,$AW$26:$BF$29,3,FALSE))) -> 0 | AZ23: =IF(ISERROR(VLOOKUP(AW23,$AW$26:$BF$29,4,FALSE)),0,(VLOOKUP(AW23,$AW$26:$BF$29,4,FALSE))) -> 0 | BA23: =AY23-AZ23-BB23 -> 0 | BB23: =IF(ISERROR(VLOOKUP(AW23,$AW$26:$BF$29,6,FALSE)),0,(VLOOKUP(AW23,$AW$26:$BF$29,6,FALSE))) -> 0 | BC23: =IF(ISERROR(VLOOKUP(AW23,$AW$26:$BF$29,7,FALSE)),0,(VLOOKUP(AW23,$AW$26:$BF$29,7,FALSE))) -> 0 | BD23: =IF(ISERROR(VLOOKUP(AW23,$AW$26:$BF$29,8,FALSE)),0,(VLOOKUP(AW23,$AW$26:$BF$29,8,FALSE))) -> 0 | BE23: =BC23-BD23 -> 0 | BF23: =AZ23*3+BA23 -> 0 | BI23: 18 | BJ23: =IF(ISERROR(VLOOKUP(BI23,$BI$26:$BK$29,2,FALSE)),0,(VLOOKUP(BI23,$BI$26:$BK$29,2,FALSE))) -> 0 | BK23: =IF(ISERROR(VLOOKUP(BI23,$BI$26:$BR$27,3,FALSE)),0,(VLOOKUP(BI23,$BI$26:$BR$27,3,FALSE))) -> 0 | BL23: =IF(ISERROR(VLOOKUP(BI23,$BI$26:$BR$27,4,FALSE)),0,(VLOOKUP(BI23,$BI$26:$BR$27,4,FALSE))) -> 0 | BM23: =BK23-BL23-BN23 -> 0 | BN23: =IF(ISERROR(VLOOKUP(BI23,$BI$26:$BR$27,6,FALSE)),0,(VLOOKUP(BI23,$BI$26:$BR$27,6,FALSE))) -> 0 | BO23: =IF(ISERROR(VLOOKUP(BI23,$BI$26:$BR$27,7,FALSE)),0,(VLOOKUP(BI23,$BI$26:$BR$27,7,FALSE))) -> 0 | BP23: =IF(ISERROR(VLOOKUP(BI23,$BI$26:$BR$27,8,FALSE)),0,(VLOOKUP(BI23,$BI$26:$BR$27,8,FALSE))) -> 0 | BQ23: =BO23-BP23 -> 0 | BR23: =BL23*3+BM23 -> 0 | BY23: =P23 -> #REF! | BZ23: =Q23 -> #REF! | CA23: =R23+AN23+AY23+BK23 -> #REF! | CB23: =S23+AO23+AZ23+BL23 -> #REF! | CC23: =T23+AP23+BA23+BM23 -> #REF! | CD23: =U23+AQ23+BB23+BN23 -> #REF! | CE23: =V23+AR23+BC23+BO23 -> #REF! | CF23: =W23+AS23+BD23+BP23 -> #REF! | CG23: =X23+AT23+BE23+BQ23 -> #REF! | CH23: =Y23+AU23+BF23+BR23 -> #REF! | CJ23: =(10^10)*CH23+(10^8)*CB23+(10^6)*(50+CG23)+(10^4)*CE23+(10^2)*CA23+(13-BY23) -> #REF! | CK23: 18 | CL23: =LARGE($CJ$6:$CJ$23,CK23) -> #REF! | CN23: 18 | CO23: =MATCH(CL23,$CJ$6:$CJ$23,0) -> #REF!
AL24: QUARTAS DE FINAL | AW24: SEMI FINAL | BI24: FINAL
AL25: ID_TIME | AM25: Times | AN25: Jogos | AO25: Vitorias | AP25: Empates | AQ25: Derrotas | AR25: Gols Pró | AS25: Gols Cont. | AT25: Saldo | AU25: Pontos | AW25: ID_TIME | AX25: Times | AY25: Jogos | AZ25: Vitorias | BA25: Empates | BB25: Derrotas | BC25: Gols Pró | BD25: Gols Cont. | BE25: Saldo | BF25: Pontos | BI25: ID_TIME | BJ25: Times | BK25: Jogos | BL25: Vitorias | BM25: Empates | BN25: Derrotas | BO25: Gols Pró | BP25: Gols Cont. | BQ25: Saldo | BR25: Pontos
AW26: =#REF! -> #REF! | AX26: =#REF! -> #REF! | AY26: =#REF! -> #REF! | AZ26: =#REF! -> #REF! | BA26: =#REF! -> #REF! | BB26: =#REF! -> #REF! | BC26: =#REF! -> #REF! | BD26: =#REF! -> #REF! | ... BF26: =#REF! -> #REF! | BI26: =#REF! -> #REF! | BJ26: =#REF! -> #REF! | BK26: =#REF! -> #REF! | BL26: =#REF! -> #REF! | BM26: =#REF! -> #REF! | BN26: =#REF! -> #REF! | BO26: =#REF! -> #REF! | BP26: =#REF! -> #REF! | ... BR26: =#REF! -> #REF!
AL27: =#REF! -> #REF! | AM27: =#REF! -> #REF! | AN27: =#REF! -> #REF! | AO27: =#REF! -> #REF! | AP27: =#REF! -> #REF! | AQ27: =#REF! -> #REF! | AR27: =#REF! -> #REF! | AS27: =#REF! -> #REF! | ... AU27: =#REF! -> #REF! | AW27: =#REF! -> #REF! | AX27: =#REF! -> #REF! | AY27: =#REF! -> #REF! | AZ27: =#REF! -> #REF! | BA27: =#REF! -> #REF! | BB27: =#REF! -> #REF! | BC27: =#REF! -> #REF! | BD27: =#REF! -> #REF! | ... BF27: =#REF! -> #REF! | BI27: =#REF! -> #REF! | BJ27: =#REF! -> #REF! | BK27: =#REF! -> #REF! | BL27: =#REF! -> #REF! | BM27: =#REF! -> #REF! | BN27: =#REF! -> #REF! | BO27: =#REF! -> #REF! | BP27: =#REF! -> #REF! | ... BR27: =#REF! -> #REF!
AL28: =#REF! -> #REF! | AM28: =#REF! -> #REF! | AN28: =#REF! -> #REF! | AO28: =#REF! -> #REF! | AP28: =#REF! -> #REF! | AQ28: =#REF! -> #REF! | AR28: =#REF! -> #REF! | AS28: =#REF! -> #REF! | ... AU28: =#REF! -> #REF! | AW28: =#REF! -> #REF! | AX28: =#REF! -> #REF! | AY28: =#REF! -> #REF! | AZ28: =#REF! -> #REF! | BA28: =#REF! -> #REF! | BB28: =#REF! -> #REF! | BC28: =#REF! -> #REF! | BD28: =#REF! -> #REF! | ... BF28: =#REF! -> #REF!
AL29: =#REF! -> #REF! | AM29: =#REF! -> #REF! | AN29: =#REF! -> #REF! | AO29: =#REF! -> #REF! | AP29: =#REF! -> #REF! | AQ29: =#REF! -> #REF! | AR29: =#REF! -> #REF! | AS29: =#REF! -> #REF! | ... AU29: =#REF! -> #REF! | AW29: =#REF! -> #REF! | AX29: =#REF! -> #REF! | AY29: =#REF! -> #REF! | AZ29: =#REF! -> #REF! | BA29: =#REF! -> #REF! | BB29: =#REF! -> #REF! | BC29: =#REF! -> #REF! | BD29: =#REF! -> #REF! | ... BF29: =#REF! -> #REF!
AL30: =#REF! -> #REF! | AM30: =#REF! -> #REF! | AN30: =#REF! -> #REF! | AO30: =#REF! -> #REF! | AP30: =#REF! -> #REF! | AQ30: =#REF! -> #REF! | AR30: =#REF! -> #REF! | AS30: =#REF! -> #REF! | ... AU30: =#REF! -> #REF!
AL31: =#REF! -> #REF! | AM31: =#REF! -> #REF! | AN31: =#REF! -> #REF! | AO31: =#REF! -> #REF! | AP31: =#REF! -> #REF! | AQ31: =#REF! -> #REF! | AR31: =#REF! -> #REF! | AS31: =#REF! -> #REF! | ... AU31: =#REF! -> #REF!
AL32: =#REF! -> #REF! | AM32: =#REF! -> #REF! | AN32: =#REF! -> #REF! | AO32: =#REF! -> #REF! | AP32: =#REF! -> #REF! | AQ32: =#REF! -> #REF! | AR32: =#REF! -> #REF! | AS32: =#REF! -> #REF! | ... AU32: =#REF! -> #REF!
AL33: =#REF! -> #REF! | AM33: =#REF! -> #REF! | AN33: =#REF! -> #REF! | AO33: =#REF! -> #REF! | AP33: =#REF! -> #REF! | AQ33: =#REF! -> #REF! | AR33: =#REF! -> #REF! | AS33: =#REF! -> #REF! | ... AU33: =#REF! -> #REF!
AL34: =#REF! -> #REF! | AM34: =#REF! -> #REF! | AN34: =#REF! -> #REF! | AO34: =#REF! -> #REF! | AP34: =#REF! -> #REF! | AQ34: =#REF! -> #REF! | AR34: =#REF! -> #REF! | AS34: =#REF! -> #REF! | ... AU34: =#REF! -> #REF!

Sheet Classificação
C2: LXXVIII Campeonato
C4: EURO COPA
D5: 43568
C7: Grupo A
C8: Posição | D8: Times | E8: Jogos | F8: Vitorias | G8: Empates | H8: Derrotas | I8: Gols Pró | J8: Gols Cont. | K8: Saldo | L8: Pontos | M8: Aprov. | P8: Times | Q8: Jogos | R8: Vitorias | S8: Empates | T8: Derrotas | U8: Gols Pró | V8: Gols Cont. | W8: Saldo | X8: Pontos | Y8: ID_TIME | AA8: Times | AE8: Maior | AG8: Ordem Crescente
C10: 1º | D10: =VLOOKUP(AH10,$O$10:$Y$21,2) -> Grécia | E10: =VLOOKUP(AH10,$O$10:$Y$21,3) -> 12 | F10: =VLOOKUP(AH10,$O$10:$Y$21,4) -> 5 | G10: =VLOOKUP(AH10,$O$10:$Y$21,5) -> 3 | H10: =VLOOKUP(AH10,$O$10:$Y$21,6) -> 4 | I10: =VLOOKUP(AH10,$O$10:$Y$21,7) -> 17 | J10: =VLOOKUP(AH10,$O$10:$Y$21,8) -> 13 | K10: =VLOOKUP(AH10,$O$10:$Y$21,9) -> 4 | L10: =VLOOKUP(AH10,$O$10:$Y$21,10) -> 18 | M10: =IF(E10>0,((L10*100)/N10)/100,0) -> 0.5 | N10: =E10*3 -> 36 | O10: 1 | P10: Islândia | Q10: =IF(Jogos!C9<>"",1,0)+IF(Jogos!L9<>"",1,0)+IF(Jogos!E38<>"",1,0)+IF(Jogos!J38<>"",1,0)+IF(Jogos!C67<>"",1,0)+IF(Jogos!L67<>"",1,0)+IF(Jogos!E96<>"",1,0)+IF(Jogos!J96<>"",1,0)+IF(Jogos!C125<>"",1,0)+IF(Jogos!L125<>"",1,0)+IF(Jogos!E154<>"",1,0)+IF(Jogos!J154<>"",1,0) -> 12 | R10: =IF(Jogos!C9>Jogos!E9,1,0)+IF(Jogos!L9>Jogos!J9,1,0)+IF(Jogos!E38>Jogos!C38,1,0)+IF(Jogos!J38>Jogos!L38,1,0)+IF(Jogos!C67>Jogos!E67,1,0)+IF(Jogos!L67>Jogos!J67,1,0)+IF(Jogos!E96>Jogos!C96,1,0)+IF(Jogos!J96>Jogos!L96,1,0)+IF(Jogos!C125>Jogos!E125,1,0)+IF(Jogos!L125>Jogos!J125,1,0)+IF(Jogos!E154>Jogos!C154,1,0)+IF(Jogos!J154>Jogos!L154,1,0) -> 2 | S10: =Q10-R10-T10 -> 4 | T10: =IF(Jogos!C9<Jogos!E9,1,0)+IF(Jogos!L9<Jogos!J9,1,0)+IF(Jogos!E38<Jogos!C38,1,0)+IF(Jogos!J38<Jogos!L38,1,0)+IF(Jogos!C67<Jogos!E67,1,0)+IF(Jogos!L67<Jogos!J67,1,0)+IF(Jogos!E96<Jogos!C96,1,0)+IF(Jogos!J96<Jogos!L96,1,0)+IF(Jogos!C125<Jogos!E125,1,0)+IF(Jogos!L125<Jogos!J125,1,0)+IF(Jogos!E154<Jogos!C154,1,0)+IF(Jogos!J154<Jogos!L154,1,0) -> 6 | U10: =Jogos!C9+Jogos!L9+Jogos!E38+Jogos!J38+Jogos!C67+Jogos!L67+Jogos!E96+Jogos!J96+Jogos!C125+Jogos!L125+Jogos!E154+Jogos!J154 -> 10 | V10: =Jogos!E9+Jogos!J9+Jogos!C38+Jogos!L38+Jogos!E67+Jogos!J67+Jogos!C96+Jogos!L96+Jogos!E125+Jogos!J125+Jogos!C154+Jogos!L154 -> 21 | W10: =U10-V10 -> -11 | X10: =R10*3+S10 -> 10 | Y10: 1 | AA10: =(10^10)*X10+(10^8)*R10+(10^6)*(50+W10)+(10^4)*U10+(10^2)*Q10+(13-O10) -> 100239101212 | AD10: 1 | AE10: =LARGE(AA10:AA21,AD10) -> 180554171210 | AG10: 1 | AH10: =MATCH(AE10,AA10:AA21,0) -> 3
C11: 2º | D11: =VLOOKUP(AH11,$O$10:$Y$21,2) -> Rep. Tcheca | E11: =VLOOKUP(AH11,$O$10:$Y$21,3) -> 12 | F11: =VLOOKUP(AH11,$O$10:$Y$21,4) -> 5 | G11: =VLOOKUP(AH11,$O$10:$Y$21,5) -> 3 | H11: =VLOOKUP(AH11,$O$10:$Y$21,6) -> 4 | I11: =VLOOKUP(AH11,$O$10:$Y$21,7) -> 13 | J11: =VLOOKUP(AH11,$O$10:$Y$21,8) -> 11 | K11: =VLOOKUP(AH11,$O$10:$Y$21,9) -> 2 | L11: =VLOOKUP(AH11,$O$10:$Y$21,10) -> 18 | M11: =IF(E11>0,((L11*100)/N11)/100,0) -> 0.5 | N11: =E11*3 -> 36 | O11: 2 | P11: Itália | Q11: =IF(Jogos!C11<>"",1,0)+IF(Jogos!L11<>"",1,0)+IF(Jogos!E40<>"",1,0)+IF(Jogos!J40<>"",1,0)+IF(Jogos!C69<>"",1,0)+IF(Jogos!L69<>"",1,0)+IF(Jogos!E98<>"",1,0)+IF(Jogos!J98<>"",1,0)+IF(Jogos!C127<>"",1,0)+IF(Jogos!L127<>"",1,0)+IF(Jogos!E156<>"",1,0)+IF(Jogos!J156<>"",1,0) -> 12 | R11: =IF(Jogos!C11>Jogos!E11,1,0)+IF(Jogos!L11>Jogos!J11,1,0)+IF(Jogos!E40>Jogos!C40,1,0)+IF(Jogos!J40>Jogos!L40,1,0)+IF(Jogos!C69>Jogos!E69,1,0)+IF(Jogos!L69>Jogos!J69,1,0)+IF(Jogos!E98>Jogos!C98,1,0)+IF(Jogos!J98>Jogos!L98,1,0)+IF(Jogos!C127>Jogos!E127,1,0)+IF(Jogos!L127>Jogos!J127,1,0)+IF(Jogos!E156>Jogos!C156,1,0)+IF(Jogos!J156>Jogos!L156,1,0) -> 0 | S11: =Q11-R11-T11 -> 1 | T11: =IF(Jogos!C11<Jogos!E11,1,0)+IF(Jogos!L11<Jogos!J11,1,0)+IF(Jogos!E40<Jogos!C40,1,0)+IF(Jogos!J40<Jogos!L40,1,0)+IF(Jogos!C69<Jogos!E69,1,0)+IF(Jogos!L69<Jogos!J69,1,0)+IF(Jogos!E98<Jogos!C98,1,0)+IF(Jogos!J98<Jogos!L98,1,0)+IF(Jogos!C127<Jogos!E127,1,0)+IF(Jogos!L127<Jogos!J127,1,0)+IF(Jogos!E156<Jogos!C156,1,0)+IF(Jogos!J156<Jogos!L156,1,0) -> 11 | U11: =Jogos!C11+Jogos!L11+Jogos!E40+Jogos!J40+Jogos!C69+Jogos!L69+Jogos!E98+Jogos!J98+Jogos!C127+Jogos!L127+Jogos!E156+Jogos!J156 -> 7 | V11: =Jogos!E11+Jogos!J11+Jogos!C40+Jogos!L40+Jogos!E69+Jogos!J69+Jogos!C98+Jogos!L98+Jogos!E127+Jogos!J127+Jogos!C156+Jogos!L156 -> 31 | W11: =U11-V11 -> -24 | X11: =R11*3+S11 -> 1 | Y11: 2 | AA11: =(10^10)*X11+(10^8)*R11+(10^6)*(50+W11)+(10^4)*U11+(10^2)*Q11+(13-O11) -> 10026071211 | AD11: 2 | AE11: =LARGE(AA10:AA21,AD11) -> 180552131208 | AG11: 2 | AH11: =MATCH(AE11,AA10:AA21,0) -> 5
C12: 3º | D12: =VLOOKUP(AH12,$O$10:$Y$21,2) -> Eslôvenia | E12: =VLOOKUP(AH12,$O$10:$Y$21,3) -> 12 | F12: =VLOOKUP(AH12,$O$10:$Y$21,4) -> 5 | G12: =VLOOKUP(AH12,$O$10:$Y$21,5) -> 3 | H12: =VLOOKUP(AH12,$O$10:$Y$21,6) -> 4 | I12: =VLOOKUP(AH12,$O$10:$Y$21,7) -> 8 | J12: =VLOOKUP(AH12,$O$10:$Y$21,8) -> 9 | K12: =VLOOKUP(AH12,$O$10:$Y$21,9) -> -1 | L12: =VLOOKUP(AH12,$O$10:$Y$21,10) -> 18 | M12: =IF(E12>0,((L12*100)/N12)/100,0) -> 0.5 | N12: =E12*3 -> 36 | O12: 3 | P12: Grécia | Q12: =IF(Jogos!C13<>"",1,0)+IF(Jogos!L13<>"",1,0)+IF(Jogos!E42<>"",1,0)+IF(Jogos!J42<>"",1,0)+IF(Jogos!C71<>"",1,0)+IF(Jogos!L71<>"",1,0)+IF(Jogos!E100<>"",1,0)+IF(Jogos!J100<>"",1,0)+IF(Jogos!C129<>"",1,0)+IF(Jogos!L129<>"",1,0)+IF(Jogos!E158<>"",1,0)+IF(Jogos!J158<>"",1,0) -> 12 | R12: =IF(Jogos!C13>Jogos!E13,1,0)+IF(Jogos!L13>Jogos!J13,1,0)+IF(Jogos!E42>Jogos!C42,1,0)+IF(Jogos!J42>Jogos!L42,1,0)+IF(Jogos!C71>Jogos!E71,1,0)+IF(Jogos!L71>Jogos!J71,1,0)+IF(Jogos!E100>Jogos!C100,1,0)+IF(Jogos!J100>Jogos!L100,1,0)+IF(Jogos!C129>Jogos!E129,1,0)+IF(Jogos!L129>Jogos!J129,1,0)+IF(Jogos!E158>Jogos!C158,1,0)+IF(Jogos!J158>Jogos!L158,1,0) -> 5 | S12: =Q12-R12-T12 -> 3 | T12: =IF(Jogos!C13<Jogos!E13,1,0)+IF(Jogos!L13<Jogos!J13,1,0)+IF(Jogos!E42<Jogos!C42,1,0)+IF(Jogos!J42<Jogos!L42,1,0)+IF(Jogos!C71<Jogos!E71,1,0)+IF(Jogos!L71<Jogos!J71,1,0)+IF(Jogos!E100<Jogos!C100,1,0)+IF(Jogos!J100<Jogos!L100,1,0)+IF(Jogos!C129<Jogos!E129,1,0)+IF(Jogos!L129<Jogos!J129,1,0)+IF(Jogos!E158<Jogos!C158,1,0)+IF(Jogos!J158<Jogos!L158,1,0) -> 4 | U12: =Jogos!C13+Jogos!L13+Jogos!E42+Jogos!J42+Jogos!C71+Jogos!L71+Jogos!E100+Jogos!J100+Jogos!C129+Jogos!L129+Jogos!E158+Jogos!J158 -> 17 | V12: =Jogos!E13+Jogos!J13+Jogos!C42+Jogos!L42+Jogos!E71+Jogos!J71+Jogos!C100+Jogos!L100+Jogos!E129+Jogos!J129+Jogos!C158+Jogos!L158 -> 13 | W12: =U12-V12 -> 4 | X12: =R12*3+S12 -> 18 | Y12: 3 | AA12: =(10^10)*X12+(10^8)*R12+(10^6)*(50+W12)+(10^4)*U12+(10^2)*Q12+(13-O12) -> 180554171210 | AD12: 3 | AE12: =LARGE(AA10:AA21,AD12) -> 180549081203 | AG12: 3 | AH12: =MATCH(AE12,AA10:AA21,0) -> 10
C13: 4º | D13: =VLOOKUP(AH13,$O$10:$Y$21,2) -> Turquia | E13: =VLOOKUP(AH13,$O$10:$Y$21,3) -> 12 | F13: =VLOOKUP(AH13,$O$10:$Y$21,4) -> 5 | G13: =VLOOKUP(AH13,$O$10:$Y$21,5) -> 2 | H13: =VLOOKUP(AH13,$O$10:$Y$21,6) -> 5 | I13: =VLOOKUP(AH13,$O$10:$Y$21,7) -> 12 | J13: =VLOOKUP(AH13,$O$10:$Y$21,8) -> 17 | K13: =VLOOKUP(AH13,$O$10:$Y$21,9) -> -5 | L13: =VLOOKUP(AH13,$O$10:$Y$21,10) -> 17 | M13: =IF(E13>0,((L13*100)/N13)/100,0) -> 0.47222222 | N13: =E13*3 -> 36 | O13: 4 | P13: Turquia | Q13: =IF(Jogos!C15<>"",1,0)+IF(Jogos!L15<>"",1,0)+IF(Jogos!E44<>"",1,0)+IF(Jogos!J44<>"",1,0)+IF(Jogos!C73<>"",1,0)+IF(Jogos!L73<>"",1,0)+IF(Jogos!E102<>"",1,0)+IF(Jogos!J102<>"",1,0)+IF(Jogos!C131<>"",1,0)+IF(Jogos!L131<>"",1,0)+IF(Jogos!E160<>"",1,0)+IF(Jogos!J160<>"",1,0) -> 12 | R13: =IF(Jogos!C15>Jogos!E15,1,0)+IF(Jogos!L15>Jogos!J15,1,0)+IF(Jogos!E44>Jogos!C44,1,0)+IF(Jogos!J44>Jogos!L44,1,0)+IF(Jogos!C73>Jogos!E73,1,0)+IF(Jogos!L73>Jogos!J73,1,0)+IF(Jogos!E102>Jogos!C102,1,0)+IF(Jogos!J102>Jogos!L102,1,0)+IF(Jogos!C131>Jogos!E131,1,0)+IF(Jogos!L131>Jogos!J131,1,0)+IF(Jogos!E160>Jogos!C160,1,0)+IF(Jogos!J160>Jogos!L160,1,0) -> 5 | S13: =Q13-R13-T13 -> 2 | T13: =IF(Jogos!C15<Jogos!E15,1,0)+IF(Jogos!L15<Jogos!J15,1,0)+IF(Jogos!E44<Jogos!C44,1,0)+IF(Jogos!J44<Jogos!L44,1,0)+IF(Jogos!C73<Jogos!E73,1,0)+IF(Jogos!L73<Jogos!J73,1,0)+IF(Jogos!E102<Jogos!C102,1,0)+IF(Jogos!J102<Jogos!L102,1,0)+IF(Jogos!C131<Jogos!E131,1,0)+IF(Jogos!L131<Jogos!J131,1,0)+IF(Jogos!E160<Jogos!C160,1,0)+IF(Jogos!J160<Jogos!L160,1,0) -> 5 | U13: =Jogos!C15+Jogos!L15+Jogos!E44+Jogos!J44+Jogos!C73+Jogos!L73+Jogos!E102+Jogos!J102+Jogos!C131+Jogos!L131+Jogos!E160+Jogos!J160 -> 12 | V13: =Jogos!E15+Jogos!J15+Jogos!C44+Jogos!L44+Jogos!E73+Jogos!J73+Jogos!C102+Jogos!L102+Jogos!E131+Jogos!J131+Jogos!C160+Jogos!L160 -> 17 | W13: =U13-V13 -> -5 | X13: =R13*3+S13 -> 17 | Y13: 4 | AA13: =(10^10)*X13+(10^8)*R13+(10^6)*(50+W13)+(10^4)*U13+(10^2)*Q13+(13-O13) -> 170545121209 | AD13: 4 | AE13: =LARGE(AA10:AA21,AD13) -> 170545121209 | AG13: 4 | AH13: =MATCH(AE13,AA10:AA21,0) -> 4
C14: 5º | D14: =VLOOKUP(AH14,$O$10:$Y$21,2) -> Austria | E14: =VLOOKUP(AH14,$O$10:$Y$21,3) -> 12 | F14: =VLOOKUP(AH14,$O$10:$Y$21,4) -> 3 | G14: =VLOOKUP(AH14,$O$10:$Y$21,5) -> 4 | H14: =VLOOKUP(AH14,$O$10:$Y$21,6) -> 5 | I14: =VLOOKUP(AH14,$O$10:$Y$21,7) -> 10 | J14: =VLOOKUP(AH14,$O$10:$Y$21,8) -> 12 | K14: =VLOOKUP(AH14,$O$10:$Y$21,9) -> -2 | L14: =VLOOKUP(AH14,$O$10:$Y$21,10) -> 13 | M14: =IF(E14>0,((L14*100)/N14)/100,0) -> 0.36111111 | N14: =E14*3 -> 36 | O14: 5 | P14: Rep. Tcheca | Q14: =IF(Jogos!C17<>"",1,0)+IF(Jogos!L17<>"",1,0)+IF(Jogos!E46<>"",1,0)+IF(Jogos!J46<>"",1,0)+IF(Jogos!C75<>"",1,0)+IF(Jogos!L75<>"",1,0)+IF(Jogos!E104<>"",1,0)+IF(Jogos!J104<>"",1,0)+IF(Jogos!C133<>"",1,0)+IF(Jogos!L133<>"",1,0)+IF(Jogos!E162<>"",1,0)+IF(Jogos!J162<>"",1,0) -> 12 | R14: =IF(Jogos!C17>Jogos!E17,1,0)+IF(Jogos!L17>Jogos!J17,1,0)+IF(Jogos!E46>Jogos!C46,1,0)+IF(Jogos!J46>Jogos!L46,1,0)+IF(Jogos!C75>Jogos!E75,1,0)+IF(Jogos!L75>Jogos!J75,1,0)+IF(Jogos!E104>Jogos!C104,1,0)+IF(Jogos!J104>Jogos!L104,1,0)+IF(Jogos!C133>Jogos!E133,1,0)+IF(Jogos!L133>Jogos!J133,1,0)+IF(Jogos!E162>Jogos!C162,1,0)+IF(Jogos!J162>Jogos!L162,1,0) -> 5 | S14: =Q14-R14-T14 -> 3 | T14: =IF(Jogos!C17<Jogos!E17,1,0)+IF(Jogos!L17<Jogos!J17,1,0)+IF(Jogos!E46<Jogos!C46,1,0)+IF(Jogos!J46<Jogos!L46,1,0)+IF(Jogos!C75<Jogos!E75,1,0)+IF(Jogos!L75<Jogos!J75,1,0)+IF(Jogos!E104<Jogos!C104,1,0)+IF(Jogos!J104<Jogos!L104,1,0)+IF(Jogos!C133<Jogos!E133,1,0)+IF(Jogos!L133<Jogos!J133,1,0)+IF(Jogos!E162<Jogos!C162,1,0)+IF(Jogos!J162<Jogos!L162,1,0) -> 4 | U14: =Jogos!C17+Jogos!L17+Jogos!E46+Jogos!J46+Jogos!C75+Jogos!L75+Jogos!E104+Jogos!J104+Jogos!C133+Jogos!L133+Jogos!E162+Jogos!J162 -> 13 | V14: =Jogos!E17+Jogos!J17+Jogos!C46+Jogos!L46+Jogos!E75+Jogos!J75+Jogos!C104+Jogos!L104+Jogos!E133+Jogos!J133+Jogos!C162+Jogos!L162 -> 11 | W14: =U14-V14 -> 2 | X14: =R14*3+S14 -> 18 | Y14: 5 | AA14: =(10^10)*X14+(10^8)*R14+(10^6)*(50+W14)+(10^4)*U14+(10^2)*Q14+(13-O14) -> 180552131208 | AD14: 5 | AE14: =LARGE(AA10:AA21,AD14) -> 130348101201 | AG14: 5 | AH14: =MATCH(AE14,AA10:AA21,0) -> 12
C15: 6º | D15: =VLOOKUP(AH15,$O$10:$Y$21,2) -> Alemanha | E15: =VLOOKUP(AH15,$O$10:$Y$21,3) -> 12 | F15: =VLOOKUP(AH15,$O$10:$Y$21,4) -> 3 | G15: =VLOOKUP(AH15,$O$10:$Y$21,5) -> 4 | H15: =VLOOKUP(AH15,$O$10:$Y$21,6) -> 5 | I15: =VLOOKUP(AH15,$O$10:$Y$21,7) -> 9 | J15: =VLOOKUP(AH15,$O$10:$Y$21,8) -> 13 | K15: =VLOOKUP(AH15,$O$10:$Y$21,9) -> -4 | L15: =VLOOKUP(AH15,$O$10:$Y$21,10) -> 13 | M15: =IF(E15>0,((L15*100)/N15)/100,0) -> 0.36111111 | N15: =E15*3 -> 36 | O15: 6 | P15: Polônia | Q15: =IF(Jogos!C19<>"",1,0)+IF(Jogos!L19<>"",1,0)+IF(Jogos!E48<>"",1,0)+IF(Jogos!J48<>"",1,0)+IF(Jogos!C77<>"",1,0)+IF(Jogos!L77<>"",1,0)+IF(Jogos!E106<>"",1,0)+IF(Jogos!J106<>"",1,0)+IF(Jogos!C135<>"",1,0)+IF(Jogos!L135<>"",1,0)+IF(Jogos!E164<>"",1,0)+IF(Jogos!J164<>"",1,0) -> 12 | R15: =IF(Jogos!C19>Jogos!E19,1,0)+IF(Jogos!L19>Jogos!J19,1,0)+IF(Jogos!E48>Jogos!C48,1,0)+IF(Jogos!J48>Jogos!L48,1,0)+IF(Jogos!C77>Jogos!E77,1,0)+IF(Jogos!L77>Jogos!J77,1,0)+IF(Jogos!E106>Jogos!C106,1,0)+IF(Jogos!J106>Jogos!L106,1,0)+IF(Jogos!C135>Jogos!E135,1,0)+IF(Jogos!L135>Jogos!J135,1,0)+IF(Jogos!E164>Jogos!C164,1,0)+IF(Jogos!J164>Jogos!L164,1,0) -> 2 | S15: =Q15-R15-T15 -> 6 | T15: =IF(Jogos!C19<Jogos!E19,1,0)+IF(Jogos!L19<Jogos!J19,1,0)+IF(Jogos!E48<Jogos!C48,1,0)+IF(Jogos!J48<Jogos!L48,1,0)+IF(Jogos!C77<Jogos!E77,1,0)+IF(Jogos!L77<Jogos!J77,1,0)+IF(Jogos!E106<Jogos!C106,1,0)+IF(Jogos!J106<Jogos!L106,1,0)+IF(Jogos!C135<Jogos!E135,1,0)+IF(Jogos!L135<Jogos!J135,1,0)+IF(Jogos!E164<Jogos!C164,1,0)+IF(Jogos!J164<Jogos!L164,1,0) -> 4 | U15: =Jogos!C19+Jogos!L19+Jogos!E48+Jogos!J48+Jogos!C77+Jogos!L77+Jogos!E106+Jogos!J106+Jogos!C135+Jogos!L135+Jogos!E164+Jogos!J164 -> 5 | V15: =Jogos!E19+Jogos!J19+Jogos!C48+Jogos!L48+Jogos!E77+Jogos!J77+Jogos!C106+Jogos!L106+Jogos!E135+Jogos!J135+Jogos!C164+Jogos!L164 -> 11 | W15: =U15-V15 -> -6 | X15: =R15*3+S15 -> 12 | Y15: 6 | AA15: =(10^10)*X15+(10^8)*R15+(10^6)*(50+W15)+(10^4)*U15+(10^2)*Q15+(13-O15) -> 120244051207 | AD15: 6 | AE15: =LARGE(AA10:AA21,AD15) -> 130346091205 | AG15: 6 | AH15: =MATCH(AE15,AA10:AA21,0) -> 8
C16: 7º | D16: =VLOOKUP(AH16,$O$10:$Y$21,2) -> Polônia | E16: =VLOOKUP(AH16,$O$10:$Y$21,3) -> 12 | F16: =VLOOKUP(AH16,$O$10:$Y$21,4) -> 2 | G16: =VLOOKUP(AH16,$O$10:$Y$21,5) -> 6 | H16: =VLOOKUP(AH16,$O$10:$Y$21,6) -> 4 | I16: =VLOOKUP(AH16,$O$10:$Y$21,7) -> 5 | J16: =VLOOKUP(AH16,$O$10:$Y$21,8) -> 11 | K16: =VLOOKUP(AH16,$O$10:$Y$21,9) -> -6 | L16: =VLOOKUP(AH16,$O$10:$Y$21,10) -> 12 | M16: =IF(E16>0,((L16*100)/N16)/100,0) -> 0.33333333 | N16: =E16*3 -> 36 | O16: 7 | P16: Holanda | Q16: =IF(Jogos!C21<>"",1,0)+IF(Jogos!L21<>"",1,0)+IF(Jogos!E50<>"",1,0)+IF(Jogos!J50<>"",1,0)+IF(Jogos!C79<>"",1,0)+IF(Jogos!L79<>"",1,0)+IF(Jogos!E108<>"",1,0)+IF(Jogos!J108<>"",1,0)+IF(Jogos!C137<>"",1,0)+IF(Jogos!L137<>"",1,0)+IF(Jogos!E166<>"",1,0)+IF(Jogos!J166<>"",1,0) -> 12 | R16: =IF(Jogos!C21>Jogos!E21,1,0)+IF(Jogos!L21>Jogos!J21,1,0)+IF(Jogos!E50>Jogos!C50,1,0)+IF(Jogos!J50>Jogos!L50,1,0)+IF(Jogos!C79>Jogos!E79,1,0)+IF(Jogos!L79>Jogos!J79,1,0)+IF(Jogos!E108>Jogos!C108,1,0)+IF(Jogos!J108>Jogos!L108,1,0)+IF(Jogos!C137>Jogos!E137,1,0)+IF(Jogos!L137>Jogos!J137,1,0)+IF(Jogos!E166>Jogos!C166,1,0)+IF(Jogos!J166>Jogos!L166,1,0) -> 0 | S16: =Q16-R16-T16 -> 1 | T16: =IF(Jogos!C21<Jogos!E21,1,0)+IF(Jogos!L21<Jogos!J21,1,0)+IF(Jogos!E50<Jogos!C50,1,0)+IF(Jogos!J50<Jogos!L50,1,0)+IF(Jogos!C79<Jogos!E79,1,0)+IF(Jogos!L79<Jogos!J79,1,0)+IF(Jogos!E108<Jogos!C108,1,0)+IF(Jogos!J108<Jogos!L108,1,0)+IF(Jogos!C137<Jogos!E137,1,0)+IF(Jogos!L137<Jogos!J137,1,0)+IF(Jogos!E166<Jogos!C166,1,0)+IF(Jogos!J166<Jogos!L166,1,0) -> 11 | U16: =Jogos!C21+Jogos!L21+Jogos!E50+Jogos!J50+Jogos!C79+Jogos!L79+Jogos!E108+Jogos!J108+Jogos!C137+Jogos!L137+Jogos!E166+Jogos!J166 -> 4 | V16: =Jogos!E21+Jogos!J21+Jogos!C50+Jogos!L50+Jogos!E79+Jogos!J79+Jogos!C108+Jogos!L108+Jogos!E137+Jogos!J137+Jogos!C166+Jogos!L166 -> 25 | W16: =U16-V16 -> -21 | X16: =R16*3+S16 -> 1 | Y16: 7 | AA16: =(10^10)*X16+(10^8)*R16+(10^6)*(50+W16)+(10^4)*U16+(10^2)*Q16+(13-O16) -> 10029041206 | AD16: 7 | AE16: =LARGE(AA10:AA21,AD16) -> 120244051207 | AG16: 7 | AH16: =MATCH(AE16,AA10:AA21,0) -> 6
C17: 8º | D17: =VLOOKUP(AH17,$O$10:$Y$21,2) -> Suíça | E17: =VLOOKUP(AH17,$O$10:$Y$21,3) -> 12 | F17: =VLOOKUP(AH17,$O$10:$Y$21,4) -> 3 | G17: =VLOOKUP(AH17,$O$10:$Y$21,5) -> 2 | H17: =VLOOKUP(AH17,$O$10:$Y$21,6) -> 7 | I17: =VLOOKUP(AH17,$O$10:$Y$21,7) -> 5 | J17: =VLOOKUP(AH17,$O$10:$Y$21,8) -> 18 | K17: =VLOOKUP(AH17,$O$10:$Y$21,9) -> -13 | L17: =VLOOKUP(AH17,$O$10:$Y$21,10) -> 11 | M17: =IF(E17>0,((L17*100)/N17)/100,0) -> 0.30555556 | N17: =E17*3 -> 36 | O17: 8 | P17: Alemanha | Q17: =IF(Jogos!C23<>"",1,0)+IF(Jogos!L23<>"",1,0)+IF(Jogos!E52<>"",1,0)+IF(Jogos!J52<>"",1,0)+IF(Jogos!C81<>"",1,0)+IF(Jogos!L81<>"",1,0)+IF(Jogos!E110<>"",1,0)+IF(Jogos!J110<>"",1,0)+IF(Jogos!C139<>"",1,0)+IF(Jogos!L139<>"",1,0)+IF(Jogos!E168<>"",1,0)+IF(Jogos!J168<>"",1,0) -> 12 | R17: =IF(Jogos!C23>Jogos!E23,1,0)+IF(Jogos!L23>Jogos!J23,1,0)+IF(Jogos!E52>Jogos!C52,1,0)+IF(Jogos!J52>Jogos!L52,1,0)+IF(Jogos!C81>Jogos!E81,1,0)+IF(Jogos!L81>Jogos!J81,1,0)+IF(Jogos!E110>Jogos!C110,1,0)+IF(Jogos!J110>Jogos!L110,1,0)+IF(Jogos!C139>Jogos!E139,1,0)+IF(Jogos!L139>Jogos!J139,1,0)+IF(Jogos!E168>Jogos!C168,1,0)+IF(Jogos!J168>Jogos!L168,1,0) -> 3 | S17: =Q17-R17-T17 -> 4 | T17: =IF(Jogos!C23<Jogos!E23,1,0)+IF(Jogos!L23<Jogos!J23,1,0)+IF(Jogos!E52<Jogos!C52,1,0)+IF(Jogos!J52<Jogos!L52,1,0)+IF(Jogos!C81<Jogos!E81,1,0)+IF(Jogos!L81<Jogos!J81,1,0)+IF(Jogos!E110<Jogos!C110,1,0)+IF(Jogos!J110<Jogos!L110,1,0)+IF(Jogos!C139<Jogos!E139,1,0)+IF(Jogos!L139<Jogos!J139,1,0)+IF(Jogos!E168<Jogos!C168,1,0)+IF(Jogos!J168<Jogos!L168,1,0) -> 5 | U17: =Jogos!C23+Jogos!L23+Jogos!E52+Jogos!J52+Jogos!C81+Jogos!L81+Jogos!E110+Jogos!J110+Jogos!C139+Jogos!L139+Jogos!E168+Jogos!J168 -> 9 | V17: =Jogos!E23+Jogos!J23+Jogos!C52+Jogos!L52+Jogos!E81+Jogos!J81+Jogos!C110+Jogos!L110+Jogos!E139+Jogos!J139+Jogos!C168+Jogos!L168 -> 13 | W17: =U17-V17 -> -4 | X17: =R17*3+S17 -> 13 | Y17: 8 | AA17: =(10^10)*X17+(10^8)*R17+(10^6)*(50+W17)+(10^4)*U17+(10^2)*Q17+(13-O17) -> 130346091205 | AD17: 8 | AE17: =LARGE(AA10:AA21,AD17) -> 110337051204 | AG17: 8 | AH17: =MATCH(AE17,AA10:AA21,0) -> 9
C18: 9º | D18: =VLOOKUP(AH18,$O$10:$Y$21,2) -> Islândia | E18: =VLOOKUP(AH18,$O$10:$Y$21,3) -> 12 | F18: =VLOOKUP(AH18,$O$10:$Y$21,4) -> 2 | G18: =VLOOKUP(AH18,$O$10:$Y$21,5) -> 4 | H18: =VLOOKUP(AH18,$O$10:$Y$21,6) -> 6 | I18: =VLOOKUP(AH18,$O$10:$Y$21,7) -> 10 | J18: =VLOOKUP(AH18,$O$10:$Y$21,8) -> 21 | K18: =VLOOKUP(AH18,$O$10:$Y$21,9) -> -11 | L18: =VLOOKUP(AH18,$O$10:$Y$21,10) -> 10 | M18: =IF(E18>0,((L18*100)/N18)/100,0) -> 0.27777778 | N18: =E18*3 -> 36 | O18: 9 | P18: Suíça | Q18: =IF(Jogos!C25<>"",1,0)+IF(Jogos!L25<>"",1,0)+IF(Jogos!E54<>"",1,0)+IF(Jogos!J54<>"",1,0)+IF(Jogos!C83<>"",1,0)+IF(Jogos!L83<>"",1,0)+IF(Jogos!E112<>"",1,0)+IF(Jogos!J112<>"",1,0)+IF(Jogos!C141<>"",1,0)+IF(Jogos!L141<>"",1,0)+IF(Jogos!E170<>"",1,0)+IF(Jogos!J170<>"",1,0) -> 12 | R18: =IF(Jogos!C25>Jogos!E25,1,0)+IF(Jogos!L25>Jogos!J25,1,0)+IF(Jogos!E54>Jogos!C54,1,0)+IF(Jogos!J54>Jogos!L54,1,0)+IF(Jogos!C83>Jogos!E83,1,0)+IF(Jogos!L83>Jogos!J83,1,0)+IF(Jogos!E112>Jogos!C112,1,0)+IF(Jogos!J112>Jogos!L112,1,0)+IF(Jogos!C141>Jogos!E141,1,0)+IF(Jogos!L141>Jogos!J141,1,0)+IF(Jogos!E170>Jogos!C170,1,0)+IF(Jogos!J170>Jogos!L170,1,0) -> 3 | S18: =Q18-R18-T18 -> 2 | T18: =IF(Jogos!C25<Jogos!E25,1,0)+IF(Jogos!L25<Jogos!J25,1,0)+IF(Jogos!E54<Jogos!C54,1,0)+IF(Jogos!J54<Jogos!L54,1,0)+IF(Jogos!C83<Jogos!E83,1,0)+IF(Jogos!L83<Jogos!J83,1,0)+IF(Jogos!E112<Jogos!C112,1,0)+IF(Jogos!J112<Jogos!L112,1,0)+IF(Jogos!C141<Jogos!E141,1,0)+IF(Jogos!L141<Jogos!J141,1,0)+IF(Jogos!E170<Jogos!C170,1,0)+IF(Jogos!J170<Jogos!L170,1,0) -> 7 | U18: =Jogos!C25+Jogos!L25+Jogos!E54+Jogos!J54+Jogos!C83+Jogos!L83+Jogos!E112+Jogos!J112+Jogos!C141+Jogos!L141+Jogos!E170+Jogos!J170 -> 5 | V18: =Jogos!E25+Jogos!J25+Jogos!C54+Jogos!L54+Jogos!E83+Jogos!J83+Jogos!C112+Jogos!L112+Jogos!E141+Jogos!J141+Jogos!C170+Jogos!L170 -> 18 | W18: =U18-V18 -> -13 | X18: =R18*3+S18 -> 11 | Y18: 9 | AA18: =(10^10)*X18+(10^8)*R18+(10^6)*(50+W18)+(10^4)*U18+(10^2)*Q18+(13-O18) -> 110337051204 | AD18: 9 | AE18: =LARGE(AA10:AA21,AD18) -> 100239101212 | AG18: 9 | AH18: =MATCH(AE18,AA10:AA21,0) -> 1
C19: 10º | D19: =VLOOKUP(AH19,$O$10:$Y$21,2) -> Hungria | E19: =VLOOKUP(AH19,$O$10:$Y$21,3) -> 12 | F19: =VLOOKUP(AH19,$O$10:$Y$21,4) -> 2 | G19: =VLOOKUP(AH19,$O$10:$Y$21,5) -> 3 | H19: =VLOOKUP(AH19,$O$10:$Y$21,6) -> 7 | I19: =VLOOKUP(AH19,$O$10:$Y$21,7) -> 7 | J19: =VLOOKUP(AH19,$O$10:$Y$21,8) -> 17 | K19: =VLOOKUP(AH19,$O$10:$Y$21,9) -> -10 | L19: =VLOOKUP(AH19,$O$10:$Y$21,10) -> 9 | M19: =IF(E19>0,((L19*100)/N19)/100,0) -> 0.25 | N19: =E19*3 -> 36 | O19: 10 | P19: Eslôvenia | Q19: =IF(Jogos!C27<>"",1,0)+IF(Jogos!L27<>"",1,0)+IF(Jogos!E56<>"",1,0)+IF(Jogos!J56<>"",1,0)+IF(Jogos!C85<>"",1,0)+IF(Jogos!L85<>"",1,0)+IF(Jogos!E114<>"",1,0)+IF(Jogos!J114<>"",1,0)+IF(Jogos!C143<>"",1,0)+IF(Jogos!L143<>"",1,0)+IF(Jogos!E172<>"",1,0)+IF(Jogos!J172<>"",1,0) -> 12 | R19: =IF(Jogos!C27>Jogos!E27,1,0)+IF(Jogos!L27>Jogos!J27,1,0)+IF(Jogos!E56>Jogos!C56,1,0)+IF(Jogos!J56>Jogos!L56,1,0)+IF(Jogos!C85>Jogos!E85,1,0)+IF(Jogos!L85>Jogos!J85,1,0)+IF(Jogos!E114>Jogos!C114,1,0)+IF(Jogos!J114>Jogos!L114,1,0)+IF(Jogos!C143>Jogos!E143,1,0)+IF(Jogos!L143>Jogos!J143,1,0)+IF(Jogos!E172>Jogos!C172,1,0)+IF(Jogos!J172>Jogos!L172,1,0) -> 5 | S19: =Q19-R19-T19 -> 3 | T19: =IF(Jogos!C27<Jogos!E27,1,0)+IF(Jogos!L27<Jogos!J27,1,0)+IF(Jogos!E56<Jogos!C56,1,0)+IF(Jogos!J56<Jogos!L56,1,0)+IF(Jogos!C85<Jogos!E85,1,0)+IF(Jogos!L85<Jogos!J85,1,0)+IF(Jogos!E114<Jogos!C114,1,0)+IF(Jogos!J114<Jogos!L114,1,0)+IF(Jogos!C143<Jogos!E143,1,0)+IF(Jogos!L143<Jogos!J143,1,0)+IF(Jogos!E172<Jogos!C172,1,0)+IF(Jogos!J172<Jogos!L172,1,0) -> 4 | U19: =Jogos!C27+Jogos!L27+Jogos!E56+Jogos!J56+Jogos!C85+Jogos!L85+Jogos!E114+Jogos!J114+Jogos!C143+Jogos!L143+Jogos!E172+Jogos!J172 -> 8 | V19: =Jogos!E27+Jogos!J27+Jogos!C56+Jogos!L56+Jogos!E85+Jogos!J85+Jogos!C114+Jogos!L114+Jogos!E143+Jogos!J143+Jogos!C172+Jogos!L172 -> 9 | W19: =U19-V19 -> -1 | X19: =R19*3+S19 -> 18 | Y19: 10 | AA19: =(10^10)*X19+(10^8)*R19+(10^6)*(50+W19)+(10^4)*U19+(10^2)*Q19+(13-O19) -> 180549081203 | AD19: 10 | AE19: =LARGE(AA10:AA21,AD19) -> 90240071202 | AG19: 10 | AH19: =MATCH(AE19,AA10:AA21,0) -> 11
C20: 11º | D20: =VLOOKUP(AH20,$O$10:$Y$21,2) -> Holanda | E20: =VLOOKUP(AH20,$O$10:$Y$21,3) -> 12 | F20: =VLOOKUP(AH20,$O$10:$Y$21,4) -> 0 | G20: =VLOOKUP(AH20,$O$10:$Y$21,5) -> 1 | H20: =VLOOKUP(AH20,$O$10:$Y$21,6) -> 11 | I20: =VLOOKUP(AH20,$O$10:$Y$21,7) -> 4 | J20: =VLOOKUP(AH20,$O$10:$Y$21,8) -> 25 | K20: =VLOOKUP(AH20,$O$10:$Y$21,9) -> -21 | L20: =VLOOKUP(AH20,$O$10:$Y$21,10) -> 1 | M20: =IF(E20>0,((L20*100)/N20)/100,0) -> 0.027777778 | N20: =E20*3 -> 36 | O20: 11 | P20: Hungria | Q20: =IF(Jogos!C29<>"",1,0)+IF(Jogos!L29<>"",1,0)+IF(Jogos!E58<>"",1,0)+IF(Jogos!J58<>"",1,0)+IF(Jogos!C87<>"",1,0)+IF(Jogos!L87<>"",1,0)+IF(Jogos!E116<>"",1,0)+IF(Jogos!J116<>"",1,0)+IF(Jogos!C145<>"",1,0)+IF(Jogos!L145<>"",1,0)+IF(Jogos!E174<>"",1,0)+IF(Jogos!J174<>"",1,0) -> 12 | R20: =IF(Jogos!C29>Jogos!E29,1,0)+IF(Jogos!L29>Jogos!J29,1,0)+IF(Jogos!E58>Jogos!C58,1,0)+IF(Jogos!J58>Jogos!L58,1,0)+IF(Jogos!C87>Jogos!E87,1,0)+IF(Jogos!L87>Jogos!J87,1,0)+IF(Jogos!E116>Jogos!C116,1,0)+IF(Jogos!J116>Jogos!L116,1,0)+IF(Jogos!C145>Jogos!E145,1,0)+IF(Jogos!L145>Jogos!J145,1,0)+IF(Jogos!E174>Jogos!C174,1,0)+IF(Jogos!J174>Jogos!L174,1,0) -> 2 | S20: =Q20-R20-T20 -> 3 | T20: =IF(Jogos!C29<Jogos!E29,1,0)+IF(Jogos!L29<Jogos!J29,1,0)+IF(Jogos!E58<Jogos!C58,1,0)+IF(Jogos!J58<Jogos!L58,1,0)+IF(Jogos!C87<Jogos!E87,1,0)+IF(Jogos!L87<Jogos!J87,1,0)+IF(Jogos!E116<Jogos!C116,1,0)+IF(Jogos!J116<Jogos!L116,1,0)+IF(Jogos!C145<Jogos!E145,1,0)+IF(Jogos!L145<Jogos!J145,1,0)+IF(Jogos!E174<Jogos!C174,1,0)+IF(Jogos!J174<Jogos!L174,1,0) -> 7 | U20: =Jogos!C29+Jogos!L29+Jogos!E58+Jogos!J58+Jogos!C87+Jogos!L87+Jogos!E116+Jogos!J116+Jogos!C145+Jogos!L145+Jogos!E174+Jogos!J174 -> 7 | V20: =Jogos!E29+Jogos!J29+Jogos!C58+Jogos!L58+Jogos!E87+Jogos!J87+Jogos!C116+Jogos!L116+Jogos!E145+Jogos!J145+Jogos!C174+Jogos!L174 -> 17 | W20: =U20-V20 -> -10 | X20: =R20*3+S20 -> 9 | Y20: 11 | AA20: =(10^10)*X20+(10^8)*R20+(10^6)*(50+W20)+(10^4)*U20+(10^2)*Q20+(13-O20) -> 90240071202 | AD20: 11 | AE20: =LARGE(AA10:AA21,AD20) -> 10029041206 | AG20: 11 | AH20: =MATCH(AE20,AA10:AA21,0) -> 7
C21: 12º | D21: =VLOOKUP(AH21,$O$10:$Y$21,2) -> Itália | E21: =VLOOKUP(AH21,$O$10:$Y$21,3) -> 12 | F21: =VLOOKUP(AH21,$O$10:$Y$21,4) -> 0 | G21: =VLOOKUP(AH21,$O$10:$Y$21,5) -> 1 | H21: =VLOOKUP(AH21,$O$10:$Y$21,6) -> 11 | I21: =VLOOKUP(AH21,$O$10:$Y$21,7) -> 7 | J21: =VLOOKUP(AH21,$O$10:$Y$21,8) -> 31 | K21: =VLOOKUP(AH21,$O$10:$Y$21,9) -> -24 | L21: =VLOOKUP(AH21,$O$10:$Y$21,10) -> 1 | M21: =IF(E21>0,((L21*100)/N21)/100,0) -> 0.027777778 | N21: =E21*3 -> 36 | O21: 12 | P21: Austria | Q21: =IF(Jogos!C31<>"",1,0)+IF(Jogos!L31<>"",1,0)+IF(Jogos!E60<>"",1,0)+IF(Jogos!J60<>"",1,0)+IF(Jogos!C89<>"",1,0)+IF(Jogos!L89<>"",1,0)+IF(Jogos!E118<>"",1,0)+IF(Jogos!J118<>"",1,0)+IF(Jogos!C147<>"",1,0)+IF(Jogos!L147<>"",1,0)+IF(Jogos!E176<>"",1,0)+IF(Jogos!J176<>"",1,0) -> 12 | R21: =IF(Jogos!C31>Jogos!E31,1,0)+IF(Jogos!L31>Jogos!J31,1,0)+IF(Jogos!E60>Jogos!C60,1,0)+IF(Jogos!J60>Jogos!L60,1,0)+IF(Jogos!C89>Jogos!E89,1,0)+IF(Jogos!L89>Jogos!J89,1,0)+IF(Jogos!E118>Jogos!C118,1,0)+IF(Jogos!J118>Jogos!L118,1,0)+IF(Jogos!C147>Jogos!E147,1,0)+IF(Jogos!L147>Jogos!J147,1,0)+IF(Jogos!E176>Jogos!C176,1,0)+IF(Jogos!J176>Jogos!L176,1,0) -> 3 | S21: =Q21-R21-T21 -> 4 | T21: =IF(Jogos!C31<Jogos!E31,1,0)+IF(Jogos!L31<Jogos!J31,1,0)+IF(Jogos!E60<Jogos!C60,1,0)+IF(Jogos!J60<Jogos!L60,1,0)+IF(Jogos!C89<Jogos!E89,1,0)+IF(Jogos!L89<Jogos!J89,1,0)+IF(Jogos!E118<Jogos!C118,1,0)+IF(Jogos!J118<Jogos!L118,1,0)+IF(Jogos!C147<Jogos!E147,1,0)+IF(Jogos!L147<Jogos!J147,1,0)+IF(Jogos!E176<Jogos!C176,1,0)+IF(Jogos!J176<Jogos!L176,1,0) -> 5 | U21: =Jogos!C31+Jogos!L31+Jogos!E60+Jogos!J60+Jogos!C89+Jogos!L89+Jogos!E118+Jogos!J118+Jogos!C147+Jogos!L147+Jogos!E176+Jogos!J176 -> 10 | V21: =Jogos!E31+Jogos!J31+Jogos!C60+Jogos!L60+Jogos!E89+Jogos!J89+Jogos!C118+Jogos!L118+Jogos!E147+Jogos!J147+Jogos!C176+Jogos!L176 -> 12 | W21: =U21-V21 -> -2 | X21: =R21*3+S21 -> 13 | Y21: 12 | AA21: =(10^10)*X21+(10^8)*R21+(10^6)*(50+W21)+(10^4)*U21+(10^2)*Q21+(13-O21) -> 130348101201 | AD21: 12 | AE21: =LARGE(AA10:AA21,AD21) -> 10026071211 | AG21: 12 | AH21: =MATCH(AE21,AA10:AA21,0) -> 2
C24: Grupo B
C25: Posição | D25: Times | E25: Jogos | F25: Vitorias | G25: Empates | H25: Derrotas | I25: Gols Pró | J25: Gols Cont. | K25: Saldo | L25: Pontos | M25: Aprov. | P25: Times | Q25: Jogos | R25: Vitorias | S25: Empates | T25: Derrotas | U25: Gols Pró | V25: Gols Cont. | W25: Saldo | X25: Pontos | Y25: ID_TIME
C27: 1º | D27: =VLOOKUP(AH27,$O$27:$Y$38,2) -> Irlanda | E27: =VLOOKUP(AH27,$O$27:$Y$38,3) -> 12 | F27: =VLOOKUP(AH27,$O$27:$Y$38,4) -> 10 | G27: =VLOOKUP(AH27,$O$27:$Y$38,5) -> 1 | H27: =VLOOKUP(AH27,$O$27:$Y$38,6) -> 1 | I27: =VLOOKUP(AH27,$O$27:$Y$38,7) -> 34 | J27: =VLOOKUP(AH27,$O$27:$Y$38,8) -> 8 | K27: =VLOOKUP(AH27,$O$27:$Y$38,9) -> 26 | L27: =VLOOKUP(AH27,$O$27:$Y$38,10) -> 31 | M27: =IF(E27>0,((L27*100)/N27)/100,0) -> 0.86111111 | N27: =E27*3 -> 36 | O27: 1 | P27: Irlanda | Q27: =IF(Jogos!E9<>"",1,0)+IF(Jogos!J21<>"",1,0)+IF(Jogos!C40<>"",1,0)+IF(Jogos!L52<>"",1,0)+IF(Jogos!E71<>"",1,0)+IF(Jogos!J83<>"",1,0)+IF(Jogos!C102<>"",1,0)+IF(Jogos!L114<>"",1,0)+IF(Jogos!E133<>"",1,0)+IF(Jogos!J145<>"",1,0)+IF(Jogos!C164<>"",1,0)+IF(Jogos!L176<>"",1,0) -> 12 | R27: =IF(Jogos!E9>Jogos!C9,1,0)+IF(Jogos!J21>Jogos!L21,1,0)+IF(Jogos!C40>Jogos!E40,1,0)+IF(Jogos!L52>Jogos!J52,1,0)+IF(Jogos!E71>Jogos!C71,1,0)+IF(Jogos!J83>Jogos!L83,1,0)+IF(Jogos!C102>Jogos!E102,1,0)+IF(Jogos!L114>Jogos!J114,1,0)+IF(Jogos!E133>Jogos!C133,1,0)+IF(Jogos!J145>Jogos!L145,1,0)+IF(Jogos!C164>Jogos!E164,1,0)+IF(Jogos!L176>Jogos!J176,1,0) -> 10 | S27: =Q27-R27-T27 -> 1 | T27: =IF(Jogos!E9<Jogos!C9,1,0)+IF(Jogos!J21<Jogos!L21,1,0)+IF(Jogos!C40<Jogos!E40,1,0)+IF(Jogos!L52<Jogos!J52,1,0)+IF(Jogos!E71<Jogos!C71,1,0)+IF(Jogos!J83<Jogos!L83,1,0)+IF(Jogos!C102<Jogos!E102,1,0)+IF(Jogos!L114<Jogos!J114,1,0)+IF(Jogos!E133<Jogos!C133,1,0)+IF(Jogos!J145<Jogos!L145,1,0)+IF(Jogos!C164<Jogos!E164,1,0)+IF(Jogos!L176<Jogos!J176,1,0) -> 1 | U27: =Jogos!E9+Jogos!J21+Jogos!C40+Jogos!L52+Jogos!E71+Jogos!J83+Jogos!C102+Jogos!L114+Jogos!E133+Jogos!J145+Jogos!C164+Jogos!L176 -> 34 | V27: =Jogos!C9+Jogos!L21+Jogos!E40+Jogos!J52+Jogos!C71+Jogos!L83+Jogos!E102+Jogos!J114+Jogos!C133+Jogos!L145+Jogos!E164+Jogos!J176 -> 8 | W27: =U27-V27 -> 26 | X27: =R27*3+S27 -> 31 | Y27: 13 | AA27: =(10^10)*X27+(10^8)*R27+(10^6)*(50+W27)+(10^4)*U27+(10^2)*Q27+(13-O27) -> 311076341212 | AD27: 1 | AE27: =LARGE(AA27:AA38,AD27) -> 311076341212 | AG27: 1 | AH27: =MATCH(AE27,AA27:AA38,0) -> 1
C28: 2º | D28: =VLOOKUP(AH28,$O$27:$Y$38,2) -> Escócia | E28: =VLOOKUP(AH28,$O$27:$Y$38,3) -> 12 | F28: =VLOOKUP(AH28,$O$27:$Y$38,4) -> 8 | G28: =VLOOKUP(AH28,$O$27:$Y$38,5) -> 2 | H28: =VLOOKUP(AH28,$O$27:$Y$38,6) -> 2 | I28: =VLOOKUP(AH28,$O$27:$Y$38,7) -> 14 | J28: =VLOOKUP(AH28,$O$27:$Y$38,8) -> 6 | K28: =VLOOKUP(AH28,$O$27:$Y$38,9) -> 8 | L28: =VLOOKUP(AH28,$O$27:$Y$38,10) -> 26 | M28: =IF(E28>0,((L28*100)/N28)/100,0) -> 0.72222222 | N28: =E28*3 -> 36 | O28: 2 | P28: Escócia | Q28: =IF(Jogos!E11<>"",1,0)+IF(Jogos!J23<>"",1,0)+IF(Jogos!C42<>"",1,0)+IF(Jogos!L54<>"",1,0)+IF(Jogos!E73<>"",1,0)+IF(Jogos!J85<>"",1,0)+IF(Jogos!C104<>"",1,0)+IF(Jogos!L116<>"",1,0)+IF(Jogos!E135<>"",1,0)+IF(Jogos!J147<>"",1,0)+IF(Jogos!C166<>"",1,0)+IF(Jogos!L154<>"",1,0) -> 12 | R28: =IF(Jogos!E11>Jogos!C11,1,0)+IF(Jogos!J23>Jogos!L23,1,0)+IF(Jogos!C42>Jogos!E42,1,0)+IF(Jogos!L54>Jogos!J54,1,0)+IF(Jogos!E73>Jogos!C73,1,0)+IF(Jogos!J85>Jogos!L85,1,0)+IF(Jogos!C104>Jogos!E104,1,0)+IF(Jogos!L116>Jogos!J116,1,0)+IF(Jogos!E135>Jogos!C135,1,0)+IF(Jogos!J147>Jogos!L147,1,0)+IF(Jogos!C166>Jogos!E166,1,0)+IF(Jogos!L154>Jogos!J154,1,0) -> 8 | S28: =Q28-R28-T28 -> 2 | T28: =IF(Jogos!E11<Jogos!C11,1,0)+IF(Jogos!J23<Jogos!L23,1,0)+IF(Jogos!C42<Jogos!E42,1,0)+IF(Jogos!L54<Jogos!J54,1,0)+IF(Jogos!E73<Jogos!C73,1,0)+IF(Jogos!J85<Jogos!L85,1,0)+IF(Jogos!C104<Jogos!E104,1,0)+IF(Jogos!L116<Jogos!J116,1,0)+IF(Jogos!E135<Jogos!C135,1,0)+IF(Jogos!J147<Jogos!L147,1,0)+IF(Jogos!C166<Jogos!E166,1,0)+IF(Jogos!L154<Jogos!J154,1,0) -> 2 | U28: =Jogos!E11+Jogos!J23+Jogos!C42+Jogos!L54+Jogos!E73+Jogos!J85+Jogos!C104+Jogos!L116+Jogos!E135+Jogos!J147+Jogos!C166+Jogos!L154 -> 14 | V28: =Jogos!C11+Jogos!L23+Jogos!E42+Jogos!J54+Jogos!C73+Jogos!L85+Jogos!E104+Jogos!J116+Jogos!C135+Jogos!L147+Jogos!E166+Jogos!J154 -> 6 | W28: =U28-V28 -> 8 | X28: =R28*3+S28 -> 26 | Y28: 14 | AA28: =(10^10)*X28+(10^8)*R28+(10^6)*(50+W28)+(10^4)*U28+(10^2)*Q28+(13-O28) -> 260858141211 | AD28: 2 | AE28: =LARGE(AA27:AA38,AD28) -> 260858141211 | AG28: 2 | AH28: =MATCH(AE28,AA27:AA38,0) -> 2
C29: 3º | D29: =VLOOKUP(AH29,$O$27:$Y$38,2) -> Noruega | E29: =VLOOKUP(AH29,$O$27:$Y$38,3) -> 12 | F29: =VLOOKUP(AH29,$O$27:$Y$38,4) -> 7 | G29: =VLOOKUP(AH29,$O$27:$Y$38,5) -> 3 | H29: =VLOOKUP(AH29,$O$27:$Y$38,6) -> 2 | I29: =VLOOKUP(AH29,$O$27:$Y$38,7) -> 19 | J29: =VLOOKUP(AH29,$O$27:$Y$38,8) -> 7 | K29: =VLOOKUP(AH29,$O$27:$Y$38,9) -> 12 | L29: =VLOOKUP(AH29,$O$27:$Y$38,10) -> 24 | M29: =IF(E29>0,((L29*100)/N29)/100,0) -> 0.66666667 | N29: =E29*3 -> 36 | O29: 3 | P29: País de Gales | Q29: =IF(Jogos!E13<>"",1,0)+IF(Jogos!J25<>"",1,0)+IF(Jogos!C44<>"",1,0)+IF(Jogos!L56<>"",1,0)+IF(Jogos!E75<>"",1,0)+IF(Jogos!J87<>"",1,0)+IF(Jogos!C106<>"",1,0)+IF(Jogos!L118<>"",1,0)+IF(Jogos!E137<>"",1,0)+IF(Jogos!J125<>"",1,0)+IF(Jogos!C168<>"",1,0)+IF(Jogos!L156<>"",1,0) -> 12 | R29: =IF(Jogos!E13>Jogos!C13,1,0)+IF(Jogos!J25>Jogos!L25,1,0)+IF(Jogos!C44>Jogos!E44,1,0)+IF(Jogos!L56>Jogos!J56,1,0)+IF(Jogos!E75>Jogos!C75,1,0)+IF(Jogos!J87>Jogos!L87,1,0)+IF(Jogos!C106>Jogos!E106,1,0)+IF(Jogos!L118>Jogos!J118,1,0)+IF(Jogos!E137>Jogos!C137,1,0)+IF(Jogos!J125>Jogos!L125,1,0)+IF(Jogos!C168>Jogos!E168,1,0)+IF(Jogos!L156>Jogos!J156,1,0) -> 6 | S29: =Q29-R29-T29 -> 4 | T29: =IF(Jogos!E13<Jogos!C13,1,0)+IF(Jogos!J25<Jogos!L25,1,0)+IF(Jogos!C44<Jogos!E44,1,0)+IF(Jogos!L56<Jogos!J56,1,0)+IF(Jogos!E75<Jogos!C75,1,0)+IF(Jogos!J87<Jogos!L87,1,0)+IF(Jogos!C106<Jogos!E106,1,0)+IF(Jogos!L118<Jogos!J118,1,0)+IF(Jogos!E137<Jogos!C137,1,0)+IF(Jogos!J125<Jogos!L125,1,0)+IF(Jogos!C168<Jogos!E168,1,0)+IF(Jogos!L156<Jogos!J156,1,0) -> 2 | U29: =Jogos!E13+Jogos!J25+Jogos!C44+Jogos!L56+Jogos!E75+Jogos!J87+Jogos!C106+Jogos!L118+Jogos!E137+Jogos!J125+Jogos!C168+Jogos!L156 -> 18 | V29: =Jogos!C13+Jogos!L25+Jogos!E44+Jogos!J56+Jogos!C75+Jogos!L87+Jogos!E106+Jogos!J118+Jogos!C137+Jogos!L125+Jogos!E168+Jogos!J156 -> 9 | W29: =U29-V29 -> 9 | X29: =R29*3+S29 -> 22 | Y29: 15 | AA29: =(10^10)*X29+(10^8)*R29+(10^6)*(50+W29)+(10^4)*U29+(10^2)*Q29+(13-O29) -> 220659181210 | AD29: 3 | AE29: =LARGE(AA27:AA38,AD29) -> 240762191205 | AG29: 3 | AH29: =MATCH(AE29,AA27:AA38,0) -> 8
C30: 4º | D30: =VLOOKUP(AH30,$O$27:$Y$38,2) -> Portugal | E30: =VLOOKUP(AH30,$O$27:$Y$38,3) -> 12 | F30: =VLOOKUP(AH30,$O$27:$Y$38,4) -> 7 | G30: =VLOOKUP(AH30,$O$27:$Y$38,5) -> 3 | H30: =VLOOKUP(AH30,$O$27:$Y$38,6) -> 2 | I30: =VLOOKUP(AH30,$O$27:$Y$38,7) -> 18 | J30: =VLOOKUP(AH30,$O$27:$Y$38,8) -> 6 | K30: =VLOOKUP(AH30,$O$27:$Y$38,9) -> 12 | L30: =VLOOKUP(AH30,$O$27:$Y$38,10) -> 24 | M30: =IF(E30>0,((L30*100)/N30)/100,0) -> 0.66666667 | N30: =E30*3 -> 36 | O30: 4 | P30: Dinamarca | Q30: =IF(Jogos!E15<>"",1,0)+IF(Jogos!J27<>"",1,0)+IF(Jogos!C46<>"",1,0)+IF(Jogos!L58<>"",1,0)+IF(Jogos!E77<>"",1,0)+IF(Jogos!J89<>"",1,0)+IF(Jogos!C108<>"",1,0)+IF(Jogos!L96<>"",1,0)+IF(Jogos!E139<>"",1,0)+IF(Jogos!J127<>"",1,0)+IF(Jogos!C170<>"",1,0)+IF(Jogos!L158<>"",1,0) -> 12 | R30: =IF(Jogos!E15>Jogos!C15,1,0)+IF(Jogos!J27>Jogos!L27,1,0)+IF(Jogos!C46>Jogos!E46,1,0)+IF(Jogos!L58>Jogos!J58,1,0)+IF(Jogos!E77>Jogos!C77,1,0)+IF(Jogos!J89>Jogos!L89,1,0)+IF(Jogos!C108>Jogos!E108,1,0)+IF(Jogos!L96>Jogos!J96,1,0)+IF(Jogos!E139>Jogos!C139,1,0)+IF(Jogos!J127>Jogos!L127,1,0)+IF(Jogos!C170>Jogos!E170,1,0)+IF(Jogos!L158>Jogos!J158,1,0) -> 3 | S30: =Q30-R30-T30 -> 2 | T30: =IF(Jogos!E15<Jogos!C15,1,0)+IF(Jogos!J27<Jogos!L27,1,0)+IF(Jogos!C46<Jogos!E46,1,0)+IF(Jogos!L58<Jogos!J58,1,0)+IF(Jogos!E77<Jogos!C77,1,0)+IF(Jogos!J89<Jogos!L89,1,0)+IF(Jogos!C108<Jogos!E108,1,0)+IF(Jogos!L96<Jogos!J96,1,0)+IF(Jogos!E139<Jogos!C139,1,0)+IF(Jogos!J127<Jogos!L127,1,0)+IF(Jogos!C170<Jogos!E170,1,0)+IF(Jogos!L158<Jogos!J158,1,0) -> 7 | U30: =Jogos!E15+Jogos!J27+Jogos!C46+Jogos!L58+Jogos!E77+Jogos!J89+Jogos!C108+Jogos!L96+Jogos!E139+Jogos!J127+Jogos!C170+Jogos!L158 -> 13 | V30: =Jogos!C15+Jogos!L27+Jogos!E46+Jogos!J58+Jogos!C77+Jogos!L89+Jogos!E108+Jogos!J96+Jogos!C139+Jogos!L127+Jogos!E170+Jogos!J158 -> 16 | W30: =U30-V30 -> -3 | X30: =R30*3+S30 -> 11 | Y30: 16 | AA30: =(10^10)*X30+(10^8)*R30+(10^6)*(50+W30)+(10^4)*U30+(10^2)*Q30+(13-O30) -> 110347131209 | AD30: 4 | AE30: =LARGE(AA27:AA38,AD30) -> 240762181204 | AG30: 4 | AH30: =MATCH(AE30,AA27:AA38,0) -> 9
C31: 5º | D31: =VLOOKUP(AH31,$O$27:$Y$38,2) -> Inglaterra | E31: =VLOOKUP(AH31,$O$27:$Y$38,3) -> 12 | F31: =VLOOKUP(AH31,$O$27:$Y$38,4) -> 7 | G31: =VLOOKUP(AH31,$O$27:$Y$38,5) -> 3 | H31: =VLOOKUP(AH31,$O$27:$Y$38,6) -> 2 | I31: =VLOOKUP(AH31,$O$27:$Y$38,7) -> 13 | J31: =VLOOKUP(AH31,$O$27:$Y$38,8) -> 8 | K31: =VLOOKUP(AH31,$O$27:$Y$38,9) -> 5 | L31: =VLOOKUP(AH31,$O$27:$Y$38,10) -> 24 | M31: =IF(E31>0,((L31*100)/N31)/100,0) -> 0.66666667 | N31: =E31*3 -> 36 | O31: 5 | P31: Bélgica | Q31: =IF(Jogos!E17<>"",1,0)+IF(Jogos!J29<>"",1,0)+IF(Jogos!C48<>"",1,0)+IF(Jogos!L60<>"",1,0)+IF(Jogos!E79<>"",1,0)+IF(Jogos!J67<>"",1,0)+IF(Jogos!C110<>"",1,0)+IF(Jogos!L98<>"",1,0)+IF(Jogos!E141<>"",1,0)+IF(Jogos!J129<>"",1,0)+IF(Jogos!C172<>"",1,0)+IF(Jogos!L160<>"",1,0) -> 12 | R31: =IF(Jogos!E17>Jogos!C17,1,0)+IF(Jogos!J29>Jogos!L29,1,0)+IF(Jogos!C48>Jogos!E48,1,0)+IF(Jogos!L60>Jogos!J60,1,0)+IF(Jogos!E79>Jogos!C79,1,0)+IF(Jogos!J67>Jogos!L67,1,0)+IF(Jogos!C110>Jogos!E110,1,0)+IF(Jogos!L98>Jogos!J98,1,0)+IF(Jogos!E141>Jogos!C141,1,0)+IF(Jogos!J129>Jogos!L129,1,0)+IF(Jogos!C172>Jogos!E172,1,0)+IF(Jogos!L160>Jogos!J160,1,0) -> 7 | S31: =Q31-R31-T31 -> 2 | T31: =IF(Jogos!E17<Jogos!C17,1,0)+IF(Jogos!J29<Jogos!L29,1,0)+IF(Jogos!C48<Jogos!E48,1,0)+IF(Jogos!L60<Jogos!J60,1,0)+IF(Jogos!E79<Jogos!C79,1,0)+IF(Jogos!J67<Jogos!L67,1,0)+IF(Jogos!C110<Jogos!E110,1,0)+IF(Jogos!L98<Jogos!J98,1,0)+IF(Jogos!E141<Jogos!C141,1,0)+IF(Jogos!J129<Jogos!L129,1,0)+IF(Jogos!C172<Jogos!E172,1,0)+IF(Jogos!L160<Jogos!J160,1,0) -> 3 | U31: =Jogos!E17+Jogos!J29+Jogos!C48+Jogos!L60+Jogos!E79+Jogos!J67+Jogos!C110+Jogos!L98+Jogos!E141+Jogos!J129+Jogos!C172+Jogos!L160 -> 16 | V31: =Jogos!C17+Jogos!L29+Jogos!E48+Jogos!J60+Jogos!C79+Jogos!L67+Jogos!E110+Jogos!J98+Jogos!C141+Jogos!L129+Jogos!E172+Jogos!J160 -> 7 | W31: =U31-V31 -> 9 | X31: =R31*3+S31 -> 23 | Y31: 17 | AA31: =(10^10)*X31+(10^8)*R31+(10^6)*(50+W31)+(10^4)*U31+(10^2)*Q31+(13-O31) -> 230759161208 | AD31: 5 | AE31: =LARGE(AA27:AA38,AD31) -> 240755131202 | AG31: 5 | AH31: =MATCH(AE31,AA27:AA38,0) -> 11
C32: 6º | D32: =VLOOKUP(AH32,$O$27:$Y$38,2) -> Bélgica | E32: =VLOOKUP(AH32,$O$27:$Y$38,3) -> 12 | F32: =VLOOKUP(AH32,$O$27:$Y$38,4) -> 7 | G32: =VLOOKUP(AH32,$O$27:$Y$38,5) -> 2 | H32: =VLOOKUP(AH32,$O$27:$Y$38,6) -> 3 | I32: =VLOOKUP(AH32,$O$27:$Y$38,7) -> 16 | J32: =VLOOKUP(AH32,$O$27:$Y$38,8) -> 7 | K32: =VLOOKUP(AH32,$O$27:$Y$38,9) -> 9 | L32: =VLOOKUP(AH32,$O$27:$Y$38,10) -> 23 | M32: =IF(E32>0,((L32*100)/N32)/100,0) -> 0.63888889 | N32: =E32*3 -> 36 | O32: 6 | P32: França | Q32: =IF(Jogos!E19<>"",1,0)+IF(Jogos!J31<>"",1,0)+IF(Jogos!C50<>"",1,0)+IF(Jogos!L38<>"",1,0)+IF(Jogos!E81<>"",1,0)+IF(Jogos!J69<>"",1,0)+IF(Jogos!C112<>"",1,0)+IF(Jogos!L100<>"",1,0)+IF(Jogos!E143<>"",1,0)+IF(Jogos!J131<>"",1,0)+IF(Jogos!C174<>"",1,0)+IF(Jogos!L162<>"",1,0) -> 12 | R32: =IF(Jogos!E19>Jogos!C19,1,0)+IF(Jogos!J31>Jogos!L31,1,0)+IF(Jogos!C50>Jogos!E50,1,0)+IF(Jogos!L38>Jogos!J38,1,0)+IF(Jogos!E81>Jogos!C81,1,0)+IF(Jogos!J69>Jogos!L69,1,0)+IF(Jogos!C112>Jogos!E112,1,0)+IF(Jogos!L100>Jogos!J100,1,0)+IF(Jogos!E143>Jogos!C143,1,0)+IF(Jogos!J131>Jogos!L131,1,0)+IF(Jogos!C174>Jogos!E174,1,0)+IF(Jogos!L162>Jogos!J162,1,0) -> 4 | S32: =Q32-R32-T32 -> 3 | T32: =IF(Jogos!E19<Jogos!C19,1,0)+IF(Jogos!J31<Jogos!L31,1,0)+IF(Jogos!C50<Jogos!E50,1,0)+IF(Jogos!L38<Jogos!J38,1,0)+IF(Jogos!E81<Jogos!C81,1,0)+IF(Jogos!J69<Jogos!L69,1,0)+IF(Jogos!C112<Jogos!E112,1,0)+IF(Jogos!L100<Jogos!J100,1,0)+IF(Jogos!E143<Jogos!C143,1,0)+IF(Jogos!J131<Jogos!L131,1,0)+IF(Jogos!C174<Jogos!E174,1,0)+IF(Jogos!L162<Jogos!J162,1,0) -> 5 | U32: =Jogos!E19+Jogos!J31+Jogos!C50+Jogos!L38+Jogos!E81+Jogos!J69+Jogos!C112+Jogos!L100+Jogos!E143+Jogos!J131+Jogos!C174+Jogos!L162 -> 12 | V32: =Jogos!C19+Jogos!L31+Jogos!E50+Jogos!J38+Jogos!C81+Jogos!L69+Jogos!E112+Jogos!J100+Jogos!C143+Jogos!L131+Jogos!E174+Jogos!J162 -> 13 | W32: =U32-V32 -> -1 | X32: =R32*3+S32 -> 15 | Y32: 18 | AA32: =(10^10)*X32+(10^8)*R32+(10^6)*(50+W32)+(10^4)*U32+(10^2)*Q32+(13-O32) -> 150449121207 | AD32: 6 | AE32: =LARGE(AA27:AA38,AD32) -> 230759161208 | AG32: 6 | AH32: =MATCH(AE32,AA27:AA38,0) -> 5
C33: 7º | D33: =VLOOKUP(AH33,$O$27:$Y$38,2) -> País de Gales | E33: =VLOOKUP(AH33,$O$27:$Y$38,3) -> 12 | F33: =VLOOKUP(AH33,$O$27:$Y$38,4) -> 6 | G33: =VLOOKUP(AH33,$O$27:$Y$38,5) -> 4 | H33: =VLOOKUP(AH33,$O$27:$Y$38,6) -> 2 | I33: =VLOOKUP(AH33,$O$27:$Y$38,7) -> 18 | J33: =VLOOKUP(AH33,$O$27:$Y$38,8) -> 9 | K33: =VLOOKUP(AH33,$O$27:$Y$38,9) -> 9 | L33: =VLOOKUP(AH33,$O$27:$Y$38,10) -> 22 | M33: =IF(E33>0,((L33*100)/N33)/100,0) -> 0.61111111 | N33: =E33*3 -> 36 | O33: 7 | P33: Rússia | Q33: =IF(Jogos!E21<>"",1,0)+IF(Jogos!J9<>"",1,0)+IF(Jogos!C52<>"",1,0)+IF(Jogos!L40<>"",1,0)+IF(Jogos!E83<>"",1,0)+IF(Jogos!J71<>"",1,0)+IF(Jogos!C114<>"",1,0)+IF(Jogos!L102<>"",1,0)+IF(Jogos!E145<>"",1,0)+IF(Jogos!J133<>"",1,0)+IF(Jogos!C176<>"",1,0)+IF(Jogos!L164<>"",1,0) -> 12 | R33: =IF(Jogos!E21>Jogos!C21,1,0)+IF(Jogos!J9>Jogos!L9,1,0)+IF(Jogos!C52>Jogos!E52,1,0)+IF(Jogos!L40>Jogos!J40,1,0)+IF(Jogos!E83>Jogos!C83,1,0)+IF(Jogos!J71>Jogos!L71,1,0)+IF(Jogos!C114>Jogos!E114,1,0)+IF(Jogos!L102>Jogos!J102,1,0)+IF(Jogos!E145>Jogos!C145,1,0)+IF(Jogos!J133>Jogos!L133,1,0)+IF(Jogos!C176>Jogos!E176,1,0)+IF(Jogos!L164>Jogos!J164,1,0) -> 5 | S33: =Q33-R33-T33 -> 4 | T33: =IF(Jogos!E21<Jogos!C21,1,0)+IF(Jogos!J9<Jogos!L9,1,0)+IF(Jogos!C52<Jogos!E52,1,0)+IF(Jogos!L40<Jogos!J40,1,0)+IF(Jogos!E83<Jogos!C83,1,0)+IF(Jogos!J71<Jogos!L71,1,0)+IF(Jogos!C114<Jogos!E114,1,0)+IF(Jogos!L102<Jogos!J102,1,0)+IF(Jogos!E145<Jogos!C145,1,0)+IF(Jogos!J133<Jogos!L133,1,0)+IF(Jogos!C176<Jogos!E176,1,0)+IF(Jogos!L164<Jogos!J164,1,0) -> 3 | U33: =Jogos!E21+Jogos!J9+Jogos!C52+Jogos!L40+Jogos!E83+Jogos!J71+Jogos!C114+Jogos!L102+Jogos!E145+Jogos!J133+Jogos!C176+Jogos!L164 -> 18 | V33: =Jogos!C21+Jogos!L9+Jogos!E52+Jogos!J40+Jogos!C83+Jogos!L71+Jogos!E114+Jogos!J102+Jogos!C145+Jogos!L133+Jogos!E176+Jogos!J164 -> 8 | W33: =U33-V33 -> 10 | X33: =R33*3+S33 -> 19 | Y33: 19 | AA33: =(10^10)*X33+(10^8)*R33+(10^6)*(50+W33)+(10^4)*U33+(10^2)*Q33+(13-O33) -> 190560181206 | AD33: 7 | AE33: =LARGE(AA27:AA38,AD33) -> 220659181210 | AG33: 7 | AH33: =MATCH(AE33,AA27:AA38,0) -> 3
C34: 8º | D34: =VLOOKUP(AH34,$O$27:$Y$38,2) -> Rússia | E34: =VLOOKUP(AH34,$O$27:$Y$38,3) -> 12 | F34: =VLOOKUP(AH34,$O$27:$Y$38,4) -> 5 | G34: =VLOOKUP(AH34,$O$27:$Y$38,5) -> 4 | H34: =VLOOKUP(AH34,$O$27:$Y$38,6) -> 3 | I34: =VLOOKUP(AH34,$O$27:$Y$38,7) -> 18 | J34: =VLOOKUP(AH34,$O$27:$Y$38,8) -> 8 | K34: =VLOOKUP(AH34,$O$27:$Y$38,9) -> 10 | L34: =VLOOKUP(AH34,$O$27:$Y$38,10) -> 19 | M34: =IF(E34>0,((L34*100)/N34)/100,0) -> 0.52777778 | N34: =E34*3 -> 36 | O34: 8 | P34: Noruega | Q34: =IF(Jogos!E23<>"",1,0)+IF(Jogos!J11<>"",1,0)+IF(Jogos!C54<>"",1,0)+IF(Jogos!L42<>"",1,0)+IF(Jogos!E85<>"",1,0)+IF(Jogos!J73<>"",1,0)+IF(Jogos!C116<>"",1,0)+IF(Jogos!L104<>"",1,0)+IF(Jogos!E147<>"",1,0)+IF(Jogos!J135<>"",1,0)+IF(Jogos!C154<>"",1,0)+IF(Jogos!L166<>"",1,0) -> 12 | R34: =IF(Jogos!E23>Jogos!C23,1,0)+IF(Jogos!J11>Jogos!L11,1,0)+IF(Jogos!C54>Jogos!E54,1,0)+IF(Jogos!L42>Jogos!J42,1,0)+IF(Jogos!E85>Jogos!C85,1,0)+IF(Jogos!J73>Jogos!L73,1,0)+IF(Jogos!C116>Jogos!E116,1,0)+IF(Jogos!L104>Jogos!J104,1,0)+IF(Jogos!E147>Jogos!C147,1,0)+IF(Jogos!J135>Jogos!L135,1,0)+IF(Jogos!C154>Jogos!E154,1,0)+IF(Jogos!L166>Jogos!J166,1,0) -> 7 | S34: =Q34-R34-T34 -> 3 | T34: =IF(Jogos!E23<Jogos!C23,1,0)+IF(Jogos!J11<Jogos!L11,1,0)+IF(Jogos!C54<Jogos!E54,1,0)+IF(Jogos!L42<Jogos!J42,1,0)+IF(Jogos!E85<Jogos!C85,1,0)+IF(Jogos!J73<Jogos!L73,1,0)+IF(Jogos!C116<Jogos!E116,1,0)+IF(Jogos!L104<Jogos!J104,1,0)+IF(Jogos!E147<Jogos!C147,1,0)+IF(Jogos!J135<Jogos!L135,1,0)+IF(Jogos!C154<Jogos!E154,1,0)+IF(Jogos!L166<Jogos!J166,1,0) -> 2 | U34: =Jogos!E23+Jogos!J11+Jogos!C54+Jogos!L42+Jogos!E85+Jogos!J73+Jogos!C116+Jogos!L104+Jogos!E147+Jogos!J135+Jogos!C154+Jogos!L166 -> 19 | V34: =Jogos!C23+Jogos!L11+Jogos!E54+Jogos!J42+Jogos!C85+Jogos!L73+Jogos!E116+Jogos!J104+Jogos!C147+Jogos!L135+Jogos!E154+Jogos!J166 -> 7 | W34: =U34-V34 -> 12 | X34: =R34*3+S34 -> 24 | Y34: 20 | AA34: =(10^10)*X34+(10^8)*R34+(10^6)*(50+W34)+(10^4)*U34+(10^2)*Q34+(13-O34) -> 240762191205 | AD34: 8 | AE34: =LARGE(AA27:AA38,AD34) -> 190560181206 | AG34: 8 | AH34: =MATCH(AE34,AA27:AA38,0) -> 7
C35: 9º | D35: =VLOOKUP(AH35,$O$27:$Y$38,2) -> Suécia | E35: =VLOOKUP(AH35,$O$27:$Y$38,3) -> 12 | F35: =VLOOKUP(AH35,$O$27:$Y$38,4) -> 5 | G35: =VLOOKUP(AH35,$O$27:$Y$38,5) -> 4 | H35: =VLOOKUP(AH35,$O$27:$Y$38,6) -> 3 | I35: =VLOOKUP(AH35,$O$27:$Y$38,7) -> 12 | J35: =VLOOKUP(AH35,$O$27:$Y$38,8) -> 13 | K35: =VLOOKUP(AH35,$O$27:$Y$38,9) -> -1 | L35: =VLOOKUP(AH35,$O$27:$Y$38,10) -> 19 | M35: =IF(E35>0,((L35*100)/N35)/100,0) -> 0.52777778 | N35: =E35*3 -> 36 | O35: 9 | P35: Portugal | Q35: =IF(Jogos!E25<>"",1,0)+IF(Jogos!J13<>"",1,0)+IF(Jogos!C56<>"",1,0)+IF(Jogos!L44<>"",1,0)+IF(Jogos!E87<>"",1,0)+IF(Jogos!J75<>"",1,0)+IF(Jogos!C118<>"",1,0)+IF(Jogos!L106<>"",1,0)+IF(Jogos!E125<>"",1,0)+IF(Jogos!J137<>"",1,0)+IF(Jogos!C156<>"",1,0)+IF(Jogos!L168<>"",1,0) -> 12 | R35: =IF(Jogos!E25>Jogos!C25,1,0)+IF(Jogos!J13>Jogos!L13,1,0)+IF(Jogos!C56>Jogos!E56,1,0)+IF(Jogos!L44>Jogos!J44,1,0)+IF(Jogos!E87>Jogos!C87,1,0)+IF(Jogos!J75>Jogos!L75,1,0)+IF(Jogos!C118>Jogos!E118,1,0)+IF(Jogos!L106>Jogos!J106,1,0)+IF(Jogos!E125>Jogos!C125,1,0)+IF(Jogos!J137>Jogos!L137,1,0)+IF(Jogos!C156>Jogos!E156,1,0)+IF(Jogos!L168>Jogos!J168,1,0) -> 7 | S35: =Q35-R35-T35 -> 3 | T35: =IF(Jogos!E25<Jogos!C25,1,0)+IF(Jogos!J13<Jogos!L13,1,0)+IF(Jogos!C56<Jogos!E56,1,0)+IF(Jogos!L44<Jogos!J44,1,0)+IF(Jogos!E87<Jogos!C87,1,0)+IF(Jogos!J75<Jogos!L75,1,0)+IF(Jogos!C118<Jogos!E118,1,0)+IF(Jogos!L106<Jogos!J106,1,0)+IF(Jogos!E125<Jogos!C125,1,0)+IF(Jogos!J137<Jogos!L137,1,0)+IF(Jogos!C156<Jogos!E156,1,0)+IF(Jogos!L168<Jogos!J168,1,0) -> 2 | U35: =Jogos!E25+Jogos!J13+Jogos!C56+Jogos!L44+Jogos!E87+Jogos!J75+Jogos!C118+Jogos!L106+Jogos!E125+Jogos!J137+Jogos!C156+Jogos!L168 -> 18 | V35: =Jogos!C25+Jogos!L13+Jogos!E56+Jogos!J44+Jogos!C87+Jogos!L75+Jogos!E118+Jogos!J106+Jogos!C125+Jogos!L137+Jogos!E156+Jogos!J168 -> 6 | W35: =U35-V35 -> 12 | X35: =R35*3+S35 -> 24 | Y35: 21 | AA35: =(10^10)*X35+(10^8)*R35+(10^6)*(50+W35)+(10^4)*U35+(10^2)*Q35+(13-O35) -> 240762181204 | AD35: 9 | AE35: =LARGE(AA27:AA38,AD35) -> 190549121201 | AG35: 9 | AH35: =MATCH(AE35,AA27:AA38,0) -> 12
C36: 10º | D36: =VLOOKUP(AH36,$O$27:$Y$38,2) -> Espanha | E36: =VLOOKUP(AH36,$O$27:$Y$38,3) -> 12 | F36: =VLOOKUP(AH36,$O$27:$Y$38,4) -> 4 | G36: =VLOOKUP(AH36,$O$27:$Y$38,5) -> 5 | H36: =VLOOKUP(AH36,$O$27:$Y$38,6) -> 3 | I36: =VLOOKUP(AH36,$O$27:$Y$38,7) -> 11 | J36: =VLOOKUP(AH36,$O$27:$Y$38,8) -> 6 | K36: =VLOOKUP(AH36,$O$27:$Y$38,9) -> 5 | L36: =VLOOKUP(AH36,$O$27:$Y$38,10) -> 17 | M36: =IF(E36>0,((L36*100)/N36)/100,0) -> 0.47222222 | N36: =E36*3 -> 36 | O36: 10 | P36: Espanha | Q36: =IF(Jogos!E27<>"",1,0)+IF(Jogos!J15<>"",1,0)+IF(Jogos!C58<>"",1,0)+IF(Jogos!L46<>"",1,0)+IF(Jogos!E89<>"",1,0)+IF(Jogos!J77<>"",1,0)+IF(Jogos!C96<>"",1,0)+IF(Jogos!L108<>"",1,0)+IF(Jogos!E127<>"",1,0)+IF(Jogos!J139<>"",1,0)+IF(Jogos!C158<>"",1,0)+IF(Jogos!L170<>"",1,0) -> 12 | R36: =IF(Jogos!E27>Jogos!C27,1,0)+IF(Jogos!J15>Jogos!L15,1,0)+IF(Jogos!C58>Jogos!E58,1,0)+IF(Jogos!L46>Jogos!J46,1,0)+IF(Jogos!E89>Jogos!C89,1,0)+IF(Jogos!J77>Jogos!L77,1,0)+IF(Jogos!C96>Jogos!E96,1,0)+IF(Jogos!L108>Jogos!J108,1,0)+IF(Jogos!E127>Jogos!C127,1,0)+IF(Jogos!J139>Jogos!L139,1,0)+IF(Jogos!C158>Jogos!E158,1,0)+IF(Jogos!L170>Jogos!J170,1,0) -> 4 | S36: =Q36-R36-T36 -> 5 | T36: =IF(Jogos!E27<Jogos!C27,1,0)+IF(Jogos!J15<Jogos!L15,1,0)+IF(Jogos!C58<Jogos!E58,1,0)+IF(Jogos!L46<Jogos!J46,1,0)+IF(Jogos!E89<Jogos!C89,1,0)+IF(Jogos!J77<Jogos!L77,1,0)+IF(Jogos!C96<Jogos!E96,1,0)+IF(Jogos!L108<Jogos!J108,1,0)+IF(Jogos!E127<Jogos!C127,1,0)+IF(Jogos!J139<Jogos!L139,1,0)+IF(Jogos!C158<Jogos!E158,1,0)+IF(Jogos!L170<Jogos!J170,1,0) -> 3 | U36: =Jogos!E27+Jogos!J15+Jogos!C58+Jogos!L46+Jogos!E89+Jogos!J77+Jogos!C96+Jogos!L108+Jogos!E127+Jogos!J139+Jogos!C158+Jogos!L170 -> 11 | V36: =Jogos!C27+Jogos!L15+Jogos!E58+Jogos!J46+Jogos!C89+Jogos!L77+Jogos!E96+Jogos!J108+Jogos!C127+Jogos!L139+Jogos!E158+Jogos!J170 -> 6 | W36: =U36-V36 -> 5 | X36: =R36*3+S36 -> 17 | Y36: 22 | AA36: =(10^10)*X36+(10^8)*R36+(10^6)*(50+W36)+(10^4)*U36+(10^2)*Q36+(13-O36) -> 170455111203 | AD36: 10 | AE36: =LARGE(AA27:AA38,AD36) -> 170455111203 | AG36: 10 | AH36: =MATCH(AE36,AA27:AA38,0) -> 10
C37: 11º | D37: =VLOOKUP(AH37,$O$27:$Y$38,2) -> França | E37: =VLOOKUP(AH37,$O$27:$Y$38,3) -> 12 | F37: =VLOOKUP(AH37,$O$27:$Y$38,4) -> 4 | G37: =VLOOKUP(AH37,$O$27:$Y$38,5) -> 3 | H37: =VLOOKUP(AH37,$O$27:$Y$38,6) -> 5 | I37: =VLOOKUP(AH37,$O$27:$Y$38,7) -> 12 | J37: =VLOOKUP(AH37,$O$27:$Y$38,8) -> 13 | K37: =VLOOKUP(AH37,$O$27:$Y$38,9) -> -1 | L37: =VLOOKUP(AH37,$O$27:$Y$38,10) -> 15 | M37: =IF(E37>0,((L37*100)/N37)/100,0) -> 0.41666667 | N37: =E37*3 -> 36 | O37: 11 | P37: Inglaterra | Q37: =IF(Jogos!E29<>"",1,0)+IF(Jogos!J17<>"",1,0)+IF(Jogos!C60<>"",1,0)+IF(Jogos!L48<>"",1,0)+IF(Jogos!E67<>"",1,0)+IF(Jogos!J79<>"",1,0)+IF(Jogos!C98<>"",1,0)+IF(Jogos!L110<>"",1,0)+IF(Jogos!E129<>"",1,0)+IF(Jogos!J141<>"",1,0)+IF(Jogos!C160<>"",1,0)+IF(Jogos!L172<>"",1,0) -> 12 | R37: =IF(Jogos!E29>Jogos!C29,1,0)+IF(Jogos!J17>Jogos!L17,1,0)+IF(Jogos!C60>Jogos!E60,1,0)+IF(Jogos!L48>Jogos!J48,1,0)+IF(Jogos!E67>Jogos!C67,1,0)+IF(Jogos!J79>Jogos!L79,1,0)+IF(Jogos!C98>Jogos!E98,1,0)+IF(Jogos!L110>Jogos!J110,1,0)+IF(Jogos!E129>Jogos!C129,1,0)+IF(Jogos!J141>Jogos!L141,1,0)+IF(Jogos!C160>Jogos!E160,1,0)+IF(Jogos!L172>Jogos!J172,1,0) -> 7 | S37: =Q37-R37-T37 -> 3 | T37: =IF(Jogos!E29<Jogos!C29,1,0)+IF(Jogos!J17<Jogos!L17,1,0)+IF(Jogos!C60<Jogos!E60,1,0)+IF(Jogos!L48<Jogos!J48,1,0)+IF(Jogos!E67<Jogos!C67,1,0)+IF(Jogos!J79<Jogos!L79,1,0)+IF(Jogos!C98<Jogos!E98,1,0)+IF(Jogos!L110<Jogos!J110,1,0)+IF(Jogos!E129<Jogos!C129,1,0)+IF(Jogos!J141<Jogos!L141,1,0)+IF(Jogos!C160<Jogos!E160,1,0)+IF(Jogos!L172<Jogos!J172,1,0) -> 2 | U37: =Jogos!E29+Jogos!J17+Jogos!C60+Jogos!L48+Jogos!E67+Jogos!J79+Jogos!C98+Jogos!L110+Jogos!E129+Jogos!J141+Jogos!C160+Jogos!L172 -> 13 | V37: =Jogos!C29+Jogos!L17+Jogos!E60+Jogos!J48+Jogos!C67+Jogos!L79+Jogos!E98+Jogos!J110+Jogos!C129+Jogos!L141+Jogos!E160+Jogos!J172 -> 8 | W37: =U37-V37 -> 5 | X37: =R37*3+S37 -> 24 | Y37: 23 | AA37: =(10^10)*X37+(10^8)*R37+(10^6)*(50+W37)+(10^4)*U37+(10^2)*Q37+(13-O37) -> 240755131202 | AD37: 11 | AE37: =LARGE(AA27:AA38,AD37) -> 150449121207 | AG37: 11 | AH37: =MATCH(AE37,AA27:AA38,0) -> 6
C38: 12º | D38: =VLOOKUP(AH38,$O$27:$Y$38,2) -> Dinamarca | E38: =VLOOKUP(AH38,$O$27:$Y$38,3) -> 12 | F38: =VLOOKUP(AH38,$O$27:$Y$38,4) -> 3 | G38: =VLOOKUP(AH38,$O$27:$Y$38,5) -> 2 | H38: =VLOOKUP(AH38,$O$27:$Y$38,6) -> 7 | I38: =VLOOKUP(AH38,$O$27:$Y$38,7) -> 13 | J38: =VLOOKUP(AH38,$O$27:$Y$38,8) -> 16 | K38: =VLOOKUP(AH38,$O$27:$Y$38,9) -> -3 | L38: =VLOOKUP(AH38,$O$27:$Y$38,10) -> 11 | M38: =IF(E38>0,((L38*100)/N38)/100,0) -> 0.30555556 | N38: =E38*3 -> 36 | O38: 12 | P38: Suécia | Q38: =IF(Jogos!E31<>"",1,0)+IF(Jogos!J19<>"",1,0)+IF(Jogos!C38<>"",1,0)+IF(Jogos!L50<>"",1,0)+IF(Jogos!E69<>"",1,0)+IF(Jogos!J81<>"",1,0)+IF(Jogos!C100<>"",1,0)+IF(Jogos!L112<>"",1,0)+IF(Jogos!E131<>"",1,0)+IF(Jogos!J143<>"",1,0)+IF(Jogos!C162<>"",1,0)+IF(Jogos!L174<>"",1,0) -> 12 | R38: =IF(Jogos!E31>Jogos!C31,1,0)+IF(Jogos!J19>Jogos!L19,1,0)+IF(Jogos!C38>Jogos!E38,1,0)+IF(Jogos!L50>Jogos!J50,1,0)+IF(Jogos!E69>Jogos!C69,1,0)+IF(Jogos!J81>Jogos!L81,1,0)+IF(Jogos!C100>Jogos!E100,1,0)+IF(Jogos!L112>Jogos!J112,1,0)+IF(Jogos!E131>Jogos!C131,1,0)+IF(Jogos!J143>Jogos!L143,1,0)+IF(Jogos!C162>Jogos!E162,1,0)+IF(Jogos!L174>Jogos!J174,1,0) -> 5 | S38: =Q38-R38-T38 -> 4 | T38: =IF(Jogos!E31<Jogos!C31,1,0)+IF(Jogos!J19<Jogos!L19,1,0)+IF(Jogos!C38<Jogos!E38,1,0)+IF(Jogos!L50<Jogos!J50,1,0)+IF(Jogos!E69<Jogos!C69,1,0)+IF(Jogos!J81<Jogos!L81,1,0)+IF(Jogos!C100<Jogos!E100,1,0)+IF(Jogos!L112<Jogos!J112,1,0)+IF(Jogos!E131<Jogos!C131,1,0)+IF(Jogos!J143<Jogos!L143,1,0)+IF(Jogos!C162<Jogos!E162,1,0)+IF(Jogos!L174<Jogos!J174,1,0) -> 3 | U38: =Jogos!E31+Jogos!J19+Jogos!C38+Jogos!L50+Jogos!E69+Jogos!J81+Jogos!C100+Jogos!L112+Jogos!E131+Jogos!J143+Jogos!C162+Jogos!L174 -> 12 | V38: =Jogos!C31+Jogos!L19+Jogos!E38+Jogos!J50+Jogos!C69+Jogos!L81+Jogos!E100+Jogos!J112+Jogos!C131+Jogos!L143+Jogos!E162+Jogos!J174 -> 13 | W38: =U38-V38 -> -1 | X38: =R38*3+S38 -> 19 | Y38: 24 | AA38: =(10^10)*X38+(10^8)*R38+(10^6)*(50+W38)+(10^4)*U38+(10^2)*Q38+(13-O38) -> 190549121201 | AD38: 12 | AE38: =LARGE(AA27:AA38,AD38) -> 110347131209 | AG38: 12 | AH38: =MATCH(AE38,AA27:AA38,0) -> 4
C47: Alemanha Austria Bélgica Dinamarca Escócia Eslôvenia Espanha
C48: (Ricardinho) (Tooty) (Renatinho) (Shrek) (Hugo) (Deyvid) (Michael)
A54: França Grécia Holanda Hungria Inglaterra Irlanda Islândia
C55: (Antônio) (Diego) (Bernardo) (Rodrigo) (Gustavão) (João) (Juninho)
A61: Itália Noruega País de Gales Polônia Portugal Rep. Tcheca Rússia
B62: (Cristovão) (Guilherme) (Senador) (Piu) (Mario) (Danilo) (Cayera)
E68: Suécia Suíça Turquia
E69: (Roger) (Fred) (Alex)

Sheet Jogos
B6: 1º Rodada | I6: 7º Rodada
B9: =Classificação!P10 -> Islândia | C9: 1 | D9: x | E9: 6 | F9: =Classificação!P27 -> Irlanda | I9: =Classificação!P33 -> Rússia | J9: 0 | K9: x | L9: 1 | M9: =Classificação!P10 -> Islândia
B11: =Classificação!P11 -> Itália | C11: 0 | D11: x | E11: 1 | F11: =Classificação!P28 -> Escócia | I11: =Classificação!P34 -> Noruega | J11: 3 | K11: x | L11: 0 | M11: =Classificação!P11 -> Itália
B13: =Classificação!P12 -> Grécia | C13: 0 | D13: x | E13: 0 | F13: =Classificação!P29 -> País de Gales | I13: =Classificação!P35 -> Portugal | J13: 1 | K13: x | L13: 0 | M13: =Classificação!P12 -> Grécia
B15: =Classificação!P13 -> Turquia | C15: 2 | D15: x | E15: 1 | F15: =Classificação!P30 -> Dinamarca | I15: =Classificação!P36 -> Espanha | J15: 2 | K15: x | L15: 0 | M15: =Classificação!P13 -> Turquia
B17: =Classificação!P14 -> Rep. Tcheca | C17: 1 | D17: x | E17: 0 | F17: =Classificação!P31 -> Bélgica | I17: =Classificação!P37 -> Inglaterra | J17: 0 | K17: x | L17: 0 | M17: =Classificação!P14 -> Rep. Tcheca
B19: =Classificação!P15 -> Polônia | C19: 2 | D19: x | E19: 0 | F19: =Classificação!P32 -> França | I19: =Classificação!P38 -> Suécia | J19: 1 | K19: x | L19: 0 | M19: =Classificação!P15 -> Polônia
B21: =Classificação!P16 -> Holanda | C21: 0 | D21: x | E21: 4 | F21: =Classificação!P33 -> Rússia | I21: =Classificação!P27 -> Irlanda | J21: 2 | K21: x | L21: 1 | M21: =Classificação!P16 -> Holanda
B23: =Classificação!P17 -> Alemanha | C23: 2 | D23: x | E23: 0 | F23: =Classificação!P34 -> Noruega | I23: =Classificação!P28 -> Escócia | J23: 0 | K23: x | L23: 1 | M23: =Classificação!P17 -> Alemanha
B25: =Classificação!P18 -> Suíça | C25: 1 | D25: x | E25: 1 | F25: =Classificação!P35 -> Portugal | I25: =Classificação!P29 -> País de Gales | J25: 3 | K25: x | L25: 1 | M25: =Classificação!P18 -> Suíça
B27: =Classificação!P19 -> Eslôvenia | C27: 1 | D27: x | E27: 0 | F27: =Classificação!P36 -> Espanha | I27: =Classificação!P30 -> Dinamarca | J27: 1 | K27: x | L27: 0 | M27: =Classificação!P19 -> Eslôvenia
B29: =Classificação!P20 -> Hungria | C29: 1 | D29: x | E29: 1 | F29: =Classificação!P37 -> Inglaterra | I29: =Classificação!P31 -> Bélgica | J29: 1 | K29: x | L29: 0 | M29: =Classificação!P20 -> Hungria
B31: =Classificação!P21 -> Austria | C31: 2 | D31: x | E31: 0 | F31: =Classificação!P38 -> Suécia | I31: =Classificação!P32 -> França | J31: 2 | K31: x | L31: 1 | M31: =Classificação!P21 -> Austria
B35: 2º Rodada | I35: 8º Rodada
B38: =Classificação!P38 -> Suécia | C38: 1 | D38: x | E38: 1 | F38: =Classificação!P10 -> Islândia | I38: =Classificação!P10 -> Islândia | J38: 0 | K38: x | L38: 1 | M38: =Classificação!P32 -> França
B40: =Classificação!P27 -> Irlanda | C40: 3 | D40: x | E40: 0 | F40: =Classificação!P11 -> Itália | I40: =Classificação!P11 -> Itália | J40: 2 | K40: x | L40: 3 | M40: =Classificação!P33 -> Rússia
B42: =Classificação!P28 -> Escócia | C42: 2 | D42: x | E42: 1 | F42: =Classificação!P12 -> Grécia | I42: =Classificação!P12 -> Grécia | J42: 1 | K42: x | L42: 2 | M42: =Classificação!P34 -> Noruega
B44: =Classificação!P29 -> País de Gales | C44: 0 | D44: x | E44: 0 | F44: =Classificação!P13 -> Turquia | I44: =Classificação!P13 -> Turquia | J44: 0 | K44: x | L44: 4 | M44: =Classificação!P35 -> Portugal
B46: =Classificação!P30 -> Dinamarca | C46: 0 | D46: x | E46: 1 | F46: =Classificação!P14 -> Rep. Tcheca | I46: =Classificação!P14 -> Rep. Tcheca | J46: 1 | K46: x | L46: 1 | M46: =Classificação!P36 -> Espanha
B48: =Classificação!P31 -> Bélgica | C48: 0 | D48: x | E48: 0 | F48: =Classificação!P15 -> Polônia | I48: =Classificação!P15 -> Polônia | J48: 0 | K48: x | L48: 2 | M48: =Classificação!P37 -> Inglaterra
B50: =Classificação!P32 -> França | C50: 2 | D50: x | E50: 2 | F50: =Classificação!P16 -> Holanda | I50: =Classificação!P16 -> Holanda | J50: 0 | K50: x | L50: 1 | M50: =Classificação!P38 -> Suécia
B52: =Classificação!P33 -> Rússia | C52: 0 | D52: x | E52: 0 | F52: =Classificação!P17 -> Alemanha | I52: =Classificação!P17 -> Alemanha | J52: 0 | K52: x | L52: 3 | M52: =Classificação!P27 -> Irlanda
B54: =Classificação!P34 -> Noruega | C54: 1 | D54: x | E54: 0 | F54: =Classificação!P18 -> Suíça | I54: =Classificação!P18 -> Suíça | J54: 0 | K54: x | L54: 3 | M54: =Classificação!P28 -> Escócia
B56: =Classificação!P35 -> Portugal | C56: 0 | D56: x | E56: 1 | F56: =Classificação!P19 -> Eslôvenia | I56: =Classificação!P19 -> Eslôvenia | J56: 1 | K56: x | L56: 0 | M56: =Classificação!P29 -> País de Gales
B58: =Classificação!P36 -> Espanha | C58: 2 | D58: x | E58: 0 | F58: =Classificação!P20 -> Hungria | I58: =Classificação!P20 -> Hungria | J58: 1 | K58: x | L58: 0 | M58: =Classificação!P30 -> Dinamarca
B60: =Classificação!P37 -> Inglaterra | C60: 2 | D60: x | E60: 2 | F60: =Classificação!P21 -> Austria | I60: =Classificação!P21 -> Austria | J60: 2 | K60: x | L60: 0 | M60: =Classificação!P31 -> Bélgica
B64: 3º Rodada | I64: 9º Rodada
B67: =Classificação!P10 -> Islândia | C67: 0 | D67: x | E67: 1 | F67: =Classificação!P37 -> Inglaterra | I67: =Classificação!P31 -> Bélgica | J67: 4 | K67: x | L67: 1 | M67: =Classificação!P10 -> Islândia
B69: =Classificação!P11 -> Itália | C69: 2 | D69: x | E69: 2 | F69: =Classificação!P38 -> Suécia | I69: =Classificação!P32 -> França | J69: 1 | K69: x | L69: 0 | M69: =Classificação!P11 -> Itália
B71: =Classificação!P12 -> Grécia | C71: 2 | D71: x | E71: 1 | F71: =Classificação!P27 -> Irlanda | I71: =Classificação!P33 -> Rússia | J71: 0 | K71: x | L71: 1 | M71: =Classificação!P12 -> Grécia
B73: =Classificação!P13 -> Turquia | C73: 1 | D73: x | E73: 1 | F73: =Classificação!P28 -> Escócia | I73: =Classificação!P34 -> Noruega | J73: 4 | K73: x | L73: 0 | M73: =Classificação!P13 -> Turquia
B75: =Classificação!P14 -> Rep. Tcheca | C75: 0 | D75: x | E75: 2 | F75: =Classificação!P29 -> País de Gales | I75: =Classificação!P35 -> Portugal | J75: 2 | K75: x | L75: 1 | M75: =Classificação!P14 -> Rep. Tcheca
B77: =Classificação!P15 -> Polônia | C77: 0 | D77: x | E77: 0 | F77: =Classificação!P30 -> Dinamarca | I77: =Classificação!P36 -> Espanha | J77: 0 | K77: x | L77: 0 | M77: =Classificação!P15 -> Polônia
B79: =Classificação!P16 -> Holanda | C79: 0 | D79: x | E79: 1 | F79: =Classificação!P31 -> Bélgica | I79: =Classificação!P37 -> Inglaterra | J79: 1 | K79: x | L79: 0 | M79: =Classificação!P16 -> Holanda
B81: =Classificação!P17 -> Alemanha | C81: 2 | D81: x | E81: 2 | F81: =Classificação!P32 -> França | I81: =Classificação!P38 -> Suécia | J81: 2 | K81: x | L81: 0 | M81: =Classificação!P17 -> Alemanha
B83: =Classificação!P18 -> Suíça | C83: 0 | D83: x | E83: 5 | F83: =Classificação!P33 -> Rússia | I83: =Classificação!P27 -> Irlanda | J83: 2 | K83: x | L83: 0 | M83: =Classificação!P18 -> Suíça
B85: =Classificação!P19 -> Eslôvenia | C85: 2 | D85: x | E85: 0 | F85: =Classificação!P34 -> Noruega | I85: =Classificação!P28 -> Escócia | J85: 2 | K85: x | L85: 0 | M85: =Classificação!P19 -> Eslôvenia
B87: =Classificação!P20 -> Hungria | C87: 2 | D87: x | E87: 0 | F87: =Classificação!P35 -> Portugal | I87: =Classificação!P29 -> País de Gales | J87: 0 | K87: x | L87: 0 | M87: =Classificação!P20 -> Hungria
B89: =Classificação!P21 -> Austria | C89: 1 | D89: x | E89: 0 | F89: =Classificação!P36 -> Espanha | I89: =Classificação!P30 -> Dinamarca | J89: 1 | K89: x | L89: 1 | M89: =Classificação!P21 -> Austria
B93: 4º Rodada | I93: 10º Rodada
B96: =Classificação!P36 -> Espanha | C96: 1 | D96: x | E96: 1 | F96: =Classificação!P10 -> Islândia | I96: =Classificação!P10 -> Islândia | J96: 3 | K96: x | L96: 2 | M96: =Classificação!P30 -> Dinamarca
B98: =Classificação!P37 -> Inglaterra | C98: 2 | D98: x | E98: 1 | F98: =Classificação!P11 -> Itália | I98: =Classificação!P11 -> Itália | J98: 0 | K98: x | L98: 3 | M98: =Classificação!P31 -> Bélgica
B100: =Classificação!P38 -> Suécia | C100: 3 | D100: x | E100: 2 | F100: =Classificação!P12 -> Grécia | I100: =Classificação!P12 -> Grécia | J100: 1 | K100: x | L100: 0 | M100: =Classificação!P32 -> França
B102: =Classificação!P27 -> Irlanda | C102: 2 | D102: x | E102: 1 | F102: =Classificação!P13 -> Turquia | I102: =Classificação!P13 -> Turquia | J102: 2 | K102: x | L102: 1 | M102: =Classificação!P33 -> Rússia
B104: =Classificação!P28 -> Escócia | C104: 0 | D104: x | E104: 2 | F104: =Classificação!P14 -> Rep. Tcheca | I104: =Classificação!P14 -> Rep. Tcheca | J104: 1 | K104: x | L104: 1 | M104: =Classificação!P34 -> Noruega
B106: =Classificação!P29 -> País de Gales | C106: 1 | D106: x | E106: 2 | F106: =Classificação!P15 -> Polônia | I106: =Classificação!P15 -> Polônia | J106: 0 | K106: x | L106: 0 | M106: =Classificação!P35 -> Portugal
B108: =Classificação!P30 -> Dinamarca | C108: 4 | D108: x | E108: 0 | F108: =Classificação!P16 -> Holanda | I108: =Classificação!P16 -> Holanda | J108: 0 | K108: x | L108: 2 | M108: =Classificação!P36 -> Espanha
B110: =Classificação!P31 -> Bélgica | C110: 2 | D110: x | E110: 0 | F110: =Classificação!P17 -> Alemanha | I110: =Classificação!P17 -> Alemanha | J110: 0 | K110: x | L110: 1 | M110: =Classificação!P37 -> Inglaterra
B112: =Classificação!P32 -> França | C112: 0 | D112: x | E112: 1 | F112: =Classificação!P18 -> Suíça | I112: =Classificação!P18 -> Suíça | J112: 0 | K112: x | L112: 0 | M112: =Classificação!P38 -> Suécia
B114: =Classificação!P33 -> Rússia | C114: 0 | D114: x | E114: 0 | F114: =Classificação!P19 -> Eslôvenia | I114: =Classificação!P19 -> Eslôvenia | J114: 1 | K114: x | L114: 1 | M114: =Classificação!P27 -> Irlanda
B116: =Classificação!P34 -> Noruega | C116: 3 | D116: x | E116: 0 | F116: =Classificação!P20 -> Hungria | I116: =Classificação!P20 -> Hungria | J116: 0 | K116: x | L116: 1 | M116: =Classificação!P28 -> Escócia
B118: =Classificação!P35 -> Portugal | C118: 1 | D118: x | E118: 0 | F118: =Classificação!P21 -> Austria | I118: =Classificação!P21 -> Austria | J118: 0 | K118: x | L118: 0 | M118: =Classificação!P29 -> País de Gales
B122: 5º Rodada | I122: 11º Rodada | AM122: 12
B125: =Classificação!P10 -> Islândia | C125: 1 | D125: x | E125: 3 | F125: =Classificação!P35 -> Portugal | I125: =Classificação!P29 -> País de Gales | J125: 2 | K125: x | L125: 1 | M125: =Classificação!P10 -> Islândia
B127: =Classificação!P11 -> Itália | C127: 0 | D127: x | E127: 2 | F127: =Classificação!P36 -> Espanha | I127: =Classificação!P30 -> Dinamarca | J127: 3 | K127: x | L127: 0 | M127: =Classificação!P11 -> Itália
B129: =Classificação!P12 -> Grécia | C129: 2 | D129: x | E129: 1 | F129: =Classificação!P37 -> Inglaterra | I129: =Classificação!P31 -> Bélgica | J129: 1 | K129: x | L129: 1 | M129: =Classificação!P12 -> Grécia
B131: =Classificação!P13 -> Turquia | C131: 3 | D131: x | E131: 1 | F131: =Classificação!P38 -> Suécia | I131: =Classificação!P32 -> França | J131: 0 | K131: x | L131: 1 | M131: =Classificação!P13 -> Turquia
B133: =Classificação!P14 -> Rep. Tcheca | C133: 1 | D133: x | E133: 3 | F133: =Classificação!P27 -> Irlanda | I133: =Classificação!P33 -> Rússia | J133: 2 | K133: x | L133: 0 | M133: =Classificação!P14 -> Rep. Tcheca
B135: =Classificação!P15 -> Polônia | C135: 0 | D135: x | E135: 1 | F135: =Classificação!P28 -> Escócia | I135: =Classificação!P34 -> Noruega | J135: 1 | K135: x | L135: 1 | M135: =Classificação!P15 -> Polônia
B137: =Classificação!P16 -> Holanda | C137: 0 | D137: x | E137: 2 | F137: =Classificação!P29 -> País de Gales | I137: =Classificação!P35 -> Portugal | J137: 3 | K137: x | L137: 0 | M137: =Classificação!P16 -> Holanda
B139: =Classificação!P17 -> Alemanha | C139: 2 | D139: x | E139: 0 | F139: =Classificação!P30 -> Dinamarca | I139: =Classificação!P36 -> Espanha | J139: 0 | K139: x | L139: 0 | M139: =Classificação!P17 -> Alemanha
B141: =Classificação!P18 -> Suíça | C141: 0 | D141: x | E141: 2 | F141: =Classificação!P31 -> Bélgica | I141: =Classificação!P37 -> Inglaterra | J141: 1 | K141: x | L141: 0 | M141: =Classificação!P18 -> Suíça
B143: =Classificação!P19 -> Eslôvenia | C143: 0 | D143: x | E143: 3 | F143: =Classificação!P32 -> França | I143: =Classificação!P38 -> Suécia | J143: 0 | K143: x | L143: 0 | M143: =Classificação!P19 -> Eslôvenia
B145: =Classificação!P20 -> Hungria | C145: 2 | D145: x | E145: 3 | F145: =Classificação!P33 -> Rússia | I145: =Classificação!P27 -> Irlanda | J145: 4 | K145: x | L145: 0 | M145: =Classificação!P20 -> Hungria
B147: =Classificação!P21 -> Austria | C147: 0 | D147: x | E147: 3 | F147: =Classificação!P34 -> Noruega | I147: =Classificação!P28 -> Escócia | J147: 1 | K147: x | L147: 0 | M147: =Classificação!P21 -> Austria
B151: 6º Rodada | I151: 12º Rodada
B154: =Classificação!P34 -> Noruega | C154: 0 | D154: x | E154: 0 | F154: =Classificação!P10 -> Islândia | I154: =Classificação!P10 -> Islândia | J154: 0 | K154: x | L154: 0 | M154: =Classificação!P28 -> Escócia
B156: =Classificação!P35 -> Portugal | C156: 3 | D156: x | E156: 0 | F156: =Classificação!P11 -> Itália | I156: =Classificação!P11 -> Itália | J156: 2 | K156: x | L156: 5 | M156: =Classificação!P29 -> País de Gales
B158: =Classificação!P36 -> Espanha | C158: 1 | D158: x | E158: 1 | F158: =Classificação!P12 -> Grécia | I158: =Classificação!P12 -> Grécia | J158: 5 | K158: x | L158: 1 | M158: =Classificação!P30 -> Dinamarca
B160: =Classificação!P37 -> Inglaterra | C160: 0 | D160: x | E160: 2 | F160: =Classificação!P13 -> Turquia | I160: =Classificação!P13 -> Turquia | J160: 0 | K160: x | L160: 1 | M160: =Classificação!P31 -> Bélgica
B162: =Classificação!P38 -> Suécia | C162: 0 | D162: x | E162: 3 | F162: =Classificação!P14 -> Rep. Tcheca | I162: =Classificação!P14 -> Rep. Tcheca | J162: 2 | K162: x | L162: 0 | M162: =Classificação!P32 -> França
B164: =Classificação!P27 -> Irlanda | C164: 5 | D164: x | E164: 0 | F164: =Classificação!P15 -> Polônia | I164: =Classificação!P15 -> Polônia | J164: 0 | K164: x | L164: 0 | M164: =Classificação!P33 -> Rússia
B166: =Classificação!P28 -> Escócia | C166: 2 | D166: x | E166: 1 | F166: =Classificação!P16 -> Holanda | I166: =Classificação!P16 -> Holanda | J166: 0 | K166: x | L166: 1 | M166: =Classificação!P34 -> Noruega
B168: =Classificação!P29 -> País de Gales | C168: 3 | D168: x | E168: 2 | F168: =Classificação!P17 -> Alemanha | I168: =Classificação!P17 -> Alemanha | J168: 0 | K168: x | L168: 0 | M168: =Classificação!P35 -> Portugal
B170: =Classificação!P30 -> Dinamarca | C170: 0 | D170: x | E170: 1 | F170: =Classificação!P18 -> Suíça | I170: =Classificação!P18 -> Suíça | J170: 1 | K170: x | L170: 0 | M170: =Classificação!P36 -> Espanha
B172: =Classificação!P31 -> Bélgica | C172: 1 | D172: x | E172: 2 | F172: =Classificação!P19 -> Eslôvenia | I172: =Classificação!P19 -> Eslôvenia | J172: 0 | K172: x | L172: 1 | M172: =Classificação!P37 -> Inglaterra
B174: =Classificação!P32 -> França | C174: 1 | D174: x | E174: 1 | F174: =Classificação!P20 -> Hungria | I174: =Classificação!P20 -> Hungria | J174: 0 | K174: x | L174: 1 | M174: =Classificação!P38 -> Suécia
B176: =Classificação!P33 -> Rússia | C176: 0 | D176: x | E176: 0 | F176: =Classificação!P21 -> Austria | I176: =Classificação!P21 -> Austria | J176: 1 | K176: x | L176: 2 | M176: =Classificação!P27 -> Irlanda
G184: Oitavas de Final
AA185: Ordem Crescente
B187: ok | R187: Posição | S187: Time | T187: Pontos | U187: ID_TIME | W187: Posição
B188: =IF(B187="ok",(VLOOKUP(AB188,$R$188:$S$199,2)),"1º Colocado A") -> Grécia | C188: 2 | D188: x | E188: 0 | F188: =IF(B187="ok",(VLOOKUP(AB195,$R$188:$S$199,2)),"8º Colocado A") -> Suíça | I188: =IF(B187="ok",(VLOOKUP(AB203,$R$203:$S$214,2)),"1º Colocado B") -> Irlanda | J188: 5 | K188: x | L188: 1 | M188: =IF(B187="ok",(VLOOKUP(AB210,$R$203:$S$214,2)),"8º Colocado B") -> Rússia | Q188: GRUPO A | R188: 1 | S188: =Classificação!P10 -> Islândia | T188: =Classificação!AA10 -> 100239101212 | U188: =Classificação!Y10 -> 1 | W188: 1 | X188: =LARGE($T$188:$T$199,W188) -> 180554171210 | AA188: 1 | AB188: =MATCH(X188,$T$188:$T$199,0) -> 3
B189: =VLOOKUP(AB188,$R$188:$V$199,4) -> 3 | F189: =VLOOKUP(AB195,$R$188:$U$199,4) -> 9 | I189: =VLOOKUP(AB203,$R$203:$U$214,4) -> 13 | M189: =VLOOKUP(AB210,$R$203:$U$214,4) -> 19 | R189: 2 | S189: =Classificação!P11 -> Itália | T189: =Classificação!AA11 -> 10026071211 | U189: =Classificação!Y11 -> 2 | W189: 2 | X189: =LARGE($T$188:$T$199,W189) -> 180552131208 | AA189: 2 | AB189: =MATCH(X189,$T$188:$T$199,0) -> 5
B190: =VLOOKUP(AB188,$R$188:$V$199,3) -> 180554171210 | F190: =VLOOKUP(AB195,$R$188:$U$199,3) -> 110337051204 | I190: =VLOOKUP(AB203,$R$203:$U$214,3) -> 311076341212 | M190: =VLOOKUP(AB210,$R$203:$U$214,3) -> 190560181206 | R190: 3 | S190: =Classificação!P12 -> Grécia | T190: =Classificação!AA12 -> 180554171210 | U190: =Classificação!Y12 -> 3 | W190: 3 | X190: =LARGE($T$188:$T$199,W190) -> 180549081203 | AA190: 3 | AB190: =MATCH(X190,$T$188:$T$199,0) -> 10
B191: =IF(B187="ok",(VLOOKUP(AB189,$R$188:$S$199,2)),"2º Colocado A") -> Rep. Tcheca | C191: 0 | D191: x | E191: 0 | F191: =IF(B187="ok",(VLOOKUP(AB194,$R$188:$S$199,2)),"7º Colocado A") -> Polônia | I191: =IF(B187="ok",(VLOOKUP(AB204,$R$203:$S$214,2)),"2º Colocado B") -> Escócia | J191: 1 | K191: x | L191: 0 | M191: =IF(B187="ok",(VLOOKUP(AB209,$R$203:$S$214,2)),"7º Colocado B") -> País de Gales | R191: 4 | S191: =Classificação!P13 -> Turquia | T191: =Classificação!AA13 -> 170545121209 | U191: =Classificação!Y13 -> 4 | W191: 4 | X191: =LARGE($T$188:$T$199,W191) -> 170545121209 | AA191: 4 | AB191: =MATCH(X191,$T$188:$T$199,0) -> 4
B192: =VLOOKUP(AB189,$R$188:$U$199,4) -> 5 | C192: 1 | E192: 2 | F192: =VLOOKUP(AB194,$R$188:$U$199,4) -> 6 | I192: =VLOOKUP(AB204,$R$203:$U$214,4) -> 14 | M192: =VLOOKUP(AB209,$R$203:$U$214,4) -> 15 | R192: 5 | S192: =Classificação!P14 -> Rep. Tcheca | T192: =Classificação!AA14 -> 180552131208 | U192: =Classificação!Y14 -> 5 | W192: 5 | X192: =LARGE($T$188:$T$199,W192) -> 130348101201 | AA192: 5 | AB192: =MATCH(X192,$T$188:$T$199,0) -> 12
B193: =VLOOKUP(AB189,$R$188:$U$199,3) -> 180552131208 | F193: =VLOOKUP(AB194,$R$188:$U$199,3) -> 120244051207 | I193: =VLOOKUP(AB204,$R$203:$U$214,3) -> 260858141211 | M193: =VLOOKUP(AB209,$R$203:$U$214,3) -> 220659181210 | R193: 6 | S193: =Classificação!P15 -> Polônia | T193: =Classificação!AA15 -> 120244051207 | U193: =Classificação!Y15 -> 6 | W193: 6 | X193: =LARGE($T$188:$T$199,W193) -> 130346091205 | AA193: 6 | AB193: =MATCH(X193,$T$188:$T$199,0) -> 8
B194: =IF(B187="ok",(VLOOKUP(AB190,$R$188:$S$199,2)),"3º Colocado A") -> Eslôvenia | C194: 1 | D194: x | E194: 0 | F194: =IF(B187="ok",(VLOOKUP(AB193,$R$188:$S$199,2)),"6º Colocado A") -> Alemanha | I194: =IF(B187="ok",(VLOOKUP(AB205,$R$203:$S$214,2)),"3º Colocado B") -> Noruega | J194: 2 | K194: x | L194: 2 | M194: =IF(B187="ok",(VLOOKUP(AB208,$R$203:$S$214,2)),"6º Colocado") -> Bélgica | R194: 7 | S194: =Classificação!P16 -> Holanda | T194: =Classificação!AA16 -> 10029041206 | U194: =Classificação!Y16 -> 7 | W194: 7 | X194: =LARGE($T$188:$T$199,W194) -> 120244051207 | AA194: 7 | AB194: =MATCH(X194,$T$188:$T$199,0) -> 6
B195: =VLOOKUP(AB190,$R$188:$U$199,4) -> 10 | F195: =VLOOKUP(AB193,$R$188:$U$199,4) -> 8 | I195: =VLOOKUP(AB205,$R$203:$U$214,4) -> 20 | J195: 1 | L195: 3 | M195: =VLOOKUP(AB208,$R$203:$U$214,4) -> 17 | R195: 8 | S195: =Classificação!P17 -> Alemanha | T195: =Classificação!AA17 -> 130346091205 | U195: =Classificação!Y17 -> 8 | W195: 8 | X195: =LARGE($T$188:$T$199,W195) -> 110337051204 | AA195: 8 | AB195: =MATCH(X195,$T$188:$T$199,0) -> 9
B196: =VLOOKUP(AB190,$R$188:$U$199,3) -> 180549081203 | F196: =VLOOKUP(AB193,$R$188:$U$199,3) -> 130346091205 | I196: =VLOOKUP(AB205,$R$203:$U$214,3) -> 240762191205 | M196: =VLOOKUP(AB208,$R$203:$U$214,3) -> 230759161208 | R196: 9 | S196: =Classificação!P18 -> Suíça | T196: =Classificação!AA18 -> 110337051204 | U196: =Classificação!Y18 -> 9 | W196: 9 | X196: =LARGE($T$188:$T$199,W196) -> 100239101212 | AA196: 9 | AB196: =MATCH(X196,$T$188:$T$199,0) -> 1
B197: =IF(B187="ok",(VLOOKUP(AB191,$R$188:$S$199,2)),"4º Colocado A") -> Turquia | C197: 0 | D197: x | E197: 1 | F197: =IF(B187="ok",(VLOOKUP(AB192,$R$188:$S$199,2)),"5º Colocado A") -> Austria | I197: =IF(B187="ok",(VLOOKUP(AB206,$R$203:$S$214,2)),"4º Colocado B") -> Portugal | J197: 1 | K197: x | L197: 2 | M197: =IF(B187="ok",(VLOOKUP(AB207,$R$203:$S$214,2)),"5º Colocado B") -> Inglaterra | R197: 10 | S197: =Classificação!P19 -> Eslôvenia | T197: =Classificação!AA19 -> 180549081203 | U197: =Classificação!Y19 -> 10 | W197: 10 | X197: =LARGE($T$188:$T$199,W197) -> 90240071202 | AA197: 10 | AB197: =MATCH(X197,$T$188:$T$199,0) -> 11
B198: =VLOOKUP(AB191,$R$188:$U$199,4) -> 4 | F198: =VLOOKUP(AB192,$R$188:$U$199,4) -> 12 | I198: =VLOOKUP(AB206,$R$203:$U$214,4) -> 21 | M198: =VLOOKUP(AB207,$R$203:$U$214,4) -> 23 | R198: 11 | S198: =Classificação!P20 -> Hungria | T198: =Classificação!AA20 -> 90240071202 | U198: =Classificação!Y20 -> 11 | W198: 11 | X198: =LARGE($T$188:$T$199,W198) -> 10029041206 | AA198: 11 | AB198: =MATCH(X198,$T$188:$T$199,0) -> 7
B199: =VLOOKUP(AB191,$R$188:$U$199,3) -> 170545121209 | F199: =VLOOKUP(AB192,$R$188:$U$199,3) -> 130348101201 | I199: =VLOOKUP(AB206,$R$203:$U$214,3) -> 240762181204 | M199: =VLOOKUP(AB207,$R$203:$U$214,3) -> 240755131202 | R199: 12 | S199: =Classificação!P21 -> Austria | T199: =Classificação!AA21 -> 130348101201 | U199: =Classificação!Y21 -> 12 | W199: 12 | X199: =LARGE($T$188:$T$199,W199) -> 10026071211 | AA199: 12 | AB199: =MATCH(X199,$T$188:$T$199,0) -> 2
Q203: GRUPO B | R203: 1 | S203: =Classificação!P27 -> Irlanda | T203: =Classificação!AA27 -> 311076341212 | U203: =Classificação!Y27 -> 13 | W203: 1 | X203: =LARGE($T$203:$T$214,W203) -> 311076341212 | AA203: 1 | AB203: =MATCH(X203,$T$203:$T$214,0) -> 1
R204: 2 | S204: =Classificação!P28 -> Escócia | T204: =Classificação!AA28 -> 260858141211 | U204: =Classificação!Y28 -> 14 | W204: 2 | X204: =LARGE($T$203:$T$214,W204) -> 260858141211 | AA204: 2 | AB204: =MATCH(X204,$T$203:$T$214,0) -> 2
R205: 3 | S205: =Classificação!P29 -> País de Gales | T205: =Classificação!AA29 -> 220659181210 | U205: =Classificação!Y29 -> 15 | W205: 3 | X205: =LARGE($T$203:$T$214,W205) -> 240762191205 | AA205: 3 | AB205: =MATCH(X205,$T$203:$T$214,0) -> 8
R206: 4 | S206: =Classificação!P30 -> Dinamarca | T206: =Classificação!AA30 -> 110347131209 | U206: =Classificação!Y30 -> 16 | W206: 4 | X206: =LARGE($T$203:$T$214,W206) -> 240762181204 | AA206: 4 | AB206: =MATCH(X206,$T$203:$T$214,0) -> 9
R207: 5 | S207: =Classificação!P31 -> Bélgica | T207: =Classificação!AA31 -> 230759161208 | U207: =Classificação!Y31 -> 17 | W207: 5 | X207: =LARGE($T$203:$T$214,W207) -> 240755131202 | AA207: 5 | AB207: =MATCH(X207,$T$203:$T$214,0) -> 11
R208: 6 | S208: =Classificação!P32 -> França | T208: =Classificação!AA32 -> 150449121207 | U208: =Classificação!Y32 -> 18 | W208: 6 | X208: =LARGE($T$203:$T$214,W208) -> 230759161208 | AA208: 6 | AB208: =MATCH(X208,$T$203:$T$214,0) -> 5
R209: 7 | S209: =Classificação!P33 -> Rússia | T209: =Classificação!AA33 -> 190560181206 | U209: =Classificação!Y33 -> 19 | W209: 7 | X209: =LARGE($T$203:$T$214,W209) -> 220659181210 | AA209: 7 | AB209: =MATCH(X209,$T$203:$T$214,0) -> 3
...

Sheet Geral 2º Turno
B2: CLASSIFICAÇÃO GERAL - 2º Turno | P2: 1º FASE | AA2: OITAVAS DE FINAL | AL2: QUARTAS DE FINAL | AW2: SEMI FINAL | BI2: FINAL
B4: Posição | C4: Times | D4: Jogos | E4: Vitorias | F4: Empates | G4: Derrotas | H4: Gols Pró | I4: Gols Cont. | J4: Saldo | K4: Pontos | P4: ID_TIME | Q4: Times | R4: Jogos | S4: Vitorias | T4: Empates | U4: Derrotas | V4: Gols Pró | W4: Gols Cont. | X4: Saldo | Y4: Pontos | AA4: ID_TIME | AB4: Times | AC4: Jogos | AD4: Vitorias | AE4: Empates | AF4: Derrotas | AG4: Gols Pró | AH4: Gols Cont. | AI4: Saldo | AJ4: Pontos | AL4: ID_TIME | AM4: Times | AN4: Jogos | AO4: Vitorias | AP4: Empates | AQ4: Derrotas | AR4: Gols Pró | AS4: Gols Cont. | AT4: Saldo | AU4: Pontos | AW4: ID_TIME | AX4: Times | AY4: Jogos | AZ4: Vitorias | BA4: Empates | BB4: Derrotas | BC4: Gols Pró | BD4: Gols Cont. | BE4: Saldo | BF4: Pontos | BI4: ID_TIME | BJ4: Times | BK4: Jogos | BL4: Vitorias | BM4: Empates | BN4: Derrotas | BO4: Gols Pró | BP4: Gols Cont. | BQ4: Saldo | BR4: Pontos | BY4: ID_TIME | BZ4: Times | CA4: Jogos | CB4: Vitorias | CC4: Empates | CD4: Derrotas | CE4: Gols Pró | CF4: Gols Cont. | CG4: Saldo | CH4: Pontos
B6: 1º | C6: =VLOOKUP(CO6,$BY$6:$CH$23,2) -> #REF! | D6: =VLOOKUP(CO6,$BY$6:$CH$23,3) -> #REF! | E6: =VLOOKUP(CO6,$BY$6:$CH$23,4) -> #REF! | F6: =D6-E6-G6 -> #REF! | G6: =VLOOKUP(CO6,$BY$6:$CH$23,6) -> #REF! | H6: =VLOOKUP(CO6,$BY$6:$CH$23,7) -> #REF! | I6: =VLOOKUP(CO6,$BY$6:$CH$23,8) -> #REF! | J6: =H6-I6 -> #REF! | K6: =E6*3+F6 -> #REF! | P6: =#REF! -> #REF! | Q6: =Classificação!P10 -> Islândia | R6: =Classificação!Q10 -> 12 | S6: =Classificação!R10 -> 2 | T6: =Classificação!S10 -> 4 | U6: =Classificação!T10 -> 6 | V6: =Classificação!U10 -> 10 | W6: =Classificação!V10 -> 21 | X6: =Classificação!W10 -> -11 | Y6: =Classificação!X10 -> 10 | Z6: =(10^10)*Y6+(10^8)*S6+(10^6)*(50+X6)+(10^4)*V6+(10^2)*R6+(13-P6) -> #REF! | AK6: 0 | AL6: =#REF! -> #REF! | AM6: =IF(ISERROR(VLOOKUP(AL6,$AL$27:$AN$34,2,FALSE)),0,(VLOOKUP(AL6,$AL$27:$AN$34,2,FALSE))) -> 0 | AN6: =IF(ISERROR(VLOOKUP(AL6,$AL$27:$AN$34,3,FALSE)),0,(VLOOKUP(AL6,$AL$27:$AN$34,3,FALSE))) -> 0 | AO6: =IF(ISERROR(VLOOKUP(AL6,$AL$27:$AO$34,4,FALSE)),0,(VLOOKUP(AL6,$AL$27:$AO$34,4,FALSE))) -> 0 | AP6: =AN6-AO6-AQ6 -> 0 | AQ6: =IF(ISERROR(VLOOKUP(AL6,$AL$27:$AQ$34,6,FALSE)),0,(VLOOKUP(AL6,$AL$27:$AQ$34,6,FALSE))) -> 0 | AR6: =IF(ISERROR(VLOOKUP(AL6,$AL$27:$AR$34,7,FALSE)),0,(VLOOKUP(AL6,$AL$27:$AR$34,7,FALSE))) -> 0 | AS6: =IF(ISERROR(VLOOKUP(AL6,$AL$27:$AS$34,8,FALSE)),0,(VLOOKUP(AL6,$AL$27:$AS$34,8,FALSE))) -> 0 | AT6: =AR6-AS6 -> 0 | AU6: =AO6*3+AP6 -> 0 | AW6: 1 | AX6: =IF(ISERROR(VLOOKUP(AW6,$AW$26:$AY$29,2,FALSE)),0,(VLOOKUP(AW6,$AW$26:$AY$29,2,FALSE))) -> 0 | AY6: =IF(ISERROR(VLOOKUP(AW6,$AW$26:$BF$29,3,FALSE)),0,(VLOOKUP(AW6,$AW$26:$BF$29,3,FALSE))) -> 0 | AZ6: =IF(ISERROR(VLOOKUP(AW6,$AW$26:$BF$29,4,FALSE)),0,(VLOOKUP(AW6,$AW$26:$BF$29,4,FALSE))) -> 0 | BA6: =AY6-AZ6-BB6 -> 0 | BB6: =IF(ISERROR(VLOOKUP(AW6,$AW$26:$BF$29,6,FALSE)),0,(VLOOKUP(AW6,$AW$26:$BF$29,6,FALSE))) -> 0 | BC6: =IF(ISERROR(VLOOKUP(AW6,$AW$26:$BF$29,7,FALSE)),0,(VLOOKUP(AW6,$AW$26:$BF$29,7,FALSE))) -> 0 | BD6: =IF(ISERROR(VLOOKUP(AW6,$AW$26:$BF$29,8,FALSE)),0,(VLOOKUP(AW6,$AW$26:$BF$29,8,FALSE))) -> 0 | BE6: =BC6-BD6 -> 0 | BF6: =AZ6*3+BA6 -> 0 | BI6: 1 | BJ6: =IF(ISERROR(VLOOKUP(BI6,$BI$26:$BK$29,2,FALSE)),0,(VLOOKUP(BI6,$BI$26:$BK$29,2,FALSE))) -> 0 | BK6: =IF(ISERROR(VLOOKUP(BI6,$BI$26:$BR$27,3,FALSE)),0,(VLOOKUP(BI6,$BI$26:$BR$27,3,FALSE))) -> 0 | BL6: =IF(ISERROR(VLOOKUP(BI6,$BI$26:$BR$27,4,FALSE)),0,(VLOOKUP(BI6,$BI$26:$BR$27,4,FALSE))) -> 0 | BM6: =BK6-BL6-BN6 -> 0 | BN6: =IF(ISERROR(VLOOKUP(BI6,$BI$26:$BR$27,6,FALSE)),0,(VLOOKUP(BI6,$BI$26:$BR$27,6,FALSE))) -> 0 | BO6: =IF(ISERROR(VLOOKUP(BI6,$BI$26:$BR$27,7,FALSE)),0,(VLOOKUP(BI6,$BI$26:$BR$27,7,FALSE))) -> 0 | BP6: =IF(ISERROR(VLOOKUP(BI6,$BI$26:$BR$27,8,FALSE)),0,(VLOOKUP(BI6,$BI$26:$BR$27,8,FALSE))) -> 0 | BQ6: =BO6-BP6 -> 0 | BR6: =BL6*3+BM6 -> 0 | BY6: =P6 -> #REF! | BZ6: =Q6 -> Islândia | CA6: =R6+AN6+AY6+BK6 -> 12 | CB6: =S6+AO6+AZ6+BL6 -> 2 | CC6: =T6+AP6+BA6+BM6 -> 4 | CD6: =U6+AQ6+BB6+BN6 -> 6 | CE6: =V6+AR6+BC6+BO6 -> 10 | CF6: =W6+AS6+BD6+BP6 -> 21 | CG6: =X6+AT6+BE6+BQ6 -> -11 | CH6: =Y6+AU6+BF6+BR6 -> 10 | CJ6: =(10^10)*CH6+(10^8)*CB6+(10^6)*(50+CG6)+(10^4)*CE6+(10^2)*CA6+(13-BY6) -> #REF! | CK6: 1 | CL6: =LARGE($CJ$6:$CJ$23,CK6) -> #REF! | CN6: 1 | CO6: =MATCH(CL6,$CJ$6:$CJ$23,0) -> #REF!
B7: 2º | C7: =VLOOKUP(CO7,$BY$6:$CH$23,2) -> #REF! | D7: =VLOOKUP(CO7,$BY$6:$CH$23,3) -> #REF! | E7: =VLOOKUP(CO7,$BY$6:$CH$23,4) -> #REF! | F7: =D7-E7-G7 -> #REF! | G7: =VLOOKUP(CO7,$BY$6:$CH$23,6) -> #REF! | H7: =VLOOKUP(CO7,$BY$6:$CH$23,7) -> #REF! | I7: =VLOOKUP(CO7,$BY$6:$CH$23,8) -> #REF! | J7: =H7-I7 -> #REF! | K7: =E7*3+F7 -> #REF! | P7: =#REF! -> #REF! | Q7: =Classificação!P11 -> Itália | R7: =Classificação!Q11 -> 12 | S7: =Classificação!R11 -> 0 | T7: =Classificação!S11 -> 1 | U7: =Classificação!T11 -> 11 | V7: =Classificação!U11 -> 7 | W7: =Classificação!V11 -> 31 | X7: =Classificação!W11 -> -24 | Y7: =Classificação!X11 -> 1 | Z7: =(10^10)*Y7+(10^8)*S7+(10^6)*(50+X7)+(10^4)*V7+(10^2)*R7+(13-P7) -> #REF! | AK7: 0 | AL7: =#REF! -> #REF! | AM7: =IF(ISERROR(VLOOKUP(AL7,$AL$27:$AN$34,2,FALSE)),0,(VLOOKUP(AL7,$AL$27:$AN$34,2,FALSE))) -> 0 | AN7: =IF(ISERROR(VLOOKUP(AL7,$AL$27:$AN$34,3,FALSE)),0,(VLOOKUP(AL7,$AL$27:$AN$34,3,FALSE))) -> 0 | AO7: =IF(ISERROR(VLOOKUP(AL7,$AL$27:$AO$34,4,FALSE)),0,(VLOOKUP(AL7,$AL$27:$AO$34,4,FALSE))) -> 0 | AP7: =AN7-AO7-AQ7 -> 0 | AQ7: =IF(ISERROR(VLOOKUP(AL7,$AL$27:$AQ$34,6,FALSE)),0,(VLOOKUP(AL7,$AL$27:$AQ$34,6,FALSE))) -> 0 | AR7: =IF(ISERROR(VLOOKUP(AL7,$AL$27:$AR$34,7,FALSE)),0,(VLOOKUP(AL7,$AL$27:$AR$34,7,FALSE))) -> 0 | AS7: =IF(ISERROR(VLOOKUP(AL7,$AL$27:$AS$34,8,FALSE)),0,(VLOOKUP(AL7,$AL$27:$AS$34,8,FALSE))) -> 0 | AT7: =AR7-AS7 -> 0 | AU7: =AO7*3+AP7 -> 0 | AW7: 2 | AX7: =IF(ISERROR(VLOOKUP(AW7,$AW$26:$AY$29,2,FALSE)),0,(VLOOKUP(AW7,$AW$26:$AY$29,2,FALSE))) -> 0 | AY7: =IF(ISERROR(VLOOKUP(AW7,$AW$26:$BF$29,3,FALSE)),0,(VLOOKUP(AW7,$AW$26:$BF$29,3,FALSE))) -> 0 | AZ7: =IF(ISERROR(VLOOKUP(AW7,$AW$26:$BF$29,4,FALSE)),0,(VLOOKUP(AW7,$AW$26:$BF$29,4,FALSE))) -> 0 | BA7: =AY7-AZ7-BB7 -> 0 | BB7: =IF(ISERROR(VLOOKUP(AW7,$AW$26:$BF$29,6,FALSE)),0,(VLOOKUP(AW7,$AW$26:$BF$29,6,FALSE))) -> 0 | BC7: =IF(ISERROR(VLOOKUP(AW7,$AW$26:$BF$29,7,FALSE)),0,(VLOOKUP(AW7,$AW$26:$BF$29,7,FALSE))) -> 0 | BD7: =IF(ISERROR(VLOOKUP(AW7,$AW$26:$BF$29,8,FALSE)),0,(VLOOKUP(AW7,$AW$26:$BF$29,8,FALSE))) -> 0 | BE7: =BC7-BD7 -> 0 | BF7: =AZ7*3+BA7 -> 0 | BI7: 2 | BJ7: =IF(ISERROR(VLOOKUP(BI7,$BI$26:$BK$29,2,FALSE)),0,(VLOOKUP(BI7,$BI$26:$BK$29,2,FALSE))) -> 0 | BK7: =IF(ISERROR(VLOOKUP(BI7,$BI$26:$BR$27,3,FALSE)),0,(VLOOKUP(BI7,$BI$26:$BR$27,3,FALSE))) -> 0 | BL7: =IF(ISERROR(VLOOKUP(BI7,$BI$26:$BR$27,4,FALSE)),0,(VLOOKUP(BI7,$BI$26:$BR$27,4,FALSE))) -> 0 | BM7: =BK7-BL7-BN7 -> 0 | BN7: =IF(ISERROR(VLOOKUP(BI7,$BI$26:$BR$27,6,FALSE)),0,(VLOOKUP(BI7,$BI$26:$BR$27,6,FALSE))) -> 0 | BO7: =IF(ISERROR(VLOOKUP(BI7,$BI$26:$BR$27,7,FALSE)),0,(VLOOKUP(BI7,$BI$26:$BR$27,7,FALSE))) -> 0 | BP7: =IF(ISERROR(VLOOKUP(BI7,$BI$26:$BR$27,8,FALSE)),0,(VLOOKUP(BI7,$BI$26:$BR$27,8,FALSE))) -> 0 | BQ7: =BO7-BP7 -> 0 | BR7: =BL7*3+BM7 -> 0 | BY7: =P7 -> #REF! | BZ7: =Q7 -> Itália | CA7: =R7+AN7+AY7+BK7 -> 12 | CB7: =S7+AO7+AZ7+BL7 -> 0 | CC7: =T7+AP7+BA7+BM7 -> 1 | CD7: =U7+AQ7+BB7+BN7 -> 11 | CE7: =V7+AR7+BC7+BO7 -> 7 | CF7: =W7+AS7+BD7+BP7 -> 31 | CG7: =X7+AT7+BE7+BQ7 -> -24 | CH7: =Y7+AU7+BF7+BR7 -> 1 | CJ7: =(10^10)*CH7+(10^8)*CB7+(10^6)*(50+CG7)+(10^4)*CE7+(10^2)*CA7+(13-BY7) -> #REF! | CK7: 2 | CL7: =LARGE($CJ$6:$CJ$23,CK7) -> #REF! | CN7: 2 | CO7: =MATCH(CL7,$CJ$6:$CJ$23,0) -> #REF!
B8: 3º | C8: =VLOOKUP(CO8,$BY$6:$CH$23,2) -> #REF! | D8: =VLOOKUP(CO8,$BY$6:$CH$23,3) -> #REF! | E8: =VLOOKUP(CO8,$BY$6:$CH$23,4) -> #REF! | F8: =D8-E8-G8 -> #REF! | G8: =VLOOKUP(CO8,$BY$6:$CH$23,6) -> #REF! | H8: =VLOOKUP(CO8,$BY$6:$CH$23,7) -> #REF! | I8: =VLOOKUP(CO8,$BY$6:$CH$23,8) -> #REF! | J8: =H8-I8 -> #REF! | K8: =E8*3+F8 -> #REF! | P8: =#REF! -> #REF! | Q8: =Classificação!P12 -> Grécia | R8: =Classificação!Q12 -> 12 | S8: =Classificação!R12 -> 5 | T8: =Classificação!S12 -> 3 | U8: =Classificação!T12 -> 4 | V8: =Classificação!U12 -> 17 | W8: =Classificação!V12 -> 13 | X8: =Classificação!W12 -> 4 | Y8: =Classificação!X12 -> 18 | Z8: =(10^10)*Y8+(10^8)*S8+(10^6)*(50+X8)+(10^4)*V8+(10^2)*R8+(13-P8) -> #REF! | AK8: 0 | AL8: =#REF! -> #REF! | AM8: =IF(ISERROR(VLOOKUP(AL8,$AL$27:$AN$34,2,FALSE)),0,(VLOOKUP(AL8,$AL$27:$AN$34,2,FALSE))) -> 0 | AN8: =IF(ISERROR(VLOOKUP(AL8,$AL$27:$AN$34,3,FALSE)),0,(VLOOKUP(AL8,$AL$27:$AN$34,3,FALSE))) -> 0 | AO8: =IF(ISERROR(VLOOKUP(AL8,$AL$27:$AO$34,4,FALSE)),0,(VLOOKUP(AL8,$AL$27:$AO$34,4,FALSE))) -> 0 | AP8: =AN8-AO8-AQ8 -> 0 | AQ8: =IF(ISERROR(VLOOKUP(AL8,$AL$27:$AQ$34,6,FALSE)),0,(VLOOKUP(AL8,$AL$27:$AQ$34,6,FALSE))) -> 0 | AR8: =IF(ISERROR(VLOOKUP(AL8,$AL$27:$AR$34,7,FALSE)),0,(VLOOKUP(AL8,$AL$27:$AR$34,7,FALSE))) -> 0 | AS8: =IF(ISERROR(VLOOKUP(AL8,$AL$27:$AS$34,8,FALSE)),0,(VLOOKUP(AL8,$AL$27:$AS$34,8,FALSE))) -> 0 | AT8: =AR8-AS8 -> 0 | AU8: =AO8*3+AP8 -> 0 | AW8: 3 | AX8: =IF(ISERROR(VLOOKUP(AW8,$AW$26:$AY$29,2,FALSE)),0,(VLOOKUP(AW8,$AW$26:$AY$29,2,FALSE))) -> 0 | AY8: =IF(ISERROR(VLOOKUP(AW8,$AW$26:$BF$29,3,FALSE)),0,(VLOOKUP(AW8,$AW$26:$BF$29,3,FALSE))) -> 0 | AZ8: =IF(ISERROR(VLOOKUP(AW8,$AW$26:$BF$29,4,FALSE)),0,(VLOOKUP(AW8,$AW$26:$BF$29,4,FALSE))) -> 0 | BA8: =AY8-AZ8-BB8 -> 0 | BB8: =IF(ISERROR(VLOOKUP(AW8,$AW$26:$BF$29,6,FALSE)),0,(VLOOKUP(AW8,$AW$26:$BF$29,6,FALSE))) -> 0 | BC8: =IF(ISERROR(VLOOKUP(AW8,$AW$26:$BF$29,7,FALSE)),0,(VLOOKUP(AW8,$AW$26:$BF$29,7,FALSE))) -> 0 | BD8: =IF(ISERROR(VLOOKUP(AW8,$AW$26:$BF$29,8,FALSE)),0,(VLOOKUP(AW8,$AW$26:$BF$29,8,FALSE))) -> 0 | BE8: =BC8-BD8 -> 0 | BF8: =AZ8*3+BA8 -> 0 | BI8: 3 | BJ8: =IF(ISERROR(VLOOKUP(BI8,$BI$26:$BK$29,2,FALSE)),0,(VLOOKUP(BI8,$BI$26:$BK$29,2,FALSE))) -> 0 | BK8: =IF(ISERROR(VLOOKUP(BI8,$BI$26:$BR$27,3,FALSE)),0,(VLOOKUP(BI8,$BI$26:$BR$27,3,FALSE))) -> 0 | BL8: =IF(ISERROR(VLOOKUP(BI8,$BI$26:$BR$27,4,FALSE)),0,(VLOOKUP(BI8,$BI$26:$BR$27,4,FALSE))) -> 0 | BM8: =BK8-BL8-BN8 -> 0 | BN8: =IF(ISERROR(VLOOKUP(BI8,$BI$26:$BR$27,6,FALSE)),0,(VLOOKUP(BI8,$BI$26:$BR$27,6,FALSE))) -> 0 | BO8: =IF(ISERROR(VLOOKUP(BI8,$BI$26:$BR$27,7,FALSE)),0,(VLOOKUP(BI8,$BI$26:$BR$27,7,FALSE))) -> 0 | BP8: =IF(ISERROR(VLOOKUP(BI8,$BI$26:$BR$27,8,FALSE)),0,(VLOOKUP(BI8,$BI$26:$BR$27,8,FALSE))) -> 0 | BQ8: =BO8-BP8 -> 0 | BR8: =BL8*3+BM8 -> 0 | BY8: =P8 -> #REF! | BZ8: =Q8 -> Grécia | CA8: =R8+AN8+AY8+BK8 -> 12 | CB8: =S8+AO8+AZ8+BL8 -> 5 | CC8: =T8+AP8+BA8+BM8 -> 3 | CD8: =U8+AQ8+BB8+BN8 -> 4 | CE8: =V8+AR8+BC8+BO8 -> 17 | CF8: =W8+AS8+BD8+BP8 -> 13 | CG8: =X8+AT8+BE8+BQ8 -> 4 | CH8: =Y8+AU8+BF8+BR8 -> 18 | CJ8: =(10^10)*CH8+(10^8)*CB8+(10^6)*(50+CG8)+(10^4)*CE8+(10^2)*CA8+(13-BY8) -> #REF! | CK8: 3 | CL8: =LARGE($CJ$6:$CJ$23,CK8) -> #REF! | CN8: 3 | CO8: =MATCH(CL8,$CJ$6:$CJ$23,0) -> #REF!
B9: 4º | C9: =VLOOKUP(CO9,$BY$6:$CH$23,2) -> #REF! | D9: =VLOOKUP(CO9,$BY$6:$CH$23,3) -> #REF! | E9: =VLOOKUP(CO9,$BY$6:$CH$23,4) -> #REF! | F9: =D9-E9-G9 -> #REF! | G9: =VLOOKUP(CO9,$BY$6:$CH$23,6) -> #REF! | H9: =VLOOKUP(CO9,$BY$6:$CH$23,7) -> #REF! | I9: =VLOOKUP(CO9,$BY$6:$CH$23,8) -> #REF! | J9: =H9-I9 -> #REF! | K9: =E9*3+F9 -> #REF! | P9: =#REF! -> #REF! | Q9: =Classificação!P13 -> Turquia | R9: =Classificação!Q13 -> 12 | S9: =Classificação!R13 -> 5 | T9: =Classificação!S13 -> 2 | U9: =Classificação!T13 -> 5 | V9: =Classificação!U13 -> 12 | W9: =Classificação!V13 -> 17 | X9: =Classificação!W13 -> -5 | Y9: =Classificação!X13 -> 17 | Z9: =(10^10)*Y9+(10^8)*S9+(10^6)*(50+X9)+(10^4)*V9+(10^2)*R9+(13-P9) -> #REF! | AK9: 0 | AL9: =#REF! -> #REF! | AM9: =IF(ISERROR(VLOOKUP(AL9,$AL$27:$AN$34,2,FALSE)),0,(VLOOKUP(AL9,$AL$27:$AN$34,2,FALSE))) -> 0 | AN9: =IF(ISERROR(VLOOKUP(AL9,$AL$27:$AN$34,3,FALSE)),0,(VLOOKUP(AL9,$AL$27:$AN$34,3,FALSE))) -> 0 | AO9: =IF(ISERROR(VLOOKUP(AL9,$AL$27:$AO$34,4,FALSE)),0,(VLOOKUP(AL9,$AL$27:$AO$34,4,FALSE))) -> 0 | AP9: =AN9-AO9-AQ9 -> 0 | AQ9: =IF(ISERROR(VLOOKUP(AL9,$AL$27:$AQ$34,6,FALSE)),0,(VLOOKUP(AL9,$AL$27:$AQ$34,6,FALSE))) -> 0 | AR9: =IF(ISERROR(VLOOKUP(AL9,$AL$27:$AR$34,7,FALSE)),0,(VLOOKUP(AL9,$AL$27:$AR$34,7,FALSE))) -> 0 | AS9: =IF(ISERROR(VLOOKUP(AL9,$AL$27:$AS$34,8,FALSE)),0,(VLOOKUP(AL9,$AL$27:$AS$34,8,FALSE))) -> 0 | AT9: =AR9-AS9 -> 0 | AU9: =AO9*3+AP9 -> 0 | AW9: 4 | AX9: =IF(ISERROR(VLOOKUP(AW9,$AW$26:$AY$29,2,FALSE)),0,(VLOOKUP(AW9,$AW$26:$AY$29,2,FALSE))) -> 0 | AY9: =IF(ISERROR(VLOOKUP(AW9,$AW$26:$BF$29,3,FALSE)),0,(VLOOKUP(AW9,$AW$26:$BF$29,3,FALSE))) -> 0 | AZ9: =IF(ISERROR(VLOOKUP(AW9,$AW$26:$BF$29,4,FALSE)),0,(VLOOKUP(AW9,$AW$26:$BF$29,4,FALSE))) -> 0 | BA9: =AY9-AZ9-BB9 -> 0 | BB9: =IF(ISERROR(VLOOKUP(AW9,$AW$26:$BF$29,6,FALSE)),0,(VLOOKUP(AW9,$AW$26:$BF$29,6,FALSE))) -> 0 | BC9: =IF(ISERROR(VLOOKUP(AW9,$AW$26:$BF$29,7,FALSE)),0,(VLOOKUP(AW9,$AW$26:$BF$29,7,FALSE))) -> 0 | BD9: =IF(ISERROR(VLOOKUP(AW9,$AW$26:$BF$29,8,FALSE)),0,(VLOOKUP(AW9,$AW$26:$BF$29,8,FALSE))) -> 0 | BE9: =BC9-BD9 -> 0 | BF9: =AZ9*3+BA9 -> 0 | BI9: 4 | BJ9: =IF(ISERROR(VLOOKUP(BI9,$BI$26:$BK$29,2,FALSE)),0,(VLOOKUP(BI9,$BI$26:$BK$29,2,FALSE))) -> 0 | BK9: =IF(ISERROR(VLOOKUP(BI9,$BI$26:$BR$27,3,FALSE)),0,(VLOOKUP(BI9,$BI$26:$BR$27,3,FALSE))) -> 0 | BL9: =IF(ISERROR(VLOOKUP(BI9,$BI$26:$BR$27,4,FALSE)),0,(VLOOKUP(BI9,$BI$26:$BR$27,4,FALSE))) -> 0 | BM9: =BK9-BL9-BN9 -> 0 | BN9: =IF(ISERROR(VLOOKUP(BI9,$BI$26:$BR$27,6,FALSE)),0,(VLOOKUP(BI9,$BI$26:$BR$27,6,FALSE))) -> 0 | BO9: =IF(ISERROR(VLOOKUP(BI9,$BI$26:$BR$27,7,FALSE)),0,(VLOOKUP(BI9,$BI$26:$BR$27,7,FALSE))) -> 0 | BP9: =IF(ISERROR(VLOOKUP(BI9,$BI$26:$BR$27,8,FALSE)),0,(VLOOKUP(BI9,$BI$26:$BR$27,8,FALSE))) -> 0 | BQ9: =BO9-BP9 -> 0 | BR9: =BL9*3+BM9 -> 0 | BY9: =P9 -> #REF! | BZ9: =Q9 -> Turquia | CA9: =R9+AN9+AY9+BK9 -> 12 | CB9: =S9+AO9+AZ9+BL9 -> 5 | CC9: =T9+AP9+BA9+BM9 -> 2 | CD9: =U9+AQ9+BB9+BN9 -> 5 | CE9: =V9+AR9+BC9+BO9 -> 12 | CF9: =W9+AS9+BD9+BP9 -> 17 | CG9: =X9+AT9+BE9+BQ9 -> -5 | CH9: =Y9+AU9+BF9+BR9 -> 17 | CJ9: =(10^10)*CH9+(10^8)*CB9+(10^6)*(50+CG9)+(10^4)*CE9+(10^2)*CA9+(13-BY9) -> #REF! | CK9: 4 | CL9: =LARGE($CJ$6:$CJ$23,CK9) -> #REF! | CN9: 4 | CO9: =MATCH(CL9,$CJ$6:$CJ$23,0) -> #REF!
B10: 5º | C10: =VLOOKUP(CO10,$BY$6:$CH$23,2) -> #REF! | D10: =VLOOKUP(CO10,$BY$6:$CH$23,3) -> #REF! | E10: =VLOOKUP(CO10,$BY$6:$CH$23,4) -> #REF! | F10: =D10-E10-G10 -> #REF! | G10: =VLOOKUP(CO10,$BY$6:$CH$23,6) -> #REF! | H10: =VLOOKUP(CO10,$BY$6:$CH$23,7) -> #REF! | I10: =VLOOKUP(CO10,$BY$6:$CH$23,8) -> #REF! | J10: =H10-I10 -> #REF! | K10: =E10*3+F10 -> #REF! | P10: =#REF! -> #REF! | Q10: =Classificação!P14 -> Rep. Tcheca | R10: =Classificação!Q14 -> 12 | S10: =Classificação!R14 -> 5 | T10: =Classificação!S14 -> 3 | U10: =Classificação!T14 -> 4 | V10: =Classificação!U14 -> 13 | W10: =Classificação!V14 -> 11 | X10: =Classificação!W14 -> 2 | Y10: =Classificação!X14 -> 18 | Z10: =(10^10)*Y10+(10^8)*S10+(10^6)*(50+X10)+(10^4)*V10+(10^2)*R10+(13-P10) -> #REF! | AK10: 0 | AL10: =#REF! -> #REF! | AM10: =IF(ISERROR(VLOOKUP(AL10,$AL$27:$AN$34,2,FALSE)),0,(VLOOKUP(AL10,$AL$27:$AN$34,2,FALSE))) -> 0 | AN10: =IF(ISERROR(VLOOKUP(AL10,$AL$27:$AN$34,3,FALSE)),0,(VLOOKUP(AL10,$AL$27:$AN$34,3,FALSE))) -> 0 | AO10: =IF(ISERROR(VLOOKUP(AL10,$AL$27:$AO$34,4,FALSE)),0,(VLOOKUP(AL10,$AL$27:$AO$34,4,FALSE))) -> 0 | AP10: =AN10-AO10-AQ10 -> 0 | AQ10: =IF(ISERROR(VLOOKUP(AL10,$AL$27:$AQ$34,6,FALSE)),0,(VLOOKUP(AL10,$AL$27:$AQ$34,6,FALSE))) -> 0 | AR10: =IF(ISERROR(VLOOKUP(AL10,$AL$27:$AR$34,7,FALSE)),0,(VLOOKUP(AL10,$AL$27:$AR$34,7,FALSE))) -> 0 | AS10: =IF(ISERROR(VLOOKUP(AL10,$AL$27:$AS$34,8,FALSE)),0,(VLOOKUP(AL10,$AL$27:$AS$34,8,FALSE))) -> 0 | AT10: =AR10-AS10 -> 0 | AU10: =AO10*3+AP10 -> 0 | AW10: 5 | AX10: =IF(ISERROR(VLOOKUP(AW10,$AW$26:$AY$29,2,FALSE)),0,(VLOOKUP(AW10,$AW$26:$AY$29,2,FALSE))) -> 0 | AY10: =IF(ISERROR(VLOOKUP(AW10,$AW$26:$BF$29,3,FALSE)),0,(VLOOKUP(AW10,$AW$26:$BF$29,3,FALSE))) -> 0 | AZ10: =IF(ISERROR(VLOOKUP(AW10,$AW$26:$BF$29,4,FALSE)),0,(VLOOKUP(AW10,$AW$26:$BF$29,4,FALSE))) -> 0 | BA10: =AY10-AZ10-BB10 -> 0 | BB10: =IF(ISERROR(VLOOKUP(AW10,$AW$26:$BF$29,6,FALSE)),0,(VLOOKUP(AW10,$AW$26:$BF$29,6,FALSE))) -> 0 | BC10: =IF(ISERROR(VLOOKUP(AW10,$AW$26:$BF$29,7,FALSE)),0,(VLOOKUP(AW10,$AW$26:$BF$29,7,FALSE))) -> 0 | BD10: =IF(ISERROR(VLOOKUP(AW10,$AW$26:$BF$29,8,FALSE)),0,(VLOOKUP(AW10,$AW$26:$BF$29,8,FALSE))) -> 0 | BE10: =BC10-BD10 -> 0 | BF10: =AZ10*3+BA10 -> 0 | BI10: 5 | BJ10: =IF(ISERROR(VLOOKUP(BI10,$BI$26:$BK$29,2,FALSE)),0,(VLOOKUP(BI10,$BI$26:$BK$29,2,FALSE))) -> 0 | BK10: =IF(ISERROR(VLOOKUP(BI10,$BI$26:$BR$27,3,FALSE)),0,(VLOOKUP(BI10,$BI$26:$BR$27,3,FALSE))) -> 0 | BL10: =IF(ISERROR(VLOOKUP(BI10,$BI$26:$BR$27,4,FALSE)),0,(VLOOKUP(BI10,$BI$26:$BR$27,4,FALSE))) -> 0 | BM10: =BK10-BL10-BN10 -> 0 | BN10: =IF(ISERROR(VLOOKUP(BI10,$BI$26:$BR$27,6,FALSE)),0,(VLOOKUP(BI10,$BI$26:$BR$27,6,FALSE))) -> 0 | BO10: =IF(ISERROR(VLOOKUP(BI10,$BI$26:$BR$27,7,FALSE)),0,(VLOOKUP(BI10,$BI$26:$BR$27,7,FALSE))) -> 0 | BP10: =IF(ISERROR(VLOOKUP(BI10,$BI$26:$BR$27,8,FALSE)),0,(VLOOKUP(BI10,$BI$26:$BR$27,8,FALSE))) -> 0 | BQ10: =BO10-BP10 -> 0 | BR10: =BL10*3+BM10 -> 0 | BY10: =P10 -> #REF! | BZ10: =Q10 -> Rep. Tcheca | CA10: =R10+AN10+AY10+BK10 -> 12 | CB10: =S10+AO10+AZ10+BL10 -> 5 | CC10: =T10+AP10+BA10+BM10 -> 3 | CD10: =U10+AQ10+BB10+BN10 -> 4 | CE10: =V10+AR10+BC10+BO10 -> 13 | CF10: =W10+AS10+BD10+BP10 -> 11 | CG10: =X10+AT10+BE10+BQ10 -> 2 | CH10: =Y10+AU10+BF10+BR10 -> 18 | CJ10: =(10^10)*CH10+(10^8)*CB10+(10^6)*(50+CG10)+(10^4)*CE10+(10^2)*CA10+(13-BY10) -> #REF! | CK10: 5 | CL10: =LARGE($CJ$6:$CJ$23,CK10) -> #REF! | CN10: 5 | CO10: =MATCH(CL10,$CJ$6:$CJ$23,0) -> #REF!
B11: 6º | C11: =VLOOKUP(CO11,$BY$6:$CH$23,2) -> #REF! | D11: =VLOOKUP(CO11,$BY$6:$CH$23,3) -> #REF! | E11: =VLOOKUP(CO11,$BY$6:$CH$23,4) -> #REF! | F11: =D11-E11-G11 -> #REF! | G11: =VLOOKUP(CO11,$BY$6:$CH$23,6) -> #REF! | H11: =VLOOKUP(CO11,$BY$6:$CH$23,7) -> #REF! | I11: =VLOOKUP(CO11,$BY$6:$CH$23,8) -> #REF! | J11: =H11-I11 -> #REF! | K11: =E11*3+F11 -> #REF! | P11: =#REF! -> #REF! | Q11: =Classificação!P15 -> Polônia | R11: =Classificação!Q15 -> 12 | S11: =Classificação!R15 -> 2 | T11: =Classificação!S15 -> 6 | U11: =Classificação!T15 -> 4 | V11: =Classificação!U15 -> 5 | W11: =Classificação!V15 -> 11 | X11: =Classificação!W15 -> -6 | Y11: =Classificação!X15 -> 12 | Z11: =(10^10)*Y11+(10^8)*S11+(10^6)*(50+X11)+(10^4)*V11+(10^2)*R11+(13-P11) -> #REF! | AK11: 0 | AL11: =#REF! -> #REF! | AM11: =IF(ISERROR(VLOOKUP(AL11,$AL$27:$AN$34,2,FALSE)),0,(VLOOKUP(AL11,$AL$27:$AN$34,2,FALSE))) -> 0 | AN11: =IF(ISERROR(VLOOKUP(AL11,$AL$27:$AN$34,3,FALSE)),0,(VLOOKUP(AL11,$AL$27:$AN$34,3,FALSE))) -> 0 | AO11: =IF(ISERROR(VLOOKUP(AL11,$AL$27:$AO$34,4,FALSE)),0,(VLOOKUP(AL11,$AL$27:$AO$34,4,FALSE))) -> 0 | AP11: =AN11-AO11-AQ11 -> 0 | AQ11: =IF(ISERROR(VLOOKUP(AL11,$AL$27:$AQ$34,6,FALSE)),0,(VLOOKUP(AL11,$AL$27:$AQ$34,6,FALSE))) -> 0 | AR11: =IF(ISERROR(VLOOKUP(AL11,$AL$27:$AR$34,7,FALSE)),0,(VLOOKUP(AL11,$AL$27:$AR$34,7,FALSE))) -> 0 | AS11: =IF(ISERROR(VLOOKUP(AL11,$AL$27:$AS$34,8,FALSE)),0,(VLOOKUP(AL11,$AL$27:$AS$34,8,FALSE))) -> 0 | AT11: =AR11-AS11 -> 0 | AU11: =AO11*3+AP11 -> 0 | AW11: 6 | AX11: =IF(ISERROR(VLOOKUP(AW11,$AW$26:$AY$29,2,FALSE)),0,(VLOOKUP(AW11,$AW$26:$AY$29,2,FALSE))) -> 0 | AY11: =IF(ISERROR(VLOOKUP(AW11,$AW$26:$BF$29,3,FALSE)),0,(VLOOKUP(AW11,$AW$26:$BF$29,3,FALSE))) -> 0 | AZ11: =IF(ISERROR(VLOOKUP(AW11,$AW$26:$BF$29,4,FALSE)),0,(VLOOKUP(AW11,$AW$26:$BF$29,4,FALSE))) -> 0 | BA11: =AY11-AZ11-BB11 -> 0 | BB11: =IF(ISERROR(VLOOKUP(AW11,$AW$26:$BF$29,6,FALSE)),0,(VLOOKUP(AW11,$AW$26:$BF$29,6,FALSE))) -> 0 | BC11: =IF(ISERROR(VLOOKUP(AW11,$AW$26:$BF$29,7,FALSE)),0,(VLOOKUP(AW11,$AW$26:$BF$29,7,FALSE))) -> 0 | BD11: =IF(ISERROR(VLOOKUP(AW11,$AW$26:$BF$29,8,FALSE)),0,(VLOOKUP(AW11,$AW$26:$BF$29,8,FALSE))) -> 0 | BE11: =BC11-BD11 -> 0 | BF11: =AZ11*3+BA11 -> 0 | BI11: 6 | BJ11: =IF(ISERROR(VLOOKUP(BI11,$BI$26:$BK$29,2,FALSE)),0,(VLOOKUP(BI11,$BI$26:$BK$29,2,FALSE))) -> 0 | BK11: =IF(ISERROR(VLOOKUP(BI11,$BI$26:$BR$27,3,FALSE)),0,(VLOOKUP(BI11,$BI$26:$BR$27,3,FALSE))) -> 0 | BL11: =IF(ISERROR(VLOOKUP(BI11,$BI$26:$BR$27,4,FALSE)),0,(VLOOKUP(BI11,$BI$26:$BR$27,4,FALSE))) -> 0 | BM11: =BK11-BL11-BN11 -> 0 | BN11: =IF(ISERROR(VLOOKUP(BI11,$BI$26:$BR$27,6,FALSE)),0,(VLOOKUP(BI11,$BI$26:$BR$27,6,FALSE))) -> 0 | BO11: =IF(ISERROR(VLOOKUP(BI11,$BI$26:$BR$27,7,FALSE)),0,(VLOOKUP(BI11,$BI$26:$BR$27,7,FALSE))) -> 0 | BP11: =IF(ISERROR(VLOOKUP(BI11,$BI$26:$BR$27,8,FALSE)),0,(VLOOKUP(BI11,$BI$26:$BR$27,8,FALSE))) -> 0 | BQ11: =BO11-BP11 -> 0 | BR11: =BL11*3+BM11 -> 0 | BY11: =P11 -> #REF! | BZ11: =Q11 -> Polônia | CA11: =R11+AN11+AY11+BK11 -> 12 | CB11: =S11+AO11+AZ11+BL11 -> 2 | CC11: =T11+AP11+BA11+BM11 -> 6 | CD11: =U11+AQ11+BB11+BN11 -> 4 | CE11: =V11+AR11+BC11+BO11 -> 5 | CF11: =W11+AS11+BD11+BP11 -> 11 | CG11: =X11+AT11+BE11+BQ11 -> -6 | CH11: =Y11+AU11+BF11+BR11 -> 12 | CJ11: =(10^10)*CH11+(10^8)*CB11+(10^6)*(50+CG11)+(10^4)*CE11+(10^2)*CA11+(13-BY11) -> #REF! | CK11: 6 | CL11: =LARGE($CJ$6:$CJ$23,CK11) -> #REF! | CN11: 6 | CO11: =MATCH(CL11,$CJ$6:$CJ$23,0) -> #REF!
B12: 7º | C12: =VLOOKUP(CO12,$BY$6:$CH$23,2) -> #REF! | D12: =VLOOKUP(CO12,$BY$6:$CH$23,3) -> #REF! | E12: =VLOOKUP(CO12,$BY$6:$CH$23,4) -> #REF! | F12: =D12-E12-G12 -> #REF! | G12: =VLOOKUP(CO12,$BY$6:$CH$23,6) -> #REF! | H12: =VLOOKUP(CO12,$BY$6:$CH$23,7) -> #REF! | I12: =VLOOKUP(CO12,$BY$6:$CH$23,8) -> #REF! | J12: =H12-I12 -> #REF! | K12: =E12*3+F12 -> #REF! | P12: =#REF! -> #REF! | Q12: =Classificação!P16 -> Holanda | R12: =Classificação!Q16 -> 12 | S12: =Classificação!R16 -> 0 | T12: =Classificação!S16 -> 1 | U12: =Classificação!T16 -> 11 | V12: =Classificação!U16 -> 4 | W12: =Classificação!V16 -> 25 | X12: =Classificação!W16 -> -21 | Y12: =Classificação!X16 -> 1 | Z12: =(10^10)*Y12+(10^8)*S12+(10^6)*(50+X12)+(10^4)*V12+(10^2)*R12+(13-P12) -> #REF! | AK12: 0 | AL12: =#REF! -> #REF! | AM12: =IF(ISERROR(VLOOKUP(AL12,$AL$27:$AN$34,2,FALSE)),0,(VLOOKUP(AL12,$AL$27:$AN$34,2,FALSE))) -> 0 | AN12: =IF(ISERROR(VLOOKUP(AL12,$AL$27:$AN$34,3,FALSE)),0,(VLOOKUP(AL12,$AL$27:$AN$34,3,FALSE))) -> 0 | AO12: =IF(ISERROR(VLOOKUP(AL12,$AL$27:$AO$34,4,FALSE)),0,(VLOOKUP(AL12,$AL$27:$AO$34,4,FALSE))) -> 0 | AP12: =AN12-AO12-AQ12 -> 0 | AQ12: =IF(ISERROR(VLOOKUP(AL12,$AL$27:$AQ$34,6,FALSE)),0,(VLOOKUP(AL12,$AL$27:$AQ$34,6,FALSE))) -> 0 | AR12: =IF(ISERROR(VLOOKUP(AL12,$AL$27:$AR$34,7,FALSE)),0,(VLOOKUP(AL12,$AL$27:$AR$34,7,FALSE))) -> 0 | AS12: =IF(ISERROR(VLOOKUP(AL12,$AL$27:$AS$34,8,FALSE)),0,(VLOOKUP(AL12,$AL$27:$AS$34,8,FALSE))) -> 0 | AT12: =AR12-AS12 -> 0 | AU12: =AO12*3+AP12 -> 0 | AW12: 7 | AX12: =IF(ISERROR(VLOOKUP(AW12,$AW$26:$AY$29,2,FALSE)),0,(VLOOKUP(AW12,$AW$26:$AY$29,2,FALSE))) -> 0 | AY12: =IF(ISERROR(VLOOKUP(AW12,$AW$26:$BF$29,3,FALSE)),0,(VLOOKUP(AW12,$AW$26:$BF$29,3,FALSE))) -> 0 | AZ12: =IF(ISERROR(VLOOKUP(AW12,$AW$26:$BF$29,4,FALSE)),0,(VLOOKUP(AW12,$AW$26:$BF$29,4,FALSE))) -> 0 | BA12: =AY12-AZ12-BB12 -> 0 | BB12: =IF(ISERROR(VLOOKUP(AW12,$AW$26:$BF$29,6,FALSE)),0,(VLOOKUP(AW12,$AW$26:$BF$29,6,FALSE))) -> 0 | BC12: =IF(ISERROR(VLOOKUP(AW12,$AW$26:$BF$29,7,FALSE)),0,(VLOOKUP(AW12,$AW$26:$BF$29,7,FALSE))) -> 0 | BD12: =IF(ISERROR(VLOOKUP(AW12,$AW$26:$BF$29,8,FALSE)),0,(VLOOKUP(AW12,$AW$26:$BF$29,8,FALSE))) -> 0 | BE12: =BC12-BD12 -> 0 | BF12: =AZ12*3+BA12 -> 0 | BI12: 7 | BJ12: =IF(ISERROR(VLOOKUP(BI12,$BI$26:$BK$29,2,FALSE)),0,(VLOOKUP(BI12,$BI$26:$BK$29,2,FALSE))) -> 0 | BK12: =IF(ISERROR(VLOOKUP(BI12,$BI$26:$BR$27,3,FALSE)),0,(VLOOKUP(BI12,$BI$26:$BR$27,3,FALSE))) -> 0 | BL12: =IF(ISERROR(VLOOKUP(BI12,$BI$26:$BR$27,4,FALSE)),0,(VLOOKUP(BI12,$BI$26:$BR$27,4,FALSE))) -> 0 | BM12: =BK12-BL12-BN12 -> 0 | BN12: =IF(ISERROR(VLOOKUP(BI12,$BI$26:$BR$27,6,FALSE)),0,(VLOOKUP(BI12,$BI$26:$BR$27,6,FALSE))) -> 0 | BO12: =IF(ISERROR(VLOOKUP(BI12,$BI$26:$BR$27,7,FALSE)),0,(VLOOKUP(BI12,$BI$26:$BR$27,7,FALSE))) -> 0 | BP12: =IF(ISERROR(VLOOKUP(BI12,$BI$26:$BR$27,8,FALSE)),0,(VLOOKUP(BI12,$BI$26:$BR$27,8,FALSE))) -> 0 | BQ12: =BO12-BP12 -> 0 | BR12: =BL12*3+BM12 -> 0 | BY12: =P12 -> #REF! | BZ12: =Q12 -> Holanda | CA12: =R12+AN12+AY12+BK12 -> 12 | CB12: =S12+AO12+AZ12+BL12 -> 0 | CC12: =T12+AP12+BA12+BM12 -> 1 | CD12: =U12+AQ12+BB12+BN12 -> 11 | CE12: =V12+AR12+BC12+BO12 -> 4 | CF12: =W12+AS12+BD12+BP12 -> 25 | CG12: =X12+AT12+BE12+BQ12 -> -21 | CH12: =Y12+AU12+BF12+BR12 -> 1 | CJ12: =(10^10)*CH12+(10^8)*CB12+(10^6)*(50+CG12)+(10^4)*CE12+(10^2)*CA12+(13-BY12) -> #REF! | CK12: 7 | CL12: =LARGE($CJ$6:$CJ$23,CK12) -> #REF! | CN12: 7 | CO12: =MATCH(CL12,$CJ$6:$CJ$23,0) -> #REF!
B13: 8º | C13: =VLOOKUP(CO13,$BY$6:$CH$23,2) -> #REF! | D13: =VLOOKUP(CO13,$BY$6:$CH$23,3) -> #REF! | E13: =VLOOKUP(CO13,$BY$6:$CH$23,4) -> #REF! | F13: =D13-E13-G13 -> #REF! | G13: =VLOOKUP(CO13,$BY$6:$CH$23,6) -> #REF! | H13: =VLOOKUP(CO13,$BY$6:$CH$23,7) -> #REF! | I13: =VLOOKUP(CO13,$BY$6:$CH$23,8) -> #REF! | J13: =H13-I13 -> #REF! | K13: =E13*3+F13 -> #REF! | P13: =#REF! -> #REF! | Q13: =Classificação!P17 -> Alemanha | R13: =Classificação!Q17 -> 12 | S13: =Classificação!R17 -> 3 | T13: =Classificação!S17 -> 4 | U13: =Classificação!T17 -> 5 | V13: =Classificação!U17 -> 9 | W13: =Classificação!V17 -> 13 | X13: =Classificação!W17 -> -4 | Y13: =Classificação!X17 -> 13 | Z13: =(10^10)*Y13+(10^8)*S13+(10^6)*(50+X13)+(10^4)*V13+(10^2)*R13+(13-P13) -> #REF! | AK13: 0 | AL13: =#REF! -> #REF! | AM13: =IF(ISERROR(VLOOKUP(AL13,$AL$27:$AN$34,2,FALSE)),0,(VLOOKUP(AL13,$AL$27:$AN$34,2,FALSE))) -> 0 | AN13: =IF(ISERROR(VLOOKUP(AL13,$AL$27:$AN$34,3,FALSE)),0,(VLOOKUP(AL13,$AL$27:$AN$34,3,FALSE))) -> 0 | AO13: =IF(ISERROR(VLOOKUP(AL13,$AL$27:$AO$34,4,FALSE)),0,(VLOOKUP(AL13,$AL$27:$AO$34,4,FALSE))) -> 0 | AP13: =AN13-AO13-AQ13 -> 0 | AQ13: =IF(ISERROR(VLOOKUP(AL13,$AL$27:$AQ$34,6,FALSE)),0,(VLOOKUP(AL13,$AL$27:$AQ$34,6,FALSE))) -> 0 | AR13: =IF(ISERROR(VLOOKUP(AL13,$AL$27:$AR$34,7,FALSE)),0,(VLOOKUP(AL13,$AL$27:$AR$34,7,FALSE))) -> 0 | AS13: =IF(ISERROR(VLOOKUP(AL13,$AL$27:$AS$34,8,FALSE)),0,(VLOOKUP(AL13,$AL$27:$AS$34,8,FALSE))) -> 0 | AT13: =AR13-AS13 -> 0 | AU13: =AO13*3+AP13 -> 0 | AW13: 8 | AX13: =IF(ISERROR(VLOOKUP(AW13,$AW$26:$AY$29,2,FALSE)),0,(VLOOKUP(AW13,$AW$26:$AY$29,2,FALSE))) -> 0 | AY13: =IF(ISERROR(VLOOKUP(AW13,$AW$26:$BF$29,3,FALSE)),0,(VLOOKUP(AW13,$AW$26:$BF$29,3,FALSE))) -> 0 | AZ13: =IF(ISERROR(VLOOKUP(AW13,$AW$26:$BF$29,4,FALSE)),0,(VLOOKUP(AW13,$AW$26:$BF$29,4,FALSE))) -> 0 | BA13: =AY13-AZ13-BB13 -> 0 | BB13: =IF(ISERROR(VLOOKUP(AW13,$AW$26:$BF$29,6,FALSE)),0,(VLOOKUP(AW13,$AW$26:$BF$29,6,FALSE))) -> 0 | BC13: =IF(ISERROR(VLOOKUP(AW13,$AW$26:$BF$29,7,FALSE)),0,(VLOOKUP(AW13,$AW$26:$BF$29,7,FALSE))) -> 0 | BD13: =IF(ISERROR(VLOOKUP(AW13,$AW$26:$BF$29,8,FALSE)),0,(VLOOKUP(AW13,$AW$26:$BF$29,8,FALSE))) -> 0 | BE13: =BC13-BD13 -> 0 | BF13: =AZ13*3+BA13 -> 0 | BI13: 8 | BJ13: =IF(ISERROR(VLOOKUP(BI13,$BI$26:$BK$29,2,FALSE)),0,(VLOOKUP(BI13,$BI$26:$BK$29,2,FALSE))) -> 0 | BK13: =IF(ISERROR(VLOOKUP(BI13,$BI$26:$BR$27,3,FALSE)),0,(VLOOKUP(BI13,$BI$26:$BR$27,3,FALSE))) -> 0 | BL13: =IF(ISERROR(VLOOKUP(BI13,$BI$26:$BR$27,4,FALSE)),0,(VLOOKUP(BI13,$BI$26:$BR$27,4,FALSE))) -> 0 | BM13: =BK13-BL13-BN13 -> 0 | BN13: =IF(ISERROR(VLOOKUP(BI13,$BI$26:$BR$27,6,FALSE)),0,(VLOOKUP(BI13,$BI$26:$BR$27,6,FALSE))) -> 0 | BO13: =IF(ISERROR(VLOOKUP(BI13,$BI$26:$BR$27,7,FALSE)),0,(VLOOKUP(BI13,$BI$26:$BR$27,7,FALSE))) -> 0 | BP13: =IF(ISERROR(VLOOKUP(BI13,$BI$26:$BR$27,8,FALSE)),0,(VLOOKUP(BI13,$BI$26:$BR$27,8,FALSE))) -> 0 | BQ13: =BO13-BP13 -> 0 | BR13: =BL13*3+BM13 -> 0 | BY13: =P13 -> #REF! | BZ13: =Q13 -> Alemanha | CA13: =R13+AN13+AY13+BK13 -> 12 | CB13: =S13+AO13+AZ13+BL13 -> 3 | CC13: =T13+AP13+BA13+BM13 -> 4 | CD13: =U13+AQ13+BB13+BN13 -> 5 | CE13: =V13+AR13+BC13+BO13 -> 9 | CF13: =W13+AS13+BD13+BP13 -> 13 | CG13: =X13+AT13+BE13+BQ13 -> -4 | CH13: =Y13+AU13+BF13+BR13 -> 13 | CJ13: =(10^10)*CH13+(10^8)*CB13+(10^6)*(50+CG13)+(10^4)*CE13+(10^2)*CA13+(13-BY13) -> #REF! | CK13: 8 | CL13: =LARGE($CJ$6:$CJ$23,CK13) -> #REF! | CN13: 8 | CO13: =MATCH(CL13,$CJ$6:$CJ$23,0) -> #REF!
B14: 9º | C14: =VLOOKUP(CO14,$BY$6:$CH$23,2) -> #REF! | D14: =VLOOKUP(CO14,$BY$6:$CH$23,3) -> #REF! | E14: =VLOOKUP(CO14,$BY$6:$CH$23,4) -> #REF! | F14: =D14-E14-G14 -> #REF! | G14: =VLOOKUP(CO14,$BY$6:$CH$23,6) -> #REF! | H14: =VLOOKUP(CO14,$BY$6:$CH$23,7) -> #REF! | I14: =VLOOKUP(CO14,$BY$6:$CH$23,8) -> #REF! | J14: =H14-I14 -> #REF! | K14: =E14*3+F14 -> #REF! | P14: =#REF! -> #REF! | Q14: =Classificação!P18 -> Suíça | R14: =Classificação!Q18 -> 12 | S14: =Classificação!R18 -> 3 | T14: =Classificação!S18 -> 2 | U14: =Classificação!T18 -> 7 | V14: =Classificação!U18 -> 5 | W14: =Classificação!V18 -> 18 | X14: =Classificação!W18 -> -13 | Y14: =Classificação!X18 -> 11 | Z14: =(10^10)*Y14+(10^8)*S14+(10^6)*(50+X14)+(10^4)*V14+(10^2)*R14+(13-P14) -> #REF! | AK14: 0 | AL14: =#REF! -> #REF! | AM14: =IF(ISERROR(VLOOKUP(AL14,$AL$27:$AN$34,2,FALSE)),0,(VLOOKUP(AL14,$AL$27:$AN$34,2,FALSE))) -> 0 | AN14: =IF(ISERROR(VLOOKUP(AL14,$AL$27:$AN$34,3,FALSE)),0,(VLOOKUP(AL14,$AL$27:$AN$34,3,FALSE))) -> 0 | AO14: =IF(ISERROR(VLOOKUP(AL14,$AL$27:$AO$34,4,FALSE)),0,(VLOOKUP(AL14,$AL$27:$AO$34,4,FALSE))) -> 0 | AP14: =AN14-AO14-AQ14 -> 0 | AQ14: =IF(ISERROR(VLOOKUP(AL14,$AL$27:$AQ$34,6,FALSE)),0,(VLOOKUP(AL14,$AL$27:$AQ$34,6,FALSE))) -> 0 | AR14: =IF(ISERROR(VLOOKUP(AL14,$AL$27:$AR$34,7,FALSE)),0,(VLOOKUP(AL14,$AL$27:$AR$34,7,FALSE))) -> 0 | AS14: =IF(ISERROR(VLOOKUP(AL14,$AL$27:$AS$34,8,FALSE)),0,(VLOOKUP(AL14,$AL$27:$AS$34,8,FALSE))) -> 0 | AT14: =AR14-AS14 -> 0 | AU14: =AO14*3+AP14 -> 0 | AW14: 9 | AX14: =IF(ISERROR(VLOOKUP(AW14,$AW$26:$AY$29,2,FALSE)),0,(VLOOKUP(AW14,$AW$26:$AY$29,2,FALSE))) -> 0 | AY14: =IF(ISERROR(VLOOKUP(AW14,$AW$26:$BF$29,3,FALSE)),0,(VLOOKUP(AW14,$AW$26:$BF$29,3,FALSE))) -> 0 | AZ14: =IF(ISERROR(VLOOKUP(AW14,$AW$26:$BF$29,4,FALSE)),0,(VLOOKUP(AW14,$AW$26:$BF$29,4,FALSE))) -> 0 | BA14: =AY14-AZ14-BB14 -> 0 | BB14: =IF(ISERROR(VLOOKUP(AW14,$AW$26:$BF$29,6,FALSE)),0,(VLOOKUP(AW14,$AW$26:$BF$29,6,FALSE))) -> 0 | BC14: =IF(ISERROR(VLOOKUP(AW14,$AW$26:$BF$29,7,FALSE)),0,(VLOOKUP(AW14,$AW$26:$BF$29,7,FALSE))) -> 0 | BD14: =IF(ISERROR(VLOOKUP(AW14,$AW$26:$BF$29,8,FALSE)),0,(VLOOKUP(AW14,$AW$26:$BF$29,8,FALSE))) -> 0 | BE14: =BC14-BD14 -> 0 | BF14: =AZ14*3+BA14 -> 0 | BI14: 9 | BJ14: =IF(ISERROR(VLOOKUP(BI14,$BI$26:$BK$29,2,FALSE)),0,(VLOOKUP(BI14,$BI$26:$BK$29,2,FALSE))) -> 0 | BK14: =IF(ISERROR(VLOOKUP(BI14,$BI$26:$BR$27,3,FALSE)),0,(VLOOKUP(BI14,$BI$26:$BR$27,3,FALSE))) -> 0 | BL14: =IF(ISERROR(VLOOKUP(BI14,$BI$26:$BR$27,4,FALSE)),0,(VLOOKUP(BI14,$BI$26:$BR$27,4,FALSE))) -> 0 | BM14: =BK14-BL14-BN14 -> 0 | BN14: =IF(ISERROR(VLOOKUP(BI14,$BI$26:$BR$27,6,FALSE)),0,(VLOOKUP(BI14,$BI$26:$BR$27,6,FALSE))) -> 0 | BO14: =IF(ISERROR(VLOOKUP(BI14,$BI$26:$BR$27,7,FALSE)),0,(VLOOKUP(BI14,$BI$26:$BR$27,7,FALSE))) -> 0 | BP14: =IF(ISERROR(VLOOKUP(BI14,$BI$26:$BR$27,8,FALSE)),0,(VLOOKUP(BI14,$BI$26:$BR$27,8,FALSE))) -> 0 | BQ14: =BO14-BP14 -> 0 | BR14: =BL14*3+BM14 -> 0 | BY14: =P14 -> #REF! | BZ14: =Q14 -> Suíça | CA14: =R14+AN14+AY14+BK14 -> 12 | CB14: =S14+AO14+AZ14+BL14 -> 3 | CC14: =T14+AP14+BA14+BM14 -> 2 | CD14: =U14+AQ14+BB14+BN14 -> 7 | CE14: =V14+AR14+BC14+BO14 -> 5 | CF14: =W14+AS14+BD14+BP14 -> 18 | CG14: =X14+AT14+BE14+BQ14 -> -13 | CH14: =Y14+AU14+BF14+BR14 -> 11 | CJ14: =(10^10)*CH14+(10^8)*CB14+(10^6)*(50+CG14)+(10^4)*CE14+(10^2)*CA14+(13-BY14) -> #REF! | CK14: 9 | CL14: =LARGE($CJ$6:$CJ$23,CK14) -> #REF! | CN14: 9 | CO14: =MATCH(CL14,$CJ$6:$CJ$23,0) -> #REF!
B15: 10º | C15: =VLOOKUP(CO15,$BY$6:$CH$23,2) -> #REF! | D15: =VLOOKUP(CO15,$BY$6:$CH$23,3) -> #REF! | E15: =VLOOKUP(CO15,$BY$6:$CH$23,4) -> #REF! | F15: =D15-E15-G15 -> #REF! | G15: =VLOOKUP(CO15,$BY$6:$CH$23,6) -> #REF! | H15: =VLOOKUP(CO15,$BY$6:$CH$23,7) -> #REF! | I15: =VLOOKUP(CO15,$BY$6:$CH$23,8) -> #REF! | J15: =H15-I15 -> #REF! | K15: =E15*3+F15 -> #REF! | P15: =#REF! -> #REF! | Q15: =Classificação!P27 -> Irlanda | R15: =Classificação!Q27 -> 12 | S15: =Classificação!R27 -> 10 | T15: =Classificação!S27 -> 1 | U15: =Classificação!T27 -> 1 | V15: =Classificação!U27 -> 34 | W15: =Classificação!V27 -> 8 | X15: =Classificação!W27 -> 26 | Y15: =Classificação!X27 -> 31 | Z15: =(10^10)*Y15+(10^8)*S15+(10^6)*(50+X15)+(10^4)*V15+(10^2)*R15+(13-P15) -> #REF! | AK15: 0 | AL15: =#REF! -> #REF! | AM15: =IF(ISERROR(VLOOKUP(AL15,$AL$27:$AN$34,2,FALSE)),0,(VLOOKUP(AL15,$AL$27:$AN$34,2,FALSE))) -> 0 | AN15: =IF(ISERROR(VLOOKUP(AL15,$AL$27:$AN$34,3,FALSE)),0,(VLOOKUP(AL15,$AL$27:$AN$34,3,FALSE))) -> 0 | AO15: =IF(ISERROR(VLOOKUP(AL15,$AL$27:$AO$34,4,FALSE)),0,(VLOOKUP(AL15,$AL$27:$AO$34,4,FALSE))) -> 0 | AP15: =AN15-AO15-AQ15 -> 0 | AQ15: =IF(ISERROR(VLOOKUP(AL15,$AL$27:$AQ$34,6,FALSE)),0,(VLOOKUP(AL15,$AL$27:$AQ$34,6,FALSE))) -> 0 | AR15: =IF(ISERROR(VLOOKUP(AL15,$AL$27:$AR$34,7,FALSE)),0,(VLOOKUP(AL15,$AL$27:$AR$34,7,FALSE))) -> 0 | AS15: =IF(ISERROR(VLOOKUP(AL15,$AL$27:$AS$34,8,FALSE)),0,(VLOOKUP(AL15,$AL$27:$AS$34,8,FALSE))) -> 0 | AT15: =AR15-AS15 -> 0 | AU15: =AO15*3+AP15 -> 0 | AW15: 10 | AX15: =IF(ISERROR(VLOOKUP(AW15,$AW$26:$AY$29,2,FALSE)),0,(VLOOKUP(AW15,$AW$26:$AY$29,2,FALSE))) -> 0 | AY15: =IF(ISERROR(VLOOKUP(AW15,$AW$26:$BF$29,3,FALSE)),0,(VLOOKUP(AW15,$AW$26:$BF$29,3,FALSE))) -> 0 | AZ15: =IF(ISERROR(VLOOKUP(AW15,$AW$26:$BF$29,4,FALSE)),0,(VLOOKUP(AW15,$AW$26:$BF$29,4,FALSE))) -> 0 | BA15: =AY15-AZ15-BB15 -> 0 | BB15: =IF(ISERROR(VLOOKUP(AW15,$AW$26:$BF$29,6,FALSE)),0,(VLOOKUP(AW15,$AW$26:$BF$29,6,FALSE))) -> 0 | BC15: =IF(ISERROR(VLOOKUP(AW15,$AW$26:$BF$29,7,FALSE)),0,(VLOOKUP(AW15,$AW$26:$BF$29,7,FALSE))) -> 0 | BD15: =IF(ISERROR(VLOOKUP(AW15,$AW$26:$BF$29,8,FALSE)),0,(VLOOKUP(AW15,$AW$26:$BF$29,8,FALSE))) -> 0 | BE15: =BC15-BD15 -> 0 | BF15: =AZ15*3+BA15 -> 0 | BI15: 10 | BJ15: =IF(ISERROR(VLOOKUP(BI15,$BI$26:$BK$29,2,FALSE)),0,(VLOOKUP(BI15,$BI$26:$BK$29,2,FALSE))) -> 0 | BK15: =IF(ISERROR(VLOOKUP(BI15,$BI$26:$BR$27,3,FALSE)),0,(VLOOKUP(BI15,$BI$26:$BR$27,3,FALSE))) -> 0 | BL15: =IF(ISERROR(VLOOKUP(BI15,$BI$26:$BR$27,4,FALSE)),0,(VLOOKUP(BI15,$BI$26:$BR$27,4,FALSE))) -> 0 | BM15: =BK15-BL15-BN15 -> 0 | BN15: =IF(ISERROR(VLOOKUP(BI15,$BI$26:$BR$27,6,FALSE)),0,(VLOOKUP(BI15,$BI$26:$BR$27,6,FALSE))) -> 0 | BO15: =IF(ISERROR(VLOOKUP(BI15,$BI$26:$BR$27,7,FALSE)),0,(VLOOKUP(BI15,$BI$26:$BR$27,7,FALSE))) -> 0 | BP15: =IF(ISERROR(VLOOKUP(BI15,$BI$26:$BR$27,8,FALSE)),0,(VLOOKUP(BI15,$BI$26:$BR$27,8,FALSE))) -> 0 | BQ15: =BO15-BP15 -> 0 | BR15: =BL15*3+BM15 -> 0 | BY15: =P15 -> #REF! | BZ15: =Q15 -> Irlanda | CA15: =R15+AN15+AY15+BK15 -> 12 | CB15: =S15+AO15+AZ15+BL15 -> 10 | CC15: =T15+AP15+BA15+BM15 -> 1 | CD15: =U15+AQ15+BB15+BN15 -> 1 | CE15: =V15+AR15+BC15+BO15 -> 34 | CF15: =W15+AS15+BD15+BP15 -> 8 | CG15: =X15+AT15+BE15+BQ15 -> 26 | CH15: =Y15+AU15+BF15+BR15 -> 31 | CJ15: =(10^10)*CH15+(10^8)*CB15+(10^6)*(50+CG15)+(10^4)*CE15+(10^2)*CA15+(13-BY15) -> #REF! | CK15: 10 | CL15: =LARGE($CJ$6:$CJ$23,CK15) -> #REF! | CN15: 10 | CO15: =MATCH(CL15,$CJ$6:$CJ$23,0) -> #REF!
B16: 11º | C16: =VLOOKUP(CO16,$BY$6:$CH$23,2) -> #REF! | D16: =VLOOKUP(CO16,$BY$6:$CH$23,3) -> #REF! | E16: =VLOOKUP(CO16,$BY$6:$CH$23,4) -> #REF! | F16: =D16-E16-G16 -> #REF! | G16: =VLOOKUP(CO16,$BY$6:$CH$23,6) -> #REF! | H16: =VLOOKUP(CO16,$BY$6:$CH$23,7) -> #REF! | I16: =VLOOKUP(CO16,$BY$6:$CH$23,8) -> #REF! | J16: =H16-I16 -> #REF! | K16: =E16*3+F16 -> #REF! | P16: =#REF! -> #REF! | Q16: =Classificação!P28 -> Escócia | R16: =Classificação!Q28 -> 12 | S16: =Classificação!R28 -> 8 | T16: =Classificação!S28 -> 2 | U16: =Classificação!T28 -> 2 | V16: =Classificação!U28 -> 14 | W16: =Classificação!V28 -> 6 | X16: =Classificação!W28 -> 8 | Y16: =Classificação!X28 -> 26 | Z16: =(10^10)*Y16+(10^8)*S16+(10^6)*(50+X16)+(10^4)*V16+(10^2)*R16+(13-P16) -> #REF! | AK16: 0 | AL16: =#REF! -> #REF! | AM16: =IF(ISERROR(VLOOKUP(AL16,$AL$27:$AN$34,2,FALSE)),0,(VLOOKUP(AL16,$AL$27:$AN$34,2,FALSE))) -> 0 | AN16: =IF(ISERROR(VLOOKUP(AL16,$AL$27:$AN$34,3,FALSE)),0,(VLOOKUP(AL16,$AL$27:$AN$34,3,FALSE))) -> 0 | AO16: =IF(ISERROR(VLOOKUP(AL16,$AL$27:$AO$34,4,FALSE)),0,(VLOOKUP(AL16,$AL$27:$AO$34,4,FALSE))) -> 0 | AP16: =AN16-AO16-AQ16 -> 0 | AQ16: =IF(ISERROR(VLOOKUP(AL16,$AL$27:$AQ$34,6,FALSE)),0,(VLOOKUP(AL16,$AL$27:$AQ$34,6,FALSE))) -> 0 | AR16: =IF(ISERROR(VLOOKUP(AL16,$AL$27:$AR$34,7,FALSE)),0,(VLOOKUP(AL16,$AL$27:$AR$34,7,FALSE))) -> 0 | AS16: =IF(ISERROR(VLOOKUP(AL16,$AL$27:$AS$34,8,FALSE)),0,(VLOOKUP(AL16,$AL$27:$AS$34,8,FALSE))) -> 0 | AT16: =AR16-AS16 -> 0 | AU16: =AO16*3+AP16 -> 0 | AW16: 11 | AX16: =IF(ISERROR(VLOOKUP(AW16,$AW$26:$AY$29,2,FALSE)),0,(VLOOKUP(AW16,$AW$26:$AY$29,2,FALSE))) -> 0 | AY16: =IF(ISERROR(VLOOKUP(AW16,$AW$26:$BF$29,3,FALSE)),0,(VLOOKUP(AW16,$AW$26:$BF$29,3,FALSE))) -> 0 | AZ16: =IF(ISERROR(VLOOKUP(AW16,$AW$26:$BF$29,4,FALSE)),0,(VLOOKUP(AW16,$AW$26:$BF$29,4,FALSE))) -> 0 | BA16: =AY16-AZ16-BB16 -> 0 | BB16: =IF(ISERROR(VLOOKUP(AW16,$AW$26:$BF$29,6,FALSE)),0,(VLOOKUP(AW16,$AW$26:$BF$29,6,FALSE))) -> 0 | BC16: =IF(ISERROR(VLOOKUP(AW16,$AW$26:$BF$29,7,FALSE)),0,(VLOOKUP(AW16,$AW$26:$BF$29,7,FALSE))) -> 0 | BD16: =IF(ISERROR(VLOOKUP(AW16,$AW$26:$BF$29,8,FALSE)),0,(VLOOKUP(AW16,$AW$26:$BF$29,8,FALSE))) -> 0 | BE16: =BC16-BD16 -> 0 | BF16: =AZ16*3+BA16 -> 0 | BI16: 11 | BJ16: =IF(ISERROR(VLOOKUP(BI16,$BI$26:$BK$29,2,FALSE)),0,(VLOOKUP(BI16,$BI$26:$BK$29,2,FALSE))) -> 0 | BK16: =IF(ISERROR(VLOOKUP(BI16,$BI$26:$BR$27,3,FALSE)),0,(VLOOKUP(BI16,$BI$26:$BR$27,3,FALSE))) -> 0 | BL16: =IF(ISERROR(VLOOKUP(BI16,$BI$26:$BR$27,4,FALSE)),0,(VLOOKUP(BI16,$BI$26:$BR$27,4,FALSE))) -> 0 | BM16: =BK16-BL16-BN16 -> 0 | BN16: =IF(ISERROR(VLOOKUP(BI16,$BI$26:$BR$27,6,FALSE)),0,(VLOOKUP(BI16,$BI$26:$BR$27,6,FALSE))) -> 0 | BO16: =IF(ISERROR(VLOOKUP(BI16,$BI$26:$BR$27,7,FALSE)),0,(VLOOKUP(BI16,$BI$26:$BR$27,7,FALSE))) -> 0 | BP16: =IF(ISERROR(VLOOKUP(BI16,$BI$26:$BR$27,8,FALSE)),0,(VLOOKUP(BI16,$BI$26:$BR$27,8,FALSE))) -> 0 | BQ16: =BO16-BP16 -> 0 | BR16: =BL16*3+BM16 -> 0 | BY16: =P16 -> #REF! | BZ16: =Q16 -> Escócia | CA16: =R16+AN16+AY16+BK16 -> 12 | CB16: =S16+AO16+AZ16+BL16 -> 8 | CC16: =T16+AP16+BA16+BM16 -> 2 | CD16: =U16+AQ16+BB16+BN16 -> 2 | CE16: =V16+AR16+BC16+BO16 -> 14 | CF16: =W16+AS16+BD16+BP16 -> 6 | CG16: =X16+AT16+BE16+BQ16 -> 8 | CH16: =Y16+AU16+BF16+BR16 -> 26 | CJ16: =(10^10)*CH16+(10^8)*CB16+(10^6)*(50+CG16)+(10^4)*CE16+(10^2)*CA16+(13-BY16) -> #REF! | CK16: 11 | CL16: =LARGE($CJ$6:$CJ$23,CK16) -> #REF! | CN16: 11 | CO16: =MATCH(CL16,$CJ$6:$CJ$23,0) -> #REF!
B17: 12º | C17: =VLOOKUP(CO17,$BY$6:$CH$23,2) -> #REF! | D17: =VLOOKUP(CO17,$BY$6:$CH$23,3) -> #REF! | E17: =VLOOKUP(CO17,$BY$6:$CH$23,4) -> #REF! | F17: =D17-E17-G17 -> #REF! | G17: =VLOOKUP(CO17,$BY$6:$CH$23,6) -> #REF! | H17: =VLOOKUP(CO17,$BY$6:$CH$23,7) -> #REF! | I17: =VLOOKUP(CO17,$BY$6:$CH$23,8) -> #REF! | J17: =H17-I17 -> #REF! | K17: =E17*3+F17 -> #REF! | P17: =#REF! -> #REF! | Q17: =Classificação!P29 -> País de Gales | R17: =Classificação!Q29 -> 12 | S17: =Classificação!R29 -> 6 | T17: =Classificação!S29 -> 4 | U17: =Classificação!T29 -> 2 | V17: =Classificação!U29 -> 18 | W17: =Classificação!V29 -> 9 | X17: =Classificação!W29 -> 9 | Y17: =Classificação!X29 -> 22 | Z17: =(10^10)*Y17+(10^8)*S17+(10^6)*(50+X17)+(10^4)*V17+(10^2)*R17+(13-P17) -> #REF! | AK17: 0 | AL17: =#REF! -> #REF! | AM17: =IF(ISERROR(VLOOKUP(AL17,$AL$27:$AN$34,2,FALSE)),0,(VLOOKUP(AL17,$AL$27:$AN$34,2,FALSE))) -> 0 | AN17: =IF(ISERROR(VLOOKUP(AL17,$AL$27:$AN$34,3,FALSE)),0,(VLOOKUP(AL17,$AL$27:$AN$34,3,FALSE))) -> 0 | AO17: =IF(ISERROR(VLOOKUP(AL17,$AL$27:$AO$34,4,FALSE)),0,(VLOOKUP(AL17,$AL$27:$AO$34,4,FALSE))) -> 0 | AP17: =AN17-AO17-AQ17 -> 0 | AQ17: =IF(ISERROR(VLOOKUP(AL17,$AL$27:$AQ$34,6,FALSE)),0,(VLOOKUP(AL17,$AL$27:$AQ$34,6,FALSE))) -> 0 | AR17: =IF(ISERROR(VLOOKUP(AL17,$AL$27:$AR$34,7,FALSE)),0,(VLOOKUP(AL17,$AL$27:$AR$34,7,FALSE))) -> 0 | AS17: =IF(ISERROR(VLOOKUP(AL17,$AL$27:$AS$34,8,FALSE)),0,(VLOOKUP(AL17,$AL$27:$AS$34,8,FALSE))) -> 0 | AT17: =AR17-AS17 -> 0 | AU17: =AO17*3+AP17 -> 0 | AW17: 12 | AX17: =IF(ISERROR(VLOOKUP(AW17,$AW$26:$AY$29,2,FALSE)),0,(VLOOKUP(AW17,$AW$26:$AY$29,2,FALSE))) -> 0 | AY17: =IF(ISERROR(VLOOKUP(AW17,$AW$26:$BF$29,3,FALSE)),0,(VLOOKUP(AW17,$AW$26:$BF$29,3,FALSE))) -> 0 | AZ17: =IF(ISERROR(VLOOKUP(AW17,$AW$26:$BF$29,4,FALSE)),0,(VLOOKUP(AW17,$AW$26:$BF$29,4,FALSE))) -> 0 | BA17: =AY17-AZ17-BB17 -> 0 | BB17: =IF(ISERROR(VLOOKUP(AW17,$AW$26:$BF$29,6,FALSE)),0,(VLOOKUP(AW17,$AW$26:$BF$29,6,FALSE))) -> 0 | BC17: =IF(ISERROR(VLOOKUP(AW17,$AW$26:$BF$29,7,FALSE)),0,(VLOOKUP(AW17,$AW$26:$BF$29,7,FALSE))) -> 0 | BD17: =IF(ISERROR(VLOOKUP(AW17,$AW$26:$BF$29,8,FALSE)),0,(VLOOKUP(AW17,$AW$26:$BF$29,8,FALSE))) -> 0 | BE17: =BC17-BD17 -> 0 | BF17: =AZ17*3+BA17 -> 0 | BI17: 12 | BJ17: =IF(ISERROR(VLOOKUP(BI17,$BI$26:$BK$29,2,FALSE)),0,(VLOOKUP(BI17,$BI$26:$BK$29,2,FALSE))) -> 0 | BK17: =IF(ISERROR(VLOOKUP(BI17,$BI$26:$BR$27,3,FALSE)),0,(VLOOKUP(BI17,$BI$26:$BR$27,3,FALSE))) -> 0 | BL17: =IF(ISERROR(VLOOKUP(BI17,$BI$26:$BR$27,4,FALSE)),0,(VLOOKUP(BI17,$BI$26:$BR$27,4,FALSE))) -> 0 | BM17: =BK17-BL17-BN17 -> 0 | BN17: =IF(ISERROR(VLOOKUP(BI17,$BI$26:$BR$27,6,FALSE)),0,(VLOOKUP(BI17,$BI$26:$BR$27,6,FALSE))) -> 0 | BO17: =IF(ISERROR(VLOOKUP(BI17,$BI$26:$BR$27,7,FALSE)),0,(VLOOKUP(BI17,$BI$26:$BR$27,7,FALSE))) -> 0 | BP17: =IF(ISERROR(VLOOKUP(BI17,$BI$26:$BR$27,8,FALSE)),0,(VLOOKUP(BI17,$BI$26:$BR$27,8,FALSE))) -> 0 | BQ17: =BO17-BP17 -> 0 | BR17: =BL17*3+BM17 -> 0 | BY17: =P17 -> #REF! | BZ17: =Q17 -> País de Gales | CA17: =R17+AN17+AY17+BK17 -> 12 | CB17: =S17+AO17+AZ17+BL17 -> 6 | CC17: =T17+AP17+BA17+BM17 -> 4 | CD17: =U17+AQ17+BB17+BN17 -> 2 | CE17: =V17+AR17+BC17+BO17 -> 18 | CF17: =W17+AS17+BD17+BP17 -> 9 | CG17: =X17+AT17+BE17+BQ17 -> 9 | CH17: =Y17+AU17+BF17+BR17 -> 22 | CJ17: =(10^10)*CH17+(10^8)*CB17+(10^6)*(50+CG17)+(10^4)*CE17+(10^2)*CA17+(13-BY17) -> #REF! | CK17: 12 | CL17: =LARGE($CJ$6:$CJ$23,CK17) -> #REF! | CN17: 12 | CO17: =MATCH(CL17,$CJ$6:$CJ$23,0) -> #REF!
B18: 13º | C18: =VLOOKUP(CO18,$BY$6:$CH$23,2) -> #REF! | D18: =VLOOKUP(CO18,$BY$6:$CH$23,3) -> #REF! | E18: =VLOOKUP(CO18,$BY$6:$CH$23,4) -> #REF! | F18: =D18-E18-G18 -> #REF! | G18: =VLOOKUP(CO18,$BY$6:$CH$23,6) -> #REF! | H18: =VLOOKUP(CO18,$BY$6:$CH$23,7) -> #REF! | I18: =VLOOKUP(CO18,$BY$6:$CH$23,8) -> #REF! | J18: =H18-I18 -> #REF! | K18: =E18*3+F18 -> #REF! | P18: =#REF! -> #REF! | Q18: =Classificação!P30 -> Dinamarca | R18: =Classificação!Q30 -> 12 | S18: =Classificação!R30 -> 3 | T18: =Classificação!S30 -> 2 | U18: =Classificação!T30 -> 7 | V18: =Classificação!U30 -> 13 | W18: =Classificação!V30 -> 16 | X18: =Classificação!W30 -> -3 | Y18: =Classificação!X30 -> 11 | Z18: =(10^10)*Y18+(10^8)*S18+(10^6)*(50+X18)+(10^4)*V18+(10^2)*R18+(13-P18) -> #REF! | AK18: 0 | AL18: =#REF! -> #REF! | AM18: =IF(ISERROR(VLOOKUP(AL18,$AL$27:$AN$34,2,FALSE)),0,(VLOOKUP(AL18,$AL$27:$AN$34,2,FALSE))) -> 0 | AN18: =IF(ISERROR(VLOOKUP(AL18,$AL$27:$AN$34,3,FALSE)),0,(VLOOKUP(AL18,$AL$27:$AN$34,3,FALSE))) -> 0 | AO18: =IF(ISERROR(VLOOKUP(AL18,$AL$27:$AO$34,4,FALSE)),0,(VLOOKUP(AL18,$AL$27:$AO$34,4,FALSE))) -> 0 | AP18: =AN18-AO18-AQ18 -> 0 | AQ18: =IF(ISERROR(VLOOKUP(AL18,$AL$27:$AQ$34,6,FALSE)),0,(VLOOKUP(AL18,$AL$27:$AQ$34,6,FALSE))) -> 0 | AR18: =IF(ISERROR(VLOOKUP(AL18,$AL$27:$AR$34,7,FALSE)),0,(VLOOKUP(AL18,$AL$27:$AR$34,7,FALSE))) -> 0 | AS18: =IF(ISERROR(VLOOKUP(AL18,$AL$27:$AS$34,8,FALSE)),0,(VLOOKUP(AL18,$AL$27:$AS$34,8,FALSE))) -> 0 | AT18: =AR18-AS18 -> 0 | AU18: =AO18*3+AP18 -> 0 | AW18: 13 | AX18: =IF(ISERROR(VLOOKUP(AW18,$AW$26:$AY$29,2,FALSE)),0,(VLOOKUP(AW18,$AW$26:$AY$29,2,FALSE))) -> 0 | AY18: =IF(ISERROR(VLOOKUP(AW18,$AW$26:$BF$29,3,FALSE)),0,(VLOOKUP(AW18,$AW$26:$BF$29,3,FALSE))) -> 0 | AZ18: =IF(ISERROR(VLOOKUP(AW18,$AW$26:$BF$29,4,FALSE)),0,(VLOOKUP(AW18,$AW$26:$BF$29,4,FALSE))) -> 0 | BA18: =AY18-AZ18-BB18 -> 0 | BB18: =IF(ISERROR(VLOOKUP(AW18,$AW$26:$BF$29,6,FALSE)),0,(VLOOKUP(AW18,$AW$26:$BF$29,6,FALSE))) -> 0 | BC18: =IF(ISERROR(VLOOKUP(AW18,$AW$26:$BF$29,7,FALSE)),0,(VLOOKUP(AW18,$AW$26:$BF$29,7,FALSE))) -> 0 | BD18: =IF(ISERROR(VLOOKUP(AW18,$AW$26:$BF$29,8,FALSE)),0,(VLOOKUP(AW18,$AW$26:$BF$29,8,FALSE))) -> 0 | BE18: =BC18-BD18 -> 0 | BF18: =AZ18*3+BA18 -> 0 | BI18: 13 | BJ18: =IF(ISERROR(VLOOKUP(BI18,$BI$26:$BK$29,2,FALSE)),0,(VLOOKUP(BI18,$BI$26:$BK$29,2,FALSE))) -> 0 | BK18: =IF(ISERROR(VLOOKUP(BI18,$BI$26:$BR$27,3,FALSE)),0,(VLOOKUP(BI18,$BI$26:$BR$27,3,FALSE))) -> 0 | BL18: =IF(ISERROR(VLOOKUP(BI18,$BI$26:$BR$27,4,FALSE)),0,(VLOOKUP(BI18,$BI$26:$BR$27,4,FALSE))) -> 0 | BM18: =BK18-BL18-BN18 -> 0 | BN18: =IF(ISERROR(VLOOKUP(BI18,$BI$26:$BR$27,6,FALSE)),0,(VLOOKUP(BI18,$BI$26:$BR$27,6,FALSE))) -> 0 | BO18: =IF(ISERROR(VLOOKUP(BI18,$BI$26:$BR$27,7,FALSE)),0,(VLOOKUP(BI18,$BI$26:$BR$27,7,FALSE))) -> 0 | BP18: =IF(ISERROR(VLOOKUP(BI18,$BI$26:$BR$27,8,FALSE)),0,(VLOOKUP(BI18,$BI$26:$BR$27,8,FALSE))) -> 0 | BQ18: =BO18-BP18 -> 0 | BR18: =BL18*3+BM18 -> 0 | BY18: =P18 -> #REF! | BZ18: =Q18 -> Dinamarca | CA18: =R18+AN18+AY18+BK18 -> 12 | CB18: =S18+AO18+AZ18+BL18 -> 3 | CC18: =T18+AP18+BA18+BM18 -> 2 | CD18: =U18+AQ18+BB18+BN18 -> 7 | CE18: =V18+AR18+BC18+BO18 -> 13 | CF18: =W18+AS18+BD18+BP18 -> 16 | CG18: =X18+AT18+BE18+BQ18 -> -3 | CH18: =Y18+AU18+BF18+BR18 -> 11 | CJ18: =(10^10)*CH18+(10^8)*CB18+(10^6)*(50+CG18)+(10^4)*CE18+(10^2)*CA18+(13-BY18) -> #REF! | CK18: 13 | CL18: =LARGE($CJ$6:$CJ$23,CK18) -> #REF! | CN18: 13 | CO18: =MATCH(CL18,$CJ$6:$CJ$23,0) -> #REF!
B19: 14º | C19: =VLOOKUP(CO19,$BY$6:$CH$23,2) -> #REF! | D19: =VLOOKUP(CO19,$BY$6:$CH$23,3) -> #REF! | E19: =VLOOKUP(CO19,$BY$6:$CH$23,4) -> #REF! | F19: =D19-E19-G19 -> #REF! | G19: =VLOOKUP(CO19,$BY$6:$CH$23,6) -> #REF! | H19: =VLOOKUP(CO19,$BY$6:$CH$23,7) -> #REF! | I19: =VLOOKUP(CO19,$BY$6:$CH$23,8) -> #REF! | J19: =H19-I19 -> #REF! | K19: =E19*3+F19 -> #REF! | P19: =#REF! -> #REF! | Q19: =Classificação!P31 -> Bélgica | R19: =Classificação!Q31 -> 12 | S19: =Classificação!R31 -> 7 | T19: =Classificação!S31 -> 2 | U19: =Classificação!T31 -> 3 | V19: =Classificação!U31 -> 16 | W19: =Classificação!V31 -> 7 | X19: =Classificação!W31 -> 9 | Y19: =Classificação!X31 -> 23 | Z19: =(10^10)*Y19+(10^8)*S19+(10^6)*(50+X19)+(10^4)*V19+(10^2)*R19+(13-P19) -> #REF! | AK19: 0 | AL19: =#REF! -> #REF! | AM19: =IF(ISERROR(VLOOKUP(AL19,$AL$27:$AN$34,2,FALSE)),0,(VLOOKUP(AL19,$AL$27:$AN$34,2,FALSE))) -> 0 | AN19: =IF(ISERROR(VLOOKUP(AL19,$AL$27:$AN$34,3,FALSE)),0,(VLOOKUP(AL19,$AL$27:$AN$34,3,FALSE))) -> 0 | AO19: =IF(ISERROR(VLOOKUP(AL19,$AL$27:$AO$34,4,FALSE)),0,(VLOOKUP(AL19,$AL$27:$AO$34,4,FALSE))) -> 0 | AP19: =AN19-AO19-AQ19 -> 0 | AQ19: =IF(ISERROR(VLOOKUP(AL19,$AL$27:$AQ$34,6,FALSE)),0,(VLOOKUP(AL19,$AL$27:$AQ$34,6,FALSE))) -> 0 | AR19: =IF(ISERROR(VLOOKUP(AL19,$AL$27:$AR$34,7,FALSE)),0,(VLOOKUP(AL19,$AL$27:$AR$34,7,FALSE))) -> 0 | AS19: =IF(ISERROR(VLOOKUP(AL19,$AL$27:$AS$34,8,FALSE)),0,(VLOOKUP(AL19,$AL$27:$AS$34,8,FALSE))) -> 0 | AT19: =AR19-AS19 -> 0 | AU19: =AO19*3+AP19 -> 0 | AW19: 14 | AX19: =IF(ISERROR(VLOOKUP(AW19,$AW$26:$AY$29,2,FALSE)),0,(VLOOKUP(AW19,$AW$26:$AY$29,2,FALSE))) -> 0 | AY19: =IF(ISERROR(VLOOKUP(AW19,$AW$26:$BF$29,3,FALSE)),0,(VLOOKUP(AW19,$AW$26:$BF$29,3,FALSE))) -> 0 | AZ19: =IF(ISERROR(VLOOKUP(AW19,$AW$26:$BF$29,4,FALSE)),0,(VLOOKUP(AW19,$AW$26:$BF$29,4,FALSE))) -> 0 | BA19: =AY19-AZ19-BB19 -> 0 | BB19: =IF(ISERROR(VLOOKUP(AW19,$AW$26:$BF$29,6,FALSE)),0,(VLOOKUP(AW19,$AW$26:$BF$29,6,FALSE))) -> 0 | BC19: =IF(ISERROR(VLOOKUP(AW19,$AW$26:$BF$29,7,FALSE)),0,(VLOOKUP(AW19,$AW$26:$BF$29,7,FALSE))) -> 0 | BD19: =IF(ISERROR(VLOOKUP(AW19,$AW$26:$BF$29,8,FALSE)),0,(VLOOKUP(AW19,$AW$26:$BF$29,8,FALSE))) -> 0 | BE19: =BC19-BD19 -> 0 | BF19: =AZ19*3+BA19 -> 0 | BI19: 14 | BJ19: =IF(ISERROR(VLOOKUP(BI19,$BI$26:$BK$29,2,FALSE)),0,(VLOOKUP(BI19,$BI$26:$BK$29,2,FALSE))) -> 0 | BK19: =IF(ISERROR(VLOOKUP(BI19,$BI$26:$BR$27,3,FALSE)),0,(VLOOKUP(BI19,$BI$26:$BR$27,3,FALSE))) -> 0 | BL19: =IF(ISERROR(VLOOKUP(BI19,$BI$26:$BR$27,4,FALSE)),0,(VLOOKUP(BI19,$BI$26:$BR$27,4,FALSE))) -> 0 | BM19: =BK19-BL19-BN19 -> 0 | BN19: =IF(ISERROR(VLOOKUP(BI19,$BI$26:$BR$27,6,FALSE)),0,(VLOOKUP(BI19,$BI$26:$BR$27,6,FALSE))) -> 0 | BO19: =IF(ISERROR(VLOOKUP(BI19,$BI$26:$BR$27,7,FALSE)),0,(VLOOKUP(BI19,$BI$26:$BR$27,7,FALSE))) -> 0 | BP19: =IF(ISERROR(VLOOKUP(BI19,$BI$26:$BR$27,8,FALSE)),0,(VLOOKUP(BI19,$BI$26:$BR$27,8,FALSE))) -> 0 | BQ19: =BO19-BP19 -> 0 | BR19: =BL19*3+BM19 -> 0 | BY19: =P19 -> #REF! | BZ19: =Q19 -> Bélgica | CA19: =R19+AN19+AY19+BK19 -> 12 | CB19: =S19+AO19+AZ19+BL19 -> 7 | CC19: =T19+AP19+BA19+BM19 -> 2 | CD19: =U19+AQ19+BB19+BN19 -> 3 | CE19: =V19+AR19+BC19+BO19 -> 16 | CF19: =W19+AS19+BD19+BP19 -> 7 | CG19: =X19+AT19+BE19+BQ19 -> 9 | CH19: =Y19+AU19+BF19+BR19 -> 23 | CJ19: =(10^10)*CH19+(10^8)*CB19+(10^6)*(50+CG19)+(10^4)*CE19+(10^2)*CA19+(13-BY19) -> #REF! | CK19: 14 | CL19: =LARGE($CJ$6:$CJ$23,CK19) -> #REF! | CN19: 14 | CO19: =MATCH(CL19,$CJ$6:$CJ$23,0) -> #REF!
B20: 15º | C20: =VLOOKUP(CO20,$BY$6:$CH$23,2) -> #REF! | D20: =VLOOKUP(CO20,$BY$6:$CH$23,3) -> #REF! | E20: =VLOOKUP(CO20,$BY$6:$CH$23,4) -> #REF! | F20: =D20-E20-G20 -> #REF! | G20: =VLOOKUP(CO20,$BY$6:$CH$23,6) -> #REF! | H20: =VLOOKUP(CO20,$BY$6:$CH$23,7) -> #REF! | I20: =VLOOKUP(CO20,$BY$6:$CH$23,8) -> #REF! | J20: =H20-I20 -> #REF! | K20: =E20*3+F20 -> #REF! | P20: =#REF! -> #REF! | Q20: =Classificação!P32 -> França | R20: =Classificação!Q32 -> 12 | S20: =Classificação!R32 -> 4 | T20: =Classificação!S32 -> 3 | U20: =Classificação!T32 -> 5 | V20: =Classificação!U32 -> 12 | W20: =Classificação!V32 -> 13 | X20: =Classificação!W32 -> -1 | Y20: =Classificação!X32 -> 15 | Z20: =(10^10)*Y20+(10^8)*S20+(10^6)*(50+X20)+(10^4)*V20+(10^2)*R20+(13-P20) -> #REF! | AK20: 0 | AL20: =#REF! -> #REF! | AM20: =IF(ISERROR(VLOOKUP(AL20,$AL$27:$AN$34,2,FALSE)),0,(VLOOKUP(AL20,$AL$27:$AN$34,2,FALSE))) -> 0 | AN20: =IF(ISERROR(VLOOKUP(AL20,$AL$27:$AN$34,3,FALSE)),0,(VLOOKUP(AL20,$AL$27:$AN$34,3,FALSE))) -> 0 | AO20: =IF(ISERROR(VLOOKUP(AL20,$AL$27:$AO$34,4,FALSE)),0,(VLOOKUP(AL20,$AL$27:$AO$34,4,FALSE))) -> 0 | AP20: =AN20-AO20-AQ20 -> 0 | AQ20: =IF(ISERROR(VLOOKUP(AL20,$AL$27:$AQ$34,6,FALSE)),0,(VLOOKUP(AL20,$AL$27:$AQ$34,6,FALSE))) -> 0 | AR20: =IF(ISERROR(VLOOKUP(AL20,$AL$27:$AR$34,7,FALSE)),0,(VLOOKUP(AL20,$AL$27:$AR$34,7,FALSE))) -> 0 | AS20: =IF(ISERROR(VLOOKUP(AL20,$AL$27:$AS$34,8,FALSE)),0,(VLOOKUP(AL20,$AL$27:$AS$34,8,FALSE))) -> 0 | AT20: =AR20-AS20 -> 0 | AU20: =AO20*3+AP20 -> 0 | AW20: 15 | AX20: =IF(ISERROR(VLOOKUP(AW20,$AW$26:$AY$29,2,FALSE)),0,(VLOOKUP(AW20,$AW$26:$AY$29,2,FALSE))) -> 0 | AY20: =IF(ISERROR(VLOOKUP(AW20,$AW$26:$BF$29,3,FALSE)),0,(VLOOKUP(AW20,$AW$26:$BF$29,3,FALSE))) -> 0 | AZ20: =IF(ISERROR(VLOOKUP(AW20,$AW$26:$BF$29,4,FALSE)),0,(VLOOKUP(AW20,$AW$26:$BF$29,4,FALSE))) -> 0 | BA20: =AY20-AZ20-BB20 -> 0 | BB20: =IF(ISERROR(VLOOKUP(AW20,$AW$26:$BF$29,6,FALSE)),0,(VLOOKUP(AW20,$AW$26:$BF$29,6,FALSE))) -> 0 | BC20: =IF(ISERROR(VLOOKUP(AW20,$AW$26:$BF$29,7,FALSE)),0,(VLOOKUP(AW20,$AW$26:$BF$29,7,FALSE))) -> 0 | BD20: =IF(ISERROR(VLOOKUP(AW20,$AW$26:$BF$29,8,FALSE)),0,(VLOOKUP(AW20,$AW$26:$BF$29,8,FALSE))) -> 0 | BE20: =BC20-BD20 -> 0 | BF20: =AZ20*3+BA20 -> 0 | BI20: 15 | BJ20: =IF(ISERROR(VLOOKUP(BI20,$BI$26:$BK$29,2,FALSE)),0,(VLOOKUP(BI20,$BI$26:$BK$29,2,FALSE))) -> 0 | BK20: =IF(ISERROR(VLOOKUP(BI20,$BI$26:$BR$27,3,FALSE)),0,(VLOOKUP(BI20,$BI$26:$BR$27,3,FALSE))) -> 0 | BL20: =IF(ISERROR(VLOOKUP(BI20,$BI$26:$BR$27,4,FALSE)),0,(VLOOKUP(BI20,$BI$26:$BR$27,4,FALSE))) -> 0 | BM20: =BK20-BL20-BN20 -> 0 | BN20: =IF(ISERROR(VLOOKUP(BI20,$BI$26:$BR$27,6,FALSE)),0,(VLOOKUP(BI20,$BI$26:$BR$27,6,FALSE))) -> 0 | BO20: =IF(ISERROR(VLOOKUP(BI20,$BI$26:$BR$27,7,FALSE)),0,(VLOOKUP(BI20,$BI$26:$BR$27,7,FALSE))) -> 0 | BP20: =IF(ISERROR(VLOOKUP(BI20,$BI$26:$BR$27,8,FALSE)),0,(VLOOKUP(BI20,$BI$26:$BR$27,8,FALSE))) -> 0 | BQ20: =BO20-BP20 -> 0 | BR20: =BL20*3+BM20 -> 0 | BY20: =P20 -> #REF! | BZ20: =Q20 -> França | CA20: =R20+AN20+AY20+BK20 -> 12 | CB20: =S20+AO20+AZ20+BL20 -> 4 | CC20: =T20+AP20+BA20+BM20 -> 3 | CD20: =U20+AQ20+BB20+BN20 -> 5 | CE20: =V20+AR20+BC20+BO20 -> 12 | CF20: =W20+AS20+BD20+BP20 -> 13 | CG20: =X20+AT20+BE20+BQ20 -> -1 | CH20: =Y20+AU20+BF20+BR20 -> 15 | CJ20: =(10^10)*CH20+(10^8)*CB20+(10^6)*(50+CG20)+(10^4)*CE20+(10^2)*CA20+(13-BY20) -> #REF! | CK20: 15 | CL20: =LARGE($CJ$6:$CJ$23,CK20) -> #REF! | CN20: 15 | CO20: =MATCH(CL20,$CJ$6:$CJ$23,0) -> #REF!
B21: 16º | C21: =VLOOKUP(CO21,$BY$6:$CH$23,2) -> #REF! | D21: =VLOOKUP(CO21,$BY$6:$CH$23,3) -> #REF! | E21: =VLOOKUP(CO21,$BY$6:$CH$23,4) -> #REF! | F21: =D21-E21-G21 -> #REF! | G21: =VLOOKUP(CO21,$BY$6:$CH$23,6) -> #REF! | H21: =VLOOKUP(CO21,$BY$6:$CH$23,7) -> #REF! | I21: =VLOOKUP(CO21,$BY$6:$CH$23,8) -> #REF! | J21: =H21-I21 -> #REF! | K21: =E21*3+F21 -> #REF! | P21: =#REF! -> #REF! | Q21: =Classificação!P33 -> Rússia | R21: =Classificação!Q33 -> 12 | S21: =Classificação!R33 -> 5 | T21: =Classificação!S33 -> 4 | U21: =Classificação!T33 -> 3 | V21: =Classificação!U33 -> 18 | W21: =Classificação!V33 -> 8 | X21: =Classificação!W33 -> 10 | Y21: =Classificação!X33 -> 19 | Z21: =(10^10)*Y21+(10^8)*S21+(10^6)*(50+X21)+(10^4)*V21+(10^2)*R21+(13-P21) -> #REF! | AK21: 0 | AL21: =#REF! -> #REF! | AM21: =IF(ISERROR(VLOOKUP(AL21,$AL$27:$AN$34,2,FALSE)),0,(VLOOKUP(AL21,$AL$27:$AN$34,2,FALSE))) -> 0 | AN21: =IF(ISERROR(VLOOKUP(AL21,$AL$27:$AN$34,3,FALSE)),0,(VLOOKUP(AL21,$AL$27:$AN$34,3,FALSE))) -> 0 | AO21: =IF(ISERROR(VLOOKUP(AL21,$AL$27:$AO$34,4,FALSE)),0,(VLOOKUP(AL21,$AL$27:$AO$34,4,FALSE))) -> 0 | AP21: =AN21-AO21-AQ21 -> 0 | AQ21: =IF(ISERROR(VLOOKUP(AL21,$AL$27:$AQ$34,6,FALSE)),0,(VLOOKUP(AL21,$AL$27:$AQ$34,6,FALSE))) -> 0 | AR21: =IF(ISERROR(VLOOKUP(AL21,$AL$27:$AR$34,7,FALSE)),0,(VLOOKUP(AL21,$AL$27:$AR$34,7,FALSE))) -> 0 | AS21: =IF(ISERROR(VLOOKUP(AL21,$AL$27:$AS$34,8,FALSE)),0,(VLOOKUP(AL21,$AL$27:$AS$34,8,FALSE))) -> 0 | AT21: =AR21-AS21 -> 0 | AU21: =AO21*3+AP21 -> 0 | AW21: 16 | AX21: =IF(ISERROR(VLOOKUP(AW21,$AW$26:$AY$29,2,FALSE)),0,(VLOOKUP(AW21,$AW$26:$AY$29,2,FALSE))) -> 0 | AY21: =IF(ISERROR(VLOOKUP(AW21,$AW$26:$BF$29,3,FALSE)),0,(VLOOKUP(AW21,$AW$26:$BF$29,3,FALSE))) -> 0 | AZ21: =IF(ISERROR(VLOOKUP(AW21,$AW$26:$BF$29,4,FALSE)),0,(VLOOKUP(AW21,$AW$26:$BF$29,4,FALSE))) -> 0 | BA21: =AY21-AZ21-BB21 -> 0 | BB21: =IF(ISERROR(VLOOKUP(AW21,$AW$26:$BF$29,6,FALSE)),0,(VLOOKUP(AW21,$AW$26:$BF$29,6,FALSE))) -> 0 | BC21: =IF(ISERROR(VLOOKUP(AW21,$AW$26:$BF$29,7,FALSE)),0,(VLOOKUP(AW21,$AW$26:$BF$29,7,FALSE))) -> 0 | BD21: =IF(ISERROR(VLOOKUP(AW21,$AW$26:$BF$29,8,FALSE)),0,(VLOOKUP(AW21,$AW$26:$BF$29,8,FALSE))) -> 0 | BE21: =BC21-BD21 -> 0 | BF21: =AZ21*3+BA21 -> 0 | BI21: 16 | BJ21: =IF(ISERROR(VLOOKUP(BI21,$BI$26:$BK$29,2,FALSE)),0,(VLOOKUP(BI21,$BI$26:$BK$29,2,FALSE))) -> 0 | BK21: =IF(ISERROR(VLOOKUP(BI21,$BI$26:$BR$27,3,FALSE)),0,(VLOOKUP(BI21,$BI$26:$BR$27,3,FALSE))) -> 0 | BL21: =IF(ISERROR(VLOOKUP(BI21,$BI$26:$BR$27,4,FALSE)),0,(VLOOKUP(BI21,$BI$26:$BR$27,4,FALSE))) -> 0 | BM21: =BK21-BL21-BN21 -> 0 | BN21: =IF(ISERROR(VLOOKUP(BI21,$BI$26:$BR$27,6,FALSE)),0,(VLOOKUP(BI21,$BI$26:$BR$27,6,FALSE))) -> 0 | BO21: =IF(ISERROR(VLOOKUP(BI21,$BI$26:$BR$27,7,FALSE)),0,(VLOOKUP(BI21,$BI$26:$BR$27,7,FALSE))) -> 0 | BP21: =IF(ISERROR(VLOOKUP(BI21,$BI$26:$BR$27,8,FALSE)),0,(VLOOKUP(BI21,$BI$26:$BR$27,8,FALSE))) -> 0 | BQ21: =BO21-BP21 -> 0 | BR21: =BL21*3+BM21 -> 0 | BY21: =P21 -> #REF! | BZ21: =Q21 -> Rússia | CA21: =R21+AN21+AY21+BK21 -> 12 | CB21: =S21+AO21+AZ21+BL21 -> 5 | CC21: =T21+AP21+BA21+BM21 -> 4 | CD21: =U21+AQ21+BB21+BN21 -> 3 | CE21: =V21+AR21+BC21+BO21 -> 18 | CF21: =W21+AS21+BD21+BP21 -> 8 | CG21: =X21+AT21+BE21+BQ21 -> 10 | CH21: =Y21+AU21+BF21+BR21 -> 19 | CJ21: =(10^10)*CH21+(10^8)*CB21+(10^6)*(50+CG21)+(10^4)*CE21+(10^2)*CA21+(13-BY21) -> #REF! | CK21: 16 | CL21: =LARGE($CJ$6:$CJ$23,CK21) -> #REF! | CN21: 16 | CO21: =MATCH(CL21,$CJ$6:$CJ$23,0) -> #REF!
B22: 17º | C22: =VLOOKUP(CO22,$BY$6:$CH$23,2) -> #REF! | D22: =VLOOKUP(CO22,$BY$6:$CH$23,3) -> #REF! | E22: =VLOOKUP(CO22,$BY$6:$CH$23,4) -> #REF! | F22: =D22-E22-G22 -> #REF! | G22: =VLOOKUP(CO22,$BY$6:$CH$23,6) -> #REF! | H22: =VLOOKUP(CO22,$BY$6:$CH$23,7) -> #REF! | I22: =VLOOKUP(CO22,$BY$6:$CH$23,8) -> #REF! | J22: =H22-I22 -> #REF! | K22: =E22*3+F22 -> #REF! | P22: =#REF! -> #REF! | Q22: =Classificação!P34 -> Noruega | R22: =Classificação!Q34 -> 12 | S22: =Classificação!R34 -> 7 | T22: =Classificação!S34 -> 3 | U22: =Classificação!T34 -> 2 | V22: =Classificação!U34 -> 19 | W22: =Classificação!V34 -> 7 | X22: =Classificação!W34 -> 12 | Y22: =Classificação!X34 -> 24 | Z22: =(10^10)*Y22+(10^8)*S22+(10^6)*(50+X22)+(10^4)*V22+(10^2)*R22+(13-P22) -> #REF! | AK22: 0 | AL22: =#REF! -> #REF! | AM22: =IF(ISERROR(VLOOKUP(AL22,$AL$27:$AN$34,2,FALSE)),0,(VLOOKUP(AL22,$AL$27:$AN$34,2,FALSE))) -> 0 | AN22: =IF(ISERROR(VLOOKUP(AL22,$AL$27:$AN$34,3,FALSE)),0,(VLOOKUP(AL22,$AL$27:$AN$34,3,FALSE))) -> 0 | AO22: =IF(ISERROR(VLOOKUP(AL22,$AL$27:$AO$34,4,FALSE)),0,(VLOOKUP(AL22,$AL$27:$AO$34,4,FALSE))) -> 0 | AP22: =AN22-AO22-AQ22 -> 0 | AQ22: =IF(ISERROR(VLOOKUP(AL22,$AL$27:$AQ$34,6,FALSE)),0,(VLOOKUP(AL22,$AL$27:$AQ$34,6,FALSE))) -> 0 | AR22: =IF(ISERROR(VLOOKUP(AL22,$AL$27:$AR$34,7,FALSE)),0,(VLOOKUP(AL22,$AL$27:$AR$34,7,FALSE))) -> 0 | AS22: =IF(ISERROR(VLOOKUP(AL22,$AL$27:$AS$34,8,FALSE)),0,(VLOOKUP(AL22,$AL$27:$AS$34,8,FALSE))) -> 0 | AT22: =AR22-AS22 -> 0 | AU22: =AO22*3+AP22 -> 0 | AW22: 17 | AX22: =IF(ISERROR(VLOOKUP(AW22,$AW$26:$AY$29,2,FALSE)),0,(VLOOKUP(AW22,$AW$26:$AY$29,2,FALSE))) -> 0 | AY22: =IF(ISERROR(VLOOKUP(AW22,$AW$26:$BF$29,3,FALSE)),0,(VLOOKUP(AW22,$AW$26:$BF$29,3,FALSE))) -> 0 | AZ22: =IF(ISERROR(VLOOKUP(AW22,$AW$26:$BF$29,4,FALSE)),0,(VLOOKUP(AW22,$AW$26:$BF$29,4,FALSE))) -> 0 | BA22: =AY22-AZ22-BB22 -> 0 | BB22: =IF(ISERROR(VLOOKUP(AW22,$AW$26:$BF$29,6,FALSE)),0,(VLOOKUP(AW22,$AW$26:$BF$29,6,FALSE))) -> 0 | BC22: =IF(ISERROR(VLOOKUP(AW22,$AW$26:$BF$29,7,FALSE)),0,(VLOOKUP(AW22,$AW$26:$BF$29,7,FALSE))) -> 0 | BD22: =IF(ISERROR(VLOOKUP(AW22,$AW$26:$BF$29,8,FALSE)),0,(VLOOKUP(AW22,$AW$26:$BF$29,8,FALSE))) -> 0 | BE22: =BC22-BD22 -> 0 | BF22: =AZ22*3+BA22 -> 0 | BI22: 17 | BJ22: =IF(ISERROR(VLOOKUP(BI22,$BI$26:$BK$29,2,FALSE)),0,(VLOOKUP(BI22,$BI$26:$BK$29,2,FALSE))) -> 0 | BK22: =IF(ISERROR(VLOOKUP(BI22,$BI$26:$BR$27,3,FALSE)),0,(VLOOKUP(BI22,$BI$26:$BR$27,3,FALSE))) -> 0 | BL22: =IF(ISERROR(VLOOKUP(BI22,$BI$26:$BR$27,4,FALSE)),0,(VLOOKUP(BI22,$BI$26:$BR$27,4,FALSE))) -> 0 | BM22: =BK22-BL22-BN22 -> 0 | BN22: =IF(ISERROR(VLOOKUP(BI22,$BI$26:$BR$27,6,FALSE)),0,(VLOOKUP(BI22,$BI$26:$BR$27,6,FALSE))) -> 0 | BO22: =IF(ISERROR(VLOOKUP(BI22,$BI$26:$BR$27,7,FALSE)),0,(VLOOKUP(BI22,$BI$26:$BR$27,7,FALSE))) -> 0 | BP22: =IF(ISERROR(VLOOKUP(BI22,$BI$26:$BR$27,8,FALSE)),0,(VLOOKUP(BI22,$BI$26:$BR$27,8,FALSE))) -> 0 | BQ22: =BO22-BP22 -> 0 | BR22: =BL22*3+BM22 -> 0 | BY22: =P22 -> #REF! | BZ22: =Q22 -> Noruega | CA22: =R22+AN22+AY22+BK22 -> 12 | CB22: =S22+AO22+AZ22+BL22 -> 7 | CC22: =T22+AP22+BA22+BM22 -> 3 | CD22: =U22+AQ22+BB22+BN22 -> 2 | CE22: =V22+AR22+BC22+BO22 -> 19 | CF22: =W22+AS22+BD22+BP22 -> 7 | CG22: =X22+AT22+BE22+BQ22 -> 12 | CH22: =Y22+AU22+BF22+BR22 -> 24 | CJ22: =(10^10)*CH22+(10^8)*CB22+(10^6)*(50+CG22)+(10^4)*CE22+(10^2)*CA22+(13-BY22) -> #REF! | CK22: 17 | CL22: =LARGE($CJ$6:$CJ$23,CK22) -> #REF! | CN22: 17 | CO22: =MATCH(CL22,$CJ$6:$CJ$23,0) -> #REF!
B23: 18º | C23: =VLOOKUP(CO23,$BY$6:$CH$23,2) -> #REF! | D23: =VLOOKUP(CO23,$BY$6:$CH$23,3) -> #REF! | E23: =VLOOKUP(CO23,$BY$6:$CH$23,4) -> #REF! | F23: =D23-E23-G23 -> #REF! | G23: =VLOOKUP(CO23,$BY$6:$CH$23,6) -> #REF! | H23: =VLOOKUP(CO23,$BY$6:$CH$23,7) -> #REF! | I23: =VLOOKUP(CO23,$BY$6:$CH$23,8) -> #REF! | J23: =H23-I23 -> #REF! | K23: =E23*3+F23 -> #REF! | P23: =#REF! -> #REF! | Q23: =Classificação!P35 -> Portugal | R23: =Classificação!Q35 -> 12 | S23: =Classificação!R35 -> 7 | T23: =Classificação!S35 -> 3 | U23: =Classificação!T35 -> 2 | V23: =Classificação!U35 -> 18 | W23: =Classificação!V35 -> 6 | X23: =Classificação!W35 -> 12 | Y23: =Classificação!X35 -> 24 | Z23: =(10^10)*Y23+(10^8)*S23+(10^6)*(50+X23)+(10^4)*V23+(10^2)*R23+(13-P23) -> #REF! | AK23: 0 | AL23: =#REF! -> #REF! | AM23: =IF(ISERROR(VLOOKUP(AL23,$AL$27:$AN$34,2,FALSE)),0,(VLOOKUP(AL23,$AL$27:$AN$34,2,FALSE))) -> 0 | AN23: =IF(ISERROR(VLOOKUP(AL23,$AL$27:$AN$34,3,FALSE)),0,(VLOOKUP(AL23,$AL$27:$AN$34,3,FALSE))) -> 0 | AO23: =IF(ISERROR(VLOOKUP(AL23,$AL$27:$AO$34,4,FALSE)),0,(VLOOKUP(AL23,$AL$27:$AO$34,4,FALSE))) -> 0 | AP23: =AN23-AO23-AQ23 -> 0 | AQ23: =IF(ISERROR(VLOOKUP(AL23,$AL$27:$AQ$34,6,FALSE)),0,(VLOOKUP(AL23,$AL$27:$AQ$34,6,FALSE))) -> 0 | AR23: =IF(ISERROR(VLOOKUP(AL23,$AL$27:$AR$34,7,FALSE)),0,(VLOOKUP(AL23,$AL$27:$AR$34,7,FALSE))) -> 0 | AS23: =IF(ISERROR(VLOOKUP(AL23,$AL$27:$AS$34,8,FALSE)),0,(VLOOKUP(AL23,$AL$27:$AS$34,8,FALSE))) -> 0 | AT23: =AR23-AS23 -> 0 | AU23: =AO23*3+AP23 -> 0 | AW23: 18 | AX23: =IF(ISERROR(VLOOKUP(AW23,$AW$26:$AY$29,2,FALSE)),0,(VLOOKUP(AW23,$AW$26:$AY$29,2,FALSE))) -> 0 | AY23: =IF(ISERROR(VLOOKUP(AW23,$AW$26:$BF$29,3,FALSE)),0,(VLOOKUP(AW23,$AW$26:$BF$29,3,FALSE))) -> 0 | AZ23: =IF(ISERROR(VLOOKUP(AW23,$AW$26:$BF$29,4,FALSE)),0,(VLOOKUP(AW23,$AW$26:$BF$29,4,FALSE))) -> 0 | BA23: =AY23-AZ23-BB23 -> 0 | BB23: =IF(ISERROR(VLOOKUP(AW23,$AW$26:$BF$29,6,FALSE)),0,(VLOOKUP(AW23,$AW$26:$BF$29,6,FALSE))) -> 0 | BC23: =IF(ISERROR(VLOOKUP(AW23,$AW$26:$BF$29,7,FALSE)),0,(VLOOKUP(AW23,$AW$26:$BF$29,7,FALSE))) -> 0 | BD23: =IF(ISERROR(VLOOKUP(AW23,$AW$26:$BF$29,8,FALSE)),0,(VLOOKUP(AW23,$AW$26:$BF$29,8,FALSE))) -> 0 | BE23: =BC23-BD23 -> 0 | BF23: =AZ23*3+BA23 -> 0 | BI23: 18 | BJ23: =IF(ISERROR(VLOOKUP(BI23,$BI$26:$BK$29,2,FALSE)),0,(VLOOKUP(BI23,$BI$26:$BK$29,2,FALSE))) -> 0 | BK23: =IF(ISERROR(VLOOKUP(BI23,$BI$26:$BR$27,3,FALSE)),0,(VLOOKUP(BI23,$BI$26:$BR$27,3,FALSE))) -> 0 | BL23: =IF(ISERROR(VLOOKUP(BI23,$BI$26:$BR$27,4,FALSE)),0,(VLOOKUP(BI23,$BI$26:$BR$27,4,FALSE))) -> 0 | BM23: =BK23-BL23-BN23 -> 0 | BN23: =IF(ISERROR(VLOOKUP(BI23,$BI$26:$BR$27,6,FALSE)),0,(VLOOKUP(BI23,$BI$26:$BR$27,6,FALSE))) -> 0 | BO23: =IF(ISERROR(VLOOKUP(BI23,$BI$26:$BR$27,7,FALSE)),0,(VLOOKUP(BI23,$BI$26:$BR$27,7,FALSE))) -> 0 | BP23: =IF(ISERROR(VLOOKUP(BI23,$BI$26:$BR$27,8,FALSE)),0,(VLOOKUP(BI23,$BI$26:$BR$27,8,FALSE))) -> 0 | BQ23: =BO23-BP23 -> 0 | BR23: =BL23*3+BM23 -> 0 | BY23: =P23 -> #REF! | BZ23: =Q23 -> Portugal | CA23: =R23+AN23+AY23+BK23 -> 12 | CB23: =S23+AO23+AZ23+BL23 -> 7 | CC23: =T23+AP23+BA23+BM23 -> 3 | CD23: =U23+AQ23+BB23+BN23 -> 2 | CE23: =V23+AR23+BC23+BO23 -> 18 | CF23: =W23+AS23+BD23+BP23 -> 6 | CG23: =X23+AT23+BE23+BQ23 -> 12 | CH23: =Y23+AU23+BF23+BR23 -> 24 | CJ23: =(10^10)*CH23+(10^8)*CB23+(10^6)*(50+CG23)+(10^4)*CE23+(10^2)*CA23+(13-BY23) -> #REF! | CK23: 18 | CL23: =LARGE($CJ$6:$CJ$23,CK23) -> #REF! | CN23: 18 | CO23: =MATCH(CL23,$CJ$6:$CJ$23,0) -> #REF!
AL24: QUARTAS DE FINAL | AW24: SEMI FINAL | BI24: FINAL
AL25: ID_TIME | AM25: Times | AN25: Jogos | AO25: Vitorias | AP25: Empates | AQ25: Derrotas | AR25: Gols Pró | AS25: Gols Cont. | AT25: Saldo | AU25: Pontos | AW25: ID_TIME | AX25: Times | AY25: Jogos | AZ25: Vitorias | BA25: Empates | BB25: Derrotas | BC25: Gols Pró | BD25: Gols Cont. | BE25: Saldo | BF25: Pontos | BI25: ID_TIME | BJ25: Times | BK25: Jogos | BL25: Vitorias | BM25: Empates | BN25: Derrotas | BO25: Gols Pró | BP25: Gols Cont. | BQ25: Saldo | BR25: Pontos
AW26: =Jogos!#REF! -> #REF! | AX26: =Jogos!#REF! -> #REF! | AY26: =Jogos!#REF! -> #REF! | AZ26: =Jogos!#REF! -> #REF! | BA26: =Jogos!#REF! -> #REF! | BB26: =Jogos!#REF! -> #REF! | BC26: =Jogos!#REF! -> #REF! | BD26: =Jogos!#REF! -> #REF! | ... BF26: =Jogos!#REF! -> #REF! | BI26: =Jogos!#REF! -> #REF! | BJ26: =Jogos!#REF! -> #REF! | BK26: =Jogos!#REF! -> #REF! | BL26: =Jogos!#REF! -> #REF! | BM26: =Jogos!#REF! -> #REF! | BN26: =Jogos!#REF! -> #REF! | BO26: =Jogos!#REF! -> #REF! | BP26: =Jogos!#REF! -> #REF! | ... BR26: =Jogos!#REF! -> #REF!
AL27: =Jogos!#REF! -> #REF! | AM27: =Jogos!#REF! -> #REF! | AN27: =Jogos!#REF! -> #REF! | AO27: =Jogos!#REF! -> #REF! | AP27: =Jogos!#REF! -> #REF! | AQ27: =Jogos!#REF! -> #REF! | AR27: =Jogos!#REF! -> #REF! | AS27: =Jogos!#REF! -> #REF! | ... AU27: =Jogos!#REF! -> #REF! | AW27: =Jogos!#REF! -> #REF! | AX27: =Jogos!#REF! -> #REF! | AY27: =Jogos!#REF! -> #REF! | AZ27: =Jogos!#REF! -> #REF! | BA27: =Jogos!#REF! -> #REF! | BB27: =Jogos!#REF! -> #REF! | BC27: =Jogos!#REF! -> #REF! | BD27: =Jogos!#REF! -> #REF! | ... BF27: =Jogos!#REF! -> #REF! | BI27: =Jogos!#REF! -> #REF! | BJ27: =Jogos!#REF! -> #REF! | BK27: =Jogos!#REF! -> #REF! | BL27: =Jogos!#REF! -> #REF! | BM27: =Jogos!#REF! -> #REF! | BN27: =Jogos!#REF! -> #REF! | BO27: =Jogos!#REF! -> #REF! | BP27: =Jogos!#REF! -> #REF! | ... BR27: =Jogos!#REF! -> #REF!
AL28: =Jogos!#REF! -> #REF! | AM28: =Jogos!#REF! -> #REF! | AN28: =Jogos!#REF! -> #REF! | AO28: =Jogos!#REF! -> #REF! | AP28: =Jogos!#REF! -> #REF! | AQ28: =Jogos!#REF! -> #REF! | AR28: =Jogos!#REF! -> #REF! | AS28: =Jogos!#REF! -> #REF! | ... AU28: =Jogos!#REF! -> #REF! | AW28: =Jogos!#REF! -> #REF! | AX28: =Jogos!#REF! -> #REF! | AY28: =Jogos!#REF! -> #REF! | AZ28: =Jogos!#REF! -> #REF! | BA28: =Jogos!#REF! -> #REF! | BB28: =Jogos!#REF! -> #REF! | BC28: =Jogos!#REF! -> #REF! | BD28: =Jogos!#REF! -> #REF! | ... BF28: =Jogos!#REF! -> #REF!
AL29: =Jogos!#REF! -> #REF! | AM29: =Jogos!#REF! -> #REF! | AN29: =Jogos!#REF! -> #REF! | AO29: =Jogos!#REF! -> #REF! | AP29: =Jogos!#REF! -> #REF! | AQ29: =Jogos!#REF! -> #REF! | AR29: =Jogos!#REF! -> #REF! | AS29: =Jogos!#REF! -> #REF! | ... AU29: =Jogos!#REF! -> #REF! | AW29: =Jogos!#REF! -> #REF! | AX29: =Jogos!#REF! -> #REF! | AY29: =Jogos!#REF! -> #REF! | AZ29: =Jogos!#REF! -> #REF! | BA29: =Jogos!#REF! -> #REF! | BB29: =Jogos!#REF! -> #REF! | BC29: =Jogos!#REF! -> #REF! | BD29: =Jogos!#REF! -> #REF! | ... BF29: =Jogos!#REF! -> #REF!
AL30: =Jogos!#REF! -> #REF! | AM30: =Jogos!#REF! -> #REF! | AN30: =Jogos!#REF! -> #REF! | AO30: =Jogos!#REF! -> #REF! | AP30: =Jogos!#REF! -> #REF! | AQ30: =Jogos!#REF! -> #REF! | AR30: =Jogos!#REF! -> #REF! | AS30: =Jogos!#REF! -> #REF! | ... AU30: =Jogos!#REF! -> #REF!
AL31: =Jogos!#REF! -> #REF! | AM31: =Jogos!#REF! -> #REF! | AN31: =Jogos!#REF! -> #REF! | AO31: =Jogos!#REF! -> #REF! | AP31: =Jogos!#REF! -> #REF! | AQ31: =Jogos!#REF! -> #REF! | AR31: =Jogos!#REF! -> #REF! | AS31: =Jogos!#REF! -> #REF! | ... AU31: =Jogos!#REF! -> #REF!
AL32: =Jogos!#REF! -> #REF! | AM32: =Jogos!#REF! -> #REF! | AN32: =Jogos!#REF! -> #REF! | AO32: =Jogos!#REF! -> #REF! | AP32: =Jogos!#REF! -> #REF! | AQ32: =Jogos!#REF! -> #REF! | AR32: =Jogos!#REF! -> #REF! | AS32: =Jogos!#REF! -> #REF! | ... AU32: =Jogos!#REF! -> #REF!
AL33: =Jogos!#REF! -> #REF! | AM33: =Jogos!#REF! -> #REF! | AN33: =Jogos!#REF! -> #REF! | AO33: =Jogos!#REF! -> #REF! | AP33: =Jogos!#REF! -> #REF! | AQ33: =Jogos!#REF! -> #REF! | AR33: =Jogos!#REF! -> #REF! | AS33: =Jogos!#REF! -> #REF! | ... AU33: =Jogos!#REF! -> #REF!
AL34: =Jogos!#REF! -> #REF! | AM34: =Jogos!#REF! -> #REF! | AN34: =Jogos!#REF! -> #REF! | AO34: =Jogos!#REF! -> #REF! | AP34: =Jogos!#REF! -> #REF! | AQ34: =Jogos!#REF! -> #REF! | AR34: =Jogos!#REF! -> #REF! | AS34: =Jogos!#REF! -> #REF! | ... AU34: =Jogos!#REF! -> #REF!

Sheet Geral
B2: CLASSIFICAÇÃO GERAL | P2: 1º FASE | AB2: OITAVAS DE FINAL | AM2: QUARTAS DE FINAL | AX2: SEMI FINAL | BJ2: FINAL
B4: Posição | C4: Times | D4: Jogos | E4: Vitorias | F4: Empates | G4: Derrotas | H4: Gols Pró | I4: Gols Cont. | J4: Saldo | K4: Pontos | P4: ID_TIME | Q4: Times | R4: Jogos | S4: Vitorias | T4: Empates | U4: Derrotas | V4: Gols Pró | W4: Gols Cont. | X4: Saldo | Y4: Pontos | AB4: ID_TIME | AC4: Times | AD4: Jogos | AE4: Vitorias | AF4: Empates | AG4: Derrotas | AH4: Gols Pró | AI4: Gols Cont. | AJ4: Saldo | AK4: Pontos | AM4: ID_TIME | AN4: Times | AO4: Jogos | AP4: Vitorias | AQ4: Empates | AR4: Derrotas | AS4: Gols Pró | AT4: Gols Cont. | AU4: Saldo | AV4: Pontos | AW4: Ranking | AX4: ID_TIME | AY4: Times | AZ4: Jogos | BA4: Vitorias | BB4: Empates | BC4: Derrotas | BD4: Gols Pró | BE4: Gols Cont. | BF4: Saldo | BG4: Pontos | BJ4: ID_TIME | BK4: Times | BL4: Jogos | BM4: Vitorias | BN4: Empates | BO4: Derrotas | BP4: Gols Pró | BQ4: Gols Cont. | BR4: Saldo | BS4: Pontos | BZ4: ID_TIME | CA4: Times | CB4: Jogos | CC4: Vitorias | CD4: Empates | CE4: Derrotas | CF4: Gols Pró | CG4: Gols Cont. | CH4: Saldo | CI4: Pontos
B6: 1º | C6: =VLOOKUP(CR6,$BZ$6:$CI$29,2) -> Irlanda | D6: =VLOOKUP(CR6,$BZ$6:$CI$29,3) -> 16 | E6: =VLOOKUP(CR6,$BZ$6:$CI$29,4) -> 13 | F6: =D6-E6-G6 -> 1 | G6: =VLOOKUP(CR6,$BZ$6:$CI$29,6) -> 2 | H6: =VLOOKUP(CR6,$BZ$6:$CI$29,7) -> 44 | I6: =VLOOKUP(CR6,$BZ$6:$CI$29,8) -> 11 | J6: =H6-I6 -> 33 | K6: =E6*3+F6 -> 40 | P6: =Classificação!Y10 -> 1 | Q6: =Classificação!P10 -> Islândia | R6: =Classificação!Q10 -> 12 | S6: =Classificação!R10 -> 2 | T6: =Classificação!S10 -> 4 | U6: =Classificação!T10 -> 6 | V6: =Classificação!U10 -> 10 | W6: =Classificação!V10 -> 21 | X6: =Classificação!W10 -> -11 | Y6: =Classificação!X10 -> 10 | Z6: 321060261712 | AB6: 1 | AC6: =IF(ISERROR(VLOOKUP(AB6,$AB$34:$AD$49,2,FALSE)),0,(VLOOKUP(AB6,$AB$34:$AD$49,2,FALSE))) -> 0 | AD6: =IF(ISERROR(VLOOKUP(AB6,$AB$34:$AD$49,3,FALSE)),0,(VLOOKUP(AB6,$AB$34:$AD$49,3,FALSE))) -> 0 | AE6: =IF(ISERROR(VLOOKUP(AB6,$AB$34:$AE$49,4,FALSE)),0,(VLOOKUP(AB6,$AB$34:$AE$49,4,FALSE))) -> 0 | AF6: =AD6-AE6-AG6 -> 0 | AG6: =IF(ISERROR(VLOOKUP(AB6,$AB$34:$AG$49,6,FALSE)),0,(VLOOKUP(AB6,$AB$34:$AG$49,6,FALSE))) -> 0 | AH6: =IF(ISERROR(VLOOKUP(AB6,$AB$34:$AH$49,7,FALSE)),0,(VLOOKUP(AB6,$AB$34:$AH$49,7,FALSE))) -> 0 | AI6: =IF(ISERROR(VLOOKUP(AB6,$AB$34:$AI$49,8,FALSE)),0,(VLOOKUP(AB6,$AB$34:$AI$49,8,FALSE))) -> 0 | AJ6: =AH6-AI6 -> 0 | AK6: =AE6*3+AF6 -> 0 | AM6: 1 | AN6: =IF(ISERROR(VLOOKUP(AM6,$AM$34:$AO$41,2,FALSE)),0,(VLOOKUP(AM6,$AM$34:$AO$41,2,FALSE))) -> 0 | AO6: =IF(ISERROR(VLOOKUP(AM6,$AM$34:$AO$41,3,FALSE)),0,(VLOOKUP(AM6,$AM$34:$AO$41,3,FALSE))) -> 0 | AP6: =IF(ISERROR(VLOOKUP(AM6,$AM$34:$AP$41,4,FALSE)),0,(VLOOKUP(AM6,$AM$34:$AP$41,4,FALSE))) -> 0 | AQ6: =AO6-AP6-AR6 -> 0 | AR6: =IF(ISERROR(VLOOKUP(AM6,$AM$34:$AR$41,6,FALSE)),0,(VLOOKUP(AM6,$AM$34:$AR$41,6,FALSE))) -> 0 | AS6: =IF(ISERROR(VLOOKUP(AM6,$AM$34:$AS$41,7,FALSE)),0,(VLOOKUP(AM6,$AM$34:$AS$41,7,FALSE))) -> 0 | AT6: =IF(ISERROR(VLOOKUP(AM6,$AM$34:$AT$41,8,FALSE)),0,(VLOOKUP(AM6,$AM$34:$AT$41,8,FALSE))) -> 0 | AU6: =AS6-AT6 -> 0 | AV6: =AP6*3+AQ6 -> 0 | AX6: 1 | AY6: =IF(ISERROR(VLOOKUP(AX6,$AX$33:$AZ$36,2,FALSE)),0,(VLOOKUP(AX6,$AX$33:$AZ$36,2,FALSE))) -> 0 | AZ6: =IF(ISERROR(VLOOKUP(AX6,$AX$33:$BA$36,3,FALSE)),0,(VLOOKUP(AX6,$AX$33:$BA$36,3,FALSE))) -> 0 | BA6: =IF(ISERROR(VLOOKUP(AX6,$AX$33:$BA$36,4,FALSE)),0,(VLOOKUP(AX6,$AX$33:$BA$36,4,FALSE))) -> 0 | BB6: =AZ6-BA6-BC6 -> 0 | BC6: =IF(ISERROR(VLOOKUP(AX6,$AX$33:$BC$36,6,FALSE)),0,(VLOOKUP(AX6,$AX$33:$BC$36,6,FALSE))) -> 0 | BD6: =IF(ISERROR(VLOOKUP(AX6,$AX$33:$BD$36,7,FALSE)),0,(VLOOKUP(AX6,$AX$33:$BD$36,7,FALSE))) -> 0 | BE6: =IF(ISERROR(VLOOKUP(AX6,$AX$33:$BE$36,8,FALSE)),0,(VLOOKUP(AX6,$AX$33:$BE$36,8,FALSE))) -> 0 | BF6: =BD6-BE6 -> 0 | BG6: =BA6*3+BB6 -> 0 | BJ6: 1 | BK6: =IF(ISERROR(VLOOKUP(BJ6,$BJ$33:$BL$36,2,FALSE)),0,(VLOOKUP(BJ6,$BJ$33:$BL$36,2,FALSE))) -> 0 | BL6: =IF(ISERROR(VLOOKUP(BJ6,$BJ$33:$BM$36,3,FALSE)),0,(VLOOKUP(BJ6,$BJ$33:$BM$36,3,FALSE))) -> 0 | BM6: =IF(ISERROR(VLOOKUP(BJ6,$BJ$33:$BM$36,4,FALSE)),0,(VLOOKUP(BJ6,$BJ$33:$BM$36,4,FALSE))) -> 0 | BN6: =BL6-BM6-BO6 -> 0 | BO6: =IF(ISERROR(VLOOKUP(BJ6,$BJ$33:$BO$36,6,FALSE)),0,(VLOOKUP(BJ6,$BJ$33:$BO$36,6,FALSE))) -> 0 | BP6: =IF(ISERROR(VLOOKUP(BJ6,$BJ$33:$BP$36,7,FALSE)),0,(VLOOKUP(BJ6,$BJ$33:$BP$36,7,FALSE))) -> 0 | BQ6: =IF(ISERROR(VLOOKUP(BJ6,$BJ$33:$BQ$36,8,FALSE)),0,(VLOOKUP(BJ6,$BJ$33:$BQ$36,8,FALSE))) -> 0 | BR6: =BP6-BQ6 -> 0 | BS6: =BM6*3+BN6 -> 0 | BZ6: 1 | CA6: =Q6 -> Islândia | CB6: =R6+AO6+AZ6+BL6+AD6 -> 12 | CC6: =S6+AP6+BA6+BM6+AE6 -> 2 | CD6: =T6+AQ6+BB6+BN6+AF6 -> 4 | CE6: =U6+AR6+BC6+BO6+AG6 -> 6 | CF6: =V6+AS6+BD6+BP6+AH6 -> 10 | CG6: =W6+AT6+BE6+BQ6+AI6 -> 21 | CH6: =X6+AU6+BF6+BR6+AJ6 -> -11 | CI6: =Y6+AV6+BG6+BS6+AK6 -> 10 | CL6: =(10^10)*CI6+(10^8)*CC6+(10^6)*(50+CH6)+(10^4)*CF6+(10^2)*CB6+(13-BZ6) -> 100239101212 | CN6: 1 | CO6: =LARGE($CL$6:$CL$29,CN6) -> 401383441600 | CQ6: 1 | CR6: =MATCH(CO6,CL$6:CL$29,0) -> 13
B7: 2º | C7: =VLOOKUP(CR7,$BZ$6:$CI$29,2) -> Escócia | D7: =VLOOKUP(CR7,$BZ$6:$CI$29,3) -> 16 | E7: =VLOOKUP(CR7,$BZ$6:$CI$29,4) -> 12 | F7: =D7-E7-G7 -> 2 | G7: =VLOOKUP(CR7,$BZ$6:$CI$29,6) -> 2 | H7: =VLOOKUP(CR7,$BZ$6:$CI$29,7) -> 19 | I7: =VLOOKUP(CR7,$BZ$6:$CI$29,8) -> 6 | J7: =H7-I7 -> 13 | K7: =E7*3+F7 -> 38 | P7: =Classificação!Y11 -> 2 | Q7: =Classificação!P11 -> Itália | R7: =Classificação!Q11 -> 12 | S7: =Classificação!R11 -> 0 | T7: =Classificação!S11 -> 1 | U7: =Classificação!T11 -> 11 | V7: =Classificação!U11 -> 7 | W7: =Classificação!V11 -> 31 | X7: =Classificação!W11 -> -24 | Y7: =Classificação!X11 -> 1 | Z7: 220548161711 | AB7: 2 | AC7: =IF(ISERROR(VLOOKUP(AB7,$AB$34:$AD$49,2,FALSE)),0,(VLOOKUP(AB7,$AB$34:$AD$49,2,FALSE))) -> 0 | AD7: =IF(ISERROR(VLOOKUP(AB7,$AB$34:$AD$49,3,FALSE)),0,(VLOOKUP(AB7,$AB$34:$AD$49,3,FALSE))) -> 0 | AE7: =IF(ISERROR(VLOOKUP(AB7,$AB$34:$AE$49,4,FALSE)),0,(VLOOKUP(AB7,$AB$34:$AE$49,4,FALSE))) -> 0 | AF7: =AD7-AE7-AG7 -> 0 | AG7: =IF(ISERROR(VLOOKUP(AB7,$AB$34:$AG$49,6,FALSE)),0,(VLOOKUP(AB7,$AB$34:$AG$49,6,FALSE))) -> 0 | AH7: =IF(ISERROR(VLOOKUP(AB7,$AB$34:$AH$49,7,FALSE)),0,(VLOOKUP(AB7,$AB$34:$AH$49,7,FALSE))) -> 0 | AI7: =IF(ISERROR(VLOOKUP(AB7,$AB$34:$AI$49,8,FALSE)),0,(VLOOKUP(AB7,$AB$34:$AI$49,8,FALSE))) -> 0 | AJ7: =AH7-AI7 -> 0 | AK7: =AE7*3+AF7 -> 0 | AM7: 2 | AN7: =IF(ISERROR(VLOOKUP(AM7,$AM$34:$AO$41,2,FALSE)),0,(VLOOKUP(AM7,$AM$34:$AO$41,2,FALSE))) -> 0 | AO7: =IF(ISERROR(VLOOKUP(AM7,$AM$34:$AO$41,3,FALSE)),0,(VLOOKUP(AM7,$AM$34:$AO$41,3,FALSE))) -> 0 | AP7: =IF(ISERROR(VLOOKUP(AM7,$AM$34:$AP$41,4,FALSE)),0,(VLOOKUP(AM7,$AM$34:$AP$41,4,FALSE))) -> 0 | AQ7: =AO7-AP7-AR7 -> 0 | AR7: =IF(ISERROR(VLOOKUP(AM7,$AM$34:$AR$41,6,FALSE)),0,(VLOOKUP(AM7,$AM$34:$AR$41,6,FALSE))) -> 0 | AS7: =IF(ISERROR(VLOOKUP(AM7,$AM$34:$AS$41,7,FALSE)),0,(VLOOKUP(AM7,$AM$34:$AS$41,7,FALSE))) -> 0 | AT7: =IF(ISERROR(VLOOKUP(AM7,$AM$34:$AT$41,8,FALSE)),0,(VLOOKUP(AM7,$AM$34:$AT$41,8,FALSE))) -> 0 | AU7: =AS7-AT7 -> 0 | AV7: =AP7*3+AQ7 -> 0 | AX7: 2 | AY7: =IF(ISERROR(VLOOKUP(AX7,$AX$33:$AZ$36,2,FALSE)),0,(VLOOKUP(AX7,$AX$33:$AZ$36,2,FALSE))) -> 0 | AZ7: =IF(ISERROR(VLOOKUP(AX7,$AX$33:$BA$36,3,FALSE)),0,(VLOOKUP(AX7,$AX$33:$BA$36,3,FALSE))) -> 0 | BA7: =IF(ISERROR(VLOOKUP(AX7,$AX$33:$BA$36,4,FALSE)),0,(VLOOKUP(AX7,$AX$33:$BA$36,4,FALSE))) -> 0 | BB7: =AZ7-BA7-BC7 -> 0 | BC7: =IF(ISERROR(VLOOKUP(AX7,$AX$33:$BC$36,6,FALSE)),0,(VLOOKUP(AX7,$AX$33:$BC$36,6,FALSE))) -> 0 | BD7: =IF(ISERROR(VLOOKUP(AX7,$AX$33:$BD$36,7,FALSE)),0,(VLOOKUP(AX7,$AX$33:$BD$36,7,FALSE))) -> 0 | BE7: =IF(ISERROR(VLOOKUP(AX7,$AX$33:$BE$36,8,FALSE)),0,(VLOOKUP(AX7,$AX$33:$BE$36,8,FALSE))) -> 0 | BF7: =BD7-BE7 -> 0 | BG7: =BA7*3+BB7 -> 0 | BJ7: 2 | BK7: =IF(ISERROR(VLOOKUP(BJ7,$BJ$33:$BL$36,2,FALSE)),0,(VLOOKUP(BJ7,$BJ$33:$BL$36,2,FALSE))) -> 0 | BL7: =IF(ISERROR(VLOOKUP(BJ7,$BJ$33:$BM$36,3,FALSE)),0,(VLOOKUP(BJ7,$BJ$33:$BM$36,3,FALSE))) -> 0 | BM7: =IF(ISERROR(VLOOKUP(BJ7,$BJ$33:$BM$36,4,FALSE)),0,(VLOOKUP(BJ7,$BJ$33:$BM$36,4,FALSE))) -> 0 | BN7: =BL7-BM7-BO7 -> 0 | BO7: =IF(ISERROR(VLOOKUP(BJ7,$BJ$33:$BO$36,6,FALSE)),0,(VLOOKUP(BJ7,$BJ$33:$BO$36,6,FALSE))) -> 0 | BP7: =IF(ISERROR(VLOOKUP(BJ7,$BJ$33:$BP$36,7,FALSE)),0,(VLOOKUP(BJ7,$BJ$33:$BP$36,7,FALSE))) -> 0 | BQ7: =IF(ISERROR(VLOOKUP(BJ7,$BJ$33:$BQ$36,8,FALSE)),0,(VLOOKUP(BJ7,$BJ$33:$BQ$36,8,FALSE))) -> 0 | BR7: =BP7-BQ7 -> 0 | BS7: =BM7*3+BN7 -> 0 | BZ7: 2 | CA7: =Q7 -> Itália | CB7: =R7+AO7+AZ7+BL7+AD7 -> 12 | CC7: =S7+AP7+BA7+BM7+AE7 -> 0 | CD7: =T7+AQ7+BB7+BN7+AF7 -> 1 | CE7: =U7+AR7+BC7+BO7+AG7 -> 11 | CF7: =V7+AS7+BD7+BP7+AH7 -> 7 | CG7: =W7+AT7+BE7+BQ7+AI7 -> 31 | CH7: =X7+AU7+BF7+BR7+AJ7 -> -24 | CI7: =Y7+AV7+BG7+BS7+AK7 -> 1 | CL7: =(10^10)*CI7+(10^8)*CC7+(10^6)*(50+CH7)+(10^4)*CF7+(10^2)*CB7+(13-BZ7) -> 10026071211 | CN7: 2 | CO7: =LARGE($CL$6:$CL$29,CN7) -> 381263191599 | CQ7: 2 | CR7: =MATCH(CO7,CL$6:CL$29,0) -> 14
