Workbook

Sheet Geral 1º Turno
B2: CLASSIFICAÇÃO GERAL - 1º Turno | P2: 1º FASE | AA2: OITAVAS DE FINAL | AL2: QUARTAS DE FINAL | AW2: SEMI FINAL | BI2: FINAL
B4: Posição | C4: Times | D4: Jogos | E4: Vitorias | F4: Empates | G4: Derrotas | H4: Gols Pró | I4: Gols Cont. | J4: Saldo | K4: Pontos | P4: ID_TIME | Q4: Times | R4: Jogos | S4: Vitorias | T4: Empates | U4: Derrotas | V4: Gols Pró | W4: Gols Cont. | X4: Saldo | Y4: Pontos | AA4: ID_TIME | AB4: Times | AC4: Jogos | AD4: Vitorias | AE4: Empates | AF4: Derrotas | AG4: Gols Pró | AH4: Gols Cont. | AI4: Saldo | AJ4: Pontos | AL4: ID_TIME | AM4: Times | AN4: Jogos | AO4: Vitorias | AP4: Empates | AQ4: Derrotas | AR4: Gols Pró | AS4: Gols Cont. | AT4: Saldo | AU4: Pontos | AW4: ID_TIME | AX4: Times | AY4: Jogos | AZ4: Vitorias | BA4: Empates | BB4: Derrotas | BC4: Gols Pró | BD4: Gols Cont. | BE4: Saldo | BF4: Pontos | BI4: ID_TIME | BJ4: Times | BK4: Jogos | BL4: Vitorias | BM4: Empates | BN4: Derrotas | BO4: Gols Pró | BP4: Gols Cont. | BQ4: Saldo | BR4: Pontos | BY4: ID_TIME | BZ4: Times | CA4: Jogos | CB4: Vitorias | CC4: Empates | CD4: Derrotas | CE4: Gols Pró | CF4: Gols Cont. | CG4: Saldo | CH4: Pontos
B6: 1º | C6: =VLOOKUP(CO6,$BY$6:$CH$23,2) -> #REF! | D6: =VLOOKUP(CO6,$BY$6:$CH$23,3) -> #REF! | E6: =VLOOKUP(CO6,$BY$6:$CH$23,4) -> #REF! | F6: =D6-E6-G6 -> #REF! | G6: =VLOOKUP(CO6,$BY$6:$CH$23,6) -> #REF! | H6: =VLOOKUP(CO6,$BY$6:$CH$23,7) -> #REF! | I6: =VLOOKUP(CO6,$BY$6:$CH$23,8) -> #REF! | J6: =H6-I6 -> #REF! | K6: =E6*3+F6 -> #REF! | P6: =#REF! -> #REF! | Q6: =#REF! -> #REF! | R6: =#REF! -> #REF! | S6: =#REF! -> #REF! | T6: =#REF! -> #REF! | U6: =#REF! -> #REF! | V6: =#REF! -> #REF! | W6: =#REF! -> #REF! | ... Y6: =#REF! -> #REF! | Z6: =(10^10)*Y6+(10^8)*S6+(10^6)*(50+X6)+(10^4)*V6+(10^2)*R6+(13-P6) -> #REF! | AK6: 0 | AL6: =#REF! -> #REF! | AM6: =IF(ISERROR(VLOOKUP(AL6,$AL$27:$AN$34,2,FALSE)),0,(VLOOKUP(AL6,$AL$27:$AN$34,2,FALSE))) -> 0 | AN6: =IF(ISERROR(VLOOKUP(AL6,$AL$27:$AN$34,3,FALSE)),0,(VLOOKUP(AL6,$AL$27:$AN$34,3,FALSE))) -> 0 | AO6: =IF(ISERROR(VLOOKUP(AL6,$AL$27:$AO$34,4,FALSE)),0,(VLOOKUP(AL6,$AL$27:$AO$34,4,FALSE))) -> 0 | AP6: =AN6-AO6-AQ6 -> 0 | AQ6: =IF(ISERROR(VLOOKUP(AL6,$AL$27:$AQ$34,6,FALSE)),0,(VLOOKUP(AL6,$AL$27:$AQ$34,6,FALSE))) -> 0 | AR6: =IF(ISERROR(VLOOKUP(AL6,$AL$27:$AR$34,7,FALSE)),0,(VLOOKUP(AL6,$AL$27:$AR$34,7,FALSE))) -> 0 | AS6: =IF(ISERROR(VLOOKUP(AL6,$AL$27:$AS$34,8,FALSE)),0,(VLOOKUP(AL6,$AL$27:$AS$34,8,FALSE))) -> 0 | AT6: =AR6-AS6 -> 0 | AU6: =AO6*3+AP6 -> 0 | AW6: 1 | AX6: =IF(ISERROR(VLOOKUP(AW6,$AW$26:$AY$29,2,FALSE)),0,(VLOOKUP(AW6,$AW$26:$AY$29,2,FALSE))) -> 0 | AY6: =IF(ISERROR(VLOOKUP(AW6,$AW$26:$BF$29,3,FALSE)),0,(VLOOKUP(AW6,$AW$26:$BF$29,3,FALSE))) -> 0 | AZ6: =IF(ISERROR(VLOOKUP(AW6,$AW$26:$BF$29,4,FALSE)),0,(VLOOKUP(AW6,$AW$26:$BF$29,4,FALSE))) -> 0 | BA6: =AY6-AZ6-BB6 -> 0 | BB6: =IF(ISERROR(VLOOKUP(AW6,$AW$26:$BF$29,6,FALSE)),0,(VLOOKUP(AW6,$AW$26:$BF$29,6,FALSE))) -> 0 | BC6: =IF(ISERROR(VLOOKUP(AW6,$AW$26:$BF$29,7,FALSE)),0,(VLOOKUP(AW6,$AW$26:$BF$29,7,FALSE))) -> 0 | BD6: =IF(ISERROR(VLOOKUP(AW6,$AW$26:$BF$29,8,FALSE)),0,(VLOOKUP(AW6,$AW$26:$BF$29,8,FALSE))) -> 0 | BE6: =BC6-BD6 -> 0 | BF6: =AZ6*3+BA6 -> 0 | BI6: 1 | BJ6: =IF(ISERROR(VLOOKUP(BI6,$BI$26:$BK$29,2,FALSE)),0,(VLOOKUP(BI6,$BI$26:$BK$29,2,FALSE))) -> 0 | BK6: =IF(ISERROR(VLOOKUP(BI6,$BI$26:$BR$27,3,FALSE)),0,(VLOOKUP(BI6,$BI$26:$BR$27,3,FALSE))) -> 0 | BL6: =IF(ISERROR(VLOOKUP(BI6,$BI$26:$BR$27,4,FALSE)),0,(VLOOKUP(BI6,$BI$26:$BR$27,4,FALSE))) -> 0 | BM6: =BK6-BL6-BN6 -> 0 | BN6: =IF(ISERROR(VLOOKUP(BI6,$BI$26:$BR$27,6,FALSE)),0,(VLOOKUP(BI6,$BI$26:$BR$27,6,FALSE))) -> 0 | BO6: =IF(ISERROR(VLOOKUP(BI6,$BI$26:$BR$27,7,FALSE)),0,(VLOOKUP(BI6,$BI$26:$BR$27,7,FALSE))) -> 0 | BP6: =IF(ISERROR(VLOOKUP(BI6,$BI$26:$BR$27,8,FALSE)),0,(VLOOKUP(BI6,$BI$26:$BR$27,8,FALSE))) -> 0 | BQ6: =BO6-BP6 -> 0 | BR6: =BL6*3+BM6 -> 0 | BY6: =P6 -> #REF! | BZ6: =Q6 -> #REF! | CA6: =R6+AN6+AY6+BK6 -> #REF! | CB6: =S6+AO6+AZ6+BL6 -> #REF! | CC6: =T6+AP6+BA6+BM6 -> #REF! | CD6: =U6+AQ6+BB6+BN6 -> #REF! | CE6: =V6+AR6+BC6+BO6 -> #REF! | CF6: =W6+AS6+BD6+BP6 -> #REF! | CG6: =X6+AT6+BE6+BQ6 -> #REF! | CH6: =Y6+AU6+BF6+BR6 -> #REF! | CJ6: =(10^10)*CH6+(10^8)*CB6+(10^6)*(50+CG6)+(10^4)*CE6+(10^2)*CA6+(13-BY6) -> #REF! | CK6: 1 | CL6: =LARGE($CJ$6:$CJ$23,CK6) -> #REF! | CN6: 1 | CO6: =MATCH(CL6,$CJ$6:$CJ$23,0) -> #REF!
B7: 2º | C7: =VLOOKUP(CO7,$BY$6:$CH$23,2) -> #REF! | D7: =VLOOKUP(CO7,$BY$6:$CH$23,3) -> #REF! | E7: =VLOOKUP(CO7,$BY$6:$CH$23,4) -> #REF! | F7: =D7-E7-G7 -> #REF! | G7: =VLOOKUP(CO7,$BY$6:$CH$23,6) -> #REF! | H7: =VLOOKUP(CO7,$BY$6:$CH$23,7) -> #REF! | I7: =VLOOKUP(CO7,$BY$6:$CH$23,8) -> #REF! | J7: =H7-I7 -> #REF! | K7: =E7*3+F7 -> #REF! | P7: =#REF! -> #REF! | Q7: =#REF! -> #REF! | R7: =#REF! -> #REF! | S7: =#REF! -> #REF! | T7: =#REF! -> #REF! | U7: =#REF! -> #REF! | V7: =#REF! -> #REF! | W7: =#REF! -> #REF! | ... Y7: =#REF! -> #REF! | Z7: =(10^10)*Y7+(10^8)*S7+(10^6)*(50+X7)+(10^4)*V7+(10^2)*R7+(13-P7) -> #REF! | AK7: 0 | AL7: =#REF! -> #REF! | AM7: =IF(ISERROR(VLOOKUP(AL7,$AL$27:$AN$34,2,FALSE)),0,(VLOOKUP(AL7,$AL$27:$AN$34,2,FALSE))) -> 0 | AN7: =IF(ISERROR(VLOOKUP(AL7,$AL$27:$AN$34,3,FALSE)),0,(VLOOKUP(AL7,$AL$27:$AN$34,3,FALSE))) -> 0 | AO7: =IF(ISERROR(VLOOKUP(AL7,$AL$27:$AO$34,4,FALSE)),0,(VLOOKUP(AL7,$AL$27:$AO$34,4,FALSE))) -> 0 | AP7: =AN7-AO7-AQ7 -> 0 | AQ7: =IF(ISERROR(VLOOKUP(AL7,$AL$27:$AQ$34,6,FALSE)),0,(VLOOKUP(AL7,$AL$27:$AQ$34,6,FALSE))) -> 0 | AR7: =IF(ISERROR(VLOOKUP(AL7,$AL$27:$AR$34,7,FALSE)),0,(VLOOKUP(AL7,$AL$27:$AR$34,7,FALSE))) -> 0 | AS7: =IF(ISERROR(VLOOKUP(AL7,$AL$27:$AS$34,8,FALSE)),0,(VLOOKUP(AL7,$AL$27:$AS$34,8,FALSE))) -> 0 | AT7: =AR7-AS7 -> 0 | AU7: =AO7*3+AP7 -> 0 | AW7: 2 | AX7: =IF(ISERROR(VLOOKUP(AW7,$AW$26:$AY$29,2,FALSE)),0,(VLOOKUP(AW7,$AW$26:$AY$29,2,FALSE))) -> 0 | AY7: =IF(ISERROR(VLOOKUP(AW7,$AW$26:$BF$29,3,FALSE)),0,(VLOOKUP(AW7,$AW$26:$BF$29,3,FALSE))) -> 0 | AZ7: =IF(ISERROR(VLOOKUP(AW7,$AW$26:$BF$29,4,FALSE)),0,(VLOOKUP(AW7,$AW$26:$BF$29,4,FALSE))) -> 0 | BA7: =AY7-AZ7-BB7 -> 0 | BB7: =IF(ISERROR(VLOOKUP(AW7,$AW$26:$BF$29,6,FALSE)),0,(VLOOKUP(AW7,$AW$26:$BF$29,6,FALSE))) -> 0 | BC7: =IF(ISERROR(VLOOKUP(AW7,$AW$26:$BF$29,7,FALSE)),0,(VLOOKUP(AW7,$AW$26:$BF$29,7,FALSE))) -> 0 | BD7: =IF(ISERROR(VLOOKUP(AW7,$AW$26:$BF$29,8,FALSE)),0,(VLOOKUP(AW7,$AW$26:$BF$29,8,FALSE))) -> 0 | BE7: =BC7-BD7 -> 0 | BF7: =AZ7*3+BA7 -> 0 | BI7: 2 | BJ7: =IF(ISERROR(VLOOKUP(BI7,$BI$26:$BK$29,2,FALSE)),0,(VLOOKUP(BI7,$BI$26:$BK$29,2,FALSE))) -> 0 | BK7: =IF(ISERROR(VLOOKUP(BI7,$BI$26:$BR$27,3,FALSE)),0,(VLOOKUP(BI7,$BI$26:$BR$27,3,FALSE))) -> 0 | BL7: =IF(ISERROR(VLOOKUP(BI7,$BI$26:$BR$27,4,FALSE)),0,(VLOOKUP(BI7,$BI$26:$BR$27,4,FALSE))) -> 0 | BM7: =BK7-BL7-BN7 -> 0 | BN7: =IF(ISERROR(VLOOKUP(BI7,$BI$26:$BR$27,6,FALSE)),0,(VLOOKUP(BI7,$BI$26:$BR$27,6,FALSE))) -> 0 | BO7: =IF(ISERROR(VLOOKUP(BI7,$BI$26:$BR$27,7,FALSE)),0,(VLOOKUP(BI7,$BI$26:$BR$27,7,FALSE))) -> 0 | BP7: =IF(ISERROR(VLOOKUP(BI7,$BI$26:$BR$27,8,FALSE)),0,(VLOOKUP(BI7,$BI$26:$BR$27,8,FALSE))) -> 0 | BQ7: =BO7-BP7 -> 0 | BR7: =BL7*3+BM7 -> 0 | BY7: =P7 -> #REF! | BZ7: =Q7 -> #REF! | CA7: =R7+AN7+AY7+BK7 -> #REF! | CB7: =S7+AO7+AZ7+BL7 -> #REF! | CC7: =T7+AP7+BA7+BM7 -> #REF! | CD7: =U7+AQ7+BB7+BN7 -> #REF! | CE7: =V7+AR7+BC7+BO7 -> #REF! | CF7: =W7+AS7+BD7+BP7 -> #REF! | CG7: =X7+AT7+BE7+BQ7 -> #REF! | CH7: =Y7+AU7+BF7+BR7 -> #REF! | CJ7: =(10^10)*CH7+(10^8)*CB7+(10^6)*(50+CG7)+(10^4)*CE7+(10^2)*CA7+(13-BY7) -> #REF! | CK7: 2 | CL7: =LARGE($CJ$6:$CJ$23,CK7) -> #REF! | CN7: 2 | CO7: =MATCH(CL7,$CJ$6:$CJ$23,0) -> #REF!
B8: 3º | C8: =VLOOKUP(CO8,$BY$6:$CH$23,2) -> #REF! | D8: =VLOOKUP(CO8,$BY$6:$CH$23,3) -> #REF! | E8: =VLOOKUP(CO8,$BY$6:$CH$23,4) -> #REF! | F8: =D8-E8-G8 -> #REF! | G8: =VLOOKUP(CO8,$BY$6:$CH$23,6) -> #REF! | H8: =VLOOKUP(CO8,$BY$6:$CH$23,7) -> #REF! | I8: =VLOOKUP(CO8,$BY$6:$CH$23,8) -> #REF! | J8: =H8-I8 -> #REF! | K8: =E8*3+F8 -> #REF! | P8: =#REF! -> #REF! | Q8: =#REF! -> #REF! | R8: =#REF! -> #REF! | S8: =#REF! -> #REF! | T8: =#REF! -> #REF! | U8: =#REF! -> #REF! | V8: =#REF! -> #REF! | W8: =#REF! -> #REF! | ... Y8: =#REF! -> #REF! | Z8: =(10^10)*Y8+(10^8)*S8+(10^6)*(50+X8)+(10^4)*V8+(10^2)*R8+(13-P8) -> #REF! | AK8: 0 | AL8: =#REF! -> #REF! | AM8: =IF(ISERROR(VLOOKUP(AL8,$AL$27:$AN$34,2,FALSE)),0,(VLOOKUP(AL8,$AL$27:$AN$34,2,FALSE))) -> 0 | AN8: =IF(ISERROR(VLOOKUP(AL8,$AL$27:$AN$34,3,FALSE)),0,(VLOOKUP(AL8,$AL$27:$AN$34,3,FALSE))) -> 0 | AO8: =IF(ISERROR(VLOOKUP(AL8,$AL$27:$AO$34,4,FALSE)),0,(VLOOKUP(AL8,$AL$27:$AO$34,4,FALSE))) -> 0 | AP8: =AN8-AO8-AQ8 -> 0 | AQ8: =IF(ISERROR(VLOOKUP(AL8,$AL$27:$AQ$34,6,FALSE)),0,(VLOOKUP(AL8,$AL$27:$AQ$34,6,FALSE))) -> 0 | AR8: =IF(ISERROR(VLOOKUP(AL8,$AL$27:$AR$34,7,FALSE)),0,(VLOOKUP(AL8,$AL$27:$AR$34,7,FALSE))) -> 0 | AS8: =IF(ISERROR(VLOOKUP(AL8,$AL$27:$AS$34,8,FALSE)),0,(VLOOKUP(AL8,$AL$27:$AS$34,8,FALSE))) -> 0 | AT8: =AR8-AS8 -> 0 | AU8: =AO8*3+AP8 -> 0 | AW8: 3 | AX8: =IF(ISERROR(VLOOKUP(AW8,$AW$26:$AY$29,2,FALSE)),0,(VLOOKUP(AW8,$AW$26:$AY$29,2,FALSE))) -> 0 | AY8: =IF(ISERROR(VLOOKUP(AW8,$AW$26:$BF$29,3,FALSE)),0,(VLOOKUP(AW8,$AW$26:$BF$29,3,FALSE))) -> 0 | AZ8: =IF(ISERROR(VLOOKUP(AW8,$AW$26:$BF$29,4,FALSE)),0,(VLOOKUP(AW8,$AW$26:$BF$29,4,FALSE))) -> 0 | BA8: =AY8-AZ8-BB8 -> 0 | BB8: =IF(ISERROR(VLOOKUP(AW8,$AW$26:$BF$29,6,FALSE)),0,(VLOOKUP(AW8,$AW$26:$BF$29,6,FALSE))) -> 0 | BC8: =IF(ISERROR(VLOOKUP(AW8,$AW$26:$BF$29,7,FALSE)),0,(VLOOKUP(AW8,$AW$26:$BF$29,7,FALSE))) -> 0 | BD8: =IF(ISERROR(VLOOKUP(AW8,$AW$26:$BF$29,8,FALSE)),0,(VLOOKUP(AW8,$AW$26:$BF$29,8,FALSE))) -> 0 | BE8: =BC8-BD8 -> 0 | BF8: =AZ8*3+BA8 -> 0 | BI8: 3 | BJ8: =IF(ISERROR(VLOOKUP(BI8,$BI$26:$BK$29,2,FALSE)),0,(VLOOKUP(BI8,$BI$26:$BK$29,2,FALSE))) -> 0 | BK8: =IF(ISERROR(VLOOKUP(BI8,$BI$26:$BR$27,3,FALSE)),0,(VLOOKUP(BI8,$BI$26:$BR$27,3,FALSE))) -> 0 | BL8: =IF(ISERROR(VLOOKUP(BI8,$BI$26:$BR$27,4,FALSE)),0,(VLOOKUP(BI8,$BI$26:$BR$27,4,FALSE))) -> 0 | BM8: =BK8-BL8-BN8 -> 0 | BN8: =IF(ISERROR(VLOOKUP(BI8,$BI$26:$BR$27,6,FALSE)),0,(VLOOKUP(BI8,$BI$26:$BR$27,6,FALSE))) -> 0 | BO8: =IF(ISERROR(VLOOKUP(BI8,$BI$26:$BR$27,7,FALSE)),0,(VLOOKUP(BI8,$BI$26:$BR$27,7,FALSE))) -> 0 | BP8: =IF(ISERROR(VLOOKUP(BI8,$BI$26:$BR$27,8,FALSE)),0,(VLOOKUP(BI8,$BI$26:$BR$27,8,FALSE))) -> 0 | BQ8: =BO8-BP8 -> 0 | BR8: =BL8*3+BM8 -> 0 | BY8: =P8 -> #REF! | BZ8: =Q8 -> #REF! | CA8: =R8+AN8+AY8+BK8 -> #REF! | CB8: =S8+AO8+AZ8+BL8 -> #REF! | CC8: =T8+AP8+BA8+BM8 -> #REF! | CD8: =U8+AQ8+BB8+BN8 -> #REF! | CE8: =V8+AR8+BC8+BO8 -> #REF! | CF8: =W8+AS8+BD8+BP8 -> #REF! | CG8: =X8+AT8+BE8+BQ8 -> #REF! | CH8: =Y8+AU8+BF8+BR8 -> #REF! | CJ8: =(10^10)*CH8+(10^8)*CB8+(10^6)*(50+CG8)+(10^4)*CE8+(10^2)*CA8+(13-BY8) -> #REF! | CK8: 3 | CL8: =LARGE($CJ$6:$CJ$23,CK8) -> #REF! | CN8: 3 | CO8: =MATCH(CL8,$CJ$6:$CJ$23,0) -> #REF!
B9: 4º | C9: =VLOOKUP(CO9,$BY$6:$CH$23,2) -> #REF! | D9: =VLOOKUP(CO9,$BY$6:$CH$23,3) -> #REF! | E9: =VLOOKUP(CO9,$BY$6:$CH$23,4) -> #REF! | F9: =D9-E9-G9 -> #REF! | G9: =VLOOKUP(CO9,$BY$6:$CH$23,6) -> #REF! | H9: =VLOOKUP(CO9,$BY$6:$CH$23,7) -> #REF! | I9: =VLOOKUP(CO9,$BY$6:$CH$23,8) -> #REF! | J9: =H9-I9 -> #REF! | K9: =E9*3+F9 -> #REF! | P9: =#REF! -> #REF! | Q9: =#REF! -> #REF! | R9: =#REF! -> #REF! | S9: =#REF! -> #REF! | T9: =#REF! -> #REF! | U9: =#REF! -> #REF! | V9: =#REF! -> #REF! | W9: =#REF! -> #REF! | ... Y9: =#REF! -> #REF! | Z9: =(10^10)*Y9+(10^8)*S9+(10^6)*(50+X9)+(10^4)*V9+(10^2)*R9+(13-P9) -> #REF! | AK9: 0 | AL9: =#REF! -> #REF! | AM9: =IF(ISERROR(VLOOKUP(AL9,$AL$27:$AN$34,2,FALSE)),0,(VLOOKUP(AL9,$AL$27:$AN$34,2,FALSE))) -> 0 | AN9: =IF(ISERROR(VLOOKUP(AL9,$AL$27:$AN$34,3,FALSE)),0,(VLOOKUP(AL9,$AL$27:$AN$34,3,FALSE))) -> 0 | AO9: =IF(ISERROR(VLOOKUP(AL9,$AL$27:$AO$34,4,FALSE)),0,(VLOOKUP(AL9,$AL$27:$AO$34,4,FALSE))) -> 0 | AP9: =AN9-AO9-AQ9 -> 0 | AQ9: =IF(ISERROR(VLOOKUP(AL9,$AL$27:$AQ$34,6,FALSE)),0,(VLOOKUP(AL9,$AL$27:$AQ$34,6,FALSE))) -> 0 | AR9: =IF(ISERROR(VLOOKUP(AL9,$AL$27:$AR$34,7,FALSE)),0,(VLOOKUP(AL9,$AL$27:$AR$34,7,FALSE))) -> 0 | AS9: =IF(ISERROR(VLOOKUP(AL9,$AL$27:$AS$34,8,FALSE)),0,(VLOOKUP(AL9,$AL$27:$AS$34,8,FALSE))) -> 0 | AT9: =AR9-AS9 -> 0 | AU9: =AO9*3+AP9 -> 0 | AW9: 4 | AX9: =IF(ISERROR(VLOOKUP(AW9,$AW$26:$AY$29,2,FALSE)),0,(VLOOKUP(AW9,$AW$26:$AY$29,2,FALSE))) -> 0 | AY9: =IF(ISERROR(VLOOKUP(AW9,$AW$26:$BF$29,3,FALSE)),0,(VLOOKUP(AW9,$AW$26:$BF$29,3,FALSE))) -> 0 | AZ9: =IF(ISERROR(VLOOKUP(AW9,$AW$26:$BF$29,4,FALSE)),0,(VLOOKUP(AW9,$AW$26:$BF$29,4,FALSE))) -> 0 | BA9: =AY9-AZ9-BB9 -> 0 | BB9: =IF(ISERROR(VLOOKUP(AW9,$AW$26:$BF$29,6,FALSE)),0,(VLOOKUP(AW9,$AW$26:$BF$29,6,FALSE))) -> 0 | BC9: =IF(ISERROR(VLOOKUP(AW9,$AW$26:$BF$29,7,FALSE)),0,(VLOOKUP(AW9,$AW$26:$BF$29,7,FALSE))) -> 0 | BD9: =IF(ISERROR(VLOOKUP(AW9,$AW$26:$BF$29,8,FALSE)),0,(VLOOKUP(AW9,$AW$26:$BF$29,8,FALSE))) -> 0 | BE9: =BC9-BD9 -> 0 | BF9: =AZ9*3+BA9 -> 0 | BI9: 4 | BJ9: =IF(ISERROR(VLOOKUP(BI9,$BI$26:$BK$29,2,FALSE)),0,(VLOOKUP(BI9,$BI$26:$BK$29,2,FALSE))) -> 0 | BK9: =IF(ISERROR(VLOOKUP(BI9,$BI$26:$BR$27,3,FALSE)),0,(VLOOKUP(BI9,$BI$26:$BR$27,3,FALSE))) -> 0 | BL9: =IF(ISERROR(VLOOKUP(BI9,$BI$26:$BR$27,4,FALSE)),0,(VLOOKUP(BI9,$BI$26:$BR$27,4,FALSE))) -> 0 | BM9: =BK9-BL9-BN9 -> 0 | BN9: =IF(ISERROR(VLOOKUP(BI9,$BI$26:$BR$27,6,FALSE)),0,(VLOOKUP(BI9,$BI$26:$BR$27,6,FALSE))) -> 0 | BO9: =IF(ISERROR(VLOOKUP(BI9,$BI$26:$BR$27,7,FALSE)),0,(VLOOKUP(BI9,$BI$26:$BR$27,7,FALSE))) -> 0 | BP9: =IF(ISERROR(VLOOKUP(BI9,$BI$26:$BR$27,8,FALSE)),0,(VLOOKUP(BI9,$BI$26:$BR$27,8,FALSE))) -> 0 | BQ9: =BO9-BP9 -> 0 | BR9: =BL9*3+BM9 -> 0 | BY9: =P9 -> #REF! | BZ9: =Q9 -> #REF! | CA9: =R9+AN9+AY9+BK9 -> #REF! | CB9: =S9+AO9+AZ9+BL9 -> #REF! | CC9: =T9+AP9+BA9+BM9 -> #REF! | CD9: =U9+AQ9+BB9+BN9 -> #REF! | CE9: =V9+AR9+BC9+BO9 -> #REF! | CF9: =W9+AS9+BD9+BP9 -> #REF! | CG9: =X9+AT9+BE9+BQ9 -> #REF! | CH9: =Y9+AU9+BF9+BR9 -> #REF! | CJ9: =(10^10)*CH9+(10^8)*CB9+(10^6)*(50+CG9)+(10^4)*CE9+(10^2)*CA9+(13-BY9) -> #REF! | CK9: 4 | CL9: =LARGE($CJ$6:$CJ$23,CK9) -> #REF! | CN9: 4 | CO9: =MATCH(CL9,$CJ$6:$CJ$23,0) -> #REF!
B10: 5º | C10: =VLOOKUP(CO10,$BY$6:$CH$23,2) -> #REF! | D10: =VLOOKUP(CO10,$BY$6:$CH$23,3) -> #REF! | E10: =VLOOKUP(CO10,$BY$6:$CH$23,4) -> #REF! | F10: =D10-E10-G10 -> #REF! | G10: =VLOOKUP(CO10,$BY$6:$CH$23,6) -> #REF! | H10: =VLOOKUP(CO10,$BY$6:$CH$23,7) -> #REF! | I10: =VLOOKUP(CO10,$BY$6:$CH$23,8) -> #REF! | J10: =H10-I10 -> #REF! | K10: =E10*3+F10 -> #REF! | P10: =#REF! -> #REF! | Q10: =#REF! -> #REF! | R10: =#REF! -> #REF! | S10: =#REF! -> #REF! | T10: =#REF! -> #REF! | U10: =#REF! -> #REF! | V10: =#REF! -> #REF! | W10: =#REF! -> #REF! | ... Y10: =#REF! -> #REF! | Z10: =(10^10)*Y10+(10^8)*S10+(10^6)*(50+X10)+(10^4)*V10+(10^2)*R10+(13-P10) -> #REF! | AK10: 0 | AL10: =#REF! -> #REF! | AM10: =IF(ISERROR(VLOOKUP(AL10,$AL$27:$AN$34,2,FALSE)),0,(VLOOKUP(AL10,$AL$27:$AN$34,2,FALSE))) -> 0 | AN10: =IF(ISERROR(VLOOKUP(AL10,$AL$27:$AN$34,3,FALSE)),0,(VLOOKUP(AL10,$AL$27:$AN$34,3,FALSE))) -> 0 | AO10: =IF(ISERROR(VLOOKUP(AL10,$AL$27:$AO$34,4,FALSE)),0,(VLOOKUP(AL10,$AL$27:$AO$34,4,FALSE))) -> 0 | AP10: =AN10-AO10-AQ10 -> 0 | AQ10: =IF(ISERROR(VLOOKUP(AL10,$AL$27:$AQ$34,6,FALSE)),0,(VLOOKUP(AL10,$AL$27:$AQ$34,6,FALSE))) -> 0 | AR10: =IF(ISERROR(VLOOKUP(AL10,$AL$27:$AR$34,7,FALSE)),0,(VLOOKUP(AL10,$AL$27:$AR$34,7,FALSE))) -> 0 | AS10: =IF(ISERROR(VLOOKUP(AL10,$AL$27:$AS$34,8,FALSE)),0,(VLOOKUP(AL10,$AL$27:$AS$34,8,FALSE))) -> 0 | AT10: =AR10-AS10 -> 0 | AU10: =AO10*3+AP10 -> 0 | AW10: 5 | AX10: =IF(ISERROR(VLOOKUP(AW10,$AW$26:$AY$29,2,FALSE)),0,(VLOOKUP(AW10,$AW$26:$AY$29,2,FALSE))) -> 0 | AY10: =IF(ISERROR(VLOOKUP(AW10,$AW$26:$BF$29,3,FALSE)),0,(VLOOKUP(AW10,$AW$26:$BF$29,3,FALSE))) -> 0 | AZ10: =IF(ISERROR(VLOOKUP(AW10,$AW$26:$BF$29,4,FALSE)),0,(VLOOKUP(AW10,$AW$26:$BF$29,4,FALSE))) -> 0 | BA10: =AY10-AZ10-BB10 -> 0 | BB10: =IF(ISERROR(VLOOKUP(AW10,$AW$26:$BF$29,6,FALSE)),0,(VLOOKUP(AW10,$AW$26:$BF$29,6,FALSE))) -> 0 | BC10: =IF(ISERROR(VLOOKUP(AW10,$AW$26:$BF$29,7,FALSE)),0,(VLOOKUP(AW10,$AW$26:$BF$29,7,FALSE))) -> 0 | BD10: =IF(ISERROR(VLOOKUP(AW10,$AW$26:$BF$29,8,FALSE)),0,(VLOOKUP(AW10,$AW$26:$BF$29,8,FALSE))) -> 0 | BE10: =BC10-BD10 -> 0 | BF10: =AZ10*3+BA10 -> 0 | BI10: 5 | BJ10: =IF(ISERROR(VLOOKUP(BI10,$BI$26:$BK$29,2,FALSE)),0,(VLOOKUP(BI10,$BI$26:$BK$29,2,FALSE))) -> 0 | BK10: =IF(ISERROR(VLOOKUP(BI10,$BI$26:$BR$27,3,FALSE)),0,(VLOOKUP(BI10,$BI$26:$BR$27,3,FALSE))) -> 0 | BL10: =IF(ISERROR(VLOOKUP(BI10,$BI$26:$BR$27,4,FALSE)),0,(VLOOKUP(BI10,$BI$26:$BR$27,4,FALSE))) -> 0 | BM10: =BK10-BL10-BN10 -> 0 | BN10: =IF(ISERROR(VLOOKUP(BI10,$BI$26:$BR$27,6,FALSE)),0,(VLOOKUP(BI10,$BI$26:$BR$27,6,FALSE))) -> 0 | BO10: =IF(ISERROR(VLOOKUP(BI10,$BI$26:$BR$27,7,FALSE)),0,(VLOOKUP(BI10,$BI$26:$BR$27,7,FALSE))) -> 0 | BP10: =IF(ISERROR(VLOOKUP(BI10,$BI$26:$BR$27,8,FALSE)),0,(VLOOKUP(BI10,$BI$26:$BR$27,8,FALSE))) -> 0 | BQ10: =BO10-BP10 -> 0 | BR10: =BL10*3+BM10 -> 0 | BY10: =P10 -> #REF! | BZ10: =Q10 -> #REF! | CA10: =R10+AN10+AY10+BK10 -> #REF! | CB10: =S10+AO10+AZ10+BL10 -> #REF! | CC10: =T10+AP10+BA10+BM10 -> #REF! | CD10: =U10+AQ10+BB10+BN10 -> #REF! | CE10: =V10+AR10+BC10+BO10 -> #REF! | CF10: =W10+AS10+BD10+BP10 -> #REF! | CG10: =X10+AT10+BE10+BQ10 -> #REF! | CH10: =Y10+AU10+BF10+BR10 -> #REF! | CJ10: =(10^10)*CH10+(10^8)*CB10+(10^6)*(50+CG10)+(10^4)*CE10+(10^2)*CA10+(13-BY10) -> #REF! | CK10: 5 | CL10: =LARGE($CJ$6:$CJ$23,CK10) -> #REF! | CN10: 5 | CO10: =MATCH(CL10,$CJ$6:$CJ$23,0) -> #REF!
B11: 6º | C11: =VLOOKUP(CO11,$BY$6:$CH$23,2) -> #REF! | D11: =VLOOKUP(CO11,$BY$6:$CH$23,3) -> #REF! | E11: =VLOOKUP(CO11,$BY$6:$CH$23,4) -> #REF! | F11: =D11-E11-G11 -> #REF! | G11: =VLOOKUP(CO11,$BY$6:$CH$23,6) -> #REF! | H11: =VLOOKUP(CO11,$BY$6:$CH$23,7) -> #REF! | I11: =VLOOKUP(CO11,$BY$6:$CH$23,8) -> #REF! | J11: =H11-I11 -> #REF! | K11: =E11*3+F11 -> #REF! | P11: =#REF! -> #REF! | Q11: =#REF! -> #REF! | R11: =#REF! -> #REF! | S11: =#REF! -> #REF! | T11: =#REF! -> #REF! | U11: =#REF! -> #REF! | V11: =#REF! -> #REF! | W11: =#REF! -> #REF! | ... Y11: =#REF! -> #REF! | Z11: =(10^10)*Y11+(10^8)*S11+(10^6)*(50+X11)+(10^4)*V11+(10^2)*R11+(13-P11) -> #REF! | AK11: 0 | AL11: =#REF! -> #REF! | AM11: =IF(ISERROR(VLOOKUP(AL11,$AL$27:$AN$34,2,FALSE)),0,(VLOOKUP(AL11,$AL$27:$AN$34,2,FALSE))) -> 0 | AN11: =IF(ISERROR(VLOOKUP(AL11,$AL$27:$AN$34,3,FALSE)),0,(VLOOKUP(AL11,$AL$27:$AN$34,3,FALSE))) -> 0 | AO11: =IF(ISERROR(VLOOKUP(AL11,$AL$27:$AO$34,4,FALSE)),0,(VLOOKUP(AL11,$AL$27:$AO$34,4,FALSE))) -> 0 | AP11: =AN11-AO11-AQ11 -> 0 | AQ11: =IF(ISERROR(VLOOKUP(AL11,$AL$27:$AQ$34,6,FALSE)),0,(VLOOKUP(AL11,$AL$27:$AQ$34,6,FALSE))) -> 0 | AR11: =IF(ISERROR(VLOOKUP(AL11,$AL$27:$AR$34,7,FALSE)),0,(VLOOKUP(AL11,$AL$27:$AR$34,7,FALSE))) -> 0 | AS11: =IF(ISERROR(VLOOKUP(AL11,$AL$27:$AS$34,8,FALSE)),0,(VLOOKUP(AL11,$AL$27:$AS$34,8,FALSE))) -> 0 | AT11: =AR11-AS11 -> 0 | AU11: =AO11*3+AP11 -> 0 | AW11: 6 | AX11: =IF(ISERROR(VLOOKUP(AW11,$AW$26:$AY$29,2,FALSE)),0,(VLOOKUP(AW11,$AW$26:$AY$29,2,FALSE))) -> 0 | AY11: =IF(ISERROR(VLOOKUP(AW11,$AW$26:$BF$29,3,FALSE)),0,(VLOOKUP(AW11,$AW$26:$BF$29,3,FALSE))) -> 0 | AZ11: =IF(ISERROR(VLOOKUP(AW11,$AW$26:$BF$29,4,FALSE)),0,(VLOOKUP(AW11,$AW$26:$BF$29,4,FALSE))) -> 0 | BA11: =AY11-AZ11-BB11 -> 0 | BB11: =IF(ISERROR(VLOOKUP(AW11,$AW$26:$BF$29,6,FALSE)),0,(VLOOKUP(AW11,$AW$26:$BF$29,6,FALSE))) -> 0 | BC11: =IF(ISERROR(VLOOKUP(AW11,$AW$26:$BF$29,7,FALSE)),0,(VLOOKUP(AW11,$AW$26:$BF$29,7,FALSE))) -> 0 | BD11: =IF(ISERROR(VLOOKUP(AW11,$AW$26:$BF$29,8,FALSE)),0,(VLOOKUP(AW11,$AW$26:$BF$29,8,FALSE))) -> 0 | BE11: =BC11-BD11 -> 0 | BF11: =AZ11*3+BA11 -> 0 | BI11: 6 | BJ11: =IF(ISERROR(VLOOKUP(BI11,$BI$26:$BK$29,2,FALSE)),0,(VLOOKUP(BI11,$BI$26:$BK$29,2,FALSE))) -> 0 | BK11: =IF(ISERROR(VLOOKUP(BI11,$BI$26:$BR$27,3,FALSE)),0,(VLOOKUP(BI11,$BI$26:$BR$27,3,FALSE))) -> 0 | BL11: =IF(ISERROR(VLOOKUP(BI11,$BI$26:$BR$27,4,FALSE)),0,(VLOOKUP(BI11,$BI$26:$BR$27,4,FALSE))) -> 0 | BM11: =BK11-BL11-BN11 -> 0 | BN11: =IF(ISERROR(VLOOKUP(BI11,$BI$26:$BR$27,6,FALSE)),0,(VLOOKUP(BI11,$BI$26:$BR$27,6,FALSE))) -> 0 | BO11: =IF(ISERROR(VLOOKUP(BI11,$BI$26:$BR$27,7,FALSE)),0,(VLOOKUP(BI11,$BI$26:$BR$27,7,FALSE))) -> 0 | BP11: =IF(ISERROR(VLOOKUP(BI11,$BI$26:$BR$27,8,FALSE)),0,(VLOOKUP(BI11,$BI$26:$BR$27,8,FALSE))) -> 0 | BQ11: =BO11-BP11 -> 0 | BR11: =BL11*3+BM11 -> 0 | BY11: =P11 -> #REF! | BZ11: =Q11 -> #REF! | CA11: =R11+AN11+AY11+BK11 -> #REF! | CB11: =S11+AO11+AZ11+BL11 -> #REF! | CC11: =T11+AP11+BA11+BM11 -> #REF! | CD11: =U11+AQ11+BB11+BN11 -> #REF! | CE11: =V11+AR11+BC11+BO11 -> #REF! | CF11: =W11+AS11+BD11+BP11 -> #REF! | CG11: =X11+AT11+BE11+BQ11 -> #REF! | CH11: =Y11+AU11+BF11+BR11 -> #REF! | CJ11: =(10^10)*CH11+(10^8)*CB11+(10^6)*(50+CG11)+(10^4)*CE11+(10^2)*CA11+(13-BY11) -> #REF! | CK11: 6 | CL11: =LARGE($CJ$6:$CJ$23,CK11) -> #REF! | CN11: 6 | CO11: =MATCH(CL11,$CJ$6:$CJ$23,0) -> #REF!
B12: 7º | C12: =VLOOKUP(CO12,$BY$6:$CH$23,2) -> #REF! | D12: =VLOOKUP(CO12,$BY$6:$CH$23,3) -> #REF! | E12: =VLOOKUP(CO12,$BY$6:$CH$23,4) -> #REF! | F12: =D12-E12-G12 -> #REF! | G12: =VLOOKUP(CO12,$BY$6:$CH$23,6) -> #REF! | H12: =VLOOKUP(CO12,$BY$6:$CH$23,7) -> #REF! | I12: =VLOOKUP(CO12,$BY$6:$CH$23,8) -> #REF! | J12: =H12-I12 -> #REF! | K12: =E12*3+F12 -> #REF! | P12: =#REF! -> #REF! | Q12: =#REF! -> #REF! | R12: =#REF! -> #REF! | S12: =#REF! -> #REF! | T12: =#REF! -> #REF! | U12: =#REF! -> #REF! | V12: =#REF! -> #REF! | W12: =#REF! -> #REF! | ... Y12: =#REF! -> #REF! | Z12: =(10^10)*Y12+(10^8)*S12+(10^6)*(50+X12)+(10^4)*V12+(10^2)*R12+(13-P12) -> #REF! | AK12: 0 | AL12: =#REF! -> #REF! | AM12: =IF(ISERROR(VLOOKUP(AL12,$AL$27:$AN$34,2,FALSE)),0,(VLOOKUP(AL12,$AL$27:$AN$34,2,FALSE))) -> 0 | AN12: =IF(ISERROR(VLOOKUP(AL12,$AL$27:$AN$34,3,FALSE)),0,(VLOOKUP(AL12,$AL$27:$AN$34,3,FALSE))) -> 0 | AO12: =IF(ISERROR(VLOOKUP(AL12,$AL$27:$AO$34,4,FALSE)),0,(VLOOKUP(AL12,$AL$27:$AO$34,4,FALSE))) -> 0 | AP12: =AN12-AO12-AQ12 -> 0 | AQ12: =IF(ISERROR(VLOOKUP(AL12,$AL$27:$AQ$34,6,FALSE)),0,(VLOOKUP(AL12,$AL$27:$AQ$34,6,FALSE))) -> 0 | AR12: =IF(ISERROR(VLOOKUP(AL12,$AL$27:$AR$34,7,FALSE)),0,(VLOOKUP(AL12,$AL$27:$AR$34,7,FALSE))) -> 0 | AS12: =IF(ISERROR(VLOOKUP(AL12,$AL$27:$AS$34,8,FALSE)),0,(VLOOKUP(AL12,$AL$27:$AS$34,8,FALSE))) -> 0 | AT12: =AR12-AS12 -> 0 | AU12: =AO12*3+AP12 -> 0 | AW12: 7 | AX12: =IF(ISERROR(VLOOKUP(AW12,$AW$26:$AY$29,2,FALSE)),0,(VLOOKUP(AW12,$AW$26:$AY$29,2,FALSE))) -> 0 | AY12: =IF(ISERROR(VLOOKUP(AW12,$AW$26:$BF$29,3,FALSE)),0,(VLOOKUP(AW12,$AW$26:$BF$29,3,FALSE))) -> 0 | AZ12: =IF(ISERROR(VLOOKUP(AW12,$AW$26:$BF$29,4,FALSE)),0,(VLOOKUP(AW12,$AW$26:$BF$29,4,FALSE))) -> 0 | BA12: =AY12-AZ12-BB12 -> 0 | BB12: =IF(ISERROR(VLOOKUP(AW12,$AW$26:$BF$29,6,FALSE)),0,(VLOOKUP(AW12,$AW$26:$BF$29,6,FALSE))) -> 0 | BC12: =IF(ISERROR(VLOOKUP(AW12,$AW$26:$BF$29,7,FALSE)),0,(VLOOKUP(AW12,$AW$26:$BF$29,7,FALSE))) -> 0 | BD12: =IF(ISERROR(VLOOKUP(AW12,$AW$26:$BF$29,8,FALSE)),0,(VLOOKUP(AW12,$AW$26:$BF$29,8,FALSE))) -> 0 | BE12: =BC12-BD12 -> 0 | BF12: =AZ12*3+BA12 -> 0 | BI12: 7 | BJ12: =IF(ISERROR(VLOOKUP(BI12,$BI$26:$BK$29,2,FALSE)),0,(VLOOKUP(BI12,$BI$26:$BK$29,2,FALSE))) -> 0 | BK12: =IF(ISERROR(VLOOKUP(BI12,$BI$26:$BR$27,3,FALSE)),0,(VLOOKUP(BI12,$BI$26:$BR$27,3,FALSE))) -> 0 | BL12: =IF(ISERROR(VLOOKUP(BI12,$BI$26:$BR$27,4,FALSE)),0,(VLOOKUP(BI12,$BI$26:$BR$27,4,FALSE))) -> 0 | BM12: =BK12-BL12-BN12 -> 0 | BN12: =IF(ISERROR(VLOOKUP(BI12,$BI$26:$BR$27,6,FALSE)),0,(VLOOKUP(BI12,$BI$26:$BR$27,6,FALSE))) -> 0 | BO12: =IF(ISERROR(VLOOKUP(BI12,$BI$26:$BR$27,7,FALSE)),0,(VLOOKUP(BI12,$BI$26:$BR$27,7,FALSE))) -> 0 | BP12: =IF(ISERROR(VLOOKUP(BI12,$BI$26:$BR$27,8,FALSE)),0,(VLOOKUP(BI12,$BI$26:$BR$27,8,FALSE))) -> 0 | BQ12: =BO12-BP12 -> 0 | BR12: =BL12*3+BM12 -> 0 | BY12: =P12 -> #REF! | BZ12: =Q12 -> #REF! | CA12: =R12+AN12+AY12+BK12 -> #REF! | CB12: =S12+AO12+AZ12+BL12 -> #REF! | CC12: =T12+AP12+BA12+BM12 -> #REF! | CD12: =U12+AQ12+BB12+BN12 -> #REF! | CE12: =V12+AR12+BC12+BO12 -> #REF! | CF12: =W12+AS12+BD12+BP12 -> #REF! | CG12: =X12+AT12+BE12+BQ12 -> #REF! | CH12: =Y12+AU12+BF12+BR12 -> #REF! | CJ12: =(10^10)*CH12+(10^8)*CB12+(10^6)*(50+CG12)+(10^4)*CE12+(10^2)*CA12+(13-BY12) -> #REF! | CK12: 7 | CL12: =LARGE($CJ$6:$CJ$23,CK12) -> #REF! | CN12: 7 | CO12: =MATCH(CL12,$CJ$6:$CJ$23,0) -> #REF!
B13: 8º | C13: =VLOOKUP(CO13,$BY$6:$CH$23,2) -> #REF! | D13: =VLOOKUP(CO13,$BY$6:$CH$23,3) -> #REF! | E13: =VLOOKUP(CO13,$BY$6:$CH$23,4) -> #REF! | F13: =D13-E13-G13 -> #REF! | G13: =VLOOKUP(CO13,$BY$6:$CH$23,6) -> #REF! | H13: =VLOOKUP(CO13,$BY$6:$CH$23,7) -> #REF! | I13: =VLOOKUP(CO13,$BY$6:$CH$23,8) -> #REF! | J13: =H13-I13 -> #REF! | K13: =E13*3+F13 -> #REF! | P13: =#REF! -> #REF! | Q13: =#REF! -> #REF! | R13: =#REF! -> #REF! | S13: =#REF! -> #REF! | T13: =#REF! -> #REF! | U13: =#REF! -> #REF! | V13: =#REF! -> #REF! | W13: =#REF! -> #REF! | ... Y13: =#REF! -> #REF! | Z13: =(10^10)*Y13+(10^8)*S13+(10^6)*(50+X13)+(10^4)*V13+(10^2)*R13+(13-P13) -> #REF! | AK13: 0 | AL13: =#REF! -> #REF! | AM13: =IF(ISERROR(VLOOKUP(AL13,$AL$27:$AN$34,2,FALSE)),0,(VLOOKUP(AL13,$AL$27:$AN$34,2,FALSE))) -> 0 | AN13: =IF(ISERROR(VLOOKUP(AL13,$AL$27:$AN$34,3,FALSE)),0,(VLOOKUP(AL13,$AL$27:$AN$34,3,FALSE))) -> 0 | AO13: =IF(ISERROR(VLOOKUP(AL13,$AL$27:$AO$34,4,FALSE)),0,(VLOOKUP(AL13,$AL$27:$AO$34,4,FALSE))) -> 0 | AP13: =AN13-AO13-AQ13 -> 0 | AQ13: =IF(ISERROR(VLOOKUP(AL13,$AL$27:$AQ$34,6,FALSE)),0,(VLOOKUP(AL13,$AL$27:$AQ$34,6,FALSE))) -> 0 | AR13: =IF(ISERROR(VLOOKUP(AL13,$AL$27:$AR$34,7,FALSE)),0,(VLOOKUP(AL13,$AL$27:$AR$34,7,FALSE))) -> 0 | AS13: =IF(ISERROR(VLOOKUP(AL13,$AL$27:$AS$34,8,FALSE)),0,(VLOOKUP(AL13,$AL$27:$AS$34,8,FALSE))) -> 0 | AT13: =AR13-AS13 -> 0 | AU13: =AO13*3+AP13 -> 0 | AW13: 8 | AX13: =IF(ISERROR(VLOOKUP(AW13,$AW$26:$AY$29,2,FALSE)),0,(VLOOKUP(AW13,$AW$26:$AY$29,2,FALSE))) -> 0 | AY13: =IF(ISERROR(VLOOKUP(AW13,$AW$26:$BF$29,3,FALSE)),0,(VLOOKUP(AW13,$AW$26:$BF$29,3,FALSE))) -> 0 | AZ13: =IF(ISERROR(VLOOKUP(AW13,$AW$26:$BF$29,4,FALSE)),0,(VLOOKUP(AW13,$AW$26:$BF$29,4,FALSE))) -> 0 | BA13: =AY13-AZ13-BB13 -> 0 | BB13: =IF(ISERROR(VLOOKUP(AW13,$AW$26:$BF$29,6,FALSE)),0,(VLOOKUP(AW13,$AW$26:$BF$29,6,FALSE))) -> 0 | BC13: =IF(ISERROR(VLOOKUP(AW13,$AW$26:$BF$29,7,FALSE)),0,(VLOOKUP(AW13,$AW$26:$BF$29,7,FALSE))) -> 0 | BD13: =IF(ISERROR(VLOOKUP(AW13,$AW$26:$BF$29,8,FALSE)),0,(VLOOKUP(AW13,$AW$26:$BF$29,8,FALSE))) -> 0 | BE13: =BC13-BD13 -> 0 | BF13: =AZ13*3+BA13 -> 0 | BI13: 8 | BJ13: =IF(ISERROR(VLOOKUP(BI13,$BI$26:$BK$29,2,FALSE)),0,(VLOOKUP(BI13,$BI$26:$BK$29,2,FALSE))) -> 0 | BK13: =IF(ISERROR(VLOOKUP(BI13,$BI$26:$BR$27,3,FALSE)),0,(VLOOKUP(BI13,$BI$26:$BR$27,3,FALSE))) -> 0 | BL13: =IF(ISERROR(VLOOKUP(BI13,$BI$26:$BR$27,4,FALSE)),0,(VLOOKUP(BI13,$BI$26:$BR$27,4,FALSE))) -> 0 | BM13: =BK13-BL13-BN13 -> 0 | BN13: =IF(ISERROR(VLOOKUP(BI13,$BI$26:$BR$27,6,FALSE)),0,(VLOOKUP(BI13,$BI$26:$BR$27,6,FALSE))) -> 0 | BO13: =IF(ISERROR(VLOOKUP(BI13,$BI$26:$BR$27,7,FALSE)),0,(VLOOKUP(BI13,$BI$26:$BR$27,7,FALSE))) -> 0 | BP13: =IF(ISERROR(VLOOKUP(BI13,$BI$26:$BR$27,8,FALSE)),0,(VLOOKUP(BI13,$BI$26:$BR$27,8,FALSE))) -> 0 | BQ13: =BO13-BP13 -> 0 | BR13: =BL13*3+BM13 -> 0 | BY13: =P13 -> #REF! | BZ13: =Q13 -> #REF! | CA13: =R13+AN13+AY13+BK13 -> #REF! | CB13: =S13+AO13+AZ13+BL13 -> #REF! | CC13: =T13+AP13+BA13+BM13 -> #REF! | CD13: =U13+AQ13+BB13+BN13 -> #REF! | CE13: =V13+AR13+BC13+BO13 -> #REF! | CF13: =W13+AS13+BD13+BP13 -> #REF! | CG13: =X13+AT13+BE13+BQ13 -> #REF! | CH13: =Y13+AU13+BF13+BR13 -> #REF! | CJ13: =(10^10)*CH13+(10^8)*CB13+(10^6)*(50+CG13)+(10^4)*CE13+(10^2)*CA13+(13-BY13) -> #REF! | CK13: 8 | CL13: =LARGE($CJ$6:$CJ$23,CK13) -> #REF! | CN13: 8 | CO13: =MATCH(CL13,$CJ$6:$CJ$23,0) -> #REF!
B14: 9º | C14: =VLOOKUP(CO14,$BY$6:$CH$23,2) -> #REF! | D14: =VLOOKUP(CO14,$BY$6:$CH$23,3) -> #REF! | E14: =VLOOKUP(CO14,$BY$6:$CH$23,4) -> #REF! | F14: =D14-E14-G14 -> #REF! | G14: =VLOOKUP(CO14,$BY$6:$CH$23,6) -> #REF! | H14: =VLOOKUP(CO14,$BY$6:$CH$23,7) -> #REF! | I14: =VLOOKUP(CO14,$BY$6:$CH$23,8) -> #REF! | J14: =H14-I14 -> #REF! | K14: =E14*3+F14 -> #REF! | P14: =#REF! -> #REF! | Q14: =#REF! -> #REF! | R14: =#REF! -> #REF! | S14: =#REF! -> #REF! | T14: =#REF! -> #REF! | U14: =#REF! -> #REF! | V14: =#REF! -> #REF! | W14: =#REF! -> #REF! | ... Y14: =#REF! -> #REF! | Z14: =(10^10)*Y14+(10^8)*S14+(10^6)*(50+X14)+(10^4)*V14+(10^2)*R14+(13-P14) -> #REF! | AK14: 0 | AL14: =#REF! -> #REF! | AM14: =IF(ISERROR(VLOOKUP(AL14,$AL$27:$AN$34,2,FALSE)),0,(VLOOKUP(AL14,$AL$27:$AN$34,2,FALSE))) -> 0 | AN14: =IF(ISERROR(VLOOKUP(AL14,$AL$27:$AN$34,3,FALSE)),0,(VLOOKUP(AL14,$AL$27:$AN$34,3,FALSE))) -> 0 | AO14: =IF(ISERROR(VLOOKUP(AL14,$AL$27:$AO$34,4,FALSE)),0,(VLOOKUP(AL14,$AL$27:$AO$34,4,FALSE))) -> 0 | AP14: =AN14-AO14-AQ14 -> 0 | AQ14: =IF(ISERROR(VLOOKUP(AL14,$AL$27:$AQ$34,6,FALSE)),0,(VLOOKUP(AL14,$AL$27:$AQ$34,6,FALSE))) -> 0 | AR14: =IF(ISERROR(VLOOKUP(AL14,$AL$27:$AR$34,7,FALSE)),0,(VLOOKUP(AL14,$AL$27:$AR$34,7,FALSE))) -> 0 | AS14: =IF(ISERROR(VLOOKUP(AL14,$AL$27:$AS$34,8,FALSE)),0,(VLOOKUP(AL14,$AL$27:$AS$34,8,FALSE))) -> 0 | AT14: =AR14-AS14 -> 0 | AU14: =AO14*3+AP14 -> 0 | AW14: 9 | AX14: =IF(ISERROR(VLOOKUP(AW14,$AW$26:$AY$29,2,FALSE)),0,(VLOOKUP(AW14,$AW$26:$AY$29,2,FALSE))) -> 0 | AY14: =IF(ISERROR(VLOOKUP(AW14,$AW$26:$BF$29,3,FALSE)),0,(VLOOKUP(AW14,$AW$26:$BF$29,3,FALSE))) -> 0 | AZ14: =IF(ISERROR(VLOOKUP(AW14,$AW$26:$BF$29,4,FALSE)),0,(VLOOKUP(AW14,$AW$26:$BF$29,4,FALSE))) -> 0 | BA14: =AY14-AZ14-BB14 -> 0 | BB14: =IF(ISERROR(VLOOKUP(AW14,$AW$26:$BF$29,6,FALSE)),0,(VLOOKUP(AW14,$AW$26:$BF$29,6,FALSE))) -> 0 | BC14: =IF(ISERROR(VLOOKUP(AW14,$AW$26:$BF$29,7,FALSE)),0,(VLOOKUP(AW14,$AW$26:$BF$29,7,FALSE))) -> 0 | BD14: =IF(ISERROR(VLOOKUP(AW14,$AW$26:$BF$29,8,FALSE)),0,(VLOOKUP(AW14,$AW$26:$BF$29,8,FALSE))) -> 0 | BE14: =BC14-BD14 -> 0 | BF14: =AZ14*3+BA14 -> 0 | BI14: 9 | BJ14: =IF(ISERROR(VLOOKUP(BI14,$BI$26:$BK$29,2,FALSE)),0,(VLOOKUP(BI14,$BI$26:$BK$29,2,FALSE))) -> 0 | BK14: =IF(ISERROR(VLOOKUP(BI14,$BI$26:$BR$27,3,FALSE)),0,(VLOOKUP(BI14,$BI$26:$BR$27,3,FALSE))) -> 0 | BL14: =IF(ISERROR(VLOOKUP(BI14,$BI$26:$BR$27,4,FALSE)),0,(VLOOKUP(BI14,$BI$26:$BR$27,4,FALSE))) -> 0 | BM14: =BK14-BL14-BN14 -> 0 | BN14: =IF(ISERROR(VLOOKUP(BI14,$BI$26:$BR$27,6,FALSE)),0,(VLOOKUP(BI14,$BI$26:$BR$27,6,FALSE))) -> 0 | BO14: =IF(ISERROR(VLOOKUP(BI14,$BI$26:$BR$27,7,FALSE)),0,(VLOOKUP(BI14,$BI$26:$BR$27,7,FALSE))) -> 0 | BP14: =IF(ISERROR(VLOOKUP(BI14,$BI$26:$BR$27,8,FALSE)),0,(VLOOKUP(BI14,$BI$26:$BR$27,8,FALSE))) -> 0 | BQ14: =BO14-BP14 -> 0 | BR14: =BL14*3+BM14 -> 0 | BY14: =P14 -> #REF! | BZ14: =Q14 -> #REF! | CA14: =R14+AN14+AY14+BK14 -> #REF! | CB14: =S14+AO14+AZ14+BL14 -> #REF! | CC14: =T14+AP14+BA14+BM14 -> #REF! | CD14: =U14+AQ14+BB14+BN14 -> #REF! | CE14: =V14+AR14+BC14+BO14 -> #REF! | CF14: =W14+AS14+BD14+BP14 -> #REF! | CG14: =X14+AT14+BE14+BQ14 -> #REF! | CH14: =Y14+AU14+BF14+BR14 -> #REF! | CJ14: =(10^10)*CH14+(10^8)*CB14+(10^6)*(50+CG14)+(10^4)*CE14+(10^2)*CA14+(13-BY14) -> #REF! | CK14: 9 | CL14: =LARGE($CJ$6:$CJ$23,CK14) -> #REF! | CN14: 9 | CO14: =MATCH(CL14,$CJ$6:$CJ$23,0) -> #REF!
B15: 10º | C15: =VLOOKUP(CO15,$BY$6:$CH$23,2) -> #REF! | D15: =VLOOKUP(CO15,$BY$6:$CH$23,3) -> #REF! | E15: =VLOOKUP(CO15,$BY$6:$CH$23,4) -> #REF! | F15: =D15-E15-G15 -> #REF! | G15: =VLOOKUP(CO15,$BY$6:$CH$23,6) -> #REF! | H15: =VLOOKUP(CO15,$BY$6:$CH$23,7) -> #REF! | I15: =VLOOKUP(CO15,$BY$6:$CH$23,8) -> #REF! | J15: =H15-I15 -> #REF! | K15: =E15*3+F15 -> #REF! | P15: =#REF! -> #REF! | Q15: =#REF! -> #REF! | R15: =#REF! -> #REF! | S15: =#REF! -> #REF! | T15: =#REF! -> #REF! | U15: =#REF! -> #REF! | V15: =#REF! -> #REF! | W15: =#REF! -> #REF! | ... Y15: =#REF! -> #REF! | Z15: =(10^10)*Y15+(10^8)*S15+(10^6)*(50+X15)+(10^4)*V15+(10^2)*R15+(13-P15) -> #REF! | AK15: 0 | AL15: =#REF! -> #REF! | AM15: =IF(ISERROR(VLOOKUP(AL15,$AL$27:$AN$34,2,FALSE)),0,(VLOOKUP(AL15,$AL$27:$AN$34,2,FALSE))) -> 0 | AN15: =IF(ISERROR(VLOOKUP(AL15,$AL$27:$AN$34,3,FALSE)),0,(VLOOKUP(AL15,$AL$27:$AN$34,3,FALSE))) -> 0 | AO15: =IF(ISERROR(VLOOKUP(AL15,$AL$27:$AO$34,4,FALSE)),0,(VLOOKUP(AL15,$AL$27:$AO$34,4,FALSE))) -> 0 | AP15: =AN15-AO15-AQ15 -> 0 | AQ15: =IF(ISERROR(VLOOKUP(AL15,$AL$27:$AQ$34,6,FALSE)),0,(VLOOKUP(AL15,$AL$27:$AQ$34,6,FALSE))) -> 0 | AR15: =IF(ISERROR(VLOOKUP(AL15,$AL$27:$AR$34,7,FALSE)),0,(VLOOKUP(AL15,$AL$27:$AR$34,7,FALSE))) -> 0 | AS15: =IF(ISERROR(VLOOKUP(AL15,$AL$27:$AS$34,8,FALSE)),0,(VLOOKUP(AL15,$AL$27:$AS$34,8,FALSE))) -> 0 | AT15: =AR15-AS15 -> 0 | AU15: =AO15*3+AP15 -> 0 | AW15: 10 | AX15: =IF(ISERROR(VLOOKUP(AW15,$AW$26:$AY$29,2,FALSE)),0,(VLOOKUP(AW15,$AW$26:$AY$29,2,FALSE))) -> 0 | AY15: =IF(ISERROR(VLOOKUP(AW15,$AW$26:$BF$29,3,FALSE)),0,(VLOOKUP(AW15,$AW$26:$BF$29,3,FALSE))) -> 0 | AZ15: =IF(ISERROR(VLOOKUP(AW15,$AW$26:$BF$29,4,FALSE)),0,(VLOOKUP(AW15,$AW$26:$BF$29,4,FALSE))) -> 0 | BA15: =AY15-AZ15-BB15 -> 0 | BB15: =IF(ISERROR(VLOOKUP(AW15,$AW$26:$BF$29,6,FALSE)),0,(VLOOKUP(AW15,$AW$26:$BF$29,6,FALSE))) -> 0 | BC15: =IF(ISERROR(VLOOKUP(AW15,$AW$26:$BF$29,7,FALSE)),0,(VLOOKUP(AW15,$AW$26:$BF$29,7,FALSE))) -> 0 | BD15: =IF(ISERROR(VLOOKUP(AW15,$AW$26:$BF$29,8,FALSE)),0,(VLOOKUP(AW15,$AW$26:$BF$29,8,FALSE))) -> 0 | BE15: =BC15-BD15 -> 0 | BF15: =AZ15*3+BA15 -> 0 | BI15: 10 | BJ15: =IF(ISERROR(VLOOKUP(BI15,$BI$26:$BK$29,2,FALSE)),0,(VLOOKUP(BI15,$BI$26:$BK$29,2,FALSE))) -> 0 | BK15: =IF(ISERROR(VLOOKUP(BI15,$BI$26:$BR$27,3,FALSE)),0,(VLOOKUP(BI15,$BI$26:$BR$27,3,FALSE))) -> 0 | BL15: =IF(ISERROR(VLOOKUP(BI15,$BI$26:$BR$27,4,FALSE)),0,(VLOOKUP(BI15,$BI$26:$BR$27,4,FALSE))) -> 0 | BM15: =BK15-BL15-BN15 -> 0 | BN15: =IF(ISERROR(VLOOKUP(BI15,$BI$26:$BR$27,6,FALSE)),0,(VLOOKUP(BI15,$BI$26:$BR$27,6,FALSE))) -> 0 | BO15: =IF(ISERROR(VLOOKUP(BI15,$BI$26:$BR$27,7,FALSE)),0,(VLOOKUP(BI15,$BI$26:$BR$27,7,FALSE))) -> 0 | BP15: =IF(ISERROR(VLOOKUP(BI15,$BI$26:$BR$27,8,FALSE)),0,(VLOOKUP(BI15,$BI$26:$BR$27,8,FALSE))) -> 0 | BQ15: =BO15-BP15 -> 0 | BR15: =BL15*3+BM15 -> 0 | BY15: =P15 -> #REF! | BZ15: =Q15 -> #REF! | CA15: =R15+AN15+AY15+BK15 -> #REF! | CB15: =S15+AO15+AZ15+BL15 -> #REF! | CC15: =T15+AP15+BA15+BM15 -> #REF! | CD15: =U15+AQ15+BB15+BN15 -> #REF! | CE15: =V15+AR15+BC15+BO15 -> #REF! | CF15: =W15+AS15+BD15+BP15 -> #REF! | CG15: =X15+AT15+BE15+BQ15 -> #REF! | CH15: =Y15+AU15+BF15+BR15 -> #REF! | CJ15: =(10^10)*CH15+(10^8)*CB15+(10^6)*(50+CG15)+(10^4)*CE15+(10^2)*CA15+(13-BY15) -> #REF! | CK15: 10 | CL15: =LARGE($CJ$6:$CJ$23,CK15) -> #REF! | CN15: 10 | CO15: =MATCH(CL15,$CJ$6:$CJ$23,0) -> #REF!
B16: 11º | C16: =VLOOKUP(CO16,$BY$6:$CH$23,2) -> #REF! | D16: =VLOOKUP(CO16,$BY$6:$CH$23,3) -> #REF! | E16: =VLOOKUP(CO16,$BY$6:$CH$23,4) -> #REF! | F16: =D16-E16-G16 -> #REF! | G16: =VLOOKUP(CO16,$BY$6:$CH$23,6) -> #REF! | H16: =VLOOKUP(CO16,$BY$6:$CH$23,7) -> #REF! | I16: =VLOOKUP(CO16,$BY$6:$CH$23,8) -> #REF! | J16: =H16-I16 -> #REF! | K16: =E16*3+F16 -> #REF! | P16: =#REF! -> #REF! | Q16: =#REF! -> #REF! | R16: =#REF! -> #REF! | S16: =#REF! -> #REF! | T16: =#REF! -> #REF! | U16: =#REF! -> #REF! | V16: =#REF! -> #REF! | W16: =#REF! -> #REF! | ... Y16: =#REF! -> #REF! | Z16: =(10^10)*Y16+(10^8)*S16+(10^6)*(50+X16)+(10^4)*V16+(10^2)*R16+(13-P16) -> #REF! | AK16: 0 | AL16: =#REF! -> #REF! | AM16: =IF(ISERROR(VLOOKUP(AL16,$AL$27:$AN$34,2,FALSE)),0,(VLOOKUP(AL16,$AL$27:$AN$34,2,FALSE))) -> 0 | AN16: =IF(ISERROR(VLOOKUP(AL16,$AL$27:$AN$34,3,FALSE)),0,(VLOOKUP(AL16,$AL$27:$AN$34,3,FALSE))) -> 0 | AO16: =IF(ISERROR(VLOOKUP(AL16,$AL$27:$AO$34,4,FALSE)),0,(VLOOKUP(AL16,$AL$27:$AO$34,4,FALSE))) -> 0 | AP16: =AN16-AO16-AQ16 -> 0 | AQ16: =IF(ISERROR(VLOOKUP(AL16,$AL$27:$AQ$34,6,FALSE)),0,(VLOOKUP(AL16,$AL$27:$AQ$34,6,FALSE))) -> 0 | AR16: =IF(ISERROR(VLOOKUP(AL16,$AL$27:$AR$34,7,FALSE)),0,(VLOOKUP(AL16,$AL$27:$AR$34,7,FALSE))) -> 0 | AS16: =IF(ISERROR(VLOOKUP(AL16,$AL$27:$AS$34,8,FALSE)),0,(VLOOKUP(AL16,$AL$27:$AS$34,8,FALSE))) -> 0 | AT16: =AR16-AS16 -> 0 | AU16: =AO16*3+AP16 -> 0 | AW16: 11 | AX16: =IF(ISERROR(VLOOKUP(AW16,$AW$26:$AY$29,2,FALSE)),0,(VLOOKUP(AW16,$AW$26:$AY$29,2,FALSE))) -> 0 | AY16: =IF(ISERROR(VLOOKUP(AW16,$AW$26:$BF$29,3,FALSE)),0,(VLOOKUP(AW16,$AW$26:$BF$29,3,FALSE))) -> 0 | AZ16: =IF(ISERROR(VLOOKUP(AW16,$AW$26:$BF$29,4,FALSE)),0,(VLOOKUP(AW16,$AW$26:$BF$29,4,FALSE))) -> 0 | BA16: =AY16-AZ16-BB16 -> 0 | BB16: =IF(ISERROR(VLOOKUP(AW16,$AW$26:$BF$29,6,FALSE)),0,(VLOOKUP(AW16,$AW$26:$BF$29,6,FALSE))) -> 0 | BC16: =IF(ISERROR(VLOOKUP(AW16,$AW$26:$BF$29,7,FALSE)),0,(VLOOKUP(AW16,$AW$26:$BF$29,7,FALSE))) -> 0 | BD16: =IF(ISERROR(VLOOKUP(AW16,$AW$26:$BF$29,8,FALSE)),0,(VLOOKUP(AW16,$AW$26:$BF$29,8,FALSE))) -> 0 | BE16: =BC16-BD16 -> 0 | BF16: =AZ16*3+BA16 -> 0 | BI16: 11 | BJ16: =IF(ISERROR(VLOOKUP(BI16,$BI$26:$BK$29,2,FALSE)),0,(VLOOKUP(BI16,$BI$26:$BK$29,2,FALSE))) -> 0 | BK16: =IF(ISERROR(VLOOKUP(BI16,$BI$26:$BR$27,3,FALSE)),0,(VLOOKUP(BI16,$BI$26:$BR$27,3,FALSE))) -> 0 | BL16: =IF(ISERROR(VLOOKUP(BI16,$BI$26:$BR$27,4,FALSE)),0,(VLOOKUP(BI16,$BI$26:$BR$27,4,FALSE))) -> 0 | BM16: =BK16-BL16-BN16 -> 0 | BN16: =IF(ISERROR(VLOOKUP(BI16,$BI$26:$BR$27,6,FALSE)),0,(VLOOKUP(BI16,$BI$26:$BR$27,6,FALSE))) -> 0 | BO16: =IF(ISERROR(VLOOKUP(BI16,$BI$26:$BR$27,7,FALSE)),0,(VLOOKUP(BI16,$BI$26:$BR$27,7,FALSE))) -> 0 | BP16: =IF(ISERROR(VLOOKUP(BI16,$BI$26:$BR$27,8,FALSE)),0,(VLOOKUP(BI16,$BI$26:$BR$27,8,FALSE))) -> 0 | BQ16: =BO16-BP16 -> 0 | BR16: =BL16*3+BM16 -> 0 | BY16: =P16 -> #REF! | BZ16: =Q16 -> #REF! | CA16: =R16+AN16+AY16+BK16 -> #REF! | CB16: =S16+AO16+AZ16+BL16 -> #REF! | CC16: =T16+AP16+BA16+BM16 -> #REF! | CD16: =U16+AQ16+BB16+BN16 -> #REF! | CE16: =V16+AR16+BC16+BO16 -> #REF! | CF16: =W16+AS16+BD16+BP16 -> #REF! | CG16: =X16+AT16+BE16+BQ16 -> #REF! | CH16: =Y16+AU16+BF16+BR16 -> #REF! | CJ16: =(10^10)*CH16+(10^8)*CB16+(10^6)*(50+CG16)+(10^4)*CE16+(10^2)*CA16+(13-BY16) -> #REF! | CK16: 11 | CL16: =LARGE($CJ$6:$CJ$23,CK16) -> #REF! | CN16: 11 | CO16: =MATCH(CL16,$CJ$6:$CJ$23,0) -> #REF!
B17: 12º | C17: =VLOOKUP(CO17,$BY$6:$CH$23,2) -> #REF! | D17: =VLOOKUP(CO17,$BY$6:$CH$23,3) -> #REF! | E17: =VLOOKUP(CO17,$BY$6:$CH$23,4) -> #REF! | F17: =D17-E17-G17 -> #REF! | G17: =VLOOKUP(CO17,$BY$6:$CH$23,6) -> #REF! | H17: =VLOOKUP(CO17,$BY$6:$CH$23,7) -> #REF! | I17: =VLOOKUP(CO17,$BY$6:$CH$23,8) -> #REF! | J17: =H17-I17 -> #REF! | K17: =E17*3+F17 -> #REF! | P17: =#REF! -> #REF! | Q17: =#REF! -> #REF! | R17: =#REF! -> #REF! | S17: =#REF! -> #REF! | T17: =#REF! -> #REF! | U17: =#REF! -> #REF! | V17: =#REF! -> #REF! | W17: =#REF! -> #REF! | ... Y17: =#REF! -> #REF! | Z17: =(10^10)*Y17+(10^8)*S17+(10^6)*(50+X17)+(10^4)*V17+(10^2)*R17+(13-P17) -> #REF! | AK17: 0 | AL17: =#REF! -> #REF! | AM17: =IF(ISERROR(VLOOKUP(AL17,$AL$27:$AN$34,2,FALSE)),0,(VLOOKUP(AL17,$AL$27:$AN$34,2,FALSE))) -> 0 | AN17: =IF(ISERROR(VLOOKUP(AL17,$AL$27:$AN$34,3,FALSE)),0,(VLOOKUP(AL17,$AL$27:$AN$34,3,FALSE))) -> 0 | AO17: =IF(ISERROR(VLOOKUP(AL17,$AL$27:$AO$34,4,FALSE)),0,(VLOOKUP(AL17,$AL$27:$AO$34,4,FALSE))) -> 0 | AP17: =AN17-AO17-AQ17 -> 0 | AQ17: =IF(ISERROR(VLOOKUP(AL17,$AL$27:$AQ$34,6,FALSE)),0,(VLOOKUP(AL17,$AL$27:$AQ$34,6,FALSE))) -> 0 | AR17: =IF(ISERROR(VLOOKUP(AL17,$AL$27:$AR$34,7,FALSE)),0,(VLOOKUP(AL17,$AL$27:$AR$34,7,FALSE))) -> 0 | AS17: =IF(ISERROR(VLOOKUP(AL17,$AL$27:$AS$34,8,FALSE)),0,(VLOOKUP(AL17,$AL$27:$AS$34,8,FALSE))) -> 0 | AT17: =AR17-AS17 -> 0 | AU17: =AO17*3+AP17 -> 0 | AW17: 12 | AX17: =IF(ISERROR(VLOOKUP(AW17,$AW$26:$AY$29,2,FALSE)),0,(VLOOKUP(AW17,$AW$26:$AY$29,2,FALSE))) -> 0 | AY17: =IF(ISERROR(VLOOKUP(AW17,$AW$26:$BF$29,3,FALSE)),0,(VLOOKUP(AW17,$AW$26:$BF$29,3,FALSE))) -> 0 | AZ17: =IF(ISERROR(VLOOKUP(AW17,$AW$26:$BF$29,4,FALSE)),0,(VLOOKUP(AW17,$AW$26:$BF$29,4,FALSE))) -> 0 | BA17: =AY17-AZ17-BB17 -> 0 | BB17: =IF(ISERROR(VLOOKUP(AW17,$AW$26:$BF$29,6,FALSE)),0,(VLOOKUP(AW17,$AW$26:$BF$29,6,FALSE))) -> 0 | BC17: =IF(ISERROR(VLOOKUP(AW17,$AW$26:$BF$29,7,FALSE)),0,(VLOOKUP(AW17,$AW$26:$BF$29,7,FALSE))) -> 0 | BD17: =IF(ISERROR(VLOOKUP(AW17,$AW$26:$BF$29,8,FALSE)),0,(VLOOKUP(AW17,$AW$26:$BF$29,8,FALSE))) -> 0 | BE17: =BC17-BD17 -> 0 | BF17: =AZ17*3+BA17 -> 0 | BI17: 12 | BJ17: =IF(ISERROR(VLOOKUP(BI17,$BI$26:$BK$29,2,FALSE)),0,(VLOOKUP(BI17,$BI$26:$BK$29,2,FALSE))) -> 0 | BK17: =IF(ISERROR(VLOOKUP(BI17,$BI$26:$BR$27,3,FALSE)),0,(VLOOKUP(BI17,$BI$26:$BR$27,3,FALSE))) -> 0 | BL17: =IF(ISERROR(VLOOKUP(BI17,$BI$26:$BR$27,4,FALSE)),0,(VLOOKUP(BI17,$BI$26:$BR$27,4,FALSE))) -> 0 | BM17: =BK17-BL17-BN17 -> 0 | BN17: =IF(ISERROR(VLOOKUP(BI17,$BI$26:$BR$27,6,FALSE)),0,(VLOOKUP(BI17,$BI$26:$BR$27,6,FALSE))) -> 0 | BO17: =IF(ISERROR(VLOOKUP(BI17,$BI$26:$BR$27,7,FALSE)),0,(VLOOKUP(BI17,$BI$26:$BR$27,7,FALSE))) -> 0 | BP17: =IF(ISERROR(VLOOKUP(BI17,$BI$26:$BR$27,8,FALSE)),0,(VLOOKUP(BI17,$BI$26:$BR$27,8,FALSE))) -> 0 | BQ17: =BO17-BP17 -> 0 | BR17: =BL17*3+BM17 -> 0 | BY17: =P17 -> #REF! | BZ17: =Q17 -> #REF! | CA17: =R17+AN17+AY17+BK17 -> #REF! | CB17: =S17+AO17+AZ17+BL17 -> #REF! | CC17: =T17+AP17+BA17+BM17 -> #REF! | CD17: =U17+AQ17+BB17+BN17 -> #REF! | CE17: =V17+AR17+BC17+BO17 -> #REF! | CF17: =W17+AS17+BD17+BP17 -> #REF! | CG17: =X17+AT17+BE17+BQ17 -> #REF! | CH17: =Y17+AU17+BF17+BR17 -> #REF! | CJ17: =(10^10)*CH17+(10^8)*CB17+(10^6)*(50+CG17)+(10^4)*CE17+(10^2)*CA17+(13-BY17) -> #REF! | CK17: 12 | CL17: =LARGE($CJ$6:$CJ$23,CK17) -> #REF! | CN17: 12 | CO17: =MATCH(CL17,$CJ$6:$CJ$23,0) -> #REF!
... B23: 18º | C23: =VLOOKUP(CO23,$BY$6:$CH$23,2) -> #REF! | D23: =VLOOKUP(CO23,$BY$6:$CH$23,3) -> #REF! | E23: =VLOOKUP(CO23,$BY$6:$CH$23,4) -> #REF! | F23: =D23-E23-G23 -> #REF! | G23: =VLOOKUP(CO23,$BY$6:$CH$23,6) -> #REF! | H23: =VLOOKUP(CO23,$BY$6:$CH$23,7) -> #REF! | I23: =VLOOKUP(CO23,$BY$6:$CH$23,8) -> #REF! | J23: =H23-I23 -> #REF! | K23: =E23*3+F23 -> #REF! | P23: =#REF! -> #REF! | Q23: =#REF! -> #REF! | R23: =#REF! -> #REF! | S23: =#REF! -> #REF! | T23: =#REF! -> #REF! | U23: =#REF! -> #REF! | V23: =#REF! -> #REF! | W23: =#REF! -> #REF! | ... Y23: =#REF! -> #REF! | Z23: =(10^10)*Y23+(10^8)*S23+(10^6)*(50+X23)+(10^4)*V23+(10^2)*R23+(13-P23) -> #REF! | AK23: 0 | AL23: =#REF! -> #REF! | AM23: =IF(ISERROR(VLOOKUP(AL23,$AL$27:$AN$34,2,FALSE)),0,(VLOOKUP(AL23,$AL$27:$AN$34,2,FALSE))) -> 0 | AN23: =IF(ISERROR(VLOOKUP(AL23,$AL$27:$AN$34,3,FALSE)),0,(VLOOKUP(AL23,$AL$27:$AN$34,3,FALSE))) -> 0 | AO23: =IF(ISERROR(VLOOKUP(AL23,$AL$27:$AO$34,4,FALSE)),0,(VLOOKUP(AL23,$AL$27:$AO$34,4,FALSE))) -> 0 | AP23: =AN23-AO23-AQ23 -> 0 | AQ23: =IF(ISERROR(VLOOKUP(AL23,$AL$27:$AQ$34,6,FALSE)),0,(VLOOKUP(AL23,$AL$27:$AQ$34,6,FALSE))) -> 0 | AR23: =IF(ISERROR(VLOOKUP(AL23,$AL$27:$AR$34,7,FALSE)),0,(VLOOKUP(AL23,$AL$27:$AR$34,7,FALSE))) -> 0 | AS23: =IF(ISERROR(VLOOKUP(AL23,$AL$27:$AS$34,8,FALSE)),0,(VLOOKUP(AL23,$AL$27:$AS$34,8,FALSE))) -> 0 | AT23: =AR23-AS23 -> 0 | AU23: =AO23*3+AP23 -> 0 | AW23: 18 | AX23: =IF(ISERROR(VLOOKUP(AW23,$AW$26:$AY$29,2,FALSE)),0,(VLOOKUP(AW23,$AW$26:$AY$29,2,FALSE))) -> 0 | AY23: =IF(ISERROR(VLOOKUP(AW23,$AW$26:$BF$29,3,FALSE)),0,(VLOOKUP(AW23,$AW$26:$BF$29,3,FALSE))) -> 0 | AZ23: =IF(ISERROR(VLOOKUP(AW23,$AW$26:$BF$29,4,FALSE)),0,(VLOOKUP(AW23,$AW$26:$BF$29,4,FALSE))) -> 0 | BA23: =AY23-AZ23-BB23 -> 0 | BB23: =IF(ISERROR(VLOOKUP(AW23,$AW$26:$BF$29,6,FALSE)),0,(VLOOKUP(AW23,$AW$26:$BF$29,6,FALSE))) -> 0 | BC23: =IF(ISERROR(VLOOKUP(AW23,$AW$26:$BF$29,7,FALSE)),0,(VLOOKUP(AW23,$AW$26:$BF$29,7,FALSE))) -> 0 | BD23: =IF(ISERROR(VLOOKUP(AW23,$AW$26:$BF$29,8,FALSE)),0,(VLOOKUP(AW23,$AW$26:$BF$29,8,FALSE))) -> 0 | BE23: =BC23-BD23 -> 0 | BF23: =AZ23*3+BA23 -> 0 | BI23: 18 | BJ23: =IF(ISERROR(VLOOKUP(BI23,$BI$26:$BK$29,2,FALSE)),0,(VLOOKUP(BI23,$BI$26:$BK$29,2,FALSE))) -> 0 | BK23: =IF(ISERROR(VLOOKUP(BI23,$BI$26:$BR$27,3,FALSE)),0,(VLOOKUP(BI23,$BI$26:$BR$27,3,FALSE))) -> 0 | BL23: =IF(ISERROR(VLOOKUP(BI23,$BI$26:$BR$27,4,FALSE)),0,(VLOOKUP(BI23,$BI$26:$BR$27,4,FALSE))) -> 0 | BM23: =BK23-BL23-BN23 -> 0 | BN23: =IF(ISERROR(VLOOKUP(BI23,$BI$26:$BR$27,6,FALSE)),0,(VLOOKUP(BI23,$BI$26:$BR$27,6,FALSE))) -> 0 | BO23: =IF(ISERROR(VLOOKUP(BI23,$BI$26:$BR$27,7,FALSE)),0,(VLOOKUP(BI23,$BI$26:$BR$27,7,FALSE))) -> 0 | BP23: =IF(ISERROR(VLOOKUP(BI23,$BI$26:$BR$27,8,FALSE)),0,(VLOOKUP(BI23,$BI$26:$BR$27,8,FALSE))) -> 0 | BQ23: =BO23-BP23 -> 0 | BR23: =BL23*3+BM23 -> 0 | BY23: =P23 -> #REF! | BZ23: =Q23 -> #REF! | CA23: =R23+AN23+AY23+BK23 -> #REF! | CB23: =S23+AO23+AZ23+BL23 -> #REF! | CC23: =T23+AP23+BA23+BM23 -> #REF! | CD23: =U23+AQ23+BB23+BN23 -> #REF! | CE23: =V23+AR23+BC23+BO23 -> #REF! | CF23: =W23+AS23+BD23+BP23 -> #REF! | CG23: =X23+AT23+BE23+BQ23 -> #REF! | CH23: =Y23+AU23+BF23+BR23 -> #REF! | CJ23: =(10^10)*CH23+(10^8)*CB23+(10^6)*(50+CG23)+(10^4)*CE23+(10^2)*CA23+(13-BY23) -> #REF! | CK23: 18 | CL23: =LARGE($CJ$6:$CJ$23,CK23) -> #REF! | CN23: 18 | CO23: =MATCH(CL23,$CJ$6:$CJ$23,0) -> #REF!
AL24: QUARTAS DE FINAL | AW24: SEMI FINAL | BI24: FINAL
AL25: ID_TIME | AM25: Times | AN25: Jogos | AO25: Vitorias | AP25: Empates | AQ25: Derrotas | AR25: Gols Pró | AS25: Gols Cont. | AT25: Saldo | AU25: Pontos | AW25: ID_TIME | AX25: Times | AY25: Jogos | AZ25: Vitorias | BA25: Empates | BB25: Derrotas | BC25: Gols Pró | BD25: Gols Cont. | BE25: Saldo | BF25: Pontos | BI25: ID_TIME | BJ25: Times | BK25: Jogos | BL25: Vitorias | BM25: Empates | BN25: Derrotas | BO25: Gols Pró | BP25: Gols Cont. | BQ25: Saldo | BR25: Pontos
AW26: =#REF! -> #REF! | AX26: =#REF! -> #REF! | AY26: =#REF! -> #REF! | AZ26: =#REF! -> #REF! | BA26: =#REF! -> #REF! | BB26: =#REF! -> #REF! | BC26: =#REF! -> #REF! | BD26: =#REF! -> #REF! | ... BF26: =#REF! -> #REF! | BI26: =#REF! -> #REF! | BJ26: =#REF! -> #REF! | BK26: =#REF! -> #REF! | BL26: =#REF! -> #REF! | BM26: =#REF! -> #REF! | BN26: =#REF! -> #REF! | BO26: =#REF! -> #REF! | BP26: =#REF! -> #REF! | ... BR26: =#REF! -> #REF!
AL27: =#REF! -> #REF! | AM27: =#REF! -> #REF! | AN27: =#REF! -> #REF! | AO27: =#REF! -> #REF! | AP27: =#REF! -> #REF! | AQ27: =#REF! -> #REF! | AR27: =#REF! -> #REF! | AS27: =#REF! -> #REF! | ... AU27: =#REF! -> #REF! | AW27: =#REF! -> #REF! | AX27: =#REF! -> #REF! | AY27: =#REF! -> #REF! | AZ27: =#REF! -> #REF! | BA27: =#REF! -> #REF! | BB27: =#REF! -> #REF! | BC27: =#REF! -> #REF! | BD27: =#REF! -> #REF! | ... BF27: =#REF! -> #REF! | BI27: =#REF! -> #REF! | BJ27: =#REF! -> #REF! | BK27: =#REF! -> #REF! | BL27: =#REF! -> #REF! | BM27: =#REF! -> #REF! | BN27: =#REF! -> #REF! | BO27: =#REF! -> #REF! | BP27: =#REF! -> #REF! | ... BR27: =#REF! -> #REF!
AL28: =#REF! -> #REF! | AM28: =#REF! -> #REF! | AN28: =#REF! -> #REF! | AO28: =#REF! -> #REF! | AP28: =#REF! -> #REF! | AQ28: =#REF! -> #REF! | AR28: =#REF! -> #REF! | AS28: =#REF! -> #REF! | ... AU28: =#REF! -> #REF! | AW28: =#REF! -> #REF! | AX28: =#REF! -> #REF! | AY28: =#REF! -> #REF! | AZ28: =#REF! -> #REF! | BA28: =#REF! -> #REF! | BB28: =#REF! -> #REF! | BC28: =#REF! -> #REF! | BD28: =#REF! -> #REF! | ... BF28: =#REF! -> #REF!
AL29: =#REF! -> #REF! | AM29: =#REF! -> #REF! | AN29: =#REF! -> #REF! | AO29: =#REF! -> #REF! | AP29: =#REF! -> #REF! | AQ29: =#REF! -> #REF! | AR29: =#REF! -> #REF! | AS29: =#REF! -> #REF! | ... AU29: =#REF! -> #REF! | AW29: =#REF! -> #REF! | AX29: =#REF! -> #REF! | AY29: =#REF! -> #REF! | AZ29: =#REF! -> #REF! | BA29: =#REF! -> #REF! | BB29: =#REF! -> #REF! | BC29: =#REF! -> #REF! | BD29: =#REF! -> #REF! | ... BF29: =#REF! -> #REF!
AL30: =#REF! -> #REF! | AM30: =#REF! -> #REF! | AN30: =#REF! -> #REF! | AO30: =#REF! -> #REF! | AP30: =#REF! -> #REF! | AQ30: =#REF! -> #REF! | AR30: =#REF! -> #REF! | AS30: =#REF! -> #REF! | ... AU30: =#REF! -> #REF!
AL31: =#REF! -> #REF! | AM31: =#REF! -> #REF! | AN31: =#REF! -> #REF! | AO31: =#REF! -> #REF! | AP31: =#REF! -> #REF! | AQ31: =#REF! -> #REF! | AR31: =#REF! -> #REF! | AS31: =#REF! -> #REF! | ... AU31: =#REF! -> #REF!
AL32: =#REF! -> #REF! | AM32: =#REF! -> #REF! | AN32: =#REF! -> #REF! | AO32: =#REF! -> #REF! | AP32: =#REF! -> #REF! | AQ32: =#REF! -> #REF! | AR32: =#REF! -> #REF! | AS32: =#REF! -> #REF! | ... AU32: =#REF! -> #REF!
AL33: =#REF! -> #REF! | AM33: =#REF! -> #REF! | AN33: =#REF! -> #REF! | AO33: =#REF! -> #REF! | AP33: =#REF! -> #REF! | AQ33: =#REF! -> #REF! | AR33: =#REF! -> #REF! | AS33: =#REF! -> #REF! | ... AU33: =#REF! -> #REF!
AL34: =#REF! -> #REF! | AM34: =#REF! -> #REF! | AN34: =#REF! -> #REF! | AO34: =#REF! -> #REF! | AP34: =#REF! -> #REF! | AQ34: =#REF! -> #REF! | AR34: =#REF! -> #REF! | AS34: =#REF! -> #REF! | ... AU34: =#REF! -> #REF!

Sheet Classificação
C2: LXXIX Campeonato Tatooleague
C4: 43624
C6: Grupo A
C7: Posição | D7: Times | E7: Jogos | F7: Vitorias | G7: Empates | H7: Derrotas | I7: Gols Pró | J7: Gols Cont. | K7: Saldo | L7: Pontos | M7: Aprov. | P7: Times | Q7: Jogos | R7: Vitorias | S7: Empates | T7: Derrotas | U7: Gols Pró | V7: Gols Cont. | W7: Saldo | X7: Pontos | Y7: ID_TIME | AA7: Times | AE7: Maior | AG7: Ordem Crescente
C9: 1º | D9: =VLOOKUP(AH9,$O$9:$Y$19,2) -> Sporting | E9: =VLOOKUP(AH9,$O$9:$Y$19,3) -> 10 | F9: =VLOOKUP(AH9,$O$9:$Y$19,4) -> 6 | G9: =VLOOKUP(AH9,$O$9:$Y$19,5) -> 3 | H9: =VLOOKUP(AH9,$O$9:$Y$19,6) -> 1 | I9: =VLOOKUP(AH9,$O$9:$Y$19,7) -> 18 | J9: =VLOOKUP(AH9,$O$9:$Y$19,8) -> 9 | K9: =VLOOKUP(AH9,$O$9:$Y$19,9) -> 9 | L9: =VLOOKUP(AH9,$O$9:$Y$19,10) -> 21 | M9: =IF(E9>0,((L9*100)/N9)/100,0) -> 0.7 | N9: =E9*3 -> 30 | O9: 1 | P9: Atalanta | Q9: =IF(Jogos!C9<>"",1,0)+IF(Jogos!L9<>"",1,0)+IF(Jogos!E36<>"",1,0)+IF(Jogos!J36<>"",1,0)+IF(Jogos!C64<>"",1,0)+IF(Jogos!L64<>"",1,0)+IF(Jogos!E92<>"",1,0)+IF(Jogos!J92<>"",1,0)+IF(Jogos!C120<>"",1,0)+IF(Jogos!L120<>"",1,0)+IF(Jogos!E148<>"",1,0) -> 10 | R9: =IF(Jogos!C9>Jogos!E9,1,0)+IF(Jogos!L9>Jogos!J9,1,0)+IF(Jogos!E36>Jogos!C36,1,0)+IF(Jogos!J36>Jogos!L36,1,0)+IF(Jogos!C64>Jogos!E64,1,0)+IF(Jogos!L64>Jogos!J64,1,0)+IF(Jogos!E92>Jogos!C92,1,0)+IF(Jogos!J92>Jogos!L92,1,0)+IF(Jogos!C120>Jogos!E120,1,0)+IF(Jogos!L120>Jogos!J120,1,0)+IF(Jogos!E148>Jogos!C148,1,0) -> 6 | S9: =Q9-R9-T9 -> 2 | T9: =IF(Jogos!C9<Jogos!E9,1,0)+IF(Jogos!L9<Jogos!J9,1,0)+IF(Jogos!E36<Jogos!C36,1,0)+IF(Jogos!J36<Jogos!L36,1,0)+IF(Jogos!C64<Jogos!E64,1,0)+IF(Jogos!L64<Jogos!J64,1,0)+IF(Jogos!E92<Jogos!C92,1,0)+IF(Jogos!J92<Jogos!L92,1,0)+IF(Jogos!C120<Jogos!E120,1,0)+IF(Jogos!L120<Jogos!J120,1,0)+IF(Jogos!E148<Jogos!C148,1,0) -> 2 | U9: =Jogos!C9+Jogos!L9+Jogos!E36+Jogos!J36+Jogos!C64+Jogos!L64+Jogos!E92+Jogos!J92+Jogos!C120+Jogos!L120+Jogos!E148 -> 17 | V9: =Jogos!E9+Jogos!J9+Jogos!C36+Jogos!L36+Jogos!E64+Jogos!J64+Jogos!C92+Jogos!L92+Jogos!E120+Jogos!J120+Jogos!C148 -> 10 | W9: =U9-V9 -> 7 | X9: =R9*3+S9 -> 20 | Y9: 1 | AA9: =(10^10)*X9+(10^8)*R9+(10^6)*(50+W9)+(10^4)*U9+(10^2)*Q9+(13-O9) -> 200657171012 | AD9: 1 | AE9: =LARGE(AA9:AA19,AD9) -> 210659181009 | AG9: 1 | AH9: =MATCH(AE9,AA9:AA19,0) -> 4
C10: 2º | D10: =VLOOKUP(AH10,$O$9:$Y$19,2) -> Beşiktaş | E10: =VLOOKUP(AH10,$O$9:$Y$19,3) -> 10 | F10: =VLOOKUP(AH10,$O$9:$Y$19,4) -> 6 | G10: =VLOOKUP(AH10,$O$9:$Y$19,5) -> 2 | H10: =VLOOKUP(AH10,$O$9:$Y$19,6) -> 2 | I10: =VLOOKUP(AH10,$O$9:$Y$19,7) -> 20 | J10: =VLOOKUP(AH10,$O$9:$Y$19,8) -> 8 | K10: =VLOOKUP(AH10,$O$9:$Y$19,9) -> 12 | L10: =VLOOKUP(AH10,$O$9:$Y$19,10) -> 20 | M10: =IF(E10>0,((L10*100)/N10)/100,0) -> 0.66666667 | N10: =E10*3 -> 30 | O10: 2 | P10: Hoffenheim | Q10: =IF(Jogos!C11<>"",1,0)+IF(Jogos!L11<>"",1,0)+IF(Jogos!E38<>"",1,0)+IF(Jogos!J38<>"",1,0)+IF(Jogos!C66<>"",1,0)+IF(Jogos!L66<>"",1,0)+IF(Jogos!E94<>"",1,0)+IF(Jogos!J94<>"",1,0)+IF(Jogos!C122<>"",1,0)+IF(Jogos!L122<>"",1,0)+IF(Jogos!E150<>"",1,0) -> 10 | R10: =IF(Jogos!C11>Jogos!E11,1,0)+IF(Jogos!L11>Jogos!J11,1,0)+IF(Jogos!E38>Jogos!C38,1,0)+IF(Jogos!J38>Jogos!L38,1,0)+IF(Jogos!C66>Jogos!E66,1,0)+IF(Jogos!L66>Jogos!J66,1,0)+IF(Jogos!E94>Jogos!C94,1,0)+IF(Jogos!J94>Jogos!L94,1,0)+IF(Jogos!C122>Jogos!E122,1,0)+IF(Jogos!L122>Jogos!J122,1,0)+IF(Jogos!E150>Jogos!C150,1,0) -> 3 | S10: =Q10-R10-T10 -> 2 | T10: =IF(Jogos!C11<Jogos!E11,1,0)+IF(Jogos!L11<Jogos!J11,1,0)+IF(Jogos!E38<Jogos!C38,1,0)+IF(Jogos!J38<Jogos!L38,1,0)+IF(Jogos!C66<Jogos!E66,1,0)+IF(Jogos!L66<Jogos!J66,1,0)+IF(Jogos!E94<Jogos!C94,1,0)+IF(Jogos!J94<Jogos!L94,1,0)+IF(Jogos!C122<Jogos!E122,1,0)+IF(Jogos!L122<Jogos!J122,1,0)+IF(Jogos!E150<Jogos!C150,1,0)+IF(Jogos!J150<Jogos!L150,1,0) -> 5 | U10: =Jogos!C11+Jogos!L11+Jogos!E38+Jogos!J38+Jogos!C66+Jogos!L66+Jogos!E94+Jogos!J94+Jogos!C122+Jogos!L122+Jogos!E150 -> 10 | V10: =Jogos!E11+Jogos!J11+Jogos!C38+Jogos!L38+Jogos!E66+Jogos!J66+Jogos!C94+Jogos!L94+Jogos!E122+Jogos!J122+Jogos!C150 -> 14 | W10: =U10-V10 -> -4 | X10: =R10*3+S10 -> 11 | Y10: 2 | AA10: =(10^10)*X10+(10^8)*R10+(10^6)*(50+W10)+(10^4)*U10+(10^2)*Q10+(13-O10) -> 110346101011 | AD10: 2 | AE10: =LARGE(AA9:AA19,AD10) -> 200662201004 | AG10: 2 | AH10: =MATCH(AE10,AA9:AA19,0) -> 9
C11: 3º | D11: =VLOOKUP(AH11,$O$9:$Y$19,2) -> Atalanta | E11: =VLOOKUP(AH11,$O$9:$Y$19,3) -> 10 | F11: =VLOOKUP(AH11,$O$9:$Y$19,4) -> 6 | G11: =VLOOKUP(AH11,$O$9:$Y$19,5) -> 2 | H11: =VLOOKUP(AH11,$O$9:$Y$19,6) -> 2 | I11: =VLOOKUP(AH11,$O$9:$Y$19,7) -> 17 | J11: =VLOOKUP(AH11,$O$9:$Y$19,8) -> 10 | K11: =VLOOKUP(AH11,$O$9:$Y$19,9) -> 7 | L11: =VLOOKUP(AH11,$O$9:$Y$19,10) -> 20 | M11: =IF(E11>0,((L11*100)/N11)/100,0) -> 0.66666667 | N11: =E11*3 -> 30 | O11: 3 | P11: Real Sociedad | Q11: =IF(Jogos!C13<>"",1,0)+IF(Jogos!L13<>"",1,0)+IF(Jogos!E40<>"",1,0)+IF(Jogos!J40<>"",1,0)+IF(Jogos!C68<>"",1,0)+IF(Jogos!L68<>"",1,0)+IF(Jogos!E96<>"",1,0)+IF(Jogos!J96<>"",1,0)+IF(Jogos!C124<>"",1,0)+IF(Jogos!L124<>"",1,0)+IF(Jogos!E152<>"",1,0) -> 10 | R11: =IF(Jogos!C13>Jogos!E13,1,0)+IF(Jogos!L13>Jogos!J13,1,0)+IF(Jogos!E40>Jogos!C40,1,0)+IF(Jogos!J40>Jogos!L40,1,0)+IF(Jogos!C68>Jogos!E68,1,0)+IF(Jogos!L68>Jogos!J68,1,0)+IF(Jogos!E96>Jogos!C96,1,0)+IF(Jogos!J96>Jogos!L96,1,0)+IF(Jogos!C124>Jogos!E124,1,0)+IF(Jogos!L124>Jogos!J124,1,0)+IF(Jogos!E152>Jogos!C152,1,0) -> 2 | S11: =Q11-R11-T11 -> 3 | T11: =IF(Jogos!C13<Jogos!E13,1,0)+IF(Jogos!L13<Jogos!J13,1,0)+IF(Jogos!E40<Jogos!C40,1,0)+IF(Jogos!J40<Jogos!L40,1,0)+IF(Jogos!C68<Jogos!E68,1,0)+IF(Jogos!L68<Jogos!J68,1,0)+IF(Jogos!E96<Jogos!C96,1,0)+IF(Jogos!J96<Jogos!L96,1,0)+IF(Jogos!C124<Jogos!E124,1,0)+IF(Jogos!L124<Jogos!J124,1,0)+IF(Jogos!E152<Jogos!C152,1,0)+IF(Jogos!J152<Jogos!L152,1,0) -> 5 | U11: =Jogos!C13+Jogos!L13+Jogos!E40+Jogos!J40+Jogos!C68+Jogos!L68+Jogos!E96+Jogos!J96+Jogos!C124+Jogos!L124+Jogos!E152 -> 7 | V11: =Jogos!E13+Jogos!J13+Jogos!C40+Jogos!L40+Jogos!E68+Jogos!J68+Jogos!C96+Jogos!L96+Jogos!E124+Jogos!J124+Jogos!C152 -> 15 | W11: =U11-V11 -> -8 | X11: =R11*3+S11 -> 9 | Y11: 3 | AA11: =(10^10)*X11+(10^8)*R11+(10^6)*(50+W11)+(10^4)*U11+(10^2)*Q11+(13-O11) -> 90242071010 | AD11: 3 | AE11: =LARGE(AA9:AA19,AD11) -> 200657171012 | AG11: 3 | AH11: =MATCH(AE11,AA9:AA19,0) -> 1
C12: 4º | D12: =VLOOKUP(AH12,$O$9:$Y$19,2) -> Schalke 04 | E12: =VLOOKUP(AH12,$O$9:$Y$19,3) -> 10 | F12: =VLOOKUP(AH12,$O$9:$Y$19,4) -> 5 | G12: =VLOOKUP(AH12,$O$9:$Y$19,5) -> 2 | H12: =VLOOKUP(AH12,$O$9:$Y$19,6) -> 3 | I12: =VLOOKUP(AH12,$O$9:$Y$19,7) -> 13 | J12: =VLOOKUP(AH12,$O$9:$Y$19,8) -> 7 | K12: =VLOOKUP(AH12,$O$9:$Y$19,9) -> 6 | L12: =VLOOKUP(AH12,$O$9:$Y$19,10) -> 17 | M12: =IF(E12>0,((L12*100)/N12)/100,0) -> 0.56666667 | N12: =E12*3 -> 30 | O12: 4 | P12: Sporting | Q12: =IF(Jogos!C15<>"",1,0)+IF(Jogos!L15<>"",1,0)+IF(Jogos!E42<>"",1,0)+IF(Jogos!J42<>"",1,0)+IF(Jogos!C70<>"",1,0)+IF(Jogos!L70<>"",1,0)+IF(Jogos!E98<>"",1,0)+IF(Jogos!J98<>"",1,0)+IF(Jogos!C126<>"",1,0)+IF(Jogos!L126<>"",1,0)+IF(Jogos!E154<>"",1,0) -> 10 | R12: =IF(Jogos!C15>Jogos!E15,1,0)+IF(Jogos!L15>Jogos!J15,1,0)+IF(Jogos!E42>Jogos!C42,1,0)+IF(Jogos!J42>Jogos!L42,1,0)+IF(Jogos!C70>Jogos!E70,1,0)+IF(Jogos!L70>Jogos!J70,1,0)+IF(Jogos!E98>Jogos!C98,1,0)+IF(Jogos!J98>Jogos!L98,1,0)+IF(Jogos!C126>Jogos!E126,1,0)+IF(Jogos!L126>Jogos!J126,1,0)+IF(Jogos!E154>Jogos!C154,1,0) -> 6 | S12: =Q12-R12-T12 -> 3 | T12: =IF(Jogos!C15<Jogos!E15,1,0)+IF(Jogos!L15<Jogos!J15,1,0)+IF(Jogos!E42<Jogos!C42,1,0)+IF(Jogos!J42<Jogos!L42,1,0)+IF(Jogos!C70<Jogos!E70,1,0)+IF(Jogos!L70<Jogos!J70,1,0)+IF(Jogos!E98<Jogos!C98,1,0)+IF(Jogos!J98<Jogos!L98,1,0)+IF(Jogos!C126<Jogos!E126,1,0)+IF(Jogos!L126<Jogos!J126,1,0)+IF(Jogos!E154<Jogos!C154,1,0)+IF(Jogos!J154<Jogos!L154,1,0) -> 1 | U12: =Jogos!C15+Jogos!L15+Jogos!E42+Jogos!J42+Jogos!C70+Jogos!L70+Jogos!E98+Jogos!J98+Jogos!C126+Jogos!L126+Jogos!E154 -> 18 | V12: =Jogos!E15+Jogos!J15+Jogos!C42+Jogos!L42+Jogos!E70+Jogos!J70+Jogos!C98+Jogos!L98+Jogos!E126+Jogos!J126+Jogos!C154 -> 9 | W12: =U12-V12 -> 9 | X12: =R12*3+S12 -> 21 | Y12: 4 | AA12: =(10^10)*X12+(10^8)*R12+(10^6)*(50+W12)+(10^4)*U12+(10^2)*Q12+(13-O12) -> 210659181009 | AD12: 4 | AE12: =LARGE(AA9:AA19,AD12) -> 170556131008 | AG12: 4 | AH12: =MATCH(AE12,AA9:AA19,0) -> 5
C13: 5º | D13: =VLOOKUP(AH13,$O$9:$Y$19,2) -> Hoffenheim | E13: =VLOOKUP(AH13,$O$9:$Y$19,3) -> 10 | F13: =VLOOKUP(AH13,$O$9:$Y$19,4) -> 3 | G13: =VLOOKUP(AH13,$O$9:$Y$19,5) -> 2 | H13: =VLOOKUP(AH13,$O$9:$Y$19,6) -> 5 | I13: =VLOOKUP(AH13,$O$9:$Y$19,7) -> 10 | J13: =VLOOKUP(AH13,$O$9:$Y$19,8) -> 14 | K13: =VLOOKUP(AH13,$O$9:$Y$19,9) -> -4 | L13: =VLOOKUP(AH13,$O$9:$Y$19,10) -> 11 | M13: =IF(E13>0,((L13*100)/N13)/100,0) -> 0.36666667 | N13: =E13*3 -> 30 | O13: 5 | P13: Schalke 04 | Q13: =IF(Jogos!C17<>"",1,0)+IF(Jogos!L17<>"",1,0)+IF(Jogos!E44<>"",1,0)+IF(Jogos!J44<>"",1,0)+IF(Jogos!C72<>"",1,0)+IF(Jogos!L72<>"",1,0)+IF(Jogos!E100<>"",1,0)+IF(Jogos!J100<>"",1,0)+IF(Jogos!C128<>"",1,0)+IF(Jogos!L128<>"",1,0)+IF(Jogos!E156<>"",1,0) -> 10 | R13: =IF(Jogos!C17>Jogos!E17,1,0)+IF(Jogos!L17>Jogos!J17,1,0)+IF(Jogos!E44>Jogos!C44,1,0)+IF(Jogos!J44>Jogos!L44,1,0)+IF(Jogos!C72>Jogos!E72,1,0)+IF(Jogos!L72>Jogos!J72,1,0)+IF(Jogos!E100>Jogos!C100,1,0)+IF(Jogos!J100>Jogos!L100,1,0)+IF(Jogos!C128>Jogos!E128,1,0)+IF(Jogos!L128>Jogos!J128,1,0)+IF(Jogos!E156>Jogos!C156,1,0) -> 5 | S13: =Q13-R13-T13 -> 2 | T13: =IF(Jogos!C17<Jogos!E17,1,0)+IF(Jogos!L17<Jogos!J17,1,0)+IF(Jogos!E44<Jogos!C44,1,0)+IF(Jogos!J44<Jogos!L44,1,0)+IF(Jogos!C72<Jogos!E72,1,0)+IF(Jogos!L72<Jogos!J72,1,0)+IF(Jogos!E100<Jogos!C100,1,0)+IF(Jogos!J100<Jogos!L100,1,0)+IF(Jogos!C128<Jogos!E128,1,0)+IF(Jogos!L128<Jogos!J128,1,0)+IF(Jogos!E156<Jogos!C156,1,0)+IF(Jogos!J156<Jogos!L156,1,0) -> 3 | U13: =Jogos!C17+Jogos!L17+Jogos!E44+Jogos!J44+Jogos!C72+Jogos!L72+Jogos!E100+Jogos!J100+Jogos!C128+Jogos!L128+Jogos!E156 -> 13 | V13: =Jogos!E17+Jogos!J17+Jogos!C44+Jogos!L44+Jogos!E72+Jogos!J72+Jogos!C100+Jogos!L100+Jogos!E128+Jogos!J128+Jogos!C156 -> 7 | W13: =U13-V13 -> 6 | X13: =R13*3+S13 -> 17 | Y13: 5 | AA13: =(10^10)*X13+(10^8)*R13+(10^6)*(50+W13)+(10^4)*U13+(10^2)*Q13+(13-O13) -> 170556131008 | AD13: 5 | AE13: =LARGE(AA9:AA19,AD13) -> 110346101011 | AG13: 5 | AH13: =MATCH(AE13,AA9:AA19,0) -> 2
C14: 6º | D14: =VLOOKUP(AH14,$O$9:$Y$19,2) -> Real Sociedad | E14: =VLOOKUP(AH14,$O$9:$Y$19,3) -> 10 | F14: =VLOOKUP(AH14,$O$9:$Y$19,4) -> 2 | G14: =VLOOKUP(AH14,$O$9:$Y$19,5) -> 3 | H14: =VLOOKUP(AH14,$O$9:$Y$19,6) -> 5 | I14: =VLOOKUP(AH14,$O$9:$Y$19,7) -> 7 | J14: =VLOOKUP(AH14,$O$9:$Y$19,8) -> 15 | K14: =VLOOKUP(AH14,$O$9:$Y$19,9) -> -8 | L14: =VLOOKUP(AH14,$O$9:$Y$19,10) -> 9 | M14: =IF(E14>0,((L14*100)/N14)/100,0) -> 0.3 | N14: =E14*3 -> 30 | O14: 6 | P14: Galatasaray | Q14: =IF(Jogos!C19<>"",1,0)+IF(Jogos!L19<>"",1,0)+IF(Jogos!E46<>"",1,0)+IF(Jogos!J46<>"",1,0)+IF(Jogos!C74<>"",1,0)+IF(Jogos!L74<>"",1,0)+IF(Jogos!E102<>"",1,0)+IF(Jogos!J102<>"",1,0)+IF(Jogos!C130<>"",1,0)+IF(Jogos!L130<>"",1,0)+IF(Jogos!E158<>"",1,0) -> 0 | R14: =IF(Jogos!C19>Jogos!E19,1,0)+IF(Jogos!L19>Jogos!J19,1,0)+IF(Jogos!E46>Jogos!C46,1,0)+IF(Jogos!J46>Jogos!L46,1,0)+IF(Jogos!C74>Jogos!E74,1,0)+IF(Jogos!L74>Jogos!J74,1,0)+IF(Jogos!E102>Jogos!C102,1,0)+IF(Jogos!J102>Jogos!L102,1,0)+IF(Jogos!C130>Jogos!E130,1,0)+IF(Jogos!L130>Jogos!J130,1,0)+IF(Jogos!E158>Jogos!C158,1,0) -> 0 | S14: =Q14-R14-T14 -> 0 | T14: =IF(Jogos!C19<Jogos!E19,1,0)+IF(Jogos!L19<Jogos!J19,1,0)+IF(Jogos!E46<Jogos!C46,1,0)+IF(Jogos!J46<Jogos!L46,1,0)+IF(Jogos!C74<Jogos!E74,1,0)+IF(Jogos!L74<Jogos!J74,1,0)+IF(Jogos!E102<Jogos!C102,1,0)+IF(Jogos!J102<Jogos!L102,1,0)+IF(Jogos!C130<Jogos!E130,1,0)+IF(Jogos!L130<Jogos!J130,1,0)+IF(Jogos!E158<Jogos!C158,1,0)+IF(Jogos!J158<Jogos!L158,1,0) -> 0 | U14: =Jogos!C19+Jogos!L19+Jogos!E46+Jogos!J46+Jogos!C74+Jogos!L74+Jogos!E102+Jogos!J102+Jogos!C130+Jogos!L130+Jogos!E158 -> 0 | V14: =Jogos!E19+Jogos!J19+Jogos!C46+Jogos!L46+Jogos!E74+Jogos!J74+Jogos!C102+Jogos!L102+Jogos!E130+Jogos!J130+Jogos!C158 -> 0 | W14: =U14-V14 -> 0 | X14: =R14*3+S14 -> 0 | Y14: 6 | AA14: =(10^10)*X14+(10^8)*R14+(10^6)*(50+W14)+(10^4)*U14+(10^2)*Q14+(13-O14) -> 50000007 | AD14: 6 | AE14: =LARGE(AA9:AA19,AD14) -> 90242071010 | AG14: 6 | AH14: =MATCH(AE14,AA9:AA19,0) -> 3
C15: 7º | D15: =VLOOKUP(AH15,$O$9:$Y$19,2) -> West Ham | E15: =VLOOKUP(AH15,$O$9:$Y$19,3) -> 10 | F15: =VLOOKUP(AH15,$O$9:$Y$19,4) -> 1 | G15: =VLOOKUP(AH15,$O$9:$Y$19,5) -> 5 | H15: =VLOOKUP(AH15,$O$9:$Y$19,6) -> 4 | I15: =VLOOKUP(AH15,$O$9:$Y$19,7) -> 10 | J15: =VLOOKUP(AH15,$O$9:$Y$19,8) -> 13 | K15: =VLOOKUP(AH15,$O$9:$Y$19,9) -> -3 | L15: =VLOOKUP(AH15,$O$9:$Y$19,10) -> 8 | M15: =IF(E15>0,((L15*100)/N15)/100,0) -> 0.26666667 | N15: =E15*3 -> 30 | O15: 7 | P15: Athl. De Bilbao | Q15: =IF(Jogos!C21<>"",1,0)+IF(Jogos!L21<>"",1,0)+IF(Jogos!E48<>"",1,0)+IF(Jogos!J48<>"",1,0)+IF(Jogos!C76<>"",1,0)+IF(Jogos!L76<>"",1,0)+IF(Jogos!E104<>"",1,0)+IF(Jogos!J104<>"",1,0)+IF(Jogos!C132<>"",1,0)+IF(Jogos!L132<>"",1,0)+IF(Jogos!E160<>"",1,0) -> 10 | R15: =IF(Jogos!C21>Jogos!E21,1,0)+IF(Jogos!L21>Jogos!J21,1,0)+IF(Jogos!E48>Jogos!C48,1,0)+IF(Jogos!J48>Jogos!L48,1,0)+IF(Jogos!C76>Jogos!E76,1,0)+IF(Jogos!L76>Jogos!J76,1,0)+IF(Jogos!E104>Jogos!C104,1,0)+IF(Jogos!J104>Jogos!L104,1,0)+IF(Jogos!C132>Jogos!E132,1,0)+IF(Jogos!L132>Jogos!J132,1,0)+IF(Jogos!E160>Jogos!C160,1,0) -> 1 | S15: =Q15-R15-T15 -> 4 | T15: =IF(Jogos!C21<Jogos!E21,1,0)+IF(Jogos!L21<Jogos!J21,1,0)+IF(Jogos!E48<Jogos!C48,1,0)+IF(Jogos!J48<Jogos!L48,1,0)+IF(Jogos!C76<Jogos!E76,1,0)+IF(Jogos!L76<Jogos!J76,1,0)+IF(Jogos!E104<Jogos!C104,1,0)+IF(Jogos!J104<Jogos!L104,1,0)+IF(Jogos!C132<Jogos!E132,1,0)+IF(Jogos!L132<Jogos!J132,1,0)+IF(Jogos!E160<Jogos!C160,1,0)+IF(Jogos!J160<Jogos!L160,1,0) -> 5 | U15: =Jogos!C21+Jogos!L21+Jogos!E48+Jogos!J48+Jogos!C76+Jogos!L76+Jogos!E104+Jogos!J104+Jogos!C132+Jogos!L132+Jogos!E160 -> 8 | V15: =Jogos!E21+Jogos!J21+Jogos!C48+Jogos!L48+Jogos!E76+Jogos!J76+Jogos!C104+Jogos!L104+Jogos!E132+Jogos!J132+Jogos!C160 -> 14 | W15: =U15-V15 -> -6 | X15: =R15*3+S15 -> 7 | Y15: 7 | AA15: =(10^10)*X15+(10^8)*R15+(10^6)*(50+W15)+(10^4)*U15+(10^2)*Q15+(13-O15) -> 70144081006 | AD15: 7 | AE15: =LARGE(AA9:AA19,AD15) -> 80147101003 | AG15: 7 | AH15: =MATCH(AE15,AA9:AA19,0) -> 10
C16: 8º | D16: =VLOOKUP(AH16,$O$9:$Y$19,2) -> Olympique | E16: =VLOOKUP(AH16,$O$9:$Y$19,3) -> 10 | F16: =VLOOKUP(AH16,$O$9:$Y$19,4) -> 2 | G16: =VLOOKUP(AH16,$O$9:$Y$19,5) -> 1 | H16: =VLOOKUP(AH16,$O$9:$Y$19,6) -> 7 | I16: =VLOOKUP(AH16,$O$9:$Y$19,7) -> 3 | J16: =VLOOKUP(AH16,$O$9:$Y$19,8) -> 12 | K16: =VLOOKUP(AH16,$O$9:$Y$19,9) -> -9 | L16: =VLOOKUP(AH16,$O$9:$Y$19,10) -> 7 | M16: =IF(E16>0,((L16*100)/N16)/100,0) -> 0.23333333 | N16: =E16*3 -> 30 | O16: 8 | P16: Monaco | Q16: =IF(Jogos!C23<>"",1,0)+IF(Jogos!L23<>"",1,0)+IF(Jogos!E50<>"",1,0)+IF(Jogos!J50<>"",1,0)+IF(Jogos!C78<>"",1,0)+IF(Jogos!L78<>"",1,0)+IF(Jogos!E106<>"",1,0)+IF(Jogos!J106<>"",1,0)+IF(Jogos!C134<>"",1,0)+IF(Jogos!L134<>"",1,0)+IF(Jogos!E162<>"",1,0) -> 10 | R16: =IF(Jogos!C23>Jogos!E23,1,0)+IF(Jogos!L23>Jogos!J23,1,0)+IF(Jogos!E50>Jogos!C50,1,0)+IF(Jogos!J50>Jogos!L50,1,0)+IF(Jogos!C78>Jogos!E78,1,0)+IF(Jogos!L78>Jogos!J78,1,0)+IF(Jogos!E106>Jogos!C106,1,0)+IF(Jogos!J106>Jogos!L106,1,0)+IF(Jogos!C134>Jogos!E134,1,0)+IF(Jogos!L134>Jogos!J134,1,0)+IF(Jogos!E162>Jogos!C162,1,0) -> 1 | S16: =Q16-R16-T16 -> 4 | T16: =IF(Jogos!C23<Jogos!E23,1,0)+IF(Jogos!L23<Jogos!J23,1,0)+IF(Jogos!E50<Jogos!C50,1,0)+IF(Jogos!J50<Jogos!L50,1,0)+IF(Jogos!C78<Jogos!E78,1,0)+IF(Jogos!L78<Jogos!J78,1,0)+IF(Jogos!E106<Jogos!C106,1,0)+IF(Jogos!J106<Jogos!L106,1,0)+IF(Jogos!C134<Jogos!E134,1,0)+IF(Jogos!L134<Jogos!J134,1,0)+IF(Jogos!E162<Jogos!C162,1,0)+IF(Jogos!J162<Jogos!L162,1,0) -> 5 | U16: =Jogos!C23+Jogos!L23+Jogos!E50+Jogos!J50+Jogos!C78+Jogos!L78+Jogos!E106+Jogos!J106+Jogos!C134+Jogos!L134+Jogos!E162 -> 7 | V16: =Jogos!E23+Jogos!J23+Jogos!C50+Jogos!L50+Jogos!E78+Jogos!J78+Jogos!C106+Jogos!L106+Jogos!E134+Jogos!J134+Jogos!C162 -> 11 | W16: =U16-V16 -> -4 | X16: =R16*3+S16 -> 7 | Y16: 8 | AA16: =(10^10)*X16+(10^8)*R16+(10^6)*(50+W16)+(10^4)*U16+(10^2)*Q16+(13-O16) -> 70146071005 | AD16: 8 | AE16: =LARGE(AA9:AA19,AD16) -> 70241031002 | AG16: 8 | AH16: =MATCH(AE16,AA9:AA19,0) -> 11
C17: 9º | D17: =VLOOKUP(AH17,$O$9:$Y$19,2) -> Monaco | E17: =VLOOKUP(AH17,$O$9:$Y$19,3) -> 10 | F17: =VLOOKUP(AH17,$O$9:$Y$19,4) -> 1 | G17: =VLOOKUP(AH17,$O$9:$Y$19,5) -> 4 | H17: =VLOOKUP(AH17,$O$9:$Y$19,6) -> 5 | I17: =VLOOKUP(AH17,$O$9:$Y$19,7) -> 7 | J17: =VLOOKUP(AH17,$O$9:$Y$19,8) -> 11 | K17: =VLOOKUP(AH17,$O$9:$Y$19,9) -> -4 | L17: =VLOOKUP(AH17,$O$9:$Y$19,10) -> 7 | M17: =IF(E17>0,((L17*100)/N17)/100,0) -> 0.23333333 | N17: =E17*3 -> 30 | O17: 9 | P17: Beşiktaş | Q17: =IF(Jogos!C25<>"",1,0)+IF(Jogos!L25<>"",1,0)+IF(Jogos!E52<>"",1,0)+IF(Jogos!J52<>"",1,0)+IF(Jogos!C80<>"",1,0)+IF(Jogos!L80<>"",1,0)+IF(Jogos!E108<>"",1,0)+IF(Jogos!J108<>"",1,0)+IF(Jogos!C136<>"",1,0)+IF(Jogos!L136<>"",1,0)+IF(Jogos!E164<>"",1,0) -> 10 | R17: =IF(Jogos!C25>Jogos!E25,1,0)+IF(Jogos!L25>Jogos!J25,1,0)+IF(Jogos!E52>Jogos!C52,1,0)+IF(Jogos!J52>Jogos!L52,1,0)+IF(Jogos!C80>Jogos!E80,1,0)+IF(Jogos!L80>Jogos!J80,1,0)+IF(Jogos!E108>Jogos!C108,1,0)+IF(Jogos!J108>Jogos!L108,1,0)+IF(Jogos!C136>Jogos!E136,1,0)+IF(Jogos!L136>Jogos!J136,1,0)+IF(Jogos!E164>Jogos!C164,1,0) -> 6 | S17: =Q17-R17-T17 -> 2 | T17: =IF(Jogos!C25<Jogos!E25,1,0)+IF(Jogos!L25<Jogos!J25,1,0)+IF(Jogos!E52<Jogos!C52,1,0)+IF(Jogos!J52<Jogos!L52,1,0)+IF(Jogos!C80<Jogos!E80,1,0)+IF(Jogos!L80<Jogos!J80,1,0)+IF(Jogos!E108<Jogos!C108,1,0)+IF(Jogos!J108<Jogos!L108,1,0)+IF(Jogos!C136<Jogos!E136,1,0)+IF(Jogos!L136<Jogos!J136,1,0)+IF(Jogos!E164<Jogos!C164,1,0)+IF(Jogos!J164<Jogos!L164,1,0) -> 2 | U17: =Jogos!C25+Jogos!L25+Jogos!E52+Jogos!J52+Jogos!C80+Jogos!L80+Jogos!E108+Jogos!J108+Jogos!C136+Jogos!L136+Jogos!E164 -> 20 | V17: =Jogos!E25+Jogos!J25+Jogos!C52+Jogos!L52+Jogos!E80+Jogos!J80+Jogos!C108+Jogos!L108+Jogos!E136+Jogos!J136+Jogos!C164 -> 8 | W17: =U17-V17 -> 12 | X17: =R17*3+S17 -> 20 | Y17: 9 | AA17: =(10^10)*X17+(10^8)*R17+(10^6)*(50+W17)+(10^4)*U17+(10^2)*Q17+(13-O17) -> 200662201004 | AD17: 9 | AE17: =LARGE(AA9:AA19,AD17) -> 70146071005 | AG17: 9 | AH17: =MATCH(AE17,AA9:AA19,0) -> 8
C18: 10º | D18: =VLOOKUP(AH18,$O$9:$Y$19,2) -> Athl. De Bilbao | E18: =VLOOKUP(AH18,$O$9:$Y$19,3) -> 10 | F18: =VLOOKUP(AH18,$O$9:$Y$19,4) -> 1 | G18: =VLOOKUP(AH18,$O$9:$Y$19,5) -> 4 | H18: =VLOOKUP(AH18,$O$9:$Y$19,6) -> 5 | I18: =VLOOKUP(AH18,$O$9:$Y$19,7) -> 8 | J18: =VLOOKUP(AH18,$O$9:$Y$19,8) -> 14 | K18: =VLOOKUP(AH18,$O$9:$Y$19,9) -> -6 | L18: =VLOOKUP(AH18,$O$9:$Y$19,10) -> 7 | M18: =IF(E18>0,((L18*100)/N18)/100,0) -> 0.23333333 | N18: =E18*3 -> 30 | O18: 10 | P18: West Ham | Q18: =IF(Jogos!C27<>"",1,0)+IF(Jogos!L27<>"",1,0)+IF(Jogos!E54<>"",1,0)+IF(Jogos!J54<>"",1,0)+IF(Jogos!C82<>"",1,0)+IF(Jogos!L82<>"",1,0)+IF(Jogos!E110<>"",1,0)+IF(Jogos!J110<>"",1,0)+IF(Jogos!C138<>"",1,0)+IF(Jogos!L138<>"",1,0)+IF(Jogos!E166<>"",1,0) -> 10 | R18: =IF(Jogos!C27>Jogos!E27,1,0)+IF(Jogos!L27>Jogos!J27,1,0)+IF(Jogos!E54>Jogos!C54,1,0)+IF(Jogos!J54>Jogos!L54,1,0)+IF(Jogos!C82>Jogos!E82,1,0)+IF(Jogos!L82>Jogos!J82,1,0)+IF(Jogos!E110>Jogos!C110,1,0)+IF(Jogos!J110>Jogos!L110,1,0)+IF(Jogos!C138>Jogos!E138,1,0)+IF(Jogos!L138>Jogos!J138,1,0)+IF(Jogos!E166>Jogos!C166,1,0) -> 1 | S18: =Q18-R18-T18 -> 5 | T18: =IF(Jogos!C27<Jogos!E27,1,0)+IF(Jogos!L27<Jogos!J27,1,0)+IF(Jogos!E54<Jogos!C54,1,0)+IF(Jogos!J54<Jogos!L54,1,0)+IF(Jogos!C82<Jogos!E82,1,0)+IF(Jogos!L82<Jogos!J82,1,0)+IF(Jogos!E110<Jogos!C110,1,0)+IF(Jogos!J110<Jogos!L110,1,0)+IF(Jogos!C138<Jogos!E138,1,0)+IF(Jogos!L138<Jogos!J138,1,0)+IF(Jogos!E166<Jogos!C166,1,0)+IF(Jogos!J166<Jogos!L166,1,0) -> 4 | U18: =Jogos!C27+Jogos!L27+Jogos!E54+Jogos!J54+Jogos!C82+Jogos!L82+Jogos!E110+Jogos!J110+Jogos!C138+Jogos!L138+Jogos!E166 -> 10 | V18: =Jogos!E27+Jogos!J27+Jogos!C54+Jogos!L54+Jogos!E82+Jogos!J82+Jogos!C110+Jogos!L110+Jogos!E138+Jogos!J138+Jogos!C166 -> 13 | W18: =U18-V18 -> -3 | X18: =R18*3+S18 -> 8 | Y18: 10 | AA18: =(10^10)*X18+(10^8)*R18+(10^6)*(50+W18)+(10^4)*U18+(10^2)*Q18+(13-O18) -> 80147101003 | AD18: 10 | AE18: =LARGE(AA9:AA19,AD18) -> 70144081006 | AG18: 10 | AH18: =MATCH(AE18,AA9:AA19,0) -> 7
C19: 11º | D19: =VLOOKUP(AH19,$O$9:$Y$19,2) -> Galatasaray | E19: =VLOOKUP(AH19,$O$9:$Y$19,3) -> 0 | F19: =VLOOKUP(AH19,$O$9:$Y$19,4) -> 0 | G19: =VLOOKUP(AH19,$O$9:$Y$19,5) -> 0 | H19: =VLOOKUP(AH19,$O$9:$Y$19,6) -> 0 | I19: =VLOOKUP(AH19,$O$9:$Y$19,7) -> 0 | J19: =VLOOKUP(AH19,$O$9:$Y$19,8) -> 0 | K19: =VLOOKUP(AH19,$O$9:$Y$19,9) -> 0 | L19: =VLOOKUP(AH19,$O$9:$Y$19,10) -> 0 | M19: =IF(E19>0,((L19*100)/N19)/100,0) -> 0 | N19: =E19*3 -> 0 | O19: 11 | P19: Olympique | Q19: =IF(Jogos!C29<>"",1,0)+IF(Jogos!L29<>"",1,0)+IF(Jogos!E56<>"",1,0)+IF(Jogos!J56<>"",1,0)+IF(Jogos!C84<>"",1,0)+IF(Jogos!L84<>"",1,0)+IF(Jogos!E112<>"",1,0)+IF(Jogos!J112<>"",1,0)+IF(Jogos!C140<>"",1,0)+IF(Jogos!L140<>"",1,0)+IF(Jogos!E168<>"",1,0) -> 10 | R19: =IF(Jogos!C29>Jogos!E29,1,0)+IF(Jogos!L29>Jogos!J29,1,0)+IF(Jogos!E56>Jogos!C56,1,0)+IF(Jogos!J56>Jogos!L56,1,0)+IF(Jogos!C84>Jogos!E84,1,0)+IF(Jogos!L84>Jogos!J84,1,0)+IF(Jogos!E112>Jogos!C112,1,0)+IF(Jogos!J112>Jogos!L112,1,0)+IF(Jogos!C140>Jogos!E140,1,0)+IF(Jogos!L140>Jogos!J140,1,0)+IF(Jogos!E168>Jogos!C168,1,0) -> 2 | S19: =Q19-R19-T19 -> 1 | T19: =IF(Jogos!C29<Jogos!E29,1,0)+IF(Jogos!L29<Jogos!J29,1,0)+IF(Jogos!E56<Jogos!C56,1,0)+IF(Jogos!J56<Jogos!L56,1,0)+IF(Jogos!C84<Jogos!E84,1,0)+IF(Jogos!L84<Jogos!J84,1,0)+IF(Jogos!E112<Jogos!C112,1,0)+IF(Jogos!J112<Jogos!L112,1,0)+IF(Jogos!C140<Jogos!E140,1,0)+IF(Jogos!L140<Jogos!J140,1,0)+IF(Jogos!E168<Jogos!C168,1,0)+IF(Jogos!J168<Jogos!L168,1,0) -> 7 | U19: =Jogos!C29+Jogos!L29+Jogos!E56+Jogos!J56+Jogos!C84+Jogos!L84+Jogos!E112+Jogos!J112+Jogos!C140+Jogos!L140+Jogos!E168 -> 3 | V19: =Jogos!E29+Jogos!J29+Jogos!C56+Jogos!L56+Jogos!E84+Jogos!J84+Jogos!C112+Jogos!L112+Jogos!E140+Jogos!J140+Jogos!C168 -> 12 | W19: =U19-V19 -> -9 | X19: =R19*3+S19 -> 7 | Y19: 11 | AA19: =(10^10)*X19+(10^8)*R19+(10^6)*(50+W19)+(10^4)*U19+(10^2)*Q19+(13-O19) -> 70241031002 | AD19: 11 | AE19: =LARGE(AA9:AA19,AD19) -> 50000007 | AG19: 11 | AH19: =MATCH(AE19,AA9:AA19,0) -> 6
C22: Grupo B
C23: Posição | D23: Times | E23: Jogos | F23: Vitorias | G23: Empates | H23: Derrotas | I23: Gols Pró | J23: Gols Cont. | K23: Saldo | L23: Pontos | M23: Aprov. | P23: Times | Q23: Jogos | R23: Vitorias | S23: Empates | T23: Derrotas | U23: Gols Pró | V23: Gols Cont. | W23: Saldo | X23: Pontos | Y23: ID_TIME
C25: 1º | D25: =VLOOKUP(AH25,$O$25:$Y$35,2) -> Celta De Vigo | E25: =VLOOKUP(AH25,$O$25:$Y$35,3) -> 10 | F25: =VLOOKUP(AH25,$O$25:$Y$35,4) -> 8 | G25: =VLOOKUP(AH25,$O$25:$Y$35,5) -> 1 | H25: =VLOOKUP(AH25,$O$25:$Y$35,6) -> 1 | I25: =VLOOKUP(AH25,$O$25:$Y$35,7) -> 19 | J25: =VLOOKUP(AH25,$O$25:$Y$35,8) -> 4 | K25: =VLOOKUP(AH25,$O$25:$Y$35,9) -> 15 | L25: =VLOOKUP(AH25,$O$25:$Y$35,10) -> 25 | M25: =IF(E25>0,((L25*100)/N25)/100,0) -> 0.83333333 | N25: =E25*3 -> 30 | O25: 1 | P25: Sevilla | Q25: =IF(Jogos!E9<>"",1,0)+IF(Jogos!J21<>"",1,0)+IF(Jogos!C38<>"",1,0)+IF(Jogos!L50<>"",1,0)+IF(Jogos!E68<>"",1,0)+IF(Jogos!J80<>"",1,0)+IF(Jogos!C98<>"",1,0)+IF(Jogos!L110<>"",1,0)+IF(Jogos!E128<>"",1,0)+IF(Jogos!J140<>"",1,0)+IF(Jogos!C158<>"",1,0) -> 10 | R25: =IF(Jogos!E9>Jogos!C9,1,0)+IF(Jogos!J21>Jogos!L21,1,0)+IF(Jogos!C38>Jogos!E38,1,0)+IF(Jogos!L50>Jogos!J50,1,0)+IF(Jogos!E68>Jogos!C68,1,0)+IF(Jogos!J80>Jogos!L80,1,0)+IF(Jogos!C98>Jogos!E98,1,0)+IF(Jogos!L110>Jogos!J110,1,0)+IF(Jogos!E128>Jogos!C128,1,0)+IF(Jogos!J140>Jogos!L140,1,0)+IF(Jogos!C158>Jogos!E158,1,0) -> 3 | S25: =Q25-R25-T25 -> 2 | T25: =IF(Jogos!E9<Jogos!C9,1,0)+IF(Jogos!J21<Jogos!L21,1,0)+IF(Jogos!C38<Jogos!E38,1,0)+IF(Jogos!L50<Jogos!J50,1,0)+IF(Jogos!E68<Jogos!C68,1,0)+IF(Jogos!J80<Jogos!L80,1,0)+IF(Jogos!C98<Jogos!E98,1,0)+IF(Jogos!L110<Jogos!J110,1,0)+IF(Jogos!E128<Jogos!C128,1,0)+IF(Jogos!J140<Jogos!L140,1,0)+IF(Jogos!C158<Jogos!E158,1,0) -> 5 | U25: =Jogos!E9+Jogos!J21+Jogos!C38+Jogos!L50+Jogos!E68+Jogos!J80+Jogos!C98+Jogos!L110+Jogos!E128+Jogos!J140+Jogos!C158 -> 13 | V25: =Jogos!C9+Jogos!L21+Jogos!E38+Jogos!J50+Jogos!C68+Jogos!L80+Jogos!E98+Jogos!J110+Jogos!C128+Jogos!L140+Jogos!E158 -> 16 | W25: =U25-V25 -> -3 | X25: =R25*3+S25 -> 11 | Y25: 12 | AA25: =(10^10)*X25+(10^8)*R25+(10^6)*(50+W25)+(10^4)*U25+(10^2)*Q25+(13-O25) -> 110347131012 | AD25: 1 | AE25: =LARGE(AA25:AA35,AD25) -> 250865191005 | AG25: 1 | AH25: =MATCH(AE25,AA25:AA35,0) -> 8
C26: 2º | D26: =VLOOKUP(AH26,$O$25:$Y$35,2) -> P S V | E26: =VLOOKUP(AH26,$O$25:$Y$35,3) -> 10 | F26: =VLOOKUP(AH26,$O$25:$Y$35,4) -> 6 | G26: =VLOOKUP(AH26,$O$25:$Y$35,5) -> 1 | H26: =VLOOKUP(AH26,$O$25:$Y$35,6) -> 3 | I26: =VLOOKUP(AH26,$O$25:$Y$35,7) -> 12 | J26: =VLOOKUP(AH26,$O$25:$Y$35,8) -> 9 | K26: =VLOOKUP(AH26,$O$25:$Y$35,9) -> 3 | L26: =VLOOKUP(AH26,$O$25:$Y$35,10) -> 19 | M26: =IF(E26>0,((L26*100)/N26)/100,0) -> 0.63333333 | N26: =E26*3 -> 30 | O26: 2 | P26: P S V | Q26: =IF(Jogos!E11<>"",1,0)+IF(Jogos!J23<>"",1,0)+IF(Jogos!C40<>"",1,0)+IF(Jogos!L52<>"",1,0)+IF(Jogos!E70<>"",1,0)+IF(Jogos!J82<>"",1,0)+IF(Jogos!C100<>"",1,0)+IF(Jogos!L112<>"",1,0)+IF(Jogos!E130<>"",1,0)+IF(Jogos!J120<>"",1,0)+IF(Jogos!C160<>"",1,0) -> 10 | R26: =IF(Jogos!E11>Jogos!C11,1,0)+IF(Jogos!J23>Jogos!L23,1,0)+IF(Jogos!C40>Jogos!E40,1,0)+IF(Jogos!L52>Jogos!J52,1,0)+IF(Jogos!E70>Jogos!C70,1,0)+IF(Jogos!J82>Jogos!L82,1,0)+IF(Jogos!C100>Jogos!E100,1,0)+IF(Jogos!L112>Jogos!J112,1,0)+IF(Jogos!E130>Jogos!C130,1,0)+IF(Jogos!J120>Jogos!L120,1,0)+IF(Jogos!C160>Jogos!E160,1,0) -> 6 | S26: =Q26-R26-T26 -> 1 | T26: =IF(Jogos!E11<Jogos!C11,1,0)+IF(Jogos!J23<Jogos!L23,1,0)+IF(Jogos!C40<Jogos!E40,1,0)+IF(Jogos!L52<Jogos!J52,1,0)+IF(Jogos!E70<Jogos!C70,1,0)+IF(Jogos!J82<Jogos!L82,1,0)+IF(Jogos!C100<Jogos!E100,1,0)+IF(Jogos!L112<Jogos!J112,1,0)+IF(Jogos!E130<Jogos!C130,1,0)+IF(Jogos!J120<Jogos!L120,1,0)+IF(Jogos!C160<Jogos!E160,1,0) -> 3 | U26: =Jogos!E11+Jogos!J23+Jogos!C40+Jogos!L52+Jogos!E70+Jogos!J82+Jogos!C100+Jogos!L112+Jogos!E130+Jogos!J120+Jogos!C160 -> 12 | V26: =Jogos!C11+Jogos!L23+Jogos!E40+Jogos!J52+Jogos!C70+Jogos!L82+Jogos!E100+Jogos!J112+Jogos!C130+Jogos!L120+Jogos!E160 -> 9 | W26: =U26-V26 -> 3 | X26: =R26*3+S26 -> 19 | Y26: 13 | AA26: =(10^10)*X26+(10^8)*R26+(10^6)*(50+W26)+(10^4)*U26+(10^2)*Q26+(13-O26) -> 190653121011 | AD26: 2 | AE26: =LARGE(AA25:AA35,AD26) -> 190653121011 | AG26: 2 | AH26: =MATCH(AE26,AA25:AA35,0) -> 2
C27: 3º | D27: =VLOOKUP(AH27,$O$25:$Y$35,2) -> Crystal Palace | E27: =VLOOKUP(AH27,$O$25:$Y$35,3) -> 10 | F27: =VLOOKUP(AH27,$O$25:$Y$35,4) -> 5 | G27: =VLOOKUP(AH27,$O$25:$Y$35,5) -> 4 | H27: =VLOOKUP(AH27,$O$25:$Y$35,6) -> 1 | I27: =VLOOKUP(AH27,$O$25:$Y$35,7) -> 7 | J27: =VLOOKUP(AH27,$O$25:$Y$35,8) -> 3 | K27: =VLOOKUP(AH27,$O$25:$Y$35,9) -> 4 | L27: =VLOOKUP(AH27,$O$25:$Y$35,10) -> 19 | M27: =IF(E27>0,((L27*100)/N27)/100,0) -> 0.63333333 | N27: =E27*3 -> 30 | O27: 3 | P27: Crystal Palace | Q27: =IF(Jogos!E13<>"",1,0)+IF(Jogos!J25<>"",1,0)+IF(Jogos!C42<>"",1,0)+IF(Jogos!L54<>"",1,0)+IF(Jogos!E72<>"",1,0)+IF(Jogos!J84<>"",1,0)+IF(Jogos!C102<>"",1,0)+IF(Jogos!L92<>"",1,0)+IF(Jogos!E132<>"",1,0)+IF(Jogos!J122<>"",1,0)+IF(Jogos!C162<>"",1,0) -> 10 | R27: =IF(Jogos!E13>Jogos!C13,1,0)+IF(Jogos!J25>Jogos!L25,1,0)+IF(Jogos!C42>Jogos!E42,1,0)+IF(Jogos!L54>Jogos!J54,1,0)+IF(Jogos!E72>Jogos!C72,1,0)+IF(Jogos!J84>Jogos!L84,1,0)+IF(Jogos!C102>Jogos!E102,1,0)+IF(Jogos!L92>Jogos!J92,1,0)+IF(Jogos!E132>Jogos!C132,1,0)+IF(Jogos!J122>Jogos!L122,1,0)+IF(Jogos!C162>Jogos!E162,1,0) -> 5 | S27: =Q27-R27-T27 -> 4 | T27: =IF(Jogos!E13<Jogos!C13,1,0)+IF(Jogos!J25<Jogos!L25,1,0)+IF(Jogos!C42<Jogos!E42,1,0)+IF(Jogos!L54<Jogos!J54,1,0)+IF(Jogos!E72<Jogos!C72,1,0)+IF(Jogos!J84<Jogos!L84,1,0)+IF(Jogos!C102<Jogos!E102,1,0)+IF(Jogos!L92<Jogos!J92,1,0)+IF(Jogos!E132<Jogos!C132,1,0)+IF(Jogos!J122<Jogos!L122,1,0)+IF(Jogos!C162<Jogos!E162,1,0) -> 1 | U27: =Jogos!E13+Jogos!J25+Jogos!C42+Jogos!L54+Jogos!E72+Jogos!J84+Jogos!C102+Jogos!L92+Jogos!E132+Jogos!J122+Jogos!C162 -> 7 | V27: =Jogos!C13+Jogos!L25+Jogos!E42+Jogos!J54+Jogos!C72+Jogos!L84+Jogos!E102+Jogos!J92+Jogos!C132+Jogos!L122+Jogos!E162 -> 3 | W27: =U27-V27 -> 4 | X27: =R27*3+S27 -> 19 | Y27: 14 | AA27: =(10^10)*X27+(10^8)*R27+(10^6)*(50+W27)+(10^4)*U27+(10^2)*Q27+(13-O27) -> 190554071010 | AD27: 3 | AE27: =LARGE(AA25:AA35,AD27) -> 190554071010 | AG27: 3 | AH27: =MATCH(AE27,AA25:AA35,0) -> 3
C28: 4º | D28: =VLOOKUP(AH28,$O$25:$Y$35,2) -> Torino | E28: =VLOOKUP(AH28,$O$25:$Y$35,3) -> 10 | F28: =VLOOKUP(AH28,$O$25:$Y$35,4) -> 5 | G28: =VLOOKUP(AH28,$O$25:$Y$35,5) -> 2 | H28: =VLOOKUP(AH28,$O$25:$Y$35,6) -> 3 | I28: =VLOOKUP(AH28,$O$25:$Y$35,7) -> 16 | J28: =VLOOKUP(AH28,$O$25:$Y$35,8) -> 12 | K28: =VLOOKUP(AH28,$O$25:$Y$35,9) -> 4 | L28: =VLOOKUP(AH28,$O$25:$Y$35,10) -> 17 | M28: =IF(E28>0,((L28*100)/N28)/100,0) -> 0.56666667 | N28: =E28*3 -> 30 | O28: 4 | P28: Borussia M | Q28: =IF(Jogos!E15<>"",1,0)+IF(Jogos!J27<>"",1,0)+IF(Jogos!C44<>"",1,0)+IF(Jogos!L56<>"",1,0)+IF(Jogos!E74<>"",1,0)+IF(Jogos!J64<>"",1,0)+IF(Jogos!C104<>"",1,0)+IF(Jogos!L94<>"",1,0)+IF(Jogos!E134<>"",1,0)+IF(Jogos!J124<>"",1,0)+IF(Jogos!C164<>"",1,0) -> 10 | R28: =IF(Jogos!E15>Jogos!C15,1,0)+IF(Jogos!J27>Jogos!L27,1,0)+IF(Jogos!C44>Jogos!E44,1,0)+IF(Jogos!L56>Jogos!J56,1,0)+IF(Jogos!E74>Jogos!C74,1,0)+IF(Jogos!J64>Jogos!L64,1,0)+IF(Jogos!C104>Jogos!E104,1,0)+IF(Jogos!L94>Jogos!J94,1,0)+IF(Jogos!E134>Jogos!C134,1,0)+IF(Jogos!J124>Jogos!L124,1,0)+IF(Jogos!C164>Jogos!E164,1,0) -> 2 | S28: =Q28-R28-T28 -> 5 | T28: =IF(Jogos!E15<Jogos!C15,1,0)+IF(Jogos!J27<Jogos!L27,1,0)+IF(Jogos!C44<Jogos!E44,1,0)+IF(Jogos!L56<Jogos!J56,1,0)+IF(Jogos!E74<Jogos!C74,1,0)+IF(Jogos!J64<Jogos!L64,1,0)+IF(Jogos!C104<Jogos!E104,1,0)+IF(Jogos!L94<Jogos!J94,1,0)+IF(Jogos!E134<Jogos!C134,1,0)+IF(Jogos!J124<Jogos!L124,1,0)+IF(Jogos!C164<Jogos!E164,1,0) -> 3 | U28: =Jogos!E15+Jogos!J27+Jogos!C44+Jogos!L56+Jogos!E74+Jogos!J64+Jogos!C104+Jogos!L94+Jogos!E134+Jogos!J124+Jogos!C164 -> 8 | V28: =Jogos!C15+Jogos!L27+Jogos!E44+Jogos!J56+Jogos!C74+Jogos!L64+Jogos!E104+Jogos!J94+Jogos!C134+Jogos!L124+Jogos!E164 -> 10 | W28: =U28-V28 -> -2 | X28: =R28*3+S28 -> 11 | Y28: 15 | AA28: =(10^10)*X28+(10^8)*R28+(10^6)*(50+W28)+(10^4)*U28+(10^2)*Q28+(13-O28) -> 110248081009 | AD28: 4 | AE28: =LARGE(AA25:AA35,AD28) -> 170554161003 | AG28: 4 | AH28: =MATCH(AE28,AA25:AA35,0) -> 10
C29: 5º | D29: =VLOOKUP(AH29,$O$25:$Y$35,2) -> Villarreal | E29: =VLOOKUP(AH29,$O$25:$Y$35,3) -> 10 | F29: =VLOOKUP(AH29,$O$25:$Y$35,4) -> 4 | G29: =VLOOKUP(AH29,$O$25:$Y$35,5) -> 3 | H29: =VLOOKUP(AH29,$O$25:$Y$35,6) -> 3 | I29: =VLOOKUP(AH29,$O$25:$Y$35,7) -> 9 | J29: =VLOOKUP(AH29,$O$25:$Y$35,8) -> 9 | K29: =VLOOKUP(AH29,$O$25:$Y$35,9) -> 0 | L29: =VLOOKUP(AH29,$O$25:$Y$35,10) -> 15 | M29: =IF(E29>0,((L29*100)/N29)/100,0) -> 0.5 | N29: =E29*3 -> 30 | O29: 5 | P29: Villarreal | Q29: =IF(Jogos!E17<>"",1,0)+IF(Jogos!J29<>"",1,0)+IF(Jogos!C46<>"",1,0)+IF(Jogos!L36<>"",1,0)+IF(Jogos!E76<>"",1,0)+IF(Jogos!J66<>"",1,0)+IF(Jogos!C106<>"",1,0)+IF(Jogos!L96<>"",1,0)+IF(Jogos!E136<>"",1,0)+IF(Jogos!J126<>"",1,0)+IF(Jogos!C166<>"",1,0) -> 10 | R29: =IF(Jogos!E17>Jogos!C17,1,0)+IF(Jogos!J29>Jogos!L29,1,0)+IF(Jogos!C46>Jogos!E46,1,0)+IF(Jogos!L36>Jogos!J36,1,0)+IF(Jogos!E76>Jogos!C76,1,0)+IF(Jogos!J66>Jogos!L66,1,0)+IF(Jogos!C106>Jogos!E106,1,0)+IF(Jogos!L96>Jogos!J96,1,0)+IF(Jogos!E136>Jogos!C136,1,0)+IF(Jogos!J126>Jogos!L126,1,0)+IF(Jogos!C166>Jogos!E166,1,0) -> 4 | S29: =Q29-R29-T29 -> 3 | T29: =IF(Jogos!E17<Jogos!C17,1,0)+IF(Jogos!J29<Jogos!L29,1,0)+IF(Jogos!C46<Jogos!E46,1,0)+IF(Jogos!L36<Jogos!J36,1,0)+IF(Jogos!E76<Jogos!C76,1,0)+IF(Jogos!J66<Jogos!L66,1,0)+IF(Jogos!C106<Jogos!E106,1,0)+IF(Jogos!L96<Jogos!J96,1,0)+IF(Jogos!E136<Jogos!C136,1,0)+IF(Jogos!J126<Jogos!L126,1,0)+IF(Jogos!C166<Jogos!E166,1,0) -> 3 | U29: =Jogos!E17+Jogos!J29+Jogos!C46+Jogos!L36+Jogos!E76+Jogos!J66+Jogos!C106+Jogos!L96+Jogos!E136+Jogos!J126+Jogos!C166 -> 9 | V29: =Jogos!C17+Jogos!L29+Jogos!E46+Jogos!J36+Jogos!C76+Jogos!L66+Jogos!E106+Jogos!J96+Jogos!C136+Jogos!L126+Jogos!E166 -> 9 | W29: =U29-V29 -> 0 | X29: =R29*3+S29 -> 15 | Y29: 16 | AA29: =(10^10)*X29+(10^8)*R29+(10^6)*(50+W29)+(10^4)*U29+(10^2)*Q29+(13-O29) -> 150450091008 | AD29: 5 | AE29: =LARGE(AA25:AA35,AD29) -> 150450091008 | AG29: 5 | AH29: =MATCH(AE29,AA25:AA35,0) -> 5
C30: 6º | D30: =VLOOKUP(AH30,$O$25:$Y$35,2) -> R B Leipzig | E30: =VLOOKUP(AH30,$O$25:$Y$35,3) -> 10 | F30: =VLOOKUP(AH30,$O$25:$Y$35,4) -> 4 | G30: =VLOOKUP(AH30,$O$25:$Y$35,5) -> 3 | H30: =VLOOKUP(AH30,$O$25:$Y$35,6) -> 3 | I30: =VLOOKUP(AH30,$O$25:$Y$35,7) -> 12 | J30: =VLOOKUP(AH30,$O$25:$Y$35,8) -> 15 | K30: =VLOOKUP(AH30,$O$25:$Y$35,9) -> -3 | L30: =VLOOKUP(AH30,$O$25:$Y$35,10) -> 15 | M30: =IF(E30>0,((L30*100)/N30)/100,0) -> 0.5 | N30: =E30*3 -> 30 | O30: 6 | P30: R B Leipzig | Q30: =IF(Jogos!E19<>"",1,0)+IF(Jogos!J9<>"",1,0)+IF(Jogos!C48<>"",1,0)+IF(Jogos!L38<>"",1,0)+IF(Jogos!E78<>"",1,0)+IF(Jogos!J68<>"",1,0)+IF(Jogos!C108<>"",1,0)+IF(Jogos!L98<>"",1,0)+IF(Jogos!E138<>"",1,0)+IF(Jogos!J128<>"",1,0)+IF(Jogos!C168<>"",1,0) -> 10 | R30: =IF(Jogos!E19>Jogos!C19,1,0)+IF(Jogos!J9>Jogos!L9,1,0)+IF(Jogos!C48>Jogos!E48,1,0)+IF(Jogos!L38>Jogos!J38,1,0)+IF(Jogos!E78>Jogos!C78,1,0)+IF(Jogos!J68>Jogos!L68,1,0)+IF(Jogos!C108>Jogos!E108,1,0)+IF(Jogos!L98>Jogos!J98,1,0)+IF(Jogos!E138>Jogos!C138,1,0)+IF(Jogos!J128>Jogos!L128,1,0)+IF(Jogos!C168>Jogos!E168,1,0) -> 4 | S30: =Q30-R30-T30 -> 3 | T30: =IF(Jogos!E19<Jogos!C19,1,0)+IF(Jogos!J9<Jogos!L9,1,0)+IF(Jogos!C48<Jogos!E48,1,0)+IF(Jogos!L38<Jogos!J38,1,0)+IF(Jogos!E78<Jogos!C78,1,0)+IF(Jogos!J68<Jogos!L68,1,0)+IF(Jogos!C108<Jogos!E108,1,0)+IF(Jogos!L98<Jogos!J98,1,0)+IF(Jogos!E138<Jogos!C138,1,0)+IF(Jogos!J128<Jogos!L128,1,0)+IF(Jogos!C168<Jogos!E168,1,0) -> 3 | U30: =Jogos!E19+Jogos!J9+Jogos!C48+Jogos!L38+Jogos!E78+Jogos!J68+Jogos!C108+Jogos!L98+Jogos!E138+Jogos!J128+Jogos!C168 -> 12 | V30: =Jogos!C19+Jogos!L9+Jogos!E48+Jogos!J38+Jogos!C78+Jogos!L68+Jogos!E108+Jogos!J98+Jogos!C138+Jogos!L128+Jogos!E168 -> 15 | W30: =U30-V30 -> -3 | X30: =R30*3+S30 -> 15 | Y30: 17 | AA30: =(10^10)*X30+(10^8)*R30+(10^6)*(50+W30)+(10^4)*U30+(10^2)*Q30+(13-O30) -> 150447121007 | AD30: 6 | AE30: =LARGE(AA25:AA35,AD30) -> 150447121007 | AG30: 6 | AH30: =MATCH(AE30,AA25:AA35,0) -> 6
C31: 7º | D31: =VLOOKUP(AH31,$O$25:$Y$35,2) -> Sevilla | E31: =VLOOKUP(AH31,$O$25:$Y$35,3) -> 10 | F31: =VLOOKUP(AH31,$O$25:$Y$35,4) -> 3 | G31: =VLOOKUP(AH31,$O$25:$Y$35,5) -> 2 | H31: =VLOOKUP(AH31,$O$25:$Y$35,6) -> 5 | I31: =VLOOKUP(AH31,$O$25:$Y$35,7) -> 13 | J31: =VLOOKUP(AH31,$O$25:$Y$35,8) -> 16 | K31: =VLOOKUP(AH31,$O$25:$Y$35,9) -> -3 | L31: =VLOOKUP(AH31,$O$25:$Y$35,10) -> 11 | M31: =IF(E31>0,((L31*100)/N31)/100,0) -> 0.36666667 | N31: =E31*3 -> 30 | O31: 7 | P31: Real Betis | Q31: =IF(Jogos!E21<>"",1,0)+IF(Jogos!J11<>"",1,0)+IF(Jogos!C50<>"",1,0)+IF(Jogos!L40<>"",1,0)+IF(Jogos!E80<>"",1,0)+IF(Jogos!J70<>"",1,0)+IF(Jogos!C110<>"",1,0)+IF(Jogos!L100<>"",1,0)+IF(Jogos!E140<>"",1,0)+IF(Jogos!J130<>"",1,0)+IF(Jogos!C148<>"",1,0) -> 10 | R31: =IF(Jogos!E21>Jogos!C21,1,0)+IF(Jogos!J11>Jogos!L11,1,0)+IF(Jogos!C50>Jogos!E50,1,0)+IF(Jogos!L40>Jogos!J40,1,0)+IF(Jogos!E80>Jogos!C80,1,0)+IF(Jogos!J70>Jogos!L70,1,0)+IF(Jogos!C110>Jogos!E110,1,0)+IF(Jogos!L100>Jogos!J100,1,0)+IF(Jogos!E140>Jogos!C140,1,0)+IF(Jogos!J130>Jogos!L130,1,0)+IF(Jogos!C148>Jogos!E148,1,0) -> 1 | S31: =Q31-R31-T31 -> 5 | T31: =IF(Jogos!E21<Jogos!C21,1,0)+IF(Jogos!J11<Jogos!L11,1,0)+IF(Jogos!C50<Jogos!E50,1,0)+IF(Jogos!L40<Jogos!J40,1,0)+IF(Jogos!E80<Jogos!C80,1,0)+IF(Jogos!J70<Jogos!L70,1,0)+IF(Jogos!C110<Jogos!E110,1,0)+IF(Jogos!L100<Jogos!J100,1,0)+IF(Jogos!E140<Jogos!C140,1,0)+IF(Jogos!J130<Jogos!L130,1,0)+IF(Jogos!C148<Jogos!E148,1,0) -> 4 | U31: =Jogos!E21+Jogos!J11+Jogos!C50+Jogos!L40+Jogos!E80+Jogos!J70+Jogos!C110+Jogos!L100+Jogos!E140+Jogos!J130+Jogos!C148 -> 9 | V31: =Jogos!C21+Jogos!L11+Jogos!E50+Jogos!J40+Jogos!C80+Jogos!L70+Jogos!E110+Jogos!J100+Jogos!C140+Jogos!L130+Jogos!E148 -> 11 | W31: =U31-V31 -> -2 | X31: =R31*3+S31 -> 8 | Y31: 18 | AA31: =(10^10)*X31+(10^8)*R31+(10^6)*(50+W31)+(10^4)*U31+(10^2)*Q31+(13-O31) -> 80148091006 | AD31: 7 | AE31: =LARGE(AA25:AA35,AD31) -> 110347131012 | AG31: 7 | AH31: =MATCH(AE31,AA25:AA35,0) -> 1
C32: 8º | D32: =VLOOKUP(AH32,$O$25:$Y$35,2) -> Borussia M | E32: =VLOOKUP(AH32,$O$25:$Y$35,3) -> 10 | F32: =VLOOKUP(AH32,$O$25:$Y$35,4) -> 2 | G32: =VLOOKUP(AH32,$O$25:$Y$35,5) -> 5 | H32: =VLOOKUP(AH32,$O$25:$Y$35,6) -> 3 | I32: =VLOOKUP(AH32,$O$25:$Y$35,7) -> 8 | J32: =VLOOKUP(AH32,$O$25:$Y$35,8) -> 10 | K32: =VLOOKUP(AH32,$O$25:$Y$35,9) -> -2 | L32: =VLOOKUP(AH32,$O$25:$Y$35,10) -> 11 | M32: =IF(E32>0,((L32*100)/N32)/100,0) -> 0.36666667 | N32: =E32*3 -> 30 | O32: 8 | P32: Celta De Vigo | Q32: =IF(Jogos!E23<>"",1,0)+IF(Jogos!J13<>"",1,0)+IF(Jogos!C52<>"",1,0)+IF(Jogos!L42<>"",1,0)+IF(Jogos!E82<>"",1,0)+IF(Jogos!J72<>"",1,0)+IF(Jogos!C112<>"",1,0)+IF(Jogos!L102<>"",1,0)+IF(Jogos!E120<>"",1,0)+IF(Jogos!J132<>"",1,0)+IF(Jogos!C150<>"",1,0) -> 10 | R32: =IF(Jogos!E23>Jogos!C23,1,0)+IF(Jogos!J13>Jogos!L13,1,0)+IF(Jogos!C52>Jogos!E52,1,0)+IF(Jogos!L42>Jogos!J42,1,0)+IF(Jogos!E82>Jogos!C82,1,0)+IF(Jogos!J72>Jogos!L72,1,0)+IF(Jogos!C112>Jogos!E112,1,0)+IF(Jogos!L102>Jogos!J102,1,0)+IF(Jogos!E120>Jogos!C120,1,0)+IF(Jogos!J132>Jogos!L132,1,0)+IF(Jogos!C150>Jogos!E150,1,0) -> 8 | S32: =Q32-R32-T32 -> 1 | T32: =IF(Jogos!E23<Jogos!C23,1,0)+IF(Jogos!J13<Jogos!L13,1,0)+IF(Jogos!C52<Jogos!E52,1,0)+IF(Jogos!L42<Jogos!J42,1,0)+IF(Jogos!E82<Jogos!C82,1,0)+IF(Jogos!J72<Jogos!L72,1,0)+IF(Jogos!C112<Jogos!E112,1,0)+IF(Jogos!L102<Jogos!J102,1,0)+IF(Jogos!E120<Jogos!C120,1,0)+IF(Jogos!J132<Jogos!L132,1,0)+IF(Jogos!C150<Jogos!E150,1,0) -> 1 | U32: =Jogos!E23+Jogos!J13+Jogos!C52+Jogos!L42+Jogos!E82+Jogos!J72+Jogos!C112+Jogos!L102+Jogos!E120+Jogos!J132+Jogos!C150 -> 19 | V32: =Jogos!C23+Jogos!L13+Jogos!E52+Jogos!J42+Jogos!C82+Jogos!L72+Jogos!E112+Jogos!J102+Jogos!C120+Jogos!L132+Jogos!E150 -> 4 | W32: =U32-V32 -> 15 | X32: =R32*3+S32 -> 25 | Y32: 19 | AA32: =(10^10)*X32+(10^8)*R32+(10^6)*(50+W32)+(10^4)*U32+(10^2)*Q32+(13-O32) -> 250865191005 | AD32: 8 | AE32: =LARGE(AA25:AA35,AD32) -> 110248081009 | AG32: 8 | AH32: =MATCH(AE32,AA25:AA35,0) -> 4
C33: 9º | D33: =VLOOKUP(AH33,$O$25:$Y$35,2) -> Real Betis | E33: =VLOOKUP(AH33,$O$25:$Y$35,3) -> 10 | F33: =VLOOKUP(AH33,$O$25:$Y$35,4) -> 1 | G33: =VLOOKUP(AH33,$O$25:$Y$35,5) -> 5 | H33: =VLOOKUP(AH33,$O$25:$Y$35,6) -> 4 | I33: =VLOOKUP(AH33,$O$25:$Y$35,7) -> 9 | J33: =VLOOKUP(AH33,$O$25:$Y$35,8) -> 11 | K33: =VLOOKUP(AH33,$O$25:$Y$35,9) -> -2 | L33: =VLOOKUP(AH33,$O$25:$Y$35,10) -> 8 | M33: =IF(E33>0,((L33*100)/N33)/100,0) -> 0.26666667 | N33: =E33*3 -> 30 | O33: 9 | P33: Everton | Q33: =IF(Jogos!E25<>"",1,0)+IF(Jogos!J15<>"",1,0)+IF(Jogos!C54<>"",1,0)+IF(Jogos!L44<>"",1,0)+IF(Jogos!E84<>"",1,0)+IF(Jogos!J74<>"",1,0)+IF(Jogos!C92<>"",1,0)+IF(Jogos!L104<>"",1,0)+IF(Jogos!E122<>"",1,0)+IF(Jogos!J134<>"",1,0)+IF(Jogos!C152<>"",1,0) -> 10 | R33: =IF(Jogos!E25>Jogos!C25,1,0)+IF(Jogos!J15>Jogos!L15,1,0)+IF(Jogos!C54>Jogos!E54,1,0)+IF(Jogos!L44>Jogos!J44,1,0)+IF(Jogos!E84>Jogos!C84,1,0)+IF(Jogos!J74>Jogos!L74,1,0)+IF(Jogos!C92>Jogos!E92,1,0)+IF(Jogos!L104>Jogos!J104,1,0)+IF(Jogos!E122>Jogos!C122,1,0)+IF(Jogos!J134>Jogos!L134,1,0)+IF(Jogos!C152>Jogos!E152,1,0) -> 1 | S33: =Q33-R33-T33 -> 2 | T33: =IF(Jogos!E25<Jogos!C25,1,0)+IF(Jogos!J15<Jogos!L15,1,0)+IF(Jogos!C54<Jogos!E54,1,0)+IF(Jogos!L44<Jogos!J44,1,0)+IF(Jogos!E84<Jogos!C84,1,0)+IF(Jogos!J74<Jogos!L74,1,0)+IF(Jogos!C92<Jogos!E92,1,0)+IF(Jogos!L104<Jogos!J104,1,0)+IF(Jogos!E122<Jogos!C122,1,0)+IF(Jogos!J134<Jogos!L134,1,0)+IF(Jogos!C152<Jogos!E152,1,0) -> 7 | U33: =Jogos!E25+Jogos!J15+Jogos!C54+Jogos!L44+Jogos!E84+Jogos!J74+Jogos!C92+Jogos!L104+Jogos!E122+Jogos!J134+Jogos!C152 -> 8 | V33: =Jogos!C25+Jogos!L15+Jogos!E54+Jogos!J44+Jogos!C84+Jogos!L74+Jogos!E92+Jogos!J104+Jogos!C122+Jogos!L134+Jogos!E152 -> 24 | W33: =U33-V33 -> -16 | X33: =R33*3+S33 -> 5 | Y33: 20 | AA33: =(10^10)*X33+(10^8)*R33+(10^6)*(50+W33)+(10^4)*U33+(10^2)*Q33+(13-O33) -> 50134081004 | AD33: 9 | AE33: =LARGE(AA25:AA35,AD33) -> 80148091006 | AG33: 9 | AH33: =MATCH(AE33,AA25:AA35,0) -> 7
C34: 10º | D34: =VLOOKUP(AH34,$O$25:$Y$35,2) -> Everton | E34: =VLOOKUP(AH34,$O$25:$Y$35,3) -> 10 | F34: =VLOOKUP(AH34,$O$25:$Y$35,4) -> 1 | G34: =VLOOKUP(AH34,$O$25:$Y$35,5) -> 2 | H34: =VLOOKUP(AH34,$O$25:$Y$35,6) -> 7 | I34: =VLOOKUP(AH34,$O$25:$Y$35,7) -> 8 | J34: =VLOOKUP(AH34,$O$25:$Y$35,8) -> 24 | K34: =VLOOKUP(AH34,$O$25:$Y$35,9) -> -16 | L34: =VLOOKUP(AH34,$O$25:$Y$35,10) -> 5 | M34: =IF(E34>0,((L34*100)/N34)/100,0) -> 0.16666667 | N34: =E34*3 -> 30 | O34: 10 | P34: Torino | Q34: =IF(Jogos!E27<>"",1,0)+IF(Jogos!J17<>"",1,0)+IF(Jogos!C56<>"",1,0)+IF(Jogos!L46<>"",1,0)+IF(Jogos!E64<>"",1,0)+IF(Jogos!J76<>"",1,0)+IF(Jogos!C94<>"",1,0)+IF(Jogos!L106<>"",1,0)+IF(Jogos!E124<>"",1,0)+IF(Jogos!J136<>"",1,0)+IF(Jogos!C154<>"",1,0) -> 10 | R34: =IF(Jogos!E27>Jogos!C27,1,0)+IF(Jogos!J17>Jogos!L17,1,0)+IF(Jogos!C56>Jogos!E56,1,0)+IF(Jogos!L46>Jogos!J46,1,0)+IF(Jogos!E64>Jogos!C64,1,0)+IF(Jogos!J76>Jogos!L76,1,0)+IF(Jogos!C94>Jogos!E94,1,0)+IF(Jogos!L106>Jogos!J106,1,0)+IF(Jogos!E124>Jogos!C124,1,0)+IF(Jogos!J136>Jogos!L136,1,0)+IF(Jogos!C154>Jogos!E154,1,0) -> 5 | S34: =Q34-R34-T34 -> 2 | T34: =IF(Jogos!E27<Jogos!C27,1,0)+IF(Jogos!J17<Jogos!L17,1,0)+IF(Jogos!C56<Jogos!E56,1,0)+IF(Jogos!L46<Jogos!J46,1,0)+IF(Jogos!E64<Jogos!C64,1,0)+IF(Jogos!J76<Jogos!L76,1,0)+IF(Jogos!C94<Jogos!E94,1,0)+IF(Jogos!L106<Jogos!J106,1,0)+IF(Jogos!E124<Jogos!C124,1,0)+IF(Jogos!J136<Jogos!L136,1,0)+IF(Jogos!C154<Jogos!E154,1,0) -> 3 | U34: =Jogos!E27+Jogos!J17+Jogos!C56+Jogos!L46+Jogos!E64+Jogos!J76+Jogos!C94+Jogos!L106+Jogos!E124+Jogos!J136+Jogos!C154 -> 16 | V34: =Jogos!C27+Jogos!L17+Jogos!E56+Jogos!J46+Jogos!C64+Jogos!L76+Jogos!E94+Jogos!J106+Jogos!C124+Jogos!L136+Jogos!E154 -> 12 | W34: =U34-V34 -> 4 | X34: =R34*3+S34 -> 17 | Y34: 21 | AA34: =(10^10)*X34+(10^8)*R34+(10^6)*(50+W34)+(10^4)*U34+(10^2)*Q34+(13-O34) -> 170554161003 | AD34: 10 | AE34: =LARGE(AA25:AA35,AD34) -> 50134081004 | AG34: 10 | AH34: =MATCH(AE34,AA25:AA35,0) -> 9
C35: 11º | D35: =VLOOKUP(AH35,$O$25:$Y$35,2) -> W.O | E35: =VLOOKUP(AH35,$O$25:$Y$35,3) -> 0 | F35: =VLOOKUP(AH35,$O$25:$Y$35,4) -> 0 | G35: =VLOOKUP(AH35,$O$25:$Y$35,5) -> 0 | H35: =VLOOKUP(AH35,$O$25:$Y$35,6) -> 0 | I35: =VLOOKUP(AH35,$O$25:$Y$35,7) -> 0 | J35: =VLOOKUP(AH35,$O$25:$Y$35,8) -> 0 | K35: =VLOOKUP(AH35,$O$25:$Y$35,9) -> 0 | L35: =VLOOKUP(AH35,$O$25:$Y$35,10) -> 0 | M35: =IF(E35>0,((L35*100)/N35)/100,0) -> 0 | N35: =E35*3 -> 0 | O35: 11 | P35: W.O | Q35: =IF(Jogos!E29<>"",1,0)+IF(Jogos!J19<>"",1,0)+IF(Jogos!C36<>"",1,0)+IF(Jogos!L48<>"",1,0)+IF(Jogos!E66<>"",1,0)+IF(Jogos!J78<>"",1,0)+IF(Jogos!C96<>"",1,0)+IF(Jogos!L108<>"",1,0)+IF(Jogos!E126<>"",1,0)+IF(Jogos!J138<>"",1,0)+IF(Jogos!C156<>"",1,0) -> 0 | R35: =IF(Jogos!E29>Jogos!C29,1,0)+IF(Jogos!J19>Jogos!L19,1,0)+IF(Jogos!C36>Jogos!E36,1,0)+IF(Jogos!L48>Jogos!J48,1,0)+IF(Jogos!E66>Jogos!C66,1,0)+IF(Jogos!J78>Jogos!L78,1,0)+IF(Jogos!C96>Jogos!E96,1,0)+IF(Jogos!L108>Jogos!J108,1,0)+IF(Jogos!E126>Jogos!C126,1,0)+IF(Jogos!J138>Jogos!L138,1,0)+IF(Jogos!C156>Jogos!E156,1,0) -> 0 | S35: =Q35-R35-T35 -> 0 | T35: =IF(Jogos!E29<Jogos!C29,1,0)+IF(Jogos!J19<Jogos!L19,1,0)+IF(Jogos!C36<Jogos!E36,1,0)+IF(Jogos!L48<Jogos!J48,1,0)+IF(Jogos!E66<Jogos!C66,1,0)+IF(Jogos!J78<Jogos!L78,1,0)+IF(Jogos!C96<Jogos!E96,1,0)+IF(Jogos!L108<Jogos!J108,1,0)+IF(Jogos!E126<Jogos!C126,1,0)+IF(Jogos!J138<Jogos!L138,1,0)+IF(Jogos!C156<Jogos!E156,1,0) -> 0 | U35: =Jogos!E29+Jogos!J19+Jogos!C36+Jogos!L48+Jogos!E66+Jogos!J78+Jogos!C96+Jogos!L108+Jogos!E126+Jogos!J138+Jogos!C156 -> 0 | V35: =Jogos!C29+Jogos!L19+Jogos!E36+Jogos!J48+Jogos!C66+Jogos!L78+Jogos!E96+Jogos!J108+Jogos!C126+Jogos!L138+Jogos!E156 -> 0 | W35: =U35-V35 -> 0 | X35: =R35*3+S35 -> 0 | Y35: 22 | AA35: =(10^10)*X35+(10^8)*R35+(10^6)*(50+W35)+(10^4)*U35+(10^2)*Q35+(13-O35) -> 50000002 | AD35: 11 | AE35: =LARGE(AA25:AA35,AD35) -> 50000002 | AG35: 11 | AH35: =MATCH(AE35,AA25:AA35,0) -> 11
A44: Atalanta Athl. De Bilbao Beşiktaş Borussia M. Celta De Vigo Crystal Palace Everton
A45: (André) (Renato) (Hugo) (Cayera) (Juninho) (Guilherme) (Bernardo)
A53: Galatasaray Hoffenheim Monaco Olympique M. P S V R B Leipzig Real Betis
A54: (Piu) (Diego) (Shrek) (Antônio) (Deyvid) (Mario) (Michael)
A62: Real Sociedad Schalke 04 Sevilla Sporting Torino Villarreal West Ham
A63: (Gustavão) (Tooty) (Ricardinho) (Stefany) (Rodrigo) (Roger) (Cristovão)

Sheet Jogos
B6: 1º Rodada | I6: 7º Rodada
B9: =Classificação!P9 -> Atalanta | C9: 3 | D9: x | E9: 1 | F9: =Classificação!P25 -> Sevilla | I9: =Classificação!P30 -> R B Leipzig | J9: 2 | K9: x | L9: 1 | M9: =Classificação!P9 -> Atalanta
B11: =Classificação!P10 -> Hoffenheim | C11: 2 | D11: x | E11: 0 | F11: =Classificação!P26 -> P S V | I11: =Classificação!P31 -> Real Betis | J11: 0 | K11: x | L11: 0 | M11: =Classificação!P10 -> Hoffenheim
B13: =Classificação!P11 -> Real Sociedad | C13: 0 | D13: x | E13: 1 | F13: =Classificação!P27 -> Crystal Palace | I13: =Classificação!P32 -> Celta De Vigo | J13: 4 | K13: x | L13: 1 | M13: =Classificação!P11 -> Real Sociedad
B15: =Classificação!P12 -> Sporting | C15: 2 | D15: x | E15: 0 | F15: =Classificação!P28 -> Borussia M | I15: =Classificação!P33 -> Everton | J15: 1 | K15: x | L15: 3 | M15: =Classificação!P12 -> Sporting
B17: =Classificação!P13 -> Schalke 04 | C17: 0 | D17: x | E17: 1 | F17: =Classificação!P29 -> Villarreal | I17: =Classificação!P34 -> Torino | J17: 1 | K17: x | L17: 1 | M17: =Classificação!P13 -> Schalke 04
B19: =Classificação!P14 -> Galatasaray | D19: x | F19: =Classificação!P30 -> R B Leipzig | I19: =Classificação!P35 -> W.O | K19: x | M19: =Classificação!P14 -> Galatasaray
B21: =Classificação!P15 -> Athl. De Bilbao | C21: 1 | D21: x | E21: 1 | F21: =Classificação!P31 -> Real Betis | I21: =Classificação!P25 -> Sevilla | J21: 3 | K21: x | L21: 2 | M21: =Classificação!P15 -> Athl. De Bilbao
B23: =Classificação!P16 -> Monaco | C23: 0 | D23: x | E23: 1 | F23: =Classificação!P32 -> Celta De Vigo | I23: =Classificação!P26 -> P S V | J23: 2 | K23: x | L23: 1 | M23: =Classificação!P16 -> Monaco
B25: =Classificação!P17 -> Beşiktaş | C25: 4 | D25: x | E25: 1 | F25: =Classificação!P33 -> Everton | I25: =Classificação!P27 -> Crystal Palace | J25: 0 | K25: x | L25: 0 | M25: =Classificação!P17 -> Beşiktaş
B27: =Classificação!P18 -> West Ham | C27: 0 | D27: x | E27: 2 | F27: =Classificação!P34 -> Torino | I27: =Classificação!P28 -> Borussia M | J27: 0 | K27: x | L27: 3 | M27: =Classificação!P18 -> West Ham
B29: =Classificação!P19 -> Olympique | D29: x | F29: =Classificação!P35 -> W.O | I29: =Classificação!P29 -> Villarreal | J29: 0 | K29: x | L29: 1 | M29: =Classificação!P19 -> Olympique
B33: 2º Rodada | I33: 8º Rodada
B36: =Classificação!P35 -> W.O | D36: x | F36: =Classificação!P9 -> Atalanta | I36: =Classificação!P9 -> Atalanta | J36: 2 | K36: x | L36: 2 | M36: =Classificação!P29 -> Villarreal
B38: =Classificação!P25 -> Sevilla | C38: 3 | D38: x | E38: 1 | F38: =Classificação!P10 -> Hoffenheim | I38: =Classificação!P10 -> Hoffenheim | J38: 1 | K38: x | L38: 3 | M38: =Classificação!P30 -> R B Leipzig
B40: =Classificação!P26 -> P S V | C40: 2 | D40: x | E40: 0 | F40: =Classificação!P11 -> Real Sociedad | I40: =Classificação!P11 -> Real Sociedad | J40: 2 | K40: x | L40: 1 | M40: =Classificação!P31 -> Real Betis
B42: =Classificação!P27 -> Crystal Palace | C42: 1 | D42: x | E42: 1 | F42: =Classificação!P12 -> Sporting | I42: =Classificação!P12 -> Sporting | J42: 0 | K42: x | L42: 1 | M42: =Classificação!P32 -> Celta De Vigo
B44: =Classificação!P28 -> Borussia M | C44: 1 | D44: x | E44: 0 | F44: =Classificação!P13 -> Schalke 04 | I44: =Classificação!P13 -> Schalke 04 | J44: 4 | K44: x | L44: 1 | M44: =Classificação!P33 -> Everton
B46: =Classificação!P29 -> Villarreal | D46: x | F46: =Classificação!P14 -> Galatasaray | I46: =Classificação!P14 -> Galatasaray | K46: x | M46: =Classificação!P34 -> Torino
B48: =Classificação!P30 -> R B Leipzig | C48: 1 | D48: x | E48: 1 | F48: =Classificação!P15 -> Athl. De Bilbao | I48: =Classificação!P15 -> Athl. De Bilbao | K48: x | M48: =Classificação!P35 -> W.O
B50: =Classificação!P31 -> Real Betis | C50: 1 | D50: x | E50: 1 | F50: =Classificação!P16 -> Monaco | I50: =Classificação!P16 -> Monaco | J50: 1 | K50: x | L50: 0 | M50: =Classificação!P25 -> Sevilla
B52: =Classificação!P32 -> Celta De Vigo | C52: 3 | D52: x | E52: 1 | F52: =Classificação!P17 -> Beşiktaş | I52: =Classificação!P17 -> Beşiktaş | J52: 0 | K52: x | L52: 1 | M52: =Classificação!P26 -> P S V
B54: =Classificação!P33 -> Everton | C54: 3 | D54: x | E54: 3 | F54: =Classificação!P18 -> West Ham | I54: =Classificação!P18 -> West Ham | J54: 0 | K54: x | L54: 1 | M54: =Classificação!P27 -> Crystal Palace
B56: =Classificação!P34 -> Torino | C56: 2 | D56: x | E56: 1 | F56: =Classificação!P19 -> Olympique | I56: =Classificação!P19 -> Olympique | J56: 0 | K56: x | L56: 0 | M56: =Classificação!P28 -> Borussia M
B61: 3º Rodada | I61: 9º Rodada
B64: =Classificação!P9 -> Atalanta | C64: 1 | D64: x | E64: 0 | F64: =Classificação!P34 -> Torino | I64: =Classificação!P28 -> Borussia M | J64: 2 | K64: x | L64: 2 | M64: =Classificação!P9 -> Atalanta
B66: =Classificação!P10 -> Hoffenheim | D66: x | F66: =Classificação!P35 -> W.O | I66: =Classificação!P29 -> Villarreal | J66: 1 | K66: x | L66: 0 | M66: =Classificação!P10 -> Hoffenheim
B68: =Classificação!P11 -> Real Sociedad | C68: 1 | D68: x | E68: 0 | F68: =Classificação!P25 -> Sevilla | I68: =Classificação!P30 -> R B Leipzig | J68: 2 | K68: x | L68: 0 | M68: =Classificação!P11 -> Real Sociedad
B70: =Classificação!P12 -> Sporting | C70: 1 | D70: x | E70: 1 | F70: =Classificação!P26 -> P S V | I70: =Classificação!P31 -> Real Betis | J70: 1 | K70: x | L70: 2 | M70: =Classificação!P12 -> Sporting
B72: =Classificação!P13 -> Schalke 04 | C72: 0 | D72: x | E72: 0 | F72: =Classificação!P27 -> Crystal Palace | I72: =Classificação!P32 -> Celta De Vigo | J72: 1 | K72: x | L72: 0 | M72: =Classificação!P13 -> Schalke 04
B74: =Classificação!P14 -> Galatasaray | D74: x | F74: =Classificação!P28 -> Borussia M | I74: =Classificação!P33 -> Everton | K74: x | M74: =Classificação!P14 -> Galatasaray
B76: =Classificação!P15 -> Athl. De Bilbao | C76: 0 | D76: x | E76: 1 | F76: =Classificação!P29 -> Villarreal | I76: =Classificação!P34 -> Torino | J76: 3 | K76: x | L76: 0 | M76: =Classificação!P15 -> Athl. De Bilbao
B78: =Classificação!P16 -> Monaco | C78: 1 | D78: x | E78: 1 | F78: =Classificação!P30 -> R B Leipzig | I78: =Classificação!P35 -> W.O | K78: x | M78: =Classificação!P16 -> Monaco
B80: =Classificação!P17 -> Beşiktaş | C80: 1 | D80: x | E80: 1 | F80: =Classificação!P31 -> Real Betis | I80: =Classificação!P25 -> Sevilla | J80: 1 | K80: x | L80: 2 | M80: =Classificação!P17 -> Beşiktaş
B82: =Classificação!P18 -> West Ham | C82: 0 | D82: x | E82: 2 | F82: =Classificação!P32 -> Celta De Vigo | I82: =Classificação!P26 -> P S V | J82: 1 | K82: x | L82: 0 | M82: =Classificação!P18 -> West Ham
B84: =Classificação!P19 -> Olympique | C84: 1 | D84: x | E84: 0 | F84: =Classificação!P33 -> Everton | I84: =Classificação!P27 -> Crystal Palace | J84: 1 | K84: x | L84: 0 | M84: =Classificação!P19 -> Olympique
B89: 4º Rodada | I89: 10º Rodada
B92: =Classificação!P33 -> Everton | C92: 0 | D92: x | E92: 3 | F92: =Classificação!P9 -> Atalanta | I92: =Classificação!P9 -> Atalanta | J92: 0 | K92: x | L92: 2 | M92: =Classificação!P27 -> Crystal Palace
B94: =Classificação!P34 -> Torino | C94: 2 | D94: x | E94: 0 | F94: =Classificação!P10 -> Hoffenheim | I94: =Classificação!P10 -> Hoffenheim | J94: 0 | K94: x | L94: 3 | M94: =Classificação!P28 -> Borussia M
B96: =Classificação!P35 -> W.O | D96: x | F96: =Classificação!P11 -> Real Sociedad | I96: =Classificação!P11 -> Real Sociedad | J96: 0 | K96: x | L96: 2 | M96: =Classificação!P29 -> Villarreal
B98: =Classificação!P25 -> Sevilla | C98: 2 | D98: x | E98: 2 | F98: =Classificação!P12 -> Sporting | I98: =Classificação!P12 -> Sporting | J98: 3 | K98: x | L98: 1 | M98: =Classificação!P30 -> R B Leipzig
B100: =Classificação!P26 -> P S V | C100: 0 | D100: x | E100: 1 | F100: =Classificação!P13 -> Schalke 04 | I100: =Classificação!P13 -> Schalke 04 | J100: 2 | K100: x | L100: 1 | M100: =Classificação!P31 -> Real Betis
B102: =Classificação!P27 -> Crystal Palace | D102: x | F102: =Classificação!P14 -> Galatasaray | I102: =Classificação!P14 -> Galatasaray | K102: x | M102: =Classificação!P32 -> Celta De Vigo
B104: =Classificação!P28 -> Borussia M | C104: 0 | D104: x | E104: 0 | F104: =Classificação!P15 -> Athl. De Bilbao | I104: =Classificação!P15 -> Athl. De Bilbao | J104: 3 | K104: x | L104: 0 | M104: =Classificação!P33 -> Everton
B106: =Classificação!P29 -> Villarreal | C106: 1 | D106: x | E106: 1 | F106: =Classificação!P16 -> Monaco | I106: =Classificação!P16 -> Monaco | J106: 1 | K106: x | L106: 2 | M106: =Classificação!P34 -> Torino
B108: =Classificação!P30 -> R B Leipzig | C108: 0 | D108: x | E108: 5 | F108: =Classificação!P17 -> Beşiktaş | I108: =Classificação!P17 -> Beşiktaş | K108: x | M108: =Classificação!P35 -> W.O
B110: =Classificação!P31 -> Real Betis | C110: 1 | D110: x | E110: 1 | F110: =Classificação!P18 -> West Ham | I110: =Classificação!P18 -> West Ham | J110: 2 | K110: x | L110: 2 | M110: =Classificação!P25 -> Sevilla
B112: =Classificação!P32 -> Celta De Vigo | C112: 3 | D112: x | E112: 0 | F112: =Classificação!P19 -> Olympique | I112: =Classificação!P19 -> Olympique | J112: 0 | K112: x | L112: 2 | M112: =Classificação!P26 -> P S V
B117: 5º Rodada | I117: 11º Rodada
B120: =Classificação!P9 -> Atalanta | C120: 1 | D120: x | E120: 0 | F120: =Classificação!P32 -> Celta De Vigo | I120: =Classificação!P26 -> P S V | J120: 1 | K120: x | L120: 3 | M120: =Classificação!P9 -> Atalanta
B122: =Classificação!P10 -> Hoffenheim | C122: 3 | D122: x | E122: 1 | F122: =Classificação!P33 -> Everton | I122: =Classificação!P27 -> Crystal Palace | J122: 0 | K122: x | L122: 2 | M122: =Classificação!P10 -> Hoffenheim
B124: =Classificação!P11 -> Real Sociedad | C124: 2 | D124: x | E124: 2 | F124: =Classificação!P34 -> Torino | I124: =Classificação!P28 -> Borussia M | J124: 1 | K124: x | L124: 1 | M124: =Classificação!P11 -> Real Sociedad
B126: =Classificação!P12 -> Sporting | D126: x | F126: =Classificação!P35 -> W.O | I126: =Classificação!P29 -> Villarreal | J126: 0 | K126: x | L126: 2 | M126: =Classificação!P12 -> Sporting
B128: =Classificação!P13 -> Schalke 04 | C128: 2 | D128: x | E128: 0 | F128: =Classificação!P25 -> Sevilla | I128: =Classificação!P30 -> R B Leipzig | J128: 1 | K128: x | L128: 3 | M128: =Classificação!P13 -> Schalke 04
B130: =Classificação!P14 -> Galatasaray | D130: x | F130: =Classificação!P26 -> P S V | I130: =Classificação!P31 -> Real Betis | K130: x | M130: =Classificação!P14 -> Galatasaray
B132: =Classificação!P15 -> Athl. De Bilbao | C132: 0 | D132: x | E132: 0 | F132: =Classificação!P27 -> Crystal Palace | I132: =Classificação!P32 -> Celta De Vigo | J132: 3 | K132: x | L132: 0 | M132: =Classificação!P15 -> Athl. De Bilbao
B134: =Classificação!P16 -> Monaco | C134: 1 | D134: x | E134: 1 | F134: =Classificação!P28 -> Borussia M | I134: =Classificação!P33 -> Everton | J134: 1 | K134: x | L134: 0 | M134: =Classificação!P16 -> Monaco
B136: =Classificação!P17 -> Beşiktaş | C136: 2 | D136: x | E136: 0 | F136: =Classificação!P29 -> Villarreal | I136: =Classificação!P34 -> Torino | J136: 1 | K136: x | L136: 4 | M136: =Classificação!P17 -> Beşiktaş
B138: =Classificação!P18 -> West Ham | C138: 0 | D138: x | E138: 0 | F138: =Classificação!P30 -> R B Leipzig | I138: =Classificação!P35 -> W.O | K138: x | M138: =Classificação!P18 -> West Ham
B140: =Classificação!P19 -> Olympique | C140: 0 | D140: x | E140: 2 | F140: =Classificação!P31 -> Real Betis | I140: =Classificação!P25 -> Sevilla | J140: 1 | K140: x | L140: 0 | M140: =Classificação!P19 -> Olympique
B145: 6º Rodada
B148: =Classificação!P31 -> Real Betis | C148: 0 | D148: x | E148: 1 | F148: =Classificação!P9 -> Atalanta
B150: =Classificação!P32 -> Celta De Vigo | C150: 1 | D150: x | E150: 1 | F150: =Classificação!P10 -> Hoffenheim
B152: =Classificação!P33 -> Everton | C152: 0 | D152: x | E152: 0 | F152: =Classificação!P11 -> Real Sociedad
B154: =Classificação!P34 -> Torino | C154: 1 | D154: x | E154: 2 | F154: =Classificação!P12 -> Sporting
B156: =Classificação!P35 -> W.O | D156: x | F156: =Classificação!P13 -> Schalke 04
B158: =Classificação!P25 -> Sevilla | D158: x | F158: =Classificação!P14 -> Galatasaray
B160: =Classificação!P26 -> P S V | C160: 2 | D160: x | E160: 1 | F160: =Classificação!P15 -> Athl. De Bilbao
B162: =Classificação!P27 -> Crystal Palace | C162: 1 | D162: x | E162: 0 | F162: =Classificação!P16 -> Monaco
B164: =Classificação!P28 -> Borussia M | C164: 0 | D164: x | E164: 1 | F164: =Classificação!P17 -> Beşiktaş
B166: =Classificação!P29 -> Villarreal | C166: 1 | D166: x | E166: 1 | F166: =Classificação!P18 -> West Ham
B168: =Classificação!P30 -> R B Leipzig | C168: 1 | D168: x | E168: 0 | F168: =Classificação!P19 -> Olympique
G177: Oitavas de Final
AA178: Ordem Crescente
B180: ok | R180: Posição | S180: Time | T180: Pontos | U180: ID_TIME | W180: Posição
B181: =IF(B180="ok",(VLOOKUP(AB181,$R$181:$S$192,2)),"1º Colocado A") -> Sporting | C181: 5 | D181: x | E181: 0 | F181: =IF(B180="ok",(VLOOKUP(AB188,$R$181:$S$192,2)),"8º Colocado A") -> Olympique | I181: =IF(B180="ok",(VLOOKUP(AB196,$R$196:$S$207,2)),"1º Colocado B") -> Celta De Vigo | J181: 3 | K181: x | L181: 0 | M181: =IF(B180="ok",(VLOOKUP(AB203,$R$196:$S$207,2)),"8º Colocado B") -> Borussia M | Q181: GRUPO A | R181: 1 | S181: =Classificação!P9 -> Atalanta | T181: =Classificação!AA9 -> 200657171012 | U181: =Classificação!Y9 -> 1 | W181: 1 | X181: =LARGE($T$181:$T$192,W181) -> 210659181009 | AA181: 1 | AB181: =MATCH(X181,$T$181:$T$192,0) -> 4
B182: =VLOOKUP(AB181,$R$181:$V$192,4) -> 4 | F182: =VLOOKUP(AB188,$R$181:$U$192,4) -> 11 | I182: =VLOOKUP(AB196,$R$196:$U$207,4) -> 19 | M182: =VLOOKUP(AB203,$R$196:$U$207,4) -> 15 | R182: 2 | S182: =Classificação!P10 -> Hoffenheim | T182: =Classificação!AA10 -> 110346101011 | U182: =Classificação!Y10 -> 2 | W182: 2 | X182: =LARGE($T$181:$T$192,W182) -> 200662201004 | AA182: 2 | AB182: =MATCH(X182,$T$181:$T$192,0) -> 9
B183: =VLOOKUP(AB181,$R$181:$V$192,3) -> 210659181009 | F183: =VLOOKUP(AB188,$R$181:$U$192,3) -> 70241031002 | I183: =VLOOKUP(AB196,$R$196:$U$207,3) -> 250865191005 | M183: =VLOOKUP(AB203,$R$196:$U$207,3) -> 110248081009 | R183: 3 | S183: =Classificação!P11 -> Real Sociedad | T183: =Classificação!AA11 -> 90242071010 | U183: =Classificação!Y11 -> 3 | W183: 3 | X183: =LARGE($T$181:$T$192,W183) -> 200657171012 | AA183: 3 | AB183: =MATCH(X183,$T$181:$T$192,0) -> 1
B184: =IF(B180="ok",(VLOOKUP(AB182,$R$181:$S$192,2)),"2º Colocado A") -> Beşiktaş | C184: 3 | D184: x | E184: 0 | F184: =IF(B180="ok",(VLOOKUP(AB187,$R$181:$S$192,2)),"7º Colocado A") -> West Ham | I184: =IF(B180="ok",(VLOOKUP(AB197,$R$196:$S$207,2)),"2º Colocado B") -> P S V | J184: 1 | K184: x | L184: 1 | M184: =IF(B180="ok",(VLOOKUP(AB202,$R$196:$S$207,2)),"7º Colocado B") -> Sevilla | R184: 4 | S184: =Classificação!P12 -> Sporting | T184: =Classificação!AA12 -> 210659181009 | U184: =Classificação!Y12 -> 4 | W184: 4 | X184: =LARGE($T$181:$T$192,W184) -> 170556131008 | AA184: 4 | AB184: =MATCH(X184,$T$181:$T$192,0) -> 5
B185: =VLOOKUP(AB182,$R$181:$U$192,4) -> 9 | F185: =VLOOKUP(AB187,$R$181:$U$202,4) -> 10 | I185: =VLOOKUP(AB197,$R$196:$U$207,4) -> 13 | J185: 2 | L185: 1 | M185: =VLOOKUP(AB202,$R$196:$U$207,4) -> 12 | R185: 5 | S185: =Classificação!P13 -> Schalke 04 | T185: =Classificação!AA13 -> 170556131008 | U185: =Classificação!Y13 -> 5 | W185: 5 | X185: =LARGE($T$181:$T$192,W185) -> 110346101011 | AA185: 5 | AB185: =MATCH(X185,$T$181:$T$192,0) -> 2
B186: =VLOOKUP(AB182,$R$181:$U$192,3) -> 200662201004 | F186: =VLOOKUP(AB187,$R$181:$U$192,3) -> 80147101003 | I186: =VLOOKUP(AB197,$R$196:$U$207,3) -> 190653121011 | M186: =VLOOKUP(AB202,$R$196:$U$207,3) -> 110347131012 | R186: 6 | S186: =Classificação!P14 -> Galatasaray | T186: =Classificação!AA14 -> 50000007 | U186: =Classificação!Y14 -> 6 | W186: 6 | X186: =LARGE($T$181:$T$192,W186) -> 90242071010 | AA186: 6 | AB186: =MATCH(X186,$T$181:$T$192,0) -> 3
B187: =IF(B180="ok",(VLOOKUP(AB183,$R$181:$S$192,2)),"3º Colocado A") -> Atalanta | C187: 2 | D187: x | E187: 1 | F187: =IF(B180="ok",(VLOOKUP(AB186,$R$181:$S$192,2)),"6º Colocado A") -> Real Sociedad | I187: =IF(B180="ok",(VLOOKUP(AB198,$R$196:$S$207,2)),"3º Colocado B") -> Crystal Palace | J187: 0 | K187: x | L187: 2 | M187: =IF(B180="ok",(VLOOKUP(AB201,$R$196:$S$207,2)),"6º Colocado B") -> R B Leipzig | R187: 7 | S187: =Classificação!P15 -> Athl. De Bilbao | T187: =Classificação!AA15 -> 70144081006 | U187: =Classificação!Y15 -> 7 | W187: 7 | X187: =LARGE($T$181:$T$192,W187) -> 80147101003 | AA187: 7 | AB187: =MATCH(X187,$T$181:$T$192,0) -> 10
B188: =VLOOKUP(AB183,$R$181:$U$192,4) -> 1 | F188: =VLOOKUP(AB186,$R$181:$U$192,4) -> 3 | I188: =VLOOKUP(AB198,$R$196:$U$207,4) -> 14 | M188: =VLOOKUP(AB201,$R$196:$U$207,4) -> 17 | R188: 8 | S188: =Classificação!P16 -> Monaco | T188: =Classificação!AA16 -> 70146071005 | U188: =Classificação!Y16 -> 8 | W188: 8 | X188: =LARGE($T$181:$T$192,W188) -> 70241031002 | AA188: 8 | AB188: =MATCH(X188,$T$181:$T$192,0) -> 11
B189: =VLOOKUP(AB183,$R$181:$U$192,3) -> 200657171012 | F189: =VLOOKUP(AB186,$R$181:$U$192,3) -> 90242071010 | I189: =VLOOKUP(AB198,$R$196:$U$207,3) -> 190554071010 | M189: =VLOOKUP(AB201,$R$196:$U$207,3) -> 150447121007 | R189: 9 | S189: =Classificação!P17 -> Beşiktaş | T189: =Classificação!AA17 -> 200662201004 | U189: =Classificação!Y17 -> 9 | W189: 9 | X189: =LARGE($T$181:$T$192,W189) -> 70146071005 | AA189: 9 | AB189: =MATCH(X189,$T$181:$T$192,0) -> 8
B190: =IF(B180="ok",(VLOOKUP(AB184,$R$181:$S$192,2)),"4º Colocado A") -> Schalke 04 | C190: 0 | D190: x | E190: 0 | F190: =IF(B180="ok",(VLOOKUP(AB185,$R$181:$S$192,2)),"5º Colocado A") -> Hoffenheim | I190: =IF(B180="ok",(VLOOKUP(AB199,$R$196:$S$207,2)),"4º Colocado B") -> Torino | J190: 2 | K190: x | L190: 0 | M190: =IF(B180="ok",(VLOOKUP(AB200,$R$196:$S$207,2)),"5º Colocado B") -> Villarreal | R190: 10 | S190: =Classificação!P18 -> West Ham | T190: =Classificação!AA18 -> 80147101003 | U190: =Classificação!Y18 -> 10 | W190: 10 | X190: =LARGE($T$181:$T$192,W190) -> 70144081006 | AA190: 10 | AB190: =MATCH(X190,$T$181:$T$192,0) -> 7
B191: =VLOOKUP(AB184,$R$181:$U$192,4) -> 5 | C191: 5 | E191: 4 | F191: =VLOOKUP(AB185,$R$181:$U$192,4) -> 2 | I191: =VLOOKUP(AB199,$R$196:$U$207,4) -> 21 | M191: =VLOOKUP(AB200,$R$196:$U$207,4) -> 16 | R191: 11 | S191: =Classificação!P19 -> Olympique | T191: =Classificação!AA19 -> 70241031002 | U191: =Classificação!Y19 -> 11 | W191: 11 | X191: =LARGE($T$181:$T$192,W191) -> 50000007 | AA191: 11 | AB191: =MATCH(X191,$T$181:$T$192,0) -> 6
B192: =VLOOKUP(AB184,$R$181:$U$192,3) -> 170556131008 | F192: =VLOOKUP(AB185,$R$181:$U$192,3) -> 110346101011 | I192: =VLOOKUP(AB199,$R$196:$U$207,3) -> 170554161003 | M192: =VLOOKUP(AB200,$R$196:$U$207,3) -> 150450091008
Q196: GRUPO B | R196: 1 | S196: =Classificação!P25 -> Sevilla | T196: =Classificação!AA25 -> 110347131012 | U196: =Classificação!Y25 -> 12 | W196: 1 | X196: =LARGE($T$196:$T$206,W196) -> 250865191005 | AA196: 1 | AB196: =MATCH(X196,$T$196:$T$207,0) -> 8
R197: 2 | S197: =Classificação!P26 -> P S V | T197: =Classificação!AA26 -> 190653121011 | U197: =Classificação!Y26 -> 13 | W197: 2 | X197: =LARGE($T$196:$T$207,W197) -> 190653121011 | AA197: 2 | AB197: =MATCH(X197,$T$196:$T$207,0) -> 2
R198: 3 | S198: =Classificação!P27 -> Crystal Palace | T198: =Classificação!AA27 -> 190554071010 | U198: =Classificação!Y27 -> 14 | W198: 3 | X198: =LARGE($T$196:$T$207,W198) -> 190554071010 | AA198: 3 | AB198: =MATCH(X198,$T$196:$T$207,0) -> 3
R199: 4 | S199: =Classificação!P28 -> Borussia M | T199: =Classificação!AA28 -> 110248081009 | U199: =Classificação!Y28 -> 15 | W199: 4 | X199: =LARGE($T$196:$T$207,W199) -> 170554161003 | AA199: 4 | AB199: =MATCH(X199,$T$196:$T$207,0) -> 10
R200: 5 | S200: =Classificação!P29 -> Villarreal | T200: =Classificação!AA29 -> 150450091008 | U200: =Classificação!Y29 -> 16 | W200: 5 | X200: =LARGE($T$196:$T$207,W200) -> 150450091008 | AA200: 5 | AB200: =MATCH(X200,$T$196:$T$207,0) -> 5
R201: 6 | S201: =Classificação!P30 -> R B Leipzig | T201: =Classificação!AA30 -> 150447121007 | U201: =Classificação!Y30 -> 17 | W201: 6 | X201: =LARGE($T$196:$T$207,W201) -> 150447121007 | AA201: 6 | AB201: =MATCH(X201,$T$196:$T$207,0) -> 6
R202: 7 | S202: =Classificação!P31 -> Real Betis | T202: =Classificação!AA31 -> 80148091006 | U202: =Classificação!Y31 -> 18 | W202: 7 | X202: =LARGE($T$196:$T$207,W202) -> 110347131012 | AA202: 7 | AB202: =MATCH(X202,$T$196:$T$207,0) -> 1
R203: 8 | S203: =Classificação!P32 -> Celta De Vigo | T203: =Classificação!AA32 -> 250865191005 | U203: =Classificação!Y32 -> 19 | W203: 8 | X203: =LARGE($T$196:$T$207,W203) -> 110248081009 | AA203: 8 | AB203: =MATCH(X203,$T$196:$T$207,0) -> 4
R204: 9 | S204: =Classificação!P33 -> Everton | T204: =Classificação!AA33 -> 50134081004 | U204: =Classificação!Y33 -> 20 | W204: 9 | X204: =LARGE($T$196:$T$207,W204) -> 80148091006 | AA204: 9 | AB204: =MATCH(X204,$T$196:$T$207,0) -> 7
R205: 10 | S205: =Classificação!P34 -> Torino | T205: =Classificação!AA34 -> 170554161003 | U205: =Classificação!Y34 -> 21 | W205: 10 | X205: =LARGE($T$196:$T$207,W205) -> 50134081004 | AA205: 10 | AB205: =MATCH(X205,$T$196:$T$207,0) -> 9
R206: 11 | S206: =Classificação!P35 -> W.O | T206: =Classificação!AA35 -> 50000002 | U206: =Classificação!Y35 -> 22 | W206: 11 | X206: =LARGE($T$196:$T$207,W206) -> 50000002 | AA206: 11 | AB206: =MATCH(X206,$T$196:$T$207,0) -> 11
G210: Quartas de Final
S212: OITAVAS DE FINAL
...

Sheet Geral 2º Turno
B2: CLASSIFICAÇÃO GERAL - 2º Turno | P2: 1º FASE | AA2: OITAVAS DE FINAL | AL2: QUARTAS DE FINAL | AW2: SEMI FINAL | BI2: FINAL
B4: Posição | C4: Times | D4: Jogos | E4: Vitorias | F4: Empates | G4: Derrotas | H4: Gols Pró | I4: Gols Cont. | J4: Saldo | K4: Pontos | P4: ID_TIME | Q4: Times | R4: Jogos | S4: Vitorias | T4: Empates | U4: Derrotas | V4: Gols Pró | W4: Gols Cont. | X4: Saldo | Y4: Pontos | AA4: ID_TIME | AB4: Times | AC4: Jogos | AD4: Vitorias | AE4: Empates | AF4: Derrotas | AG4: Gols Pró | AH4: Gols Cont. | AI4: Saldo | AJ4: Pontos | AL4: ID_TIME | AM4: Times | AN4: Jogos | AO4: Vitorias | AP4: Empates | AQ4: Derrotas | AR4: Gols Pró | AS4: Gols Cont. | AT4: Saldo | AU4: Pontos | AW4: ID_TIME | AX4: Times | AY4: Jogos | AZ4: Vitorias | BA4: Empates | BB4: Derrotas | BC4: Gols Pró | BD4: Gols Cont. | BE4: Saldo | BF4: Pontos | BI4: ID_TIME | BJ4: Times | BK4: Jogos | BL4: Vitorias | BM4: Empates | BN4: Derrotas | BO4: Gols Pró | BP4: Gols Cont. | BQ4: Saldo | BR4: Pontos | BY4: ID_TIME | BZ4: Times | CA4: Jogos | CB4: Vitorias | CC4: Empates | CD4: Derrotas | CE4: Gols Pró | CF4: Gols Cont. | CG4: Saldo | CH4: Pontos
B6: 1º | C6: =VLOOKUP(CO6,$BY$6:$CH$23,2) -> #REF! | D6: =VLOOKUP(CO6,$BY$6:$CH$23,3) -> #REF! | E6: =VLOOKUP(CO6,$BY$6:$CH$23,4) -> #REF! | F6: =D6-E6-G6 -> #REF! | G6: =VLOOKUP(CO6,$BY$6:$CH$23,6) -> #REF! | H6: =VLOOKUP(CO6,$BY$6:$CH$23,7) -> #REF! | I6: =VLOOKUP(CO6,$BY$6:$CH$23,8) -> #REF! | J6: =H6-I6 -> #REF! | K6: =E6*3+F6 -> #REF! | P6: =#REF! -> #REF! | Q6: =Classificação!P9 -> Atalanta | R6: =Classificação!Q9 -> 10 | S6: =Classificação!R9 -> 6 | T6: =Classificação!S9 -> 2 | U6: =Classificação!T9 -> 2 | V6: =Classificação!U9 -> 17 | W6: =Classificação!V9 -> 10 | X6: =Classificação!W9 -> 7 | Y6: =Classificação!X9 -> 20 | Z6: =(10^10)*Y6+(10^8)*S6+(10^6)*(50+X6)+(10^4)*V6+(10^2)*R6+(13-P6) -> #REF! | AK6: 0 | AL6: =#REF! -> #REF! | AM6: =IF(ISERROR(VLOOKUP(AL6,$AL$27:$AN$34,2,FALSE)),0,(VLOOKUP(AL6,$AL$27:$AN$34,2,FALSE))) -> 0 | AN6: =IF(ISERROR(VLOOKUP(AL6,$AL$27:$AN$34,3,FALSE)),0,(VLOOKUP(AL6,$AL$27:$AN$34,3,FALSE))) -> 0 | AO6: =IF(ISERROR(VLOOKUP(AL6,$AL$27:$AO$34,4,FALSE)),0,(VLOOKUP(AL6,$AL$27:$AO$34,4,FALSE))) -> 0 | AP6: =AN6-AO6-AQ6 -> 0 | AQ6: =IF(ISERROR(VLOOKUP(AL6,$AL$27:$AQ$34,6,FALSE)),0,(VLOOKUP(AL6,$AL$27:$AQ$34,6,FALSE))) -> 0 | AR6: =IF(ISERROR(VLOOKUP(AL6,$AL$27:$AR$34,7,FALSE)),0,(VLOOKUP(AL6,$AL$27:$AR$34,7,FALSE))) -> 0 | AS6: =IF(ISERROR(VLOOKUP(AL6,$AL$27:$AS$34,8,FALSE)),0,(VLOOKUP(AL6,$AL$27:$AS$34,8,FALSE))) -> 0 | AT6: =AR6-AS6 -> 0 | AU6: =AO6*3+AP6 -> 0 | AW6: 1 | AX6: =IF(ISERROR(VLOOKUP(AW6,$AW$26:$AY$29,2,FALSE)),0,(VLOOKUP(AW6,$AW$26:$AY$29,2,FALSE))) -> 0 | AY6: =IF(ISERROR(VLOOKUP(AW6,$AW$26:$BF$29,3,FALSE)),0,(VLOOKUP(AW6,$AW$26:$BF$29,3,FALSE))) -> 0 | AZ6: =IF(ISERROR(VLOOKUP(AW6,$AW$26:$BF$29,4,FALSE)),0,(VLOOKUP(AW6,$AW$26:$BF$29,4,FALSE))) -> 0 | BA6: =AY6-AZ6-BB6 -> 0 | BB6: =IF(ISERROR(VLOOKUP(AW6,$AW$26:$BF$29,6,FALSE)),0,(VLOOKUP(AW6,$AW$26:$BF$29,6,FALSE))) -> 0 | BC6: =IF(ISERROR(VLOOKUP(AW6,$AW$26:$BF$29,7,FALSE)),0,(VLOOKUP(AW6,$AW$26:$BF$29,7,FALSE))) -> 0 | BD6: =IF(ISERROR(VLOOKUP(AW6,$AW$26:$BF$29,8,FALSE)),0,(VLOOKUP(AW6,$AW$26:$BF$29,8,FALSE))) -> 0 | BE6: =BC6-BD6 -> 0 | BF6: =AZ6*3+BA6 -> 0 | BI6: 1 | BJ6: =IF(ISERROR(VLOOKUP(BI6,$BI$26:$BK$29,2,FALSE)),0,(VLOOKUP(BI6,$BI$26:$BK$29,2,FALSE))) -> 0 | BK6: =IF(ISERROR(VLOOKUP(BI6,$BI$26:$BR$27,3,FALSE)),0,(VLOOKUP(BI6,$BI$26:$BR$27,3,FALSE))) -> 0 | BL6: =IF(ISERROR(VLOOKUP(BI6,$BI$26:$BR$27,4,FALSE)),0,(VLOOKUP(BI6,$BI$26:$BR$27,4,FALSE))) -> 0 | BM6: =BK6-BL6-BN6 -> 0 | BN6: =IF(ISERROR(VLOOKUP(BI6,$BI$26:$BR$27,6,FALSE)),0,(VLOOKUP(BI6,$BI$26:$BR$27,6,FALSE))) -> 0 | BO6: =IF(ISERROR(VLOOKUP(BI6,$BI$26:$BR$27,7,FALSE)),0,(VLOOKUP(BI6,$BI$26:$BR$27,7,FALSE))) -> 0 | BP6: =IF(ISERROR(VLOOKUP(BI6,$BI$26:$BR$27,8,FALSE)),0,(VLOOKUP(BI6,$BI$26:$BR$27,8,FALSE))) -> 0 | BQ6: =BO6-BP6 -> 0 | BR6: =BL6*3+BM6 -> 0 | BY6: =P6 -> #REF! | BZ6: =Q6 -> Atalanta | CA6: =R6+AN6+AY6+BK6 -> 10 | CB6: =S6+AO6+AZ6+BL6 -> 6 | CC6: =T6+AP6+BA6+BM6 -> 2 | CD6: =U6+AQ6+BB6+BN6 -> 2 | CE6: =V6+AR6+BC6+BO6 -> 17 | CF6: =W6+AS6+BD6+BP6 -> 10 | CG6: =X6+AT6+BE6+BQ6 -> 7 | CH6: =Y6+AU6+BF6+BR6 -> 20 | CJ6: =(10^10)*CH6+(10^8)*CB6+(10^6)*(50+CG6)+(10^4)*CE6+(10^2)*CA6+(13-BY6) -> #REF! | CK6: 1 | CL6: =LARGE($CJ$6:$CJ$23,CK6) -> #REF! | CN6: 1 | CO6: =MATCH(CL6,$CJ$6:$CJ$23,0) -> #REF!
B7: 2º | C7: =VLOOKUP(CO7,$BY$6:$CH$23,2) -> #REF! | D7: =VLOOKUP(CO7,$BY$6:$CH$23,3) -> #REF! | E7: =VLOOKUP(CO7,$BY$6:$CH$23,4) -> #REF! | F7: =D7-E7-G7 -> #REF! | G7: =VLOOKUP(CO7,$BY$6:$CH$23,6) -> #REF! | H7: =VLOOKUP(CO7,$BY$6:$CH$23,7) -> #REF! | I7: =VLOOKUP(CO7,$BY$6:$CH$23,8) -> #REF! | J7: =H7-I7 -> #REF! | K7: =E7*3+F7 -> #REF! | P7: =#REF! -> #REF! | Q7: =Classificação!P10 -> Hoffenheim | R7: =Classificação!Q10 -> 10 | S7: =Classificação!R10 -> 3 | T7: =Classificação!S10 -> 2 | U7: =Classificação!T10 -> 5 | V7: =Classificação!U10 -> 10 | W7: =Classificação!V10 -> 14 | X7: =Classificação!W10 -> -4 | Y7: =Classificação!X10 -> 11 | Z7: =(10^10)*Y7+(10^8)*S7+(10^6)*(50+X7)+(10^4)*V7+(10^2)*R7+(13-P7) -> #REF! | AK7: 0 | AL7: =#REF! -> #REF! | AM7: =IF(ISERROR(VLOOKUP(AL7,$AL$27:$AN$34,2,FALSE)),0,(VLOOKUP(AL7,$AL$27:$AN$34,2,FALSE))) -> 0 | AN7: =IF(ISERROR(VLOOKUP(AL7,$AL$27:$AN$34,3,FALSE)),0,(VLOOKUP(AL7,$AL$27:$AN$34,3,FALSE))) -> 0 | AO7: =IF(ISERROR(VLOOKUP(AL7,$AL$27:$AO$34,4,FALSE)),0,(VLOOKUP(AL7,$AL$27:$AO$34,4,FALSE))) -> 0 | AP7: =AN7-AO7-AQ7 -> 0 | AQ7: =IF(ISERROR(VLOOKUP(AL7,$AL$27:$AQ$34,6,FALSE)),0,(VLOOKUP(AL7,$AL$27:$AQ$34,6,FALSE))) -> 0 | AR7: =IF(ISERROR(VLOOKUP(AL7,$AL$27:$AR$34,7,FALSE)),0,(VLOOKUP(AL7,$AL$27:$AR$34,7,FALSE))) -> 0 | AS7: =IF(ISERROR(VLOOKUP(AL7,$AL$27:$AS$34,8,FALSE)),0,(VLOOKUP(AL7,$AL$27:$AS$34,8,FALSE))) -> 0 | AT7: =AR7-AS7 -> 0 | AU7: =AO7*3+AP7 -> 0 | AW7: 2 | AX7: =IF(ISERROR(VLOOKUP(AW7,$AW$26:$AY$29,2,FALSE)),0,(VLOOKUP(AW7,$AW$26:$AY$29,2,FALSE))) -> 0 | AY7: =IF(ISERROR(VLOOKUP(AW7,$AW$26:$BF$29,3,FALSE)),0,(VLOOKUP(AW7,$AW$26:$BF$29,3,FALSE))) -> 0 | AZ7: =IF(ISERROR(VLOOKUP(AW7,$AW$26:$BF$29,4,FALSE)),0,(VLOOKUP(AW7,$AW$26:$BF$29,4,FALSE))) -> 0 | BA7: =AY7-AZ7-BB7 -> 0 | BB7: =IF(ISERROR(VLOOKUP(AW7,$AW$26:$BF$29,6,FALSE)),0,(VLOOKUP(AW7,$AW$26:$BF$29,6,FALSE))) -> 0 | BC7: =IF(ISERROR(VLOOKUP(AW7,$AW$26:$BF$29,7,FALSE)),0,(VLOOKUP(AW7,$AW$26:$BF$29,7,FALSE))) -> 0 | BD7: =IF(ISERROR(VLOOKUP(AW7,$AW$26:$BF$29,8,FALSE)),0,(VLOOKUP(AW7,$AW$26:$BF$29,8,FALSE))) -> 0 | BE7: =BC7-BD7 -> 0 | BF7: =AZ7*3+BA7 -> 0 | BI7: 2 | BJ7: =IF(ISERROR(VLOOKUP(BI7,$BI$26:$BK$29,2,FALSE)),0,(VLOOKUP(BI7,$BI$26:$BK$29,2,FALSE))) -> 0 | BK7: =IF(ISERROR(VLOOKUP(BI7,$BI$26:$BR$27,3,FALSE)),0,(VLOOKUP(BI7,$BI$26:$BR$27,3,FALSE))) -> 0 | BL7: =IF(ISERROR(VLOOKUP(BI7,$BI$26:$BR$27,4,FALSE)),0,(VLOOKUP(BI7,$BI$26:$BR$27,4,FALSE))) -> 0 | BM7: =BK7-BL7-BN7 -> 0 | BN7: =IF(ISERROR(VLOOKUP(BI7,$BI$26:$BR$27,6,FALSE)),0,(VLOOKUP(BI7,$BI$26:$BR$27,6,FALSE))) -> 0 | BO7: =IF(ISERROR(VLOOKUP(BI7,$BI$26:$BR$27,7,FALSE)),0,(VLOOKUP(BI7,$BI$26:$BR$27,7,FALSE))) -> 0 | BP7: =IF(ISERROR(VLOOKUP(BI7,$BI$26:$BR$27,8,FALSE)),0,(VLOOKUP(BI7,$BI$26:$BR$27,8,FALSE))) -> 0 | BQ7: =BO7-BP7 -> 0 | BR7: =BL7*3+BM7 -> 0 | BY7: =P7 -> #REF! | BZ7: =Q7 -> Hoffenheim | CA7: =R7+AN7+AY7+BK7 -> 10 | CB7: =S7+AO7+AZ7+BL7 -> 3 | CC7: =T7+AP7+BA7+BM7 -> 2 | CD7: =U7+AQ7+BB7+BN7 -> 5 | CE7: =V7+AR7+BC7+BO7 -> 10 | CF7: =W7+AS7+BD7+BP7 -> 14 | CG7: =X7+AT7+BE7+BQ7 -> -4 | CH7: =Y7+AU7+BF7+BR7 -> 11 | CJ7: =(10^10)*CH7+(10^8)*CB7+(10^6)*(50+CG7)+(10^4)*CE7+(10^2)*CA7+(13-BY7) -> #REF! | CK7: 2 | CL7: =LARGE($CJ$6:$CJ$23,CK7) -> #REF! | CN7: 2 | CO7: =MATCH(CL7,$CJ$6:$CJ$23,0) -> #REF!
B8: 3º | C8: =VLOOKUP(CO8,$BY$6:$CH$23,2) -> #REF! | D8: =VLOOKUP(CO8,$BY$6:$CH$23,3) -> #REF! | E8: =VLOOKUP(CO8,$BY$6:$CH$23,4) -> #REF! | F8: =D8-E8-G8 -> #REF! | G8: =VLOOKUP(CO8,$BY$6:$CH$23,6) -> #REF! | H8: =VLOOKUP(CO8,$BY$6:$CH$23,7) -> #REF! | I8: =VLOOKUP(CO8,$BY$6:$CH$23,8) -> #REF! | J8: =H8-I8 -> #REF! | K8: =E8*3+F8 -> #REF! | P8: =#REF! -> #REF! | Q8: =Classificação!P11 -> Real Sociedad | R8: =Classificação!Q11 -> 10 | S8: =Classificação!R11 -> 2 | T8: =Classificação!S11 -> 3 | U8: =Classificação!T11 -> 5 | V8: =Classificação!U11 -> 7 | W8: =Classificação!V11 -> 15 | X8: =Classificação!W11 -> -8 | Y8: =Classificação!X11 -> 9 | Z8: =(10^10)*Y8+(10^8)*S8+(10^6)*(50+X8)+(10^4)*V8+(10^2)*R8+(13-P8) -> #REF! | AK8: 0 | AL8: =#REF! -> #REF! | AM8: =IF(ISERROR(VLOOKUP(AL8,$AL$27:$AN$34,2,FALSE)),0,(VLOOKUP(AL8,$AL$27:$AN$34,2,FALSE))) -> 0 | AN8: =IF(ISERROR(VLOOKUP(AL8,$AL$27:$AN$34,3,FALSE)),0,(VLOOKUP(AL8,$AL$27:$AN$34,3,FALSE))) -> 0 | AO8: =IF(ISERROR(VLOOKUP(AL8,$AL$27:$AO$34,4,FALSE)),0,(VLOOKUP(AL8,$AL$27:$AO$34,4,FALSE))) -> 0 | AP8: =AN8-AO8-AQ8 -> 0 | AQ8: =IF(ISERROR(VLOOKUP(AL8,$AL$27:$AQ$34,6,FALSE)),0,(VLOOKUP(AL8,$AL$27:$AQ$34,6,FALSE))) -> 0 | AR8: =IF(ISERROR(VLOOKUP(AL8,$AL$27:$AR$34,7,FALSE)),0,(VLOOKUP(AL8,$AL$27:$AR$34,7,FALSE))) -> 0 | AS8: =IF(ISERROR(VLOOKUP(AL8,$AL$27:$AS$34,8,FALSE)),0,(VLOOKUP(AL8,$AL$27:$AS$34,8,FALSE))) -> 0 | AT8: =AR8-AS8 -> 0 | AU8: =AO8*3+AP8 -> 0 | AW8: 3 | AX8: =IF(ISERROR(VLOOKUP(AW8,$AW$26:$AY$29,2,FALSE)),0,(VLOOKUP(AW8,$AW$26:$AY$29,2,FALSE))) -> 0 | AY8: =IF(ISERROR(VLOOKUP(AW8,$AW$26:$BF$29,3,FALSE)),0,(VLOOKUP(AW8,$AW$26:$BF$29,3,FALSE))) -> 0 | AZ8: =IF(ISERROR(VLOOKUP(AW8,$AW$26:$BF$29,4,FALSE)),0,(VLOOKUP(AW8,$AW$26:$BF$29,4,FALSE))) -> 0 | BA8: =AY8-AZ8-BB8 -> 0 | BB8: =IF(ISERROR(VLOOKUP(AW8,$AW$26:$BF$29,6,FALSE)),0,(VLOOKUP(AW8,$AW$26:$BF$29,6,FALSE))) -> 0 | BC8: =IF(ISERROR(VLOOKUP(AW8,$AW$26:$BF$29,7,FALSE)),0,(VLOOKUP(AW8,$AW$26:$BF$29,7,FALSE))) -> 0 | BD8: =IF(ISERROR(VLOOKUP(AW8,$AW$26:$BF$29,8,FALSE)),0,(VLOOKUP(AW8,$AW$26:$BF$29,8,FALSE))) -> 0 | BE8: =BC8-BD8 -> 0 | BF8: =AZ8*3+BA8 -> 0 | BI8: 3 | BJ8: =IF(ISERROR(VLOOKUP(BI8,$BI$26:$BK$29,2,FALSE)),0,(VLOOKUP(BI8,$BI$26:$BK$29,2,FALSE))) -> 0 | BK8: =IF(ISERROR(VLOOKUP(BI8,$BI$26:$BR$27,3,FALSE)),0,(VLOOKUP(BI8,$BI$26:$BR$27,3,FALSE))) -> 0 | BL8: =IF(ISERROR(VLOOKUP(BI8,$BI$26:$BR$27,4,FALSE)),0,(VLOOKUP(BI8,$BI$26:$BR$27,4,FALSE))) -> 0 | BM8: =BK8-BL8-BN8 -> 0 | BN8: =IF(ISERROR(VLOOKUP(BI8,$BI$26:$BR$27,6,FALSE)),0,(VLOOKUP(BI8,$BI$26:$BR$27,6,FALSE))) -> 0 | BO8: =IF(ISERROR(VLOOKUP(BI8,$BI$26:$BR$27,7,FALSE)),0,(VLOOKUP(BI8,$BI$26:$BR$27,7,FALSE))) -> 0 | BP8: =IF(ISERROR(VLOOKUP(BI8,$BI$26:$BR$27,8,FALSE)),0,(VLOOKUP(BI8,$BI$26:$BR$27,8,FALSE))) -> 0 | BQ8: =BO8-BP8 -> 0 | BR8: =BL8*3+BM8 -> 0 | BY8: =P8 -> #REF! | BZ8: =Q8 -> Real Sociedad | CA8: =R8+AN8+AY8+BK8 -> 10 | CB8: =S8+AO8+AZ8+BL8 -> 2 | CC8: =T8+AP8+BA8+BM8 -> 3 | CD8: =U8+AQ8+BB8+BN8 -> 5 | CE8: =V8+AR8+BC8+BO8 -> 7 | CF8: =W8+AS8+BD8+BP8 -> 15 | CG8: =X8+AT8+BE8+BQ8 -> -8 | CH8: =Y8+AU8+BF8+BR8 -> 9 | CJ8: =(10^10)*CH8+(10^8)*CB8+(10^6)*(50+CG8)+(10^4)*CE8+(10^2)*CA8+(13-BY8) -> #REF! | CK8: 3 | CL8: =LARGE($CJ$6:$CJ$23,CK8) -> #REF! | CN8: 3 | CO8: =MATCH(CL8,$CJ$6:$CJ$23,0) -> #REF!
B9: 4º | C9: =VLOOKUP(CO9,$BY$6:$CH$23,2) -> #REF! | D9: =VLOOKUP(CO9,$BY$6:$CH$23,3) -> #REF! | E9: =VLOOKUP(CO9,$BY$6:$CH$23,4) -> #REF! | F9: =D9-E9-G9 -> #REF! | G9: =VLOOKUP(CO9,$BY$6:$CH$23,6) -> #REF! | H9: =VLOOKUP(CO9,$BY$6:$CH$23,7) -> #REF! | I9: =VLOOKUP(CO9,$BY$6:$CH$23,8) -> #REF! | J9: =H9-I9 -> #REF! | K9: =E9*3+F9 -> #REF! | P9: =#REF! -> #REF! | Q9: =Classificação!P12 -> Sporting | R9: =Classificação!Q12 -> 10 | S9: =Classificação!R12 -> 6 | T9: =Classificação!S12 -> 3 | U9: =Classificação!T12 -> 1 | V9: =Classificação!U12 -> 18 | W9: =Classificação!V12 -> 9 | X9: =Classificação!W12 -> 9 | Y9: =Classificação!X12 -> 21 | Z9: =(10^10)*Y9+(10^8)*S9+(10^6)*(50+X9)+(10^4)*V9+(10^2)*R9+(13-P9) -> #REF! | AK9: 0 | AL9: =#REF! -> #REF! | AM9: =IF(ISERROR(VLOOKUP(AL9,$AL$27:$AN$34,2,FALSE)),0,(VLOOKUP(AL9,$AL$27:$AN$34,2,FALSE))) -> 0 | AN9: =IF(ISERROR(VLOOKUP(AL9,$AL$27:$AN$34,3,FALSE)),0,(VLOOKUP(AL9,$AL$27:$AN$34,3,FALSE))) -> 0 | AO9: =IF(ISERROR(VLOOKUP(AL9,$AL$27:$AO$34,4,FALSE)),0,(VLOOKUP(AL9,$AL$27:$AO$34,4,FALSE))) -> 0 | AP9: =AN9-AO9-AQ9 -> 0 | AQ9: =IF(ISERROR(VLOOKUP(AL9,$AL$27:$AQ$34,6,FALSE)),0,(VLOOKUP(AL9,$AL$27:$AQ$34,6,FALSE))) -> 0 | AR9: =IF(ISERROR(VLOOKUP(AL9,$AL$27:$AR$34,7,FALSE)),0,(VLOOKUP(AL9,$AL$27:$AR$34,7,FALSE))) -> 0 | AS9: =IF(ISERROR(VLOOKUP(AL9,$AL$27:$AS$34,8,FALSE)),0,(VLOOKUP(AL9,$AL$27:$AS$34,8,FALSE))) -> 0 | AT9: =AR9-AS9 -> 0 | AU9: =AO9*3+AP9 -> 0 | AW9: 4 | AX9: =IF(ISERROR(VLOOKUP(AW9,$AW$26:$AY$29,2,FALSE)),0,(VLOOKUP(AW9,$AW$26:$AY$29,2,FALSE))) -> 0 | AY9: =IF(ISERROR(VLOOKUP(AW9,$AW$26:$BF$29,3,FALSE)),0,(VLOOKUP(AW9,$AW$26:$BF$29,3,FALSE))) -> 0 | AZ9: =IF(ISERROR(VLOOKUP(AW9,$AW$26:$BF$29,4,FALSE)),0,(VLOOKUP(AW9,$AW$26:$BF$29,4,FALSE))) -> 0 | BA9: =AY9-AZ9-BB9 -> 0 | BB9: =IF(ISERROR(VLOOKUP(AW9,$AW$26:$BF$29,6,FALSE)),0,(VLOOKUP(AW9,$AW$26:$BF$29,6,FALSE))) -> 0 | BC9: =IF(ISERROR(VLOOKUP(AW9,$AW$26:$BF$29,7,FALSE)),0,(VLOOKUP(AW9,$AW$26:$BF$29,7,FALSE))) -> 0 | BD9: =IF(ISERROR(VLOOKUP(AW9,$AW$26:$BF$29,8,FALSE)),0,(VLOOKUP(AW9,$AW$26:$BF$29,8,FALSE))) -> 0 | BE9: =BC9-BD9 -> 0 | BF9: =AZ9*3+BA9 -> 0 | BI9: 4 | BJ9: =IF(ISERROR(VLOOKUP(BI9,$BI$26:$BK$29,2,FALSE)),0,(VLOOKUP(BI9,$BI$26:$BK$29,2,FALSE))) -> 0 | BK9: =IF(ISERROR(VLOOKUP(BI9,$BI$26:$BR$27,3,FALSE)),0,(VLOOKUP(BI9,$BI$26:$BR$27,3,FALSE))) -> 0 | BL9: =IF(ISERROR(VLOOKUP(BI9,$BI$26:$BR$27,4,FALSE)),0,(VLOOKUP(BI9,$BI$26:$BR$27,4,FALSE))) -> 0 | BM9: =BK9-BL9-BN9 -> 0 | BN9: =IF(ISERROR(VLOOKUP(BI9,$BI$26:$BR$27,6,FALSE)),0,(VLOOKUP(BI9,$BI$26:$BR$27,6,FALSE))) -> 0 | BO9: =IF(ISERROR(VLOOKUP(BI9,$BI$26:$BR$27,7,FALSE)),0,(VLOOKUP(BI9,$BI$26:$BR$27,7,FALSE))) -> 0 | BP9: =IF(ISERROR(VLOOKUP(BI9,$BI$26:$BR$27,8,FALSE)),0,(VLOOKUP(BI9,$BI$26:$BR$27,8,FALSE))) -> 0 | BQ9: =BO9-BP9 -> 0 | BR9: =BL9*3+BM9 -> 0 | BY9: =P9 -> #REF! | BZ9: =Q9 -> Sporting | CA9: =R9+AN9+AY9+BK9 -> 10 | CB9: =S9+AO9+AZ9+BL9 -> 6 | CC9: =T9+AP9+BA9+BM9 -> 3 | CD9: =U9+AQ9+BB9+BN9 -> 1 | CE9: =V9+AR9+BC9+BO9 -> 18 | CF9: =W9+AS9+BD9+BP9 -> 9 | CG9: =X9+AT9+BE9+BQ9 -> 9 | CH9: =Y9+AU9+BF9+BR9 -> 21 | CJ9: =(10^10)*CH9+(10^8)*CB9+(10^6)*(50+CG9)+(10^4)*CE9+(10^2)*CA9+(13-BY9) -> #REF! | CK9: 4 | CL9: =LARGE($CJ$6:$CJ$23,CK9) -> #REF! | CN9: 4 | CO9: =MATCH(CL9,$CJ$6:$CJ$23,0) -> #REF!
B10: 5º | C10: =VLOOKUP(CO10,$BY$6:$CH$23,2) -> #REF! | D10: =VLOOKUP(CO10,$BY$6:$CH$23,3) -> #REF! | E10: =VLOOKUP(CO10,$BY$6:$CH$23,4) -> #REF! | F10: =D10-E10-G10 -> #REF! | G10: =VLOOKUP(CO10,$BY$6:$CH$23,6) -> #REF! | H10: =VLOOKUP(CO10,$BY$6:$CH$23,7) -> #REF! | I10: =VLOOKUP(CO10,$BY$6:$CH$23,8) -> #REF! | J10: =H10-I10 -> #REF! | K10: =E10*3+F10 -> #REF! | P10: =#REF! -> #REF! | Q10: =Classificação!P13 -> Schalke 04 | R10: =Classificação!Q13 -> 10 | S10: =Classificação!R13 -> 5 | T10: =Classificação!S13 -> 2 | U10: =Classificação!T13 -> 3 | V10: =Classificação!U13 -> 13 | W10: =Classificação!V13 -> 7 | X10: =Classificação!W13 -> 6 | Y10: =Classificação!X13 -> 17 | Z10: =(10^10)*Y10+(10^8)*S10+(10^6)*(50+X10)+(10^4)*V10+(10^2)*R10+(13-P10) -> #REF! | AK10: 0 | AL10: =#REF! -> #REF! | AM10: =IF(ISERROR(VLOOKUP(AL10,$AL$27:$AN$34,2,FALSE)),0,(VLOOKUP(AL10,$AL$27:$AN$34,2,FALSE))) -> 0 | AN10: =IF(ISERROR(VLOOKUP(AL10,$AL$27:$AN$34,3,FALSE)),0,(VLOOKUP(AL10,$AL$27:$AN$34,3,FALSE))) -> 0 | AO10: =IF(ISERROR(VLOOKUP(AL10,$AL$27:$AO$34,4,FALSE)),0,(VLOOKUP(AL10,$AL$27:$AO$34,4,FALSE))) -> 0 | AP10: =AN10-AO10-AQ10 -> 0 | AQ10: =IF(ISERROR(VLOOKUP(AL10,$AL$27:$AQ$34,6,FALSE)),0,(VLOOKUP(AL10,$AL$27:$AQ$34,6,FALSE))) -> 0 | AR10: =IF(ISERROR(VLOOKUP(AL10,$AL$27:$AR$34,7,FALSE)),0,(VLOOKUP(AL10,$AL$27:$AR$34,7,FALSE))) -> 0 | AS10: =IF(ISERROR(VLOOKUP(AL10,$AL$27:$AS$34,8,FALSE)),0,(VLOOKUP(AL10,$AL$27:$AS$34,8,FALSE))) -> 0 | AT10: =AR10-AS10 -> 0 | AU10: =AO10*3+AP10 -> 0 | AW10: 5 | AX10: =IF(ISERROR(VLOOKUP(AW10,$AW$26:$AY$29,2,FALSE)),0,(VLOOKUP(AW10,$AW$26:$AY$29,2,FALSE))) -> 0 | AY10: =IF(ISERROR(VLOOKUP(AW10,$AW$26:$BF$29,3,FALSE)),0,(VLOOKUP(AW10,$AW$26:$BF$29,3,FALSE))) -> 0 | AZ10: =IF(ISERROR(VLOOKUP(AW10,$AW$26:$BF$29,4,FALSE)),0,(VLOOKUP(AW10,$AW$26:$BF$29,4,FALSE))) -> 0 | BA10: =AY10-AZ10-BB10 -> 0 | BB10: =IF(ISERROR(VLOOKUP(AW10,$AW$26:$BF$29,6,FALSE)),0,(VLOOKUP(AW10,$AW$26:$BF$29,6,FALSE))) -> 0 | BC10: =IF(ISERROR(VLOOKUP(AW10,$AW$26:$BF$29,7,FALSE)),0,(VLOOKUP(AW10,$AW$26:$BF$29,7,FALSE))) -> 0 | BD10: =IF(ISERROR(VLOOKUP(AW10,$AW$26:$BF$29,8,FALSE)),0,(VLOOKUP(AW10,$AW$26:$BF$29,8,FALSE))) -> 0 | BE10: =BC10-BD10 -> 0 | BF10: =AZ10*3+BA10 -> 0 | BI10: 5 | BJ10: =IF(ISERROR(VLOOKUP(BI10,$BI$26:$BK$29,2,FALSE)),0,(VLOOKUP(BI10,$BI$26:$BK$29,2,FALSE))) -> 0 | BK10: =IF(ISERROR(VLOOKUP(BI10,$BI$26:$BR$27,3,FALSE)),0,(VLOOKUP(BI10,$BI$26:$BR$27,3,FALSE))) -> 0 | BL10: =IF(ISERROR(VLOOKUP(BI10,$BI$26:$BR$27,4,FALSE)),0,(VLOOKUP(BI10,$BI$26:$BR$27,4,FALSE))) -> 0 | BM10: =BK10-BL10-BN10 -> 0 | BN10: =IF(ISERROR(VLOOKUP(BI10,$BI$26:$BR$27,6,FALSE)),0,(VLOOKUP(BI10,$BI$26:$BR$27,6,FALSE))) -> 0 | BO10: =IF(ISERROR(VLOOKUP(BI10,$BI$26:$BR$27,7,FALSE)),0,(VLOOKUP(BI10,$BI$26:$BR$27,7,FALSE))) -> 0 | BP10: =IF(ISERROR(VLOOKUP(BI10,$BI$26:$BR$27,8,FALSE)),0,(VLOOKUP(BI10,$BI$26:$BR$27,8,FALSE))) -> 0 | BQ10: =BO10-BP10 -> 0 | BR10: =BL10*3+BM10 -> 0 | BY10: =P10 -> #REF! | BZ10: =Q10 -> Schalke 04 | CA10: =R10+AN10+AY10+BK10 -> 10 | CB10: =S10+AO10+AZ10+BL10 -> 5 | CC10: =T10+AP10+BA10+BM10 -> 2 | CD10: =U10+AQ10+BB10+BN10 -> 3 | CE10: =V10+AR10+BC10+BO10 -> 13 | CF10: =W10+AS10+BD10+BP10 -> 7 | CG10: =X10+AT10+BE10+BQ10 -> 6 | CH10: =Y10+AU10+BF10+BR10 -> 17 | CJ10: =(10^10)*CH10+(10^8)*CB10+(10^6)*(50+CG10)+(10^4)*CE10+(10^2)*CA10+(13-BY10) -> #REF! | CK10: 5 | CL10: =LARGE($CJ$6:$CJ$23,CK10) -> #REF! | CN10: 5 | CO10: =MATCH(CL10,$CJ$6:$CJ$23,0) -> #REF!
B11: 6º | C11: =VLOOKUP(CO11,$BY$6:$CH$23,2) -> #REF! | D11: =VLOOKUP(CO11,$BY$6:$CH$23,3) -> #REF! | E11: =VLOOKUP(CO11,$BY$6:$CH$23,4) -> #REF! | F11: =D11-E11-G11 -> #REF! | G11: =VLOOKUP(CO11,$BY$6:$CH$23,6) -> #REF! | H11: =VLOOKUP(CO11,$BY$6:$CH$23,7) -> #REF! | I11: =VLOOKUP(CO11,$BY$6:$CH$23,8) -> #REF! | J11: =H11-I11 -> #REF! | K11: =E11*3+F11 -> #REF! | P11: =#REF! -> #REF! | Q11: =Classificação!P14 -> Galatasaray | R11: =Classificação!Q14 -> 0 | S11: =Classificação!R14 -> 0 | T11: =Classificação!S14 -> 0 | U11: =Classificação!T14 -> 0 | V11: =Classificação!U14 -> 0 | W11: =Classificação!V14 -> 0 | X11: =Classificação!W14 -> 0 | Y11: =Classificação!X14 -> 0 | Z11: =(10^10)*Y11+(10^8)*S11+(10^6)*(50+X11)+(10^4)*V11+(10^2)*R11+(13-P11) -> #REF! | AK11: 0 | AL11: =#REF! -> #REF! | AM11: =IF(ISERROR(VLOOKUP(AL11,$AL$27:$AN$34,2,FALSE)),0,(VLOOKUP(AL11,$AL$27:$AN$34,2,FALSE))) -> 0 | AN11: =IF(ISERROR(VLOOKUP(AL11,$AL$27:$AN$34,3,FALSE)),0,(VLOOKUP(AL11,$AL$27:$AN$34,3,FALSE))) -> 0 | AO11: =IF(ISERROR(VLOOKUP(AL11,$AL$27:$AO$34,4,FALSE)),0,(VLOOKUP(AL11,$AL$27:$AO$34,4,FALSE))) -> 0 | AP11: =AN11-AO11-AQ11 -> 0 | AQ11: =IF(ISERROR(VLOOKUP(AL11,$AL$27:$AQ$34,6,FALSE)),0,(VLOOKUP(AL11,$AL$27:$AQ$34,6,FALSE))) -> 0 | AR11: =IF(ISERROR(VLOOKUP(AL11,$AL$27:$AR$34,7,FALSE)),0,(VLOOKUP(AL11,$AL$27:$AR$34,7,FALSE))) -> 0 | AS11: =IF(ISERROR(VLOOKUP(AL11,$AL$27:$AS$34,8,FALSE)),0,(VLOOKUP(AL11,$AL$27:$AS$34,8,FALSE))) -> 0 | AT11: =AR11-AS11 -> 0 | AU11: =AO11*3+AP11 -> 0 | AW11: 6 | AX11: =IF(ISERROR(VLOOKUP(AW11,$AW$26:$AY$29,2,FALSE)),0,(VLOOKUP(AW11,$AW$26:$AY$29,2,FALSE))) -> 0 | AY11: =IF(ISERROR(VLOOKUP(AW11,$AW$26:$BF$29,3,FALSE)),0,(VLOOKUP(AW11,$AW$26:$BF$29,3,FALSE))) -> 0 | AZ11: =IF(ISERROR(VLOOKUP(AW11,$AW$26:$BF$29,4,FALSE)),0,(VLOOKUP(AW11,$AW$26:$BF$29,4,FALSE))) -> 0 | BA11: =AY11-AZ11-BB11 -> 0 | BB11: =IF(ISERROR(VLOOKUP(AW11,$AW$26:$BF$29,6,FALSE)),0,(VLOOKUP(AW11,$AW$26:$BF$29,6,FALSE))) -> 0 | BC11: =IF(ISERROR(VLOOKUP(AW11,$AW$26:$BF$29,7,FALSE)),0,(VLOOKUP(AW11,$AW$26:$BF$29,7,FALSE))) -> 0 | BD11: =IF(ISERROR(VLOOKUP(AW11,$AW$26:$BF$29,8,FALSE)),0,(VLOOKUP(AW11,$AW$26:$BF$29,8,FALSE))) -> 0 | BE11: =BC11-BD11 -> 0 | BF11: =AZ11*3+BA11 -> 0 | BI11: 6 | BJ11: =IF(ISERROR(VLOOKUP(BI11,$BI$26:$BK$29,2,FALSE)),0,(VLOOKUP(BI11,$BI$26:$BK$29,2,FALSE))) -> 0 | BK11: =IF(ISERROR(VLOOKUP(BI11,$BI$26:$BR$27,3,FALSE)),0,(VLOOKUP(BI11,$BI$26:$BR$27,3,FALSE))) -> 0 | BL11: =IF(ISERROR(VLOOKUP(BI11,$BI$26:$BR$27,4,FALSE)),0,(VLOOKUP(BI11,$BI$26:$BR$27,4,FALSE))) -> 0 | BM11: =BK11-BL11-BN11 -> 0 | BN11: =IF(ISERROR(VLOOKUP(BI11,$BI$26:$BR$27,6,FALSE)),0,(VLOOKUP(BI11,$BI$26:$BR$27,6,FALSE))) -> 0 | BO11: =IF(ISERROR(VLOOKUP(BI11,$BI$26:$BR$27,7,FALSE)),0,(VLOOKUP(BI11,$BI$26:$BR$27,7,FALSE))) -> 0 | BP11: =IF(ISERROR(VLOOKUP(BI11,$BI$26:$BR$27,8,FALSE)),0,(VLOOKUP(BI11,$BI$26:$BR$27,8,FALSE))) -> 0 | BQ11: =BO11-BP11 -> 0 | BR11: =BL11*3+BM11 -> 0 | BY11: =P11 -> #REF! | BZ11: =Q11 -> Galatasaray | CA11: =R11+AN11+AY11+BK11 -> 0 | CB11: =S11+AO11+AZ11+BL11 -> 0 | CC11: =T11+AP11+BA11+BM11 -> 0 | CD11: =U11+AQ11+BB11+BN11 -> 0 | CE11: =V11+AR11+BC11+BO11 -> 0 | CF11: =W11+AS11+BD11+BP11 -> 0 | CG11: =X11+AT11+BE11+BQ11 -> 0 | CH11: =Y11+AU11+BF11+BR11 -> 0 | CJ11: =(10^10)*CH11+(10^8)*CB11+(10^6)*(50+CG11)+(10^4)*CE11+(10^2)*CA11+(13-BY11) -> #REF! | CK11: 6 | CL11: =LARGE($CJ$6:$CJ$23,CK11) -> #REF! | CN11: 6 | CO11: =MATCH(CL11,$CJ$6:$CJ$23,0) -> #REF!
B12: 7º | C12: =VLOOKUP(CO12,$BY$6:$CH$23,2) -> #REF! | D12: =VLOOKUP(CO12,$BY$6:$CH$23,3) -> #REF! | E12: =VLOOKUP(CO12,$BY$6:$CH$23,4) -> #REF! | F12: =D12-E12-G12 -> #REF! | G12: =VLOOKUP(CO12,$BY$6:$CH$23,6) -> #REF! | H12: =VLOOKUP(CO12,$BY$6:$CH$23,7) -> #REF! | I12: =VLOOKUP(CO12,$BY$6:$CH$23,8) -> #REF! | J12: =H12-I12 -> #REF! | K12: =E12*3+F12 -> #REF! | P12: =#REF! -> #REF! | Q12: =Classificação!P15 -> Athl. De Bilbao | R12: =Classificação!Q15 -> 10 | S12: =Classificação!R15 -> 1 | T12: =Classificação!S15 -> 4 | U12: =Classificação!T15 -> 5 | V12: =Classificação!U15 -> 8 | W12: =Classificação!V15 -> 14 | X12: =Classificação!W15 -> -6 | Y12: =Classificação!X15 -> 7 | Z12: =(10^10)*Y12+(10^8)*S12+(10^6)*(50+X12)+(10^4)*V12+(10^2)*R12+(13-P12) -> #REF! | AK12: 0 | AL12: =#REF! -> #REF! | AM12: =IF(ISERROR(VLOOKUP(AL12,$AL$27:$AN$34,2,FALSE)),0,(VLOOKUP(AL12,$AL$27:$AN$34,2,FALSE))) -> 0 | AN12: =IF(ISERROR(VLOOKUP(AL12,$AL$27:$AN$34,3,FALSE)),0,(VLOOKUP(AL12,$AL$27:$AN$34,3,FALSE))) -> 0 | AO12: =IF(ISERROR(VLOOKUP(AL12,$AL$27:$AO$34,4,FALSE)),0,(VLOOKUP(AL12,$AL$27:$AO$34,4,FALSE))) -> 0 | AP12: =AN12-AO12-AQ12 -> 0 | AQ12: =IF(ISERROR(VLOOKUP(AL12,$AL$27:$AQ$34,6,FALSE)),0,(VLOOKUP(AL12,$AL$27:$AQ$34,6,FALSE))) -> 0 | AR12: =IF(ISERROR(VLOOKUP(AL12,$AL$27:$AR$34,7,FALSE)),0,(VLOOKUP(AL12,$AL$27:$AR$34,7,FALSE))) -> 0 | AS12: =IF(ISERROR(VLOOKUP(AL12,$AL$27:$AS$34,8,FALSE)),0,(VLOOKUP(AL12,$AL$27:$AS$34,8,FALSE))) -> 0 | AT12: =AR12-AS12 -> 0 | AU12: =AO12*3+AP12 -> 0 | AW12: 7 | AX12: =IF(ISERROR(VLOOKUP(AW12,$AW$26:$AY$29,2,FALSE)),0,(VLOOKUP(AW12,$AW$26:$AY$29,2,FALSE))) -> 0 | AY12: =IF(ISERROR(VLOOKUP(AW12,$AW$26:$BF$29,3,FALSE)),0,(VLOOKUP(AW12,$AW$26:$BF$29,3,FALSE))) -> 0 | AZ12: =IF(ISERROR(VLOOKUP(AW12,$AW$26:$BF$29,4,FALSE)),0,(VLOOKUP(AW12,$AW$26:$BF$29,4,FALSE))) -> 0 | BA12: =AY12-AZ12-BB12 -> 0 | BB12: =IF(ISERROR(VLOOKUP(AW12,$AW$26:$BF$29,6,FALSE)),0,(VLOOKUP(AW12,$AW$26:$BF$29,6,FALSE))) -> 0 | BC12: =IF(ISERROR(VLOOKUP(AW12,$AW$26:$BF$29,7,FALSE)),0,(VLOOKUP(AW12,$AW$26:$BF$29,7,FALSE))) -> 0 | BD12: =IF(ISERROR(VLOOKUP(AW12,$AW$26:$BF$29,8,FALSE)),0,(VLOOKUP(AW12,$AW$26:$BF$29,8,FALSE))) -> 0 | BE12: =BC12-BD12 -> 0 | BF12: =AZ12*3+BA12 -> 0 | BI12: 7 | BJ12: =IF(ISERROR(VLOOKUP(BI12,$BI$26:$BK$29,2,FALSE)),0,(VLOOKUP(BI12,$BI$26:$BK$29,2,FALSE))) -> 0 | BK12: =IF(ISERROR(VLOOKUP(BI12,$BI$26:$BR$27,3,FALSE)),0,(VLOOKUP(BI12,$BI$26:$BR$27,3,FALSE))) -> 0 | BL12: =IF(ISERROR(VLOOKUP(BI12,$BI$26:$BR$27,4,FALSE)),0,(VLOOKUP(BI12,$BI$26:$BR$27,4,FALSE))) -> 0 | BM12: =BK12-BL12-BN12 -> 0 | BN12: =IF(ISERROR(VLOOKUP(BI12,$BI$26:$BR$27,6,FALSE)),0,(VLOOKUP(BI12,$BI$26:$BR$27,6,FALSE))) -> 0 | BO12: =IF(ISERROR(VLOOKUP(BI12,$BI$26:$BR$27,7,FALSE)),0,(VLOOKUP(BI12,$BI$26:$BR$27,7,FALSE))) -> 0 | BP12: =IF(ISERROR(VLOOKUP(BI12,$BI$26:$BR$27,8,FALSE)),0,(VLOOKUP(BI12,$BI$26:$BR$27,8,FALSE))) -> 0 | BQ12: =BO12-BP12 -> 0 | BR12: =BL12*3+BM12 -> 0 | BY12: =P12 -> #REF! | BZ12: =Q12 -> Athl. De Bilbao | CA12: =R12+AN12+AY12+BK12 -> 10 | CB12: =S12+AO12+AZ12+BL12 -> 1 | CC12: =T12+AP12+BA12+BM12 -> 4 | CD12: =U12+AQ12+BB12+BN12 -> 5 | CE12: =V12+AR12+BC12+BO12 -> 8 | CF12: =W12+AS12+BD12+BP12 -> 14 | CG12: =X12+AT12+BE12+BQ12 -> -6 | CH12: =Y12+AU12+BF12+BR12 -> 7 | CJ12: =(10^10)*CH12+(10^8)*CB12+(10^6)*(50+CG12)+(10^4)*CE12+(10^2)*CA12+(13-BY12) -> #REF! | CK12: 7 | CL12: =LARGE($CJ$6:$CJ$23,CK12) -> #REF! | CN12: 7 | CO12: =MATCH(CL12,$CJ$6:$CJ$23,0) -> #REF!
B13: 8º | C13: =VLOOKUP(CO13,$BY$6:$CH$23,2) -> #REF! | D13: =VLOOKUP(CO13,$BY$6:$CH$23,3) -> #REF! | E13: =VLOOKUP(CO13,$BY$6:$CH$23,4) -> #REF! | F13: =D13-E13-G13 -> #REF! | G13: =VLOOKUP(CO13,$BY$6:$CH$23,6) -> #REF! | H13: =VLOOKUP(CO13,$BY$6:$CH$23,7) -> #REF! | I13: =VLOOKUP(CO13,$BY$6:$CH$23,8) -> #REF! | J13: =H13-I13 -> #REF! | K13: =E13*3+F13 -> #REF! | P13: =#REF! -> #REF! | Q13: =Classificação!P16 -> Monaco | R13: =Classificação!Q16 -> 10 | S13: =Classificação!R16 -> 1 | T13: =Classificação!S16 -> 4 | U13: =Classificação!T16 -> 5 | V13: =Classificação!U16 -> 7 | W13: =Classificação!V16 -> 11 | X13: =Classificação!W16 -> -4 | Y13: =Classificação!X16 -> 7 | Z13: =(10^10)*Y13+(10^8)*S13+(10^6)*(50+X13)+(10^4)*V13+(10^2)*R13+(13-P13) -> #REF! | AK13: 0 | AL13: =#REF! -> #REF! | AM13: =IF(ISERROR(VLOOKUP(AL13,$AL$27:$AN$34,2,FALSE)),0,(VLOOKUP(AL13,$AL$27:$AN$34,2,FALSE))) -> 0 | AN13: =IF(ISERROR(VLOOKUP(AL13,$AL$27:$AN$34,3,FALSE)),0,(VLOOKUP(AL13,$AL$27:$AN$34,3,FALSE))) -> 0 | AO13: =IF(ISERROR(VLOOKUP(AL13,$AL$27:$AO$34,4,FALSE)),0,(VLOOKUP(AL13,$AL$27:$AO$34,4,FALSE))) -> 0 | AP13: =AN13-AO13-AQ13 -> 0 | AQ13: =IF(ISERROR(VLOOKUP(AL13,$AL$27:$AQ$34,6,FALSE)),0,(VLOOKUP(AL13,$AL$27:$AQ$34,6,FALSE))) -> 0 | AR13: =IF(ISERROR(VLOOKUP(AL13,$AL$27:$AR$34,7,FALSE)),0,(VLOOKUP(AL13,$AL$27:$AR$34,7,FALSE))) -> 0 | AS13: =IF(ISERROR(VLOOKUP(AL13,$AL$27:$AS$34,8,FALSE)),0,(VLOOKUP(AL13,$AL$27:$AS$34,8,FALSE))) -> 0 | AT13: =AR13-AS13 -> 0 | AU13: =AO13*3+AP13 -> 0 | AW13: 8 | AX13: =IF(ISERROR(VLOOKUP(AW13,$AW$26:$AY$29,2,FALSE)),0,(VLOOKUP(AW13,$AW$26:$AY$29,2,FALSE))) -> 0 | AY13: =IF(ISERROR(VLOOKUP(AW13,$AW$26:$BF$29,3,FALSE)),0,(VLOOKUP(AW13,$AW$26:$BF$29,3,FALSE))) -> 0 | AZ13: =IF(ISERROR(VLOOKUP(AW13,$AW$26:$BF$29,4,FALSE)),0,(VLOOKUP(AW13,$AW$26:$BF$29,4,FALSE))) -> 0 | BA13: =AY13-AZ13-BB13 -> 0 | BB13: =IF(ISERROR(VLOOKUP(AW13,$AW$26:$BF$29,6,FALSE)),0,(VLOOKUP(AW13,$AW$26:$BF$29,6,FALSE))) -> 0 | BC13: =IF(ISERROR(VLOOKUP(AW13,$AW$26:$BF$29,7,FALSE)),0,(VLOOKUP(AW13,$AW$26:$BF$29,7,FALSE))) -> 0 | BD13: =IF(ISERROR(VLOOKUP(AW13,$AW$26:$BF$29,8,FALSE)),0,(VLOOKUP(AW13,$AW$26:$BF$29,8,FALSE))) -> 0 | BE13: =BC13-BD13 -> 0 | BF13: =AZ13*3+BA13 -> 0 | BI13: 8 | BJ13: =IF(ISERROR(VLOOKUP(BI13,$BI$26:$BK$29,2,FALSE)),0,(VLOOKUP(BI13,$BI$26:$BK$29,2,FALSE))) -> 0 | BK13: =IF(ISERROR(VLOOKUP(BI13,$BI$26:$BR$27,3,FALSE)),0,(VLOOKUP(BI13,$BI$26:$BR$27,3,FALSE))) -> 0 | BL13: =IF(ISERROR(VLOOKUP(BI13,$BI$26:$BR$27,4,FALSE)),0,(VLOOKUP(BI13,$BI$26:$BR$27,4,FALSE))) -> 0 | BM13: =BK13-BL13-BN13 -> 0 | BN13: =IF(ISERROR(VLOOKUP(BI13,$BI$26:$BR$27,6,FALSE)),0,(VLOOKUP(BI13,$BI$26:$BR$27,6,FALSE))) -> 0 | BO13: =IF(ISERROR(VLOOKUP(BI13,$BI$26:$BR$27,7,FALSE)),0,(VLOOKUP(BI13,$BI$26:$BR$27,7,FALSE))) -> 0 | BP13: =IF(ISERROR(VLOOKUP(BI13,$BI$26:$BR$27,8,FALSE)),0,(VLOOKUP(BI13,$BI$26:$BR$27,8,FALSE))) -> 0 | BQ13: =BO13-BP13 -> 0 | BR13: =BL13*3+BM13 -> 0 | BY13: =P13 -> #REF! | BZ13: =Q13 -> Monaco | CA13: =R13+AN13+AY13+BK13 -> 10 | CB13: =S13+AO13+AZ13+BL13 -> 1 | CC13: =T13+AP13+BA13+BM13 -> 4 | CD13: =U13+AQ13+BB13+BN13 -> 5 | CE13: =V13+AR13+BC13+BO13 -> 7 | CF13: =W13+AS13+BD13+BP13 -> 11 | CG13: =X13+AT13+BE13+BQ13 -> -4 | CH13: =Y13+AU13+BF13+BR13 -> 7 | CJ13: =(10^10)*CH13+(10^8)*CB13+(10^6)*(50+CG13)+(10^4)*CE13+(10^2)*CA13+(13-BY13) -> #REF! | CK13: 8 | CL13: =LARGE($CJ$6:$CJ$23,CK13) -> #REF! | CN13: 8 | CO13: =MATCH(CL13,$CJ$6:$CJ$23,0) -> #REF!
B14: 9º | C14: =VLOOKUP(CO14,$BY$6:$CH$23,2) -> #REF! | D14: =VLOOKUP(CO14,$BY$6:$CH$23,3) -> #REF! | E14: =VLOOKUP(CO14,$BY$6:$CH$23,4) -> #REF! | F14: =D14-E14-G14 -> #REF! | G14: =VLOOKUP(CO14,$BY$6:$CH$23,6) -> #REF! | H14: =VLOOKUP(CO14,$BY$6:$CH$23,7) -> #REF! | I14: =VLOOKUP(CO14,$BY$6:$CH$23,8) -> #REF! | J14: =H14-I14 -> #REF! | K14: =E14*3+F14 -> #REF! | P14: =#REF! -> #REF! | Q14: =Classificação!P17 -> Beşiktaş | R14: =Classificação!Q17 -> 10 | S14: =Classificação!R17 -> 6 | T14: =Classificação!S17 -> 2 | U14: =Classificação!T17 -> 2 | V14: =Classificação!U17 -> 20 | W14: =Classificação!V17 -> 8 | X14: =Classificação!W17 -> 12 | Y14: =Classificação!X17 -> 20 | Z14: =(10^10)*Y14+(10^8)*S14+(10^6)*(50+X14)+(10^4)*V14+(10^2)*R14+(13-P14) -> #REF! | AK14: 0 | AL14: =#REF! -> #REF! | AM14: =IF(ISERROR(VLOOKUP(AL14,$AL$27:$AN$34,2,FALSE)),0,(VLOOKUP(AL14,$AL$27:$AN$34,2,FALSE))) -> 0 | AN14: =IF(ISERROR(VLOOKUP(AL14,$AL$27:$AN$34,3,FALSE)),0,(VLOOKUP(AL14,$AL$27:$AN$34,3,FALSE))) -> 0 | AO14: =IF(ISERROR(VLOOKUP(AL14,$AL$27:$AO$34,4,FALSE)),0,(VLOOKUP(AL14,$AL$27:$AO$34,4,FALSE))) -> 0 | AP14: =AN14-AO14-AQ14 -> 0 | AQ14: =IF(ISERROR(VLOOKUP(AL14,$AL$27:$AQ$34,6,FALSE)),0,(VLOOKUP(AL14,$AL$27:$AQ$34,6,FALSE))) -> 0 | AR14: =IF(ISERROR(VLOOKUP(AL14,$AL$27:$AR$34,7,FALSE)),0,(VLOOKUP(AL14,$AL$27:$AR$34,7,FALSE))) -> 0 | AS14: =IF(ISERROR(VLOOKUP(AL14,$AL$27:$AS$34,8,FALSE)),0,(VLOOKUP(AL14,$AL$27:$AS$34,8,FALSE))) -> 0 | AT14: =AR14-AS14 -> 0 | AU14: =AO14*3+AP14 -> 0 | AW14: 9 | AX14: =IF(ISERROR(VLOOKUP(AW14,$AW$26:$AY$29,2,FALSE)),0,(VLOOKUP(AW14,$AW$26:$AY$29,2,FALSE))) -> 0 | AY14: =IF(ISERROR(VLOOKUP(AW14,$AW$26:$BF$29,3,FALSE)),0,(VLOOKUP(AW14,$AW$26:$BF$29,3,FALSE))) -> 0 | AZ14: =IF(ISERROR(VLOOKUP(AW14,$AW$26:$BF$29,4,FALSE)),0,(VLOOKUP(AW14,$AW$26:$BF$29,4,FALSE))) -> 0 | BA14: =AY14-AZ14-BB14 -> 0 | BB14: =IF(ISERROR(VLOOKUP(AW14,$AW$26:$BF$29,6,FALSE)),0,(VLOOKUP(AW14,$AW$26:$BF$29,6,FALSE))) -> 0 | BC14: =IF(ISERROR(VLOOKUP(AW14,$AW$26:$BF$29,7,FALSE)),0,(VLOOKUP(AW14,$AW$26:$BF$29,7,FALSE))) -> 0 | BD14: =IF(ISERROR(VLOOKUP(AW14,$AW$26:$BF$29,8,FALSE)),0,(VLOOKUP(AW14,$AW$26:$BF$29,8,FALSE))) -> 0 | BE14: =BC14-BD14 -> 0 | BF14: =AZ14*3+BA14 -> 0 | BI14: 9 | BJ14: =IF(ISERROR(VLOOKUP(BI14,$BI$26:$BK$29,2,FALSE)),0,(VLOOKUP(BI14,$BI$26:$BK$29,2,FALSE))) -> 0 | BK14: =IF(ISERROR(VLOOKUP(BI14,$BI$26:$BR$27,3,FALSE)),0,(VLOOKUP(BI14,$BI$26:$BR$27,3,FALSE))) -> 0 | BL14: =IF(ISERROR(VLOOKUP(BI14,$BI$26:$BR$27,4,FALSE)),0,(VLOOKUP(BI14,$BI$26:$BR$27,4,FALSE))) -> 0 | BM14: =BK14-BL14-BN14 -> 0 | BN14: =IF(ISERROR(VLOOKUP(BI14,$BI$26:$BR$27,6,FALSE)),0,(VLOOKUP(BI14,$BI$26:$BR$27,6,FALSE))) -> 0 | BO14: =IF(ISERROR(VLOOKUP(BI14,$BI$26:$BR$27,7,FALSE)),0,(VLOOKUP(BI14,$BI$26:$BR$27,7,FALSE))) -> 0 | BP14: =IF(ISERROR(VLOOKUP(BI14,$BI$26:$BR$27,8,FALSE)),0,(VLOOKUP(BI14,$BI$26:$BR$27,8,FALSE))) -> 0 | BQ14: =BO14-BP14 -> 0 | BR14: =BL14*3+BM14 -> 0 | BY14: =P14 -> #REF! | BZ14: =Q14 -> Beşiktaş | CA14: =R14+AN14+AY14+BK14 -> 10 | CB14: =S14+AO14+AZ14+BL14 -> 6 | CC14: =T14+AP14+BA14+BM14 -> 2 | CD14: =U14+AQ14+BB14+BN14 -> 2 | CE14: =V14+AR14+BC14+BO14 -> 20 | CF14: =W14+AS14+BD14+BP14 -> 8 | CG14: =X14+AT14+BE14+BQ14 -> 12 | CH14: =Y14+AU14+BF14+BR14 -> 20 | CJ14: =(10^10)*CH14+(10^8)*CB14+(10^6)*(50+CG14)+(10^4)*CE14+(10^2)*CA14+(13-BY14) -> #REF! | CK14: 9 | CL14: =LARGE($CJ$6:$CJ$23,CK14) -> #REF! | CN14: 9 | CO14: =MATCH(CL14,$CJ$6:$CJ$23,0) -> #REF!
B15: 10º | C15: =VLOOKUP(CO15,$BY$6:$CH$23,2) -> #REF! | D15: =VLOOKUP(CO15,$BY$6:$CH$23,3) -> #REF! | E15: =VLOOKUP(CO15,$BY$6:$CH$23,4) -> #REF! | F15: =D15-E15-G15 -> #REF! | G15: =VLOOKUP(CO15,$BY$6:$CH$23,6) -> #REF! | H15: =VLOOKUP(CO15,$BY$6:$CH$23,7) -> #REF! | I15: =VLOOKUP(CO15,$BY$6:$CH$23,8) -> #REF! | J15: =H15-I15 -> #REF! | K15: =E15*3+F15 -> #REF! | P15: =#REF! -> #REF! | Q15: =Classificação!P25 -> Sevilla | R15: =Classificação!Q25 -> 10 | S15: =Classificação!R25 -> 3 | T15: =Classificação!S25 -> 2 | U15: =Classificação!T25 -> 5 | V15: =Classificação!U25 -> 13 | W15: =Classificação!V25 -> 16 | X15: =Classificação!W25 -> -3 | Y15: =Classificação!X25 -> 11 | Z15: =(10^10)*Y15+(10^8)*S15+(10^6)*(50+X15)+(10^4)*V15+(10^2)*R15+(13-P15) -> #REF! | AK15: 0 | AL15: =#REF! -> #REF! | AM15: =IF(ISERROR(VLOOKUP(AL15,$AL$27:$AN$34,2,FALSE)),0,(VLOOKUP(AL15,$AL$27:$AN$34,2,FALSE))) -> 0 | AN15: =IF(ISERROR(VLOOKUP(AL15,$AL$27:$AN$34,3,FALSE)),0,(VLOOKUP(AL15,$AL$27:$AN$34,3,FALSE))) -> 0 | AO15: =IF(ISERROR(VLOOKUP(AL15,$AL$27:$AO$34,4,FALSE)),0,(VLOOKUP(AL15,$AL$27:$AO$34,4,FALSE))) -> 0 | AP15: =AN15-AO15-AQ15 -> 0 | AQ15: =IF(ISERROR(VLOOKUP(AL15,$AL$27:$AQ$34,6,FALSE)),0,(VLOOKUP(AL15,$AL$27:$AQ$34,6,FALSE))) -> 0 | AR15: =IF(ISERROR(VLOOKUP(AL15,$AL$27:$AR$34,7,FALSE)),0,(VLOOKUP(AL15,$AL$27:$AR$34,7,FALSE))) -> 0 | AS15: =IF(ISERROR(VLOOKUP(AL15,$AL$27:$AS$34,8,FALSE)),0,(VLOOKUP(AL15,$AL$27:$AS$34,8,FALSE))) -> 0 | AT15: =AR15-AS15 -> 0 | AU15: =AO15*3+AP15 -> 0 | AW15: 10 | AX15: =IF(ISERROR(VLOOKUP(AW15,$AW$26:$AY$29,2,FALSE)),0,(VLOOKUP(AW15,$AW$26:$AY$29,2,FALSE))) -> 0 | AY15: =IF(ISERROR(VLOOKUP(AW15,$AW$26:$BF$29,3,FALSE)),0,(VLOOKUP(AW15,$AW$26:$BF$29,3,FALSE))) -> 0 | AZ15: =IF(ISERROR(VLOOKUP(AW15,$AW$26:$BF$29,4,FALSE)),0,(VLOOKUP(AW15,$AW$26:$BF$29,4,FALSE))) -> 0 | BA15: =AY15-AZ15-BB15 -> 0 | BB15: =IF(ISERROR(VLOOKUP(AW15,$AW$26:$BF$29,6,FALSE)),0,(VLOOKUP(AW15,$AW$26:$BF$29,6,FALSE))) -> 0 | BC15: =IF(ISERROR(VLOOKUP(AW15,$AW$26:$BF$29,7,FALSE)),0,(VLOOKUP(AW15,$AW$26:$BF$29,7,FALSE))) -> 0 | BD15: =IF(ISERROR(VLOOKUP(AW15,$AW$26:$BF$29,8,FALSE)),0,(VLOOKUP(AW15,$AW$26:$BF$29,8,FALSE))) -> 0 | BE15: =BC15-BD15 -> 0 | BF15: =AZ15*3+BA15 -> 0 | BI15: 10 | BJ15: =IF(ISERROR(VLOOKUP(BI15,$BI$26:$BK$29,2,FALSE)),0,(VLOOKUP(BI15,$BI$26:$BK$29,2,FALSE))) -> 0 | BK15: =IF(ISERROR(VLOOKUP(BI15,$BI$26:$BR$27,3,FALSE)),0,(VLOOKUP(BI15,$BI$26:$BR$27,3,FALSE))) -> 0 | BL15: =IF(ISERROR(VLOOKUP(BI15,$BI$26:$BR$27,4,FALSE)),0,(VLOOKUP(BI15,$BI$26:$BR$27,4,FALSE))) -> 0 | BM15: =BK15-BL15-BN15 -> 0 | BN15: =IF(ISERROR(VLOOKUP(BI15,$BI$26:$BR$27,6,FALSE)),0,(VLOOKUP(BI15,$BI$26:$BR$27,6,FALSE))) -> 0 | BO15: =IF(ISERROR(VLOOKUP(BI15,$BI$26:$BR$27,7,FALSE)),0,(VLOOKUP(BI15,$BI$26:$BR$27,7,FALSE))) -> 0 | BP15: =IF(ISERROR(VLOOKUP(BI15,$BI$26:$BR$27,8,FALSE)),0,(VLOOKUP(BI15,$BI$26:$BR$27,8,FALSE))) -> 0 | BQ15: =BO15-BP15 -> 0 | BR15: =BL15*3+BM15 -> 0 | BY15: =P15 -> #REF! | BZ15: =Q15 -> Sevilla | CA15: =R15+AN15+AY15+BK15 -> 10 | CB15: =S15+AO15+AZ15+BL15 -> 3 | CC15: =T15+AP15+BA15+BM15 -> 2 | CD15: =U15+AQ15+BB15+BN15 -> 5 | CE15: =V15+AR15+BC15+BO15 -> 13 | CF15: =W15+AS15+BD15+BP15 -> 16 | CG15: =X15+AT15+BE15+BQ15 -> -3 | CH15: =Y15+AU15+BF15+BR15 -> 11 | CJ15: =(10^10)*CH15+(10^8)*CB15+(10^6)*(50+CG15)+(10^4)*CE15+(10^2)*CA15+(13-BY15) -> #REF! | CK15: 10 | CL15: =LARGE($CJ$6:$CJ$23,CK15) -> #REF! | CN15: 10 | CO15: =MATCH(CL15,$CJ$6:$CJ$23,0) -> #REF!
B16: 11º | C16: =VLOOKUP(CO16,$BY$6:$CH$23,2) -> #REF! | D16: =VLOOKUP(CO16,$BY$6:$CH$23,3) -> #REF! | E16: =VLOOKUP(CO16,$BY$6:$CH$23,4) -> #REF! | F16: =D16-E16-G16 -> #REF! | G16: =VLOOKUP(CO16,$BY$6:$CH$23,6) -> #REF! | H16: =VLOOKUP(CO16,$BY$6:$CH$23,7) -> #REF! | I16: =VLOOKUP(CO16,$BY$6:$CH$23,8) -> #REF! | J16: =H16-I16 -> #REF! | K16: =E16*3+F16 -> #REF! | P16: =#REF! -> #REF! | Q16: =Classificação!P26 -> P S V | R16: =Classificação!Q26 -> 10 | S16: =Classificação!R26 -> 6 | T16: =Classificação!S26 -> 1 | U16: =Classificação!T26 -> 3 | V16: =Classificação!U26 -> 12 | W16: =Classificação!V26 -> 9 | X16: =Classificação!W26 -> 3 | Y16: =Classificação!X26 -> 19 | Z16: =(10^10)*Y16+(10^8)*S16+(10^6)*(50+X16)+(10^4)*V16+(10^2)*R16+(13-P16) -> #REF! | AK16: 0 | AL16: =#REF! -> #REF! | AM16: =IF(ISERROR(VLOOKUP(AL16,$AL$27:$AN$34,2,FALSE)),0,(VLOOKUP(AL16,$AL$27:$AN$34,2,FALSE))) -> 0 | AN16: =IF(ISERROR(VLOOKUP(AL16,$AL$27:$AN$34,3,FALSE)),0,(VLOOKUP(AL16,$AL$27:$AN$34,3,FALSE))) -> 0 | AO16: =IF(ISERROR(VLOOKUP(AL16,$AL$27:$AO$34,4,FALSE)),0,(VLOOKUP(AL16,$AL$27:$AO$34,4,FALSE))) -> 0 | AP16: =AN16-AO16-AQ16 -> 0 | AQ16: =IF(ISERROR(VLOOKUP(AL16,$AL$27:$AQ$34,6,FALSE)),0,(VLOOKUP(AL16,$AL$27:$AQ$34,6,FALSE))) -> 0 | AR16: =IF(ISERROR(VLOOKUP(AL16,$AL$27:$AR$34,7,FALSE)),0,(VLOOKUP(AL16,$AL$27:$AR$34,7,FALSE))) -> 0 | AS16: =IF(ISERROR(VLOOKUP(AL16,$AL$27:$AS$34,8,FALSE)),0,(VLOOKUP(AL16,$AL$27:$AS$34,8,FALSE))) -> 0 | AT16: =AR16-AS16 -> 0 | AU16: =AO16*3+AP16 -> 0 | AW16: 11 | AX16: =IF(ISERROR(VLOOKUP(AW16,$AW$26:$AY$29,2,FALSE)),0,(VLOOKUP(AW16,$AW$26:$AY$29,2,FALSE))) -> 0 | AY16: =IF(ISERROR(VLOOKUP(AW16,$AW$26:$BF$29,3,FALSE)),0,(VLOOKUP(AW16,$AW$26:$BF$29,3,FALSE))) -> 0 | AZ16: =IF(ISERROR(VLOOKUP(AW16,$AW$26:$BF$29,4,FALSE)),0,(VLOOKUP(AW16,$AW$26:$BF$29,4,FALSE))) -> 0 | BA16: =AY16-AZ16-BB16 -> 0 | BB16: =IF(ISERROR(VLOOKUP(AW16,$AW$26:$BF$29,6,FALSE)),0,(VLOOKUP(AW16,$AW$26:$BF$29,6,FALSE))) -> 0 | BC16: =IF(ISERROR(VLOOKUP(AW16,$AW$26:$BF$29,7,FALSE)),0,(VLOOKUP(AW16,$AW$26:$BF$29,7,FALSE))) -> 0 | BD16: =IF(ISERROR(VLOOKUP(AW16,$AW$26:$BF$29,8,FALSE)),0,(VLOOKUP(AW16,$AW$26:$BF$29,8,FALSE))) -> 0 | BE16: =BC16-BD16 -> 0 | BF16: =AZ16*3+BA16 -> 0 | BI16: 11 | BJ16: =IF(ISERROR(VLOOKUP(BI16,$BI$26:$BK$29,2,FALSE)),0,(VLOOKUP(BI16,$BI$26:$BK$29,2,FALSE))) -> 0 | BK16: =IF(ISERROR(VLOOKUP(BI16,$BI$26:$BR$27,3,FALSE)),0,(VLOOKUP(BI16,$BI$26:$BR$27,3,FALSE))) -> 0 | BL16: =IF(ISERROR(VLOOKUP(BI16,$BI$26:$BR$27,4,FALSE)),0,(VLOOKUP(BI16,$BI$26:$BR$27,4,FALSE))) -> 0 | BM16: =BK16-BL16-BN16 -> 0 | BN16: =IF(ISERROR(VLOOKUP(BI16,$BI$26:$BR$27,6,FALSE)),0,(VLOOKUP(BI16,$BI$26:$BR$27,6,FALSE))) -> 0 | BO16: =IF(ISERROR(VLOOKUP(BI16,$BI$26:$BR$27,7,FALSE)),0,(VLOOKUP(BI16,$BI$26:$BR$27,7,FALSE))) -> 0 | BP16: =IF(ISERROR(VLOOKUP(BI16,$BI$26:$BR$27,8,FALSE)),0,(VLOOKUP(BI16,$BI$26:$BR$27,8,FALSE))) -> 0 | BQ16: =BO16-BP16 -> 0 | BR16: =BL16*3+BM16 -> 0 | BY16: =P16 -> #REF! | BZ16: =Q16 -> P S V | CA16: =R16+AN16+AY16+BK16 -> 10 | CB16: =S16+AO16+AZ16+BL16 -> 6 | CC16: =T16+AP16+BA16+BM16 -> 1 | CD16: =U16+AQ16+BB16+BN16 -> 3 | CE16: =V16+AR16+BC16+BO16 -> 12 | CF16: =W16+AS16+BD16+BP16 -> 9 | CG16: =X16+AT16+BE16+BQ16 -> 3 | CH16: =Y16+AU16+BF16+BR16 -> 19 | CJ16: =(10^10)*CH16+(10^8)*CB16+(10^6)*(50+CG16)+(10^4)*CE16+(10^2)*CA16+(13-BY16) -> #REF! | CK16: 11 | CL16: =LARGE($CJ$6:$CJ$23,CK16) -> #REF! | CN16: 11 | CO16: =MATCH(CL16,$CJ$6:$CJ$23,0) -> #REF!
B17: 12º | C17: =VLOOKUP(CO17,$BY$6:$CH$23,2) -> #REF! | D17: =VLOOKUP(CO17,$BY$6:$CH$23,3) -> #REF! | E17: =VLOOKUP(CO17,$BY$6:$CH$23,4) -> #REF! | F17: =D17-E17-G17 -> #REF! | G17: =VLOOKUP(CO17,$BY$6:$CH$23,6) -> #REF! | H17: =VLOOKUP(CO17,$BY$6:$CH$23,7) -> #REF! | I17: =VLOOKUP(CO17,$BY$6:$CH$23,8) -> #REF! | J17: =H17-I17 -> #REF! | K17: =E17*3+F17 -> #REF! | P17: =#REF! -> #REF! | Q17: =Classificação!P27 -> Crystal Palace | R17: =Classificação!Q27 -> 10 | S17: =Classificação!R27 -> 5 | T17: =Classificação!S27 -> 4 | U17: =Classificação!T27 -> 1 | V17: =Classificação!U27 -> 7 | W17: =Classificação!V27 -> 3 | X17: =Classificação!W27 -> 4 | Y17: =Classificação!X27 -> 19 | Z17: =(10^10)*Y17+(10^8)*S17+(10^6)*(50+X17)+(10^4)*V17+(10^2)*R17+(13-P17) -> #REF! | AK17: 0 | AL17: =#REF! -> #REF! | AM17: =IF(ISERROR(VLOOKUP(AL17,$AL$27:$AN$34,2,FALSE)),0,(VLOOKUP(AL17,$AL$27:$AN$34,2,FALSE))) -> 0 | AN17: =IF(ISERROR(VLOOKUP(AL17,$AL$27:$AN$34,3,FALSE)),0,(VLOOKUP(AL17,$AL$27:$AN$34,3,FALSE))) -> 0 | AO17: =IF(ISERROR(VLOOKUP(AL17,$AL$27:$AO$34,4,FALSE)),0,(VLOOKUP(AL17,$AL$27:$AO$34,4,FALSE))) -> 0 | AP17: =AN17-AO17-AQ17 -> 0 | AQ17: =IF(ISERROR(VLOOKUP(AL17,$AL$27:$AQ$34,6,FALSE)),0,(VLOOKUP(AL17,$AL$27:$AQ$34,6,FALSE))) -> 0 | AR17: =IF(ISERROR(VLOOKUP(AL17,$AL$27:$AR$34,7,FALSE)),0,(VLOOKUP(AL17,$AL$27:$AR$34,7,FALSE))) -> 0 | AS17: =IF(ISERROR(VLOOKUP(AL17,$AL$27:$AS$34,8,FALSE)),0,(VLOOKUP(AL17,$AL$27:$AS$34,8,FALSE))) -> 0 | AT17: =AR17-AS17 -> 0 | AU17: =AO17*3+AP17 -> 0 | AW17: 12 | AX17: =IF(ISERROR(VLOOKUP(AW17,$AW$26:$AY$29,2,FALSE)),0,(VLOOKUP(AW17,$AW$26:$AY$29,2,FALSE))) -> 0 | AY17: =IF(ISERROR(VLOOKUP(AW17,$AW$26:$BF$29,3,FALSE)),0,(VLOOKUP(AW17,$AW$26:$BF$29,3,FALSE))) -> 0 | AZ17: =IF(ISERROR(VLOOKUP(AW17,$AW$26:$BF$29,4,FALSE)),0,(VLOOKUP(AW17,$AW$26:$BF$29,4,FALSE))) -> 0 | BA17: =AY17-AZ17-BB17 -> 0 | BB17: =IF(ISERROR(VLOOKUP(AW17,$AW$26:$BF$29,6,FALSE)),0,(VLOOKUP(AW17,$AW$26:$BF$29,6,FALSE))) -> 0 | BC17: =IF(ISERROR(VLOOKUP(AW17,$AW$26:$BF$29,7,FALSE)),0,(VLOOKUP(AW17,$AW$26:$BF$29,7,FALSE))) -> 0 | BD17: =IF(ISERROR(VLOOKUP(AW17,$AW$26:$BF$29,8,FALSE)),0,(VLOOKUP(AW17,$AW$26:$BF$29,8,FALSE))) -> 0 | BE17: =BC17-BD17 -> 0 | BF17: =AZ17*3+BA17 -> 0 | BI17: 12 | BJ17: =IF(ISERROR(VLOOKUP(BI17,$BI$26:$BK$29,2,FALSE)),0,(VLOOKUP(BI17,$BI$26:$BK$29,2,FALSE))) -> 0 | BK17: =IF(ISERROR(VLOOKUP(BI17,$BI$26:$BR$27,3,FALSE)),0,(VLOOKUP(BI17,$BI$26:$BR$27,3,FALSE))) -> 0 | BL17: =IF(ISERROR(VLOOKUP(BI17,$BI$26:$BR$27,4,FALSE)),0,(VLOOKUP(BI17,$BI$26:$BR$27,4,FALSE))) -> 0 | BM17: =BK17-BL17-BN17 -> 0 | BN17: =IF(ISERROR(VLOOKUP(BI17,$BI$26:$BR$27,6,FALSE)),0,(VLOOKUP(BI17,$BI$26:$BR$27,6,FALSE))) -> 0 | BO17: =IF(ISERROR(VLOOKUP(BI17,$BI$26:$BR$27,7,FALSE)),0,(VLOOKUP(BI17,$BI$26:$BR$27,7,FALSE))) -> 0 | BP17: =IF(ISERROR(VLOOKUP(BI17,$BI$26:$BR$27,8,FALSE)),0,(VLOOKUP(BI17,$BI$26:$BR$27,8,FALSE))) -> 0 | BQ17: =BO17-BP17 -> 0 | BR17: =BL17*3+BM17 -> 0 | BY17: =P17 -> #REF! | BZ17: =Q17 -> Crystal Palace | CA17: =R17+AN17+AY17+BK17 -> 10 | CB17: =S17+AO17+AZ17+BL17 -> 5 | CC17: =T17+AP17+BA17+BM17 -> 4 | CD17: =U17+AQ17+BB17+BN17 -> 1 | CE17: =V17+AR17+BC17+BO17 -> 7 | CF17: =W17+AS17+BD17+BP17 -> 3 | CG17: =X17+AT17+BE17+BQ17 -> 4 | CH17: =Y17+AU17+BF17+BR17 -> 19 | CJ17: =(10^10)*CH17+(10^8)*CB17+(10^6)*(50+CG17)+(10^4)*CE17+(10^2)*CA17+(13-BY17) -> #REF! | CK17: 12 | CL17: =LARGE($CJ$6:$CJ$23,CK17) -> #REF! | CN17: 12 | CO17: =MATCH(CL17,$CJ$6:$CJ$23,0) -> #REF!
B18: 13º | C18: =VLOOKUP(CO18,$BY$6:$CH$23,2) -> #REF! | D18: =VLOOKUP(CO18,$BY$6:$CH$23,3) -> #REF! | E18: =VLOOKUP(CO18,$BY$6:$CH$23,4) -> #REF! | F18: =D18-E18-G18 -> #REF! | G18: =VLOOKUP(CO18,$BY$6:$CH$23,6) -> #REF! | H18: =VLOOKUP(CO18,$BY$6:$CH$23,7) -> #REF! | I18: =VLOOKUP(CO18,$BY$6:$CH$23,8) -> #REF! | J18: =H18-I18 -> #REF! | K18: =E18*3+F18 -> #REF! | P18: =#REF! -> #REF! | Q18: =Classificação!P28 -> Borussia M | R18: =Classificação!Q28 -> 10 | S18: =Classificação!R28 -> 2 | T18: =Classificação!S28 -> 5 | U18: =Classificação!T28 -> 3 | V18: =Classificação!U28 -> 8 | W18: =Classificação!V28 -> 10 | X18: =Classificação!W28 -> -2 | Y18: =Classificação!X28 -> 11 | Z18: =(10^10)*Y18+(10^8)*S18+(10^6)*(50+X18)+(10^4)*V18+(10^2)*R18+(13-P18) -> #REF! | AK18: 0 | AL18: =#REF! -> #REF! | AM18: =IF(ISERROR(VLOOKUP(AL18,$AL$27:$AN$34,2,FALSE)),0,(VLOOKUP(AL18,$AL$27:$AN$34,2,FALSE))) -> 0 | AN18: =IF(ISERROR(VLOOKUP(AL18,$AL$27:$AN$34,3,FALSE)),0,(VLOOKUP(AL18,$AL$27:$AN$34,3,FALSE))) -> 0 | AO18: =IF(ISERROR(VLOOKUP(AL18,$AL$27:$AO$34,4,FALSE)),0,(VLOOKUP(AL18,$AL$27:$AO$34,4,FALSE))) -> 0 | AP18: =AN18-AO18-AQ18 -> 0 | AQ18: =IF(ISERROR(VLOOKUP(AL18,$AL$27:$AQ$34,6,FALSE)),0,(VLOOKUP(AL18,$AL$27:$AQ$34,6,FALSE))) -> 0 | AR18: =IF(ISERROR(VLOOKUP(AL18,$AL$27:$AR$34,7,FALSE)),0,(VLOOKUP(AL18,$AL$27:$AR$34,7,FALSE))) -> 0 | AS18: =IF(ISERROR(VLOOKUP(AL18,$AL$27:$AS$34,8,FALSE)),0,(VLOOKUP(AL18,$AL$27:$AS$34,8,FALSE))) -> 0 | AT18: =AR18-AS18 -> 0 | AU18: =AO18*3+AP18 -> 0 | AW18: 13 | AX18: =IF(ISERROR(VLOOKUP(AW18,$AW$26:$AY$29,2,FALSE)),0,(VLOOKUP(AW18,$AW$26:$AY$29,2,FALSE))) -> 0 | AY18: =IF(ISERROR(VLOOKUP(AW18,$AW$26:$BF$29,3,FALSE)),0,(VLOOKUP(AW18,$AW$26:$BF$29,3,FALSE))) -> 0 | AZ18: =IF(ISERROR(VLOOKUP(AW18,$AW$26:$BF$29,4,FALSE)),0,(VLOOKUP(AW18,$AW$26:$BF$29,4,FALSE))) -> 0 | BA18: =AY18-AZ18-BB18 -> 0 | BB18: =IF(ISERROR(VLOOKUP(AW18,$AW$26:$BF$29,6,FALSE)),0,(VLOOKUP(AW18,$AW$26:$BF$29,6,FALSE))) -> 0 | BC18: =IF(ISERROR(VLOOKUP(AW18,$AW$26:$BF$29,7,FALSE)),0,(VLOOKUP(AW18,$AW$26:$BF$29,7,FALSE))) -> 0 | BD18: =IF(ISERROR(VLOOKUP(AW18,$AW$26:$BF$29,8,FALSE)),0,(VLOOKUP(AW18,$AW$26:$BF$29,8,FALSE))) -> 0 | BE18: =BC18-BD18 -> 0 | BF18: =AZ18*3+BA18 -> 0 | BI18: 13 | BJ18: =IF(ISERROR(VLOOKUP(BI18,$BI$26:$BK$29,2,FALSE)),0,(VLOOKUP(BI18,$BI$26:$BK$29,2,FALSE))) -> 0 | BK18: =IF(ISERROR(VLOOKUP(BI18,$BI$26:$BR$27,3,FALSE)),0,(VLOOKUP(BI18,$BI$26:$BR$27,3,FALSE))) -> 0 | BL18: =IF(ISERROR(VLOOKUP(BI18,$BI$26:$BR$27,4,FALSE)),0,(VLOOKUP(BI18,$BI$26:$BR$27,4,FALSE))) -> 0 | BM18: =BK18-BL18-BN18 -> 0 | BN18: =IF(ISERROR(VLOOKUP(BI18,$BI$26:$BR$27,6,FALSE)),0,(VLOOKUP(BI18,$BI$26:$BR$27,6,FALSE))) -> 0 | BO18: =IF(ISERROR(VLOOKUP(BI18,$BI$26:$BR$27,7,FALSE)),0,(VLOOKUP(BI18,$BI$26:$BR$27,7,FALSE))) -> 0 | BP18: =IF(ISERROR(VLOOKUP(BI18,$BI$26:$BR$27,8,FALSE)),0,(VLOOKUP(BI18,$BI$26:$BR$27,8,FALSE))) -> 0 | BQ18: =BO18-BP18 -> 0 | BR18: =BL18*3+BM18 -> 0 | BY18: =P18 -> #REF! | BZ18: =Q18 -> Borussia M | CA18: =R18+AN18+AY18+BK18 -> 10 | CB18: =S18+AO18+AZ18+BL18 -> 2 | CC18: =T18+AP18+BA18+BM18 -> 5 | CD18: =U18+AQ18+BB18+BN18 -> 3 | CE18: =V18+AR18+BC18+BO18 -> 8 | CF18: =W18+AS18+BD18+BP18 -> 10 | CG18: =X18+AT18+BE18+BQ18 -> -2 | CH18: =Y18+AU18+BF18+BR18 -> 11 | CJ18: =(10^10)*CH18+(10^8)*CB18+(10^6)*(50+CG18)+(10^4)*CE18+(10^2)*CA18+(13-BY18) -> #REF! | CK18: 13 | CL18: =LARGE($CJ$6:$CJ$23,CK18) -> #REF! | CN18: 13 | CO18: =MATCH(CL18,$CJ$6:$CJ$23,0) -> #REF!
B19: 14º | C19: =VLOOKUP(CO19,$BY$6:$CH$23,2) -> #REF! | D19: =VLOOKUP(CO19,$BY$6:$CH$23,3) -> #REF! | E19: =VLOOKUP(CO19,$BY$6:$CH$23,4) -> #REF! | F19: =D19-E19-G19 -> #REF! | G19: =VLOOKUP(CO19,$BY$6:$CH$23,6) -> #REF! | H19: =VLOOKUP(CO19,$BY$6:$CH$23,7) -> #REF! | I19: =VLOOKUP(CO19,$BY$6:$CH$23,8) -> #REF! | J19: =H19-I19 -> #REF! | K19: =E19*3+F19 -> #REF! | P19: =#REF! -> #REF! | Q19: =Classificação!P29 -> Villarreal | R19: =Classificação!Q29 -> 10 | S19: =Classificação!R29 -> 4 | T19: =Classificação!S29 -> 3 | U19: =Classificação!T29 -> 3 | V19: =Classificação!U29 -> 9 | W19: =Classificação!V29 -> 9 | X19: =Classificação!W29 -> 0 | Y19: =Classificação!X29 -> 15 | Z19: =(10^10)*Y19+(10^8)*S19+(10^6)*(50+X19)+(10^4)*V19+(10^2)*R19+(13-P19) -> #REF! | AK19: 0 | AL19: =#REF! -> #REF! | AM19: =IF(ISERROR(VLOOKUP(AL19,$AL$27:$AN$34,2,FALSE)),0,(VLOOKUP(AL19,$AL$27:$AN$34,2,FALSE))) -> 0 | AN19: =IF(ISERROR(VLOOKUP(AL19,$AL$27:$AN$34,3,FALSE)),0,(VLOOKUP(AL19,$AL$27:$AN$34,3,FALSE))) -> 0 | AO19: =IF(ISERROR(VLOOKUP(AL19,$AL$27:$AO$34,4,FALSE)),0,(VLOOKUP(AL19,$AL$27:$AO$34,4,FALSE))) -> 0 | AP19: =AN19-AO19-AQ19 -> 0 | AQ19: =IF(ISERROR(VLOOKUP(AL19,$AL$27:$AQ$34,6,FALSE)),0,(VLOOKUP(AL19,$AL$27:$AQ$34,6,FALSE))) -> 0 | AR19: =IF(ISERROR(VLOOKUP(AL19,$AL$27:$AR$34,7,FALSE)),0,(VLOOKUP(AL19,$AL$27:$AR$34,7,FALSE))) -> 0 | AS19: =IF(ISERROR(VLOOKUP(AL19,$AL$27:$AS$34,8,FALSE)),0,(VLOOKUP(AL19,$AL$27:$AS$34,8,FALSE))) -> 0 | AT19: =AR19-AS19 -> 0 | AU19: =AO19*3+AP19 -> 0 | AW19: 14 | AX19: =IF(ISERROR(VLOOKUP(AW19,$AW$26:$AY$29,2,FALSE)),0,(VLOOKUP(AW19,$AW$26:$AY$29,2,FALSE))) -> 0 | AY19: =IF(ISERROR(VLOOKUP(AW19,$AW$26:$BF$29,3,FALSE)),0,(VLOOKUP(AW19,$AW$26:$BF$29,3,FALSE))) -> 0 | AZ19: =IF(ISERROR(VLOOKUP(AW19,$AW$26:$BF$29,4,FALSE)),0,(VLOOKUP(AW19,$AW$26:$BF$29,4,FALSE))) -> 0 | BA19: =AY19-AZ19-BB19 -> 0 | BB19: =IF(ISERROR(VLOOKUP(AW19,$AW$26:$BF$29,6,FALSE)),0,(VLOOKUP(AW19,$AW$26:$BF$29,6,FALSE))) -> 0 | BC19: =IF(ISERROR(VLOOKUP(AW19,$AW$26:$BF$29,7,FALSE)),0,(VLOOKUP(AW19,$AW$26:$BF$29,7,FALSE))) -> 0 | BD19: =IF(ISERROR(VLOOKUP(AW19,$AW$26:$BF$29,8,FALSE)),0,(VLOOKUP(AW19,$AW$26:$BF$29,8,FALSE))) -> 0 | BE19: =BC19-BD19 -> 0 | BF19: =AZ19*3+BA19 -> 0 | BI19: 14 | BJ19: =IF(ISERROR(VLOOKUP(BI19,$BI$26:$BK$29,2,FALSE)),0,(VLOOKUP(BI19,$BI$26:$BK$29,2,FALSE))) -> 0 | BK19: =IF(ISERROR(VLOOKUP(BI19,$BI$26:$BR$27,3,FALSE)),0,(VLOOKUP(BI19,$BI$26:$BR$27,3,FALSE))) -> 0 | BL19: =IF(ISERROR(VLOOKUP(BI19,$BI$26:$BR$27,4,FALSE)),0,(VLOOKUP(BI19,$BI$26:$BR$27,4,FALSE))) -> 0 | BM19: =BK19-BL19-BN19 -> 0 | BN19: =IF(ISERROR(VLOOKUP(BI19,$BI$26:$BR$27,6,FALSE)),0,(VLOOKUP(BI19,$BI$26:$BR$27,6,FALSE))) -> 0 | BO19: =IF(ISERROR(VLOOKUP(BI19,$BI$26:$BR$27,7,FALSE)),0,(VLOOKUP(BI19,$BI$26:$BR$27,7,FALSE))) -> 0 | BP19: =IF(ISERROR(VLOOKUP(BI19,$BI$26:$BR$27,8,FALSE)),0,(VLOOKUP(BI19,$BI$26:$BR$27,8,FALSE))) -> 0 | BQ19: =BO19-BP19 -> 0 | BR19: =BL19*3+BM19 -> 0 | BY19: =P19 -> #REF! | BZ19: =Q19 -> Villarreal | CA19: =R19+AN19+AY19+BK19 -> 10 | CB19: =S19+AO19+AZ19+BL19 -> 4 | CC19: =T19+AP19+BA19+BM19 -> 3 | CD19: =U19+AQ19+BB19+BN19 -> 3 | CE19: =V19+AR19+BC19+BO19 -> 9 | CF19: =W19+AS19+BD19+BP19 -> 9 | CG19: =X19+AT19+BE19+BQ19 -> 0 | CH19: =Y19+AU19+BF19+BR19 -> 15 | CJ19: =(10^10)*CH19+(10^8)*CB19+(10^6)*(50+CG19)+(10^4)*CE19+(10^2)*CA19+(13-BY19) -> #REF! | CK19: 14 | CL19: =LARGE($CJ$6:$CJ$23,CK19) -> #REF! | CN19: 14 | CO19: =MATCH(CL19,$CJ$6:$CJ$23,0) -> #REF!
B20: 15º | C20: =VLOOKUP(CO20,$BY$6:$CH$23,2) -> #REF! | D20: =VLOOKUP(CO20,$BY$6:$CH$23,3) -> #REF! | E20: =VLOOKUP(CO20,$BY$6:$CH$23,4) -> #REF! | F20: =D20-E20-G20 -> #REF! | G20: =VLOOKUP(CO20,$BY$6:$CH$23,6) -> #REF! | H20: =VLOOKUP(CO20,$BY$6:$CH$23,7) -> #REF! | I20: =VLOOKUP(CO20,$BY$6:$CH$23,8) -> #REF! | J20: =H20-I20 -> #REF! | K20: =E20*3+F20 -> #REF! | P20: =#REF! -> #REF! | Q20: =Classificação!P30 -> R B Leipzig | R20: =Classificação!Q30 -> 10 | S20: =Classificação!R30 -> 4 | T20: =Classificação!S30 -> 3 | U20: =Classificação!T30 -> 3 | V20: =Classificação!U30 -> 12 | W20: =Classificação!V30 -> 15 | X20: =Classificação!W30 -> -3 | Y20: =Classificação!X30 -> 15 | Z20: =(10^10)*Y20+(10^8)*S20+(10^6)*(50+X20)+(10^4)*V20+(10^2)*R20+(13-P20) -> #REF! | AK20: 0 | AL20: =#REF! -> #REF! | AM20: =IF(ISERROR(VLOOKUP(AL20,$AL$27:$AN$34,2,FALSE)),0,(VLOOKUP(AL20,$AL$27:$AN$34,2,FALSE))) -> 0 | AN20: =IF(ISERROR(VLOOKUP(AL20,$AL$27:$AN$34,3,FALSE)),0,(VLOOKUP(AL20,$AL$27:$AN$34,3,FALSE))) -> 0 | AO20: =IF(ISERROR(VLOOKUP(AL20,$AL$27:$AO$34,4,FALSE)),0,(VLOOKUP(AL20,$AL$27:$AO$34,4,FALSE))) -> 0 | AP20: =AN20-AO20-AQ20 -> 0 | AQ20: =IF(ISERROR(VLOOKUP(AL20,$AL$27:$AQ$34,6,FALSE)),0,(VLOOKUP(AL20,$AL$27:$AQ$34,6,FALSE))) -> 0 | AR20: =IF(ISERROR(VLOOKUP(AL20,$AL$27:$AR$34,7,FALSE)),0,(VLOOKUP(AL20,$AL$27:$AR$34,7,FALSE))) -> 0 | AS20: =IF(ISERROR(VLOOKUP(AL20,$AL$27:$AS$34,8,FALSE)),0,(VLOOKUP(AL20,$AL$27:$AS$34,8,FALSE))) -> 0 | AT20: =AR20-AS20 -> 0 | AU20: =AO20*3+AP20 -> 0 | AW20: 15 | AX20: =IF(ISERROR(VLOOKUP(AW20,$AW$26:$AY$29,2,FALSE)),0,(VLOOKUP(AW20,$AW$26:$AY$29,2,FALSE))) -> 0 | AY20: =IF(ISERROR(VLOOKUP(AW20,$AW$26:$BF$29,3,FALSE)),0,(VLOOKUP(AW20,$AW$26:$BF$29,3,FALSE))) -> 0 | AZ20: =IF(ISERROR(VLOOKUP(AW20,$AW$26:$BF$29,4,FALSE)),0,(VLOOKUP(AW20,$AW$26:$BF$29,4,FALSE))) -> 0 | BA20: =AY20-AZ20-BB20 -> 0 | BB20: =IF(ISERROR(VLOOKUP(AW20,$AW$26:$BF$29,6,FALSE)),0,(VLOOKUP(AW20,$AW$26:$BF$29,6,FALSE))) -> 0 | BC20: =IF(ISERROR(VLOOKUP(AW20,$AW$26:$BF$29,7,FALSE)),0,(VLOOKUP(AW20,$AW$26:$BF$29,7,FALSE))) -> 0 | BD20: =IF(ISERROR(VLOOKUP(AW20,$AW$26:$BF$29,8,FALSE)),0,(VLOOKUP(AW20,$AW$26:$BF$29,8,FALSE))) -> 0 | BE20: =BC20-BD20 -> 0 | BF20: =AZ20*3+BA20 -> 0 | BI20: 15 | BJ20: =IF(ISERROR(VLOOKUP(BI20,$BI$26:$BK$29,2,FALSE)),0,(VLOOKUP(BI20,$BI$26:$BK$29,2,FALSE))) -> 0 | BK20: =IF(ISERROR(VLOOKUP(BI20,$BI$26:$BR$27,3,FALSE)),0,(VLOOKUP(BI20,$BI$26:$BR$27,3,FALSE))) -> 0 | BL20: =IF(ISERROR(VLOOKUP(BI20,$BI$26:$BR$27,4,FALSE)),0,(VLOOKUP(BI20,$BI$26:$BR$27,4,FALSE))) -> 0 | BM20: =BK20-BL20-BN20 -> 0 | BN20: =IF(ISERROR(VLOOKUP(BI20,$BI$26:$BR$27,6,FALSE)),0,(VLOOKUP(BI20,$BI$26:$BR$27,6,FALSE))) -> 0 | BO20: =IF(ISERROR(VLOOKUP(BI20,$BI$26:$BR$27,7,FALSE)),0,(VLOOKUP(BI20,$BI$26:$BR$27,7,FALSE))) -> 0 | BP20: =IF(ISERROR(VLOOKUP(BI20,$BI$26:$BR$27,8,FALSE)),0,(VLOOKUP(BI20,$BI$26:$BR$27,8,FALSE))) -> 0 | BQ20: =BO20-BP20 -> 0 | BR20: =BL20*3+BM20 -> 0 | BY20: =P20 -> #REF! | BZ20: =Q20 -> R B Leipzig | CA20: =R20+AN20+AY20+BK20 -> 10 | CB20: =S20+AO20+AZ20+BL20 -> 4 | CC20: =T20+AP20+BA20+BM20 -> 3 | CD20: =U20+AQ20+BB20+BN20 -> 3 | CE20: =V20+AR20+BC20+BO20 -> 12 | CF20: =W20+AS20+BD20+BP20 -> 15 | CG20: =X20+AT20+BE20+BQ20 -> -3 | CH20: =Y20+AU20+BF20+BR20 -> 15 | CJ20: =(10^10)*CH20+(10^8)*CB20+(10^6)*(50+CG20)+(10^4)*CE20+(10^2)*CA20+(13-BY20) -> #REF! | CK20: 15 | CL20: =LARGE($CJ$6:$CJ$23,CK20) -> #REF! | CN20: 15 | CO20: =MATCH(CL20,$CJ$6:$CJ$23,0) -> #REF!
B21: 16º | C21: =VLOOKUP(CO21,$BY$6:$CH$23,2) -> #REF! | D21: =VLOOKUP(CO21,$BY$6:$CH$23,3) -> #REF! | E21: =VLOOKUP(CO21,$BY$6:$CH$23,4) -> #REF! | F21: =D21-E21-G21 -> #REF! | G21: =VLOOKUP(CO21,$BY$6:$CH$23,6) -> #REF! | H21: =VLOOKUP(CO21,$BY$6:$CH$23,7) -> #REF! | I21: =VLOOKUP(CO21,$BY$6:$CH$23,8) -> #REF! | J21: =H21-I21 -> #REF! | K21: =E21*3+F21 -> #REF! | P21: =#REF! -> #REF! | Q21: =Classificação!P31 -> Real Betis | R21: =Classificação!Q31 -> 10 | S21: =Classificação!R31 -> 1 | T21: =Classificação!S31 -> 5 | U21: =Classificação!T31 -> 4 | V21: =Classificação!U31 -> 9 | W21: =Classificação!V31 -> 11 | X21: =Classificação!W31 -> -2 | Y21: =Classificação!X31 -> 8 | Z21: =(10^10)*Y21+(10^8)*S21+(10^6)*(50+X21)+(10^4)*V21+(10^2)*R21+(13-P21) -> #REF! | AK21: 0 | AL21: =#REF! -> #REF! | AM21: =IF(ISERROR(VLOOKUP(AL21,$AL$27:$AN$34,2,FALSE)),0,(VLOOKUP(AL21,$AL$27:$AN$34,2,FALSE))) -> 0 | AN21: =IF(ISERROR(VLOOKUP(AL21,$AL$27:$AN$34,3,FALSE)),0,(VLOOKUP(AL21,$AL$27:$AN$34,3,FALSE))) -> 0 | AO21: =IF(ISERROR(VLOOKUP(AL21,$AL$27:$AO$34,4,FALSE)),0,(VLOOKUP(AL21,$AL$27:$AO$34,4,FALSE))) -> 0 | AP21: =AN21-AO21-AQ21 -> 0 | AQ21: =IF(ISERROR(VLOOKUP(AL21,$AL$27:$AQ$34,6,FALSE)),0,(VLOOKUP(AL21,$AL$27:$AQ$34,6,FALSE))) -> 0 | AR21: =IF(ISERROR(VLOOKUP(AL21,$AL$27:$AR$34,7,FALSE)),0,(VLOOKUP(AL21,$AL$27:$AR$34,7,FALSE))) -> 0 | AS21: =IF(ISERROR(VLOOKUP(AL21,$AL$27:$AS$34,8,FALSE)),0,(VLOOKUP(AL21,$AL$27:$AS$34,8,FALSE))) -> 0 | AT21: =AR21-AS21 -> 0 | AU21: =AO21*3+AP21 -> 0 | AW21: 16 | AX21: =IF(ISERROR(VLOOKUP(AW21,$AW$26:$AY$29,2,FALSE)),0,(VLOOKUP(AW21,$AW$26:$AY$29,2,FALSE))) -> 0 | AY21: =IF(ISERROR(VLOOKUP(AW21,$AW$26:$BF$29,3,FALSE)),0,(VLOOKUP(AW21,$AW$26:$BF$29,3,FALSE))) -> 0 | AZ21: =IF(ISERROR(VLOOKUP(AW21,$AW$26:$BF$29,4,FALSE)),0,(VLOOKUP(AW21,$AW$26:$BF$29,4,FALSE))) -> 0 | BA21: =AY21-AZ21-BB21 -> 0 | BB21: =IF(ISERROR(VLOOKUP(AW21,$AW$26:$BF$29,6,FALSE)),0,(VLOOKUP(AW21,$AW$26:$BF$29,6,FALSE))) -> 0 | BC21: =IF(ISERROR(VLOOKUP(AW21,$AW$26:$BF$29,7,FALSE)),0,(VLOOKUP(AW21,$AW$26:$BF$29,7,FALSE))) -> 0 | BD21: =IF(ISERROR(VLOOKUP(AW21,$AW$26:$BF$29,8,FALSE)),0,(VLOOKUP(AW21,$AW$26:$BF$29,8,FALSE))) -> 0 | BE21: =BC21-BD21 -> 0 | BF21: =AZ21*3+BA21 -> 0 | BI21: 16 | BJ21: =IF(ISERROR(VLOOKUP(BI21,$BI$26:$BK$29,2,FALSE)),0,(VLOOKUP(BI21,$BI$26:$BK$29,2,FALSE))) -> 0 | BK21: =IF(ISERROR(VLOOKUP(BI21,$BI$26:$BR$27,3,FALSE)),0,(VLOOKUP(BI21,$BI$26:$BR$27,3,FALSE))) -> 0 | BL21: =IF(ISERROR(VLOOKUP(BI21,$BI$26:$BR$27,4,FALSE)),0,(VLOOKUP(BI21,$BI$26:$BR$27,4,FALSE))) -> 0 | BM21: =BK21-BL21-BN21 -> 0 | BN21: =IF(ISERROR(VLOOKUP(BI21,$BI$26:$BR$27,6,FALSE)),0,(VLOOKUP(BI21,$BI$26:$BR$27,6,FALSE))) -> 0 | BO21: =IF(ISERROR(VLOOKUP(BI21,$BI$26:$BR$27,7,FALSE)),0,(VLOOKUP(BI21,$BI$26:$BR$27,7,FALSE))) -> 0 | BP21: =IF(ISERROR(VLOOKUP(BI21,$BI$26:$BR$27,8,FALSE)),0,(VLOOKUP(BI21,$BI$26:$BR$27,8,FALSE))) -> 0 | BQ21: =BO21-BP21 -> 0 | BR21: =BL21*3+BM21 -> 0 | BY21: =P21 -> #REF! | BZ21: =Q21 -> Real Betis | CA21: =R21+AN21+AY21+BK21 -> 10 | CB21: =S21+AO21+AZ21+BL21 -> 1 | CC21: =T21+AP21+BA21+BM21 -> 5 | CD21: =U21+AQ21+BB21+BN21 -> 4 | CE21: =V21+AR21+BC21+BO21 -> 9 | CF21: =W21+AS21+BD21+BP21 -> 11 | CG21: =X21+AT21+BE21+BQ21 -> -2 | CH21: =Y21+AU21+BF21+BR21 -> 8 | CJ21: =(10^10)*CH21+(10^8)*CB21+(10^6)*(50+CG21)+(10^4)*CE21+(10^2)*CA21+(13-BY21) -> #REF! | CK21: 16 | CL21: =LARGE($CJ$6:$CJ$23,CK21) -> #REF! | CN21: 16 | CO21: =MATCH(CL21,$CJ$6:$CJ$23,0) -> #REF!
B22: 17º | C22: =VLOOKUP(CO22,$BY$6:$CH$23,2) -> #REF! | D22: =VLOOKUP(CO22,$BY$6:$CH$23,3) -> #REF! | E22: =VLOOKUP(CO22,$BY$6:$CH$23,4) -> #REF! | F22: =D22-E22-G22 -> #REF! | G22: =VLOOKUP(CO22,$BY$6:$CH$23,6) -> #REF! | H22: =VLOOKUP(CO22,$BY$6:$CH$23,7) -> #REF! | I22: =VLOOKUP(CO22,$BY$6:$CH$23,8) -> #REF! | J22: =H22-I22 -> #REF! | K22: =E22*3+F22 -> #REF! | P22: =#REF! -> #REF! | Q22: =Classificação!P32 -> Celta De Vigo | R22: =Classificação!Q32 -> 10 | S22: =Classificação!R32 -> 8 | T22: =Classificação!S32 -> 1 | U22: =Classificação!T32 -> 1 | V22: =Classificação!U32 -> 19 | W22: =Classificação!V32 -> 4 | X22: =Classificação!W32 -> 15 | Y22: =Classificação!X32 -> 25 | Z22: =(10^10)*Y22+(10^8)*S22+(10^6)*(50+X22)+(10^4)*V22+(10^2)*R22+(13-P22) -> #REF! | AK22: 0 | AL22: =#REF! -> #REF! | AM22: =IF(ISERROR(VLOOKUP(AL22,$AL$27:$AN$34,2,FALSE)),0,(VLOOKUP(AL22,$AL$27:$AN$34,2,FALSE))) -> 0 | AN22: =IF(ISERROR(VLOOKUP(AL22,$AL$27:$AN$34,3,FALSE)),0,(VLOOKUP(AL22,$AL$27:$AN$34,3,FALSE))) -> 0 | AO22: =IF(ISERROR(VLOOKUP(AL22,$AL$27:$AO$34,4,FALSE)),0,(VLOOKUP(AL22,$AL$27:$AO$34,4,FALSE))) -> 0 | AP22: =AN22-AO22-AQ22 -> 0 | AQ22: =IF(ISERROR(VLOOKUP(AL22,$AL$27:$AQ$34,6,FALSE)),0,(VLOOKUP(AL22,$AL$27:$AQ$34,6,FALSE))) -> 0 | AR22: =IF(ISERROR(VLOOKUP(AL22,$AL$27:$AR$34,7,FALSE)),0,(VLOOKUP(AL22,$AL$27:$AR$34,7,FALSE))) -> 0 | AS22: =IF(ISERROR(VLOOKUP(AL22,$AL$27:$AS$34,8,FALSE)),0,(VLOOKUP(AL22,$AL$27:$AS$34,8,FALSE))) -> 0 | AT22: =AR22-AS22 -> 0 | AU22: =AO22*3+AP22 -> 0 | AW22: 17 | AX22: =IF(ISERROR(VLOOKUP(AW22,$AW$26:$AY$29,2,FALSE)),0,(VLOOKUP(AW22,$AW$26:$AY$29,2,FALSE))) -> 0 | AY22: =IF(ISERROR(VLOOKUP(AW22,$AW$26:$BF$29,3,FALSE)),0,(VLOOKUP(AW22,$AW$26:$BF$29,3,FALSE))) -> 0 | AZ22: =IF(ISERROR(VLOOKUP(AW22,$AW$26:$BF$29,4,FALSE)),0,(VLOOKUP(AW22,$AW$26:$BF$29,4,FALSE))) -> 0 | BA22: =AY22-AZ22-BB22 -> 0 | BB22: =IF(ISERROR(VLOOKUP(AW22,$AW$26:$BF$29,6,FALSE)),0,(VLOOKUP(AW22,$AW$26:$BF$29,6,FALSE))) -> 0 | BC22: =IF(ISERROR(VLOOKUP(AW22,$AW$26:$BF$29,7,FALSE)),0,(VLOOKUP(AW22,$AW$26:$BF$29,7,FALSE))) -> 0 | BD22: =IF(ISERROR(VLOOKUP(AW22,$AW$26:$BF$29,8,FALSE)),0,(VLOOKUP(AW22,$AW$26:$BF$29,8,FALSE))) -> 0 | BE22: =BC22-BD22 -> 0 | BF22: =AZ22*3+BA22 -> 0 | BI22: 17 | BJ22: =IF(ISERROR(VLOOKUP(BI22,$BI$26:$BK$29,2,FALSE)),0,(VLOOKUP(BI22,$BI$26:$BK$29,2,FALSE))) -> 0 | BK22: =IF(ISERROR(VLOOKUP(BI22,$BI$26:$BR$27,3,FALSE)),0,(VLOOKUP(BI22,$BI$26:$BR$27,3,FALSE))) -> 0 | BL22: =IF(ISERROR(VLOOKUP(BI22,$BI$26:$BR$27,4,FALSE)),0,(VLOOKUP(BI22,$BI$26:$BR$27,4,FALSE))) -> 0 | BM22: =BK22-BL22-BN22 -> 0 | BN22: =IF(ISERROR(VLOOKUP(BI22,$BI$26:$BR$27,6,FALSE)),0,(VLOOKUP(BI22,$BI$26:$BR$27,6,FALSE))) -> 0 | BO22: =IF(ISERROR(VLOOKUP(BI22,$BI$26:$BR$27,7,FALSE)),0,(VLOOKUP(BI22,$BI$26:$BR$27,7,FALSE))) -> 0 | BP22: =IF(ISERROR(VLOOKUP(BI22,$BI$26:$BR$27,8,FALSE)),0,(VLOOKUP(BI22,$BI$26:$BR$27,8,FALSE))) -> 0 | BQ22: =BO22-BP22 -> 0 | BR22: =BL22*3+BM22 -> 0 | BY22: =P22 -> #REF! | BZ22: =Q22 -> Celta De Vigo | CA22: =R22+AN22+AY22+BK22 -> 10 | CB22: =S22+AO22+AZ22+BL22 -> 8 | CC22: =T22+AP22+BA22+BM22 -> 1 | CD22: =U22+AQ22+BB22+BN22 -> 1 | CE22: =V22+AR22+BC22+BO22 -> 19 | CF22: =W22+AS22+BD22+BP22 -> 4 | CG22: =X22+AT22+BE22+BQ22 -> 15 | CH22: =Y22+AU22+BF22+BR22 -> 25 | CJ22: =(10^10)*CH22+(10^8)*CB22+(10^6)*(50+CG22)+(10^4)*CE22+(10^2)*CA22+(13-BY22) -> #REF! | CK22: 17 | CL22: =LARGE($CJ$6:$CJ$23,CK22) -> #REF! | CN22: 17 | CO22: =MATCH(CL22,$CJ$6:$CJ$23,0) -> #REF!
B23: 18º | C23: =VLOOKUP(CO23,$BY$6:$CH$23,2) -> #REF! | D23: =VLOOKUP(CO23,$BY$6:$CH$23,3) -> #REF! | E23: =VLOOKUP(CO23,$BY$6:$CH$23,4) -> #REF! | F23: =D23-E23-G23 -> #REF! | G23: =VLOOKUP(CO23,$BY$6:$CH$23,6) -> #REF! | H23: =VLOOKUP(CO23,$BY$6:$CH$23,7) -> #REF! | I23: =VLOOKUP(CO23,$BY$6:$CH$23,8) -> #REF! | J23: =H23-I23 -> #REF! | K23: =E23*3+F23 -> #REF! | P23: =#REF! -> #REF! | Q23: =Classificação!P33 -> Everton | R23: =Classificação!Q33 -> 10 | S23: =Classificação!R33 -> 1 | T23: =Classificação!S33 -> 2 | U23: =Classificação!T33 -> 7 | V23: =Classificação!U33 -> 8 | W23: =Classificação!V33 -> 24 | X23: =Classificação!W33 -> -16 | Y23: =Classificação!X33 -> 5 | Z23: =(10^10)*Y23+(10^8)*S23+(10^6)*(50+X23)+(10^4)*V23+(10^2)*R23+(13-P23) -> #REF! | AK23: 0 | AL23: =#REF! -> #REF! | AM23: =IF(ISERROR(VLOOKUP(AL23,$AL$27:$AN$34,2,FALSE)),0,(VLOOKUP(AL23,$AL$27:$AN$34,2,FALSE))) -> 0 | AN23: =IF(ISERROR(VLOOKUP(AL23,$AL$27:$AN$34,3,FALSE)),0,(VLOOKUP(AL23,$AL$27:$AN$34,3,FALSE))) -> 0 | AO23: =IF(ISERROR(VLOOKUP(AL23,$AL$27:$AO$34,4,FALSE)),0,(VLOOKUP(AL23,$AL$27:$AO$34,4,FALSE))) -> 0 | AP23: =AN23-AO23-AQ23 -> 0 | AQ23: =IF(ISERROR(VLOOKUP(AL23,$AL$27:$AQ$34,6,FALSE)),0,(VLOOKUP(AL23,$AL$27:$AQ$34,6,FALSE))) -> 0 | AR23: =IF(ISERROR(VLOOKUP(AL23,$AL$27:$AR$34,7,FALSE)),0,(VLOOKUP(AL23,$AL$27:$AR$34,7,FALSE))) -> 0 | AS23: =IF(ISERROR(VLOOKUP(AL23,$AL$27:$AS$34,8,FALSE)),0,(VLOOKUP(AL23,$AL$27:$AS$34,8,FALSE))) -> 0 | AT23: =AR23-AS23 -> 0 | AU23: =AO23*3+AP23 -> 0 | AW23: 18 | AX23: =IF(ISERROR(VLOOKUP(AW23,$AW$26:$AY$29,2,FALSE)),0,(VLOOKUP(AW23,$AW$26:$AY$29,2,FALSE))) -> 0 | AY23: =IF(ISERROR(VLOOKUP(AW23,$AW$26:$BF$29,3,FALSE)),0,(VLOOKUP(AW23,$AW$26:$BF$29,3,FALSE))) -> 0 | AZ23: =IF(ISERROR(VLOOKUP(AW23,$AW$26:$BF$29,4,FALSE)),0,(VLOOKUP(AW23,$AW$26:$BF$29,4,FALSE))) -> 0 | BA23: =AY23-AZ23-BB23 -> 0 | BB23: =IF(ISERROR(VLOOKUP(AW23,$AW$26:$BF$29,6,FALSE)),0,(VLOOKUP(AW23,$AW$26:$BF$29,6,FALSE))) -> 0 | BC23: =IF(ISERROR(VLOOKUP(AW23,$AW$26:$BF$29,7,FALSE)),0,(VLOOKUP(AW23,$AW$26:$BF$29,7,FALSE))) -> 0 | BD23: =IF(ISERROR(VLOOKUP(AW23,$AW$26:$BF$29,8,FALSE)),0,(VLOOKUP(AW23,$AW$26:$BF$29,8,FALSE))) -> 0 | BE23: =BC23-BD23 -> 0 | BF23: =AZ23*3+BA23 -> 0 | BI23: 18 | BJ23: =IF(ISERROR(VLOOKUP(BI23,$BI$26:$BK$29,2,FALSE)),0,(VLOOKUP(BI23,$BI$26:$BK$29,2,FALSE))) -> 0 | BK23: =IF(ISERROR(VLOOKUP(BI23,$BI$26:$BR$27,3,FALSE)),0,(VLOOKUP(BI23,$BI$26:$BR$27,3,FALSE))) -> 0 | BL23: =IF(ISERROR(VLOOKUP(BI23,$BI$26:$BR$27,4,FALSE)),0,(VLOOKUP(BI23,$BI$26:$BR$27,4,FALSE))) -> 0 | BM23: =BK23-BL23-BN23 -> 0 | BN23: =IF(ISERROR(VLOOKUP(BI23,$BI$26:$BR$27,6,FALSE)),0,(VLOOKUP(BI23,$BI$26:$BR$27,6,FALSE))) -> 0 | BO23: =IF(ISERROR(VLOOKUP(BI23,$BI$26:$BR$27,7,FALSE)),0,(VLOOKUP(BI23,$BI$26:$BR$27,7,FALSE))) -> 0 | BP23: =IF(ISERROR(VLOOKUP(BI23,$BI$26:$BR$27,8,FALSE)),0,(VLOOKUP(BI23,$BI$26:$BR$27,8,FALSE))) -> 0 | BQ23: =BO23-BP23 -> 0 | BR23: =BL23*3+BM23 -> 0 | BY23: =P23 -> #REF! | BZ23: =Q23 -> Everton | CA23: =R23+AN23+AY23+BK23 -> 10 | CB23: =S23+AO23+AZ23+BL23 -> 1 | CC23: =T23+AP23+BA23+BM23 -> 2 | CD23: =U23+AQ23+BB23+BN23 -> 7 | CE23: =V23+AR23+BC23+BO23 -> 8 | CF23: =W23+AS23+BD23+BP23 -> 24 | CG23: =X23+AT23+BE23+BQ23 -> -16 | CH23: =Y23+AU23+BF23+BR23 -> 5 | CJ23: =(10^10)*CH23+(10^8)*CB23+(10^6)*(50+CG23)+(10^4)*CE23+(10^2)*CA23+(13-BY23) -> #REF! | CK23: 18 | CL23: =LARGE($CJ$6:$CJ$23,CK23) -> #REF! | CN23: 18 | CO23: =MATCH(CL23,$CJ$6:$CJ$23,0) -> #REF!
AL24: QUARTAS DE FINAL | AW24: SEMI FINAL | BI24: FINAL
AL25: ID_TIME | AM25: Times | AN25: Jogos | AO25: Vitorias | AP25: Empates | AQ25: Derrotas | AR25: Gols Pró | AS25: Gols Cont. | AT25: Saldo | AU25: Pontos | AW25: ID_TIME | AX25: Times | AY25: Jogos | AZ25: Vitorias | BA25: Empates | BB25: Derrotas | BC25: Gols Pró | BD25: Gols Cont. | BE25: Saldo | BF25: Pontos | BI25: ID_TIME | BJ25: Times | BK25: Jogos | BL25: Vitorias | BM25: Empates | BN25: Derrotas | BO25: Gols Pró | BP25: Gols Cont. | BQ25: Saldo | BR25: Pontos
AW26: =Jogos!#REF! -> #REF! | AX26: =Jogos!#REF! -> #REF! | AY26: =Jogos!#REF! -> #REF! | AZ26: =Jogos!#REF! -> #REF! | BA26: =Jogos!#REF! -> #REF! | BB26: =Jogos!#REF! -> #REF! | BC26: =Jogos!#REF! -> #REF! | BD26: =Jogos!#REF! -> #REF! | ... BF26: =Jogos!#REF! -> #REF! | BI26: =Jogos!#REF! -> #REF! | BJ26: =Jogos!#REF! -> #REF! | BK26: =Jogos!#REF! -> #REF! | BL26: =Jogos!#REF! -> #REF! | BM26: =Jogos!#REF! -> #REF! | BN26: =Jogos!#REF! -> #REF! | BO26: =Jogos!#REF! -> #REF! | BP26: =Jogos!#REF! -> #REF! | ... BR26: =Jogos!#REF! -> #REF!
AL27: =Jogos!#REF! -> #REF! | AM27: =Jogos!#REF! -> #REF! | AN27: =Jogos!#REF! -> #REF! | AO27: =Jogos!#REF! -> #REF! | AP27: =Jogos!#REF! -> #REF! | AQ27: =Jogos!#REF! -> #REF! | AR27: =Jogos!#REF! -> #REF! | AS27: =Jogos!#REF! -> #REF! | ... AU27: =Jogos!#REF! -> #REF! | AW27: =Jogos!#REF! -> #REF! | AX27: =Jogos!#REF! -> #REF! | AY27: =Jogos!#REF! -> #REF! | AZ27: =Jogos!#REF! -> #REF! | BA27: =Jogos!#REF! -> #REF! | BB27: =Jogos!#REF! -> #REF! | BC27: =Jogos!#REF! -> #REF! | BD27: =Jogos!#REF! -> #REF! | ... BF27: =Jogos!#REF! -> #REF! | BI27: =Jogos!#REF! -> #REF! | BJ27: =Jogos!#REF! -> #REF! | BK27: =Jogos!#REF! -> #REF! | BL27: =Jogos!#REF! -> #REF! | BM27: =Jogos!#REF! -> #REF! | BN27: =Jogos!#REF! -> #REF! | BO27: =Jogos!#REF! -> #REF! | BP27: =Jogos!#REF! -> #REF! | ... BR27: =Jogos!#REF! -> #REF!
AL28: =Jogos!#REF! -> #REF! | AM28: =Jogos!#REF! -> #REF! | AN28: =Jogos!#REF! -> #REF! | AO28: =Jogos!#REF! -> #REF! | AP28: =Jogos!#REF! -> #REF! | AQ28: =Jogos!#REF! -> #REF! | AR28: =Jogos!#REF! -> #REF! | AS28: =Jogos!#REF! -> #REF! | ... AU28: =Jogos!#REF! -> #REF! | AW28: =Jogos!#REF! -> #REF! | AX28: =Jogos!#REF! -> #REF! | AY28: =Jogos!#REF! -> #REF! | AZ28: =Jogos!#REF! -> #REF! | BA28: =Jogos!#REF! -> #REF! | BB28: =Jogos!#REF! -> #REF! | BC28: =Jogos!#REF! -> #REF! | BD28: =Jogos!#REF! -> #REF! | ... BF28: =Jogos!#REF! -> #REF!
AL29: =Jogos!#REF! -> #REF! | AM29: =Jogos!#REF! -> #REF! | AN29: =Jogos!#REF! -> #REF! | AO29: =Jogos!#REF! -> #REF! | AP29: =Jogos!#REF! -> #REF! | AQ29: =Jogos!#REF! -> #REF! | AR29: =Jogos!#REF! -> #REF! | AS29: =Jogos!#REF! -> #REF! | ... AU29: =Jogos!#REF! -> #REF! | AW29: =Jogos!#REF! -> #REF! | AX29: =Jogos!#REF! -> #REF! | AY29: =Jogos!#REF! -> #REF! | AZ29: =Jogos!#REF! -> #REF! | BA29: =Jogos!#REF! -> #REF! | BB29: =Jogos!#REF! -> #REF! | BC29: =Jogos!#REF! -> #REF! | BD29: =Jogos!#REF! -> #REF! | ... BF29: =Jogos!#REF! -> #REF!
AL30: =Jogos!#REF! -> #REF! | AM30: =Jogos!#REF! -> #REF! | AN30: =Jogos!#REF! -> #REF! | AO30: =Jogos!#REF! -> #REF! | AP30: =Jogos!#REF! -> #REF! | AQ30: =Jogos!#REF! -> #REF! | AR30: =Jogos!#REF! -> #REF! | AS30: =Jogos!#REF! -> #REF! | ... AU30: =Jogos!#REF! -> #REF!
AL31: =Jogos!#REF! -> #REF! | AM31: =Jogos!#REF! -> #REF! | AN31: =Jogos!#REF! -> #REF! | AO31: =Jogos!#REF! -> #REF! | AP31: =Jogos!#REF! -> #REF! | AQ31: =Jogos!#REF! -> #REF! | AR31: =Jogos!#REF! -> #REF! | AS31: =Jogos!#REF! -> #REF! | ... AU31: =Jogos!#REF! -> #REF!
AL32: =Jogos!#REF! -> #REF! | AM32: =Jogos!#REF! -> #REF! | AN32: =Jogos!#REF! -> #REF! | AO32: =Jogos!#REF! -> #REF! | AP32: =Jogos!#REF! -> #REF! | AQ32: =Jogos!#REF! -> #REF! | AR32: =Jogos!#REF! -> #REF! | AS32: =Jogos!#REF! -> #REF! | ... AU32: =Jogos!#REF! -> #REF!
AL33: =Jogos!#REF! -> #REF! | AM33: =Jogos!#REF! -> #REF! | AN33: =Jogos!#REF! -> #REF! | AO33: =Jogos!#REF! -> #REF! | AP33: =Jogos!#REF! -> #REF! | AQ33: =Jogos!#REF! -> #REF! | AR33: =Jogos!#REF! -> #REF! | AS33: =Jogos!#REF! -> #REF! | ... AU33: =Jogos!#REF! -> #REF!
AL34: =Jogos!#REF! -> #REF! | AM34: =Jogos!#REF! -> #REF! | AN34: =Jogos!#REF! -> #REF! | AO34: =Jogos!#REF! -> #REF! | AP34: =Jogos!#REF! -> #REF! | AQ34: =Jogos!#REF! -> #REF! | AR34: =Jogos!#REF! -> #REF! | AS34: =Jogos!#REF! -> #REF! | ... AU34: =Jogos!#REF! -> #REF!

Sheet Geral
B2: CLASSIFICAÇÃO GERAL | P2: 1º FASE | AB2: OITAVAS DE FINAL | AM2: QUARTAS DE FINAL | AX2: SEMI FINAL | BJ2: FINAL
B4: Posição | C4: Times | D4: Jogos | E4: Vitorias | F4: Empates | G4: Derrotas | H4: Gols Pró | I4: Gols Cont. | J4: Saldo | K4: Pontos | P4: ID_TIME | Q4: Times | R4: Jogos | S4: Vitorias | T4: Empates | U4: Derrotas | V4: Gols Pró | W4: Gols Cont. | X4: Saldo | Y4: Pontos | AB4: ID_TIME | AC4: Times | AD4: Jogos | AE4: Vitorias | AF4: Empates | AG4: Derrotas | AH4: Gols Pró | AI4: Gols Cont. | AJ4: Saldo | AK4: Pontos | AM4: ID_TIME | AN4: Times | AO4: Jogos | AP4: Vitorias | AQ4: Empates | AR4: Derrotas | AS4: Gols Pró | AT4: Gols Cont. | AU4: Saldo | AV4: Pontos | AW4: Ranking | AX4: ID_TIME | AY4: Times | AZ4: Jogos | BA4: Vitorias | BB4: Empates | BC4: Derrotas | BD4: Gols Pró | BE4: Gols Cont. | BF4: Saldo | BG4: Pontos | BJ4: ID_TIME | BK4: Times | BL4: Jogos | BM4: Vitorias | BN4: Empates | BO4: Derrotas | BP4: Gols Pró | BQ4: Gols Cont. | BR4: Saldo | BS4: Pontos | BZ4: ID_TIME | CA4: Times | CB4: Jogos | CC4: Vitorias | CD4: Empates | CE4: Derrotas | CF4: Gols Pró | CG4: Gols Cont. | CH4: Saldo | CI4: Pontos
B6: 1º | C6: =VLOOKUP(CR6,$BZ$6:$CI$27,2) -> Celta De Vigo | D6: =VLOOKUP(CR6,$BZ$6:$CI$27,3) -> 14 | E6: =VLOOKUP(CR6,$BZ$6:$CI$27,4) -> 11 | F6: =D6-E6-G6 -> 2 | G6: =VLOOKUP(CR6,$BZ$6:$CI$27,6) -> 1 | H6: =VLOOKUP(CR6,$BZ$6:$CI$27,7) -> 25 | I6: =VLOOKUP(CR6,$BZ$6:$CI$27,8) -> 4 | J6: =H6-I6 -> 21 | K6: =E6*3+F6 -> 35 | P6: =Classificação!Y9 -> 1 | Q6: =Classificação!P9 -> Atalanta | R6: =Classificação!Q9 -> 10 | S6: =Classificação!R9 -> 6 | T6: =Classificação!S9 -> 2 | U6: =Classificação!T9 -> 2 | V6: =Classificação!U9 -> 17 | W6: =Classificação!V9 -> 10 | X6: =Classificação!W9 -> 7 | Y6: =Classificação!X9 -> 20 | Z6: 321060261712 | AB6: 1 | AC6: =IF(ISERROR(VLOOKUP(AB6,$AB$32:$AD$47,2,FALSE)),0,(VLOOKUP(AB6,$AB$32:$AD$47,2,FALSE))) -> Atalanta | AD6: =IF(ISERROR(VLOOKUP(AB6,$AB$32:$AD$47,3,FALSE)),0,(VLOOKUP(AB6,$AB$32:$AD$47,3,FALSE))) -> 1 | AE6: =IF(ISERROR(VLOOKUP(AB6,$AB$32:$AE$47,4,FALSE)),0,(VLOOKUP(AB6,$AB$32:$AE$47,4,FALSE))) -> 1 | AF6: =AD6-AE6-AG6 -> 0 | AG6: =IF(ISERROR(VLOOKUP(AB6,$AB$32:$AG$47,6,FALSE)),0,(VLOOKUP(AB6,$AB$32:$AG$47,6,FALSE))) -> 0 | AH6: =IF(ISERROR(VLOOKUP(AB6,$AB$32:$AH$47,7,FALSE)),0,(VLOOKUP(AB6,$AB$32:$AH$47,7,FALSE))) -> 2 | AI6: =IF(ISERROR(VLOOKUP(AB6,$AB$32:$AI$47,8,FALSE)),0,(VLOOKUP(AB6,$AB$32:$AI$47,8,FALSE))) -> 1 | AJ6: =AH6-AI6 -> 1 | AK6: =AE6*3+AF6 -> 3 | AM6: 1 | AN6: =IF(ISERROR(VLOOKUP(AM6,$AM$32:$AO$39,2,FALSE)),0,(VLOOKUP(AM6,$AM$32:$AO$39,2,FALSE))) -> Atalanta | AO6: =IF(ISERROR(VLOOKUP(AM6,$AM$32:$AO$39,3,FALSE)),0,(VLOOKUP(AM6,$AM$32:$AO$39,3,FALSE))) -> 1 | AP6: =IF(ISERROR(VLOOKUP(AM6,$AM$32:$AP$39,4,FALSE)),0,(VLOOKUP(AM6,$AM$32:$AP$39,4,FALSE))) -> 0 | AQ6: =AO6-AP6-AR6 -> 1 | AR6: =IF(ISERROR(VLOOKUP(AM6,$AM$32:$AR$39,6,FALSE)),0,(VLOOKUP(AM6,$AM$32:$AR$39,6,FALSE))) -> 0 | AS6: =IF(ISERROR(VLOOKUP(AM6,$AM$32:$AS$39,7,FALSE)),0,(VLOOKUP(AM6,$AM$32:$AS$39,7,FALSE))) -> 1 | AT6: =IF(ISERROR(VLOOKUP(AM6,$AM$32:$AT$39,8,FALSE)),0,(VLOOKUP(AM6,$AM$32:$AT$39,8,FALSE))) -> 1 | AU6: =AS6-AT6 -> 0 | AV6: =AP6*3+AQ6 -> 1 | AX6: 1 | AY6: =IF(ISERROR(VLOOKUP(AX6,$AX$31:$AZ$34,2,FALSE)),0,(VLOOKUP(AX6,$AX$31:$AZ$34,2,FALSE))) -> 0 | AZ6: =IF(ISERROR(VLOOKUP(AX6,$AX$31:$BA$34,3,FALSE)),0,(VLOOKUP(AX6,$AX$31:$BA$34,3,FALSE))) -> 0 | BA6: =IF(ISERROR(VLOOKUP(AX6,$AX$31:$BA$34,4,FALSE)),0,(VLOOKUP(AX6,$AX$31:$BA$34,4,FALSE))) -> 0 | BB6: =AZ6-BA6-BC6 -> 0 | BC6: =IF(ISERROR(VLOOKUP(AX6,$AX$31:$BC$34,6,FALSE)),0,(VLOOKUP(AX6,$AX$31:$BC$34,6,FALSE))) -> 0 | BD6: =IF(ISERROR(VLOOKUP(AX6,$AX$31:$BD$34,7,FALSE)),0,(VLOOKUP(AX6,$AX$31:$BD$34,7,FALSE))) -> 0 | BE6: =IF(ISERROR(VLOOKUP(AX6,$AX$31:$BE$34,8,FALSE)),0,(VLOOKUP(AX6,$AX$31:$BE$34,8,FALSE))) -> 0 | BF6: =BD6-BE6 -> 0 | BG6: =BA6*3+BB6 -> 0 | BJ6: 1 | BK6: =IF(ISERROR(VLOOKUP(BJ6,$BJ$31:$BL$34,2,FALSE)),0,(VLOOKUP(BJ6,$BJ$31:$BL$34,2,FALSE))) -> 0 | BL6: =IF(ISERROR(VLOOKUP(BJ6,$BJ$31:$BM$34,3,FALSE)),0,(VLOOKUP(BJ6,$BJ$31:$BM$34,3,FALSE))) -> 0 | BM6: =IF(ISERROR(VLOOKUP(BJ6,$BJ$31:$BM$34,4,FALSE)),0,(VLOOKUP(BJ6,$BJ$31:$BM$34,4,FALSE))) -> 0 | BN6: =BL6-BM6-BO6 -> 0 | BO6: =IF(ISERROR(VLOOKUP(BJ6,$BJ$31:$BO$34,6,FALSE)),0,(VLOOKUP(BJ6,$BJ$31:$BO$34,6,FALSE))) -> 0 | BP6: =IF(ISERROR(VLOOKUP(BJ6,$BJ$31:$BP$34,7,FALSE)),0,(VLOOKUP(BJ6,$BJ$31:$BP$34,7,FALSE))) -> 0 | BQ6: =IF(ISERROR(VLOOKUP(BJ6,$BJ$31:$BQ$34,8,FALSE)),0,(VLOOKUP(BJ6,$BJ$31:$BQ$34,8,FALSE))) -> 0 | BR6: =BP6-BQ6 -> 0 | BS6: =BM6*3+BN6 -> 0 | BZ6: 1 | CA6: =Q6 -> Atalanta | CB6: =R6+AD6+AO6+AZ6+BL6 -> 12 | CC6: =S6+AE6+AP6+BA6+BM6 -> 7 | CD6: =T6+AF6+AQ6+BB6+BN6 -> 3 | CE6: =U6+AG6+AR6+BC6+BO6 -> 2 | CF6: =V6+AH6+AS6+BD6+BP6 -> 20 | CG6: =W6+AI6+AT6+BE6+BQ6 -> 12 | CH6: =X6+AJ6+AU6+BF6+BR6 -> 8 | CI6: =Y6+AK6+AV6+BG6+BS6 -> 24 | CL6: =(10^10)*CI6+(10^8)*CC6+(10^6)*(50+CH6)+(10^4)*CF6+(10^2)*CB6+(13-BZ6) -> 240758201212 | CN6: 1 | CO6: =LARGE(CL$6:CL$27,CN6) -> 351171251394 | CQ6: 1 | CR6: =MATCH(CO6,CL$6:CL$27,0) -> 19
B7: 2º | C7: =VLOOKUP(CR7,$BZ$6:$CI$27,2) -> Beşiktaş | D7: =VLOOKUP(CR7,$BZ$6:$CI$27,3) -> 14 | E7: =VLOOKUP(CR7,$BZ$6:$CI$27,4) -> 9 | F7: =D7-E7-G7 -> 3 | G7: =VLOOKUP(CR7,$BZ$6:$CI$27,6) -> 2 | H7: =VLOOKUP(CR7,$BZ$6:$CI$27,7) -> 27 | I7: =VLOOKUP(CR7,$BZ$6:$CI$27,8) -> 9 | J7: =H7-I7 -> 18 | K7: =E7*3+F7 -> 30 | P7: =Classificação!Y10 -> 2 | Q7: =Classificação!P10 -> Hoffenheim | R7: =Classificação!Q10 -> 10 | S7: =Classificação!R10 -> 3 | T7: =Classificação!S10 -> 2 | U7: =Classificação!T10 -> 5 | V7: =Classificação!U10 -> 10 | W7: =Classificação!V10 -> 14 | X7: =Classificação!W10 -> -4 | Y7: =Classificação!X10 -> 11 | Z7: 220548161711 | AB7: 2 | AC7: =IF(ISERROR(VLOOKUP(AB7,$AB$32:$AD$47,2,FALSE)),0,(VLOOKUP(AB7,$AB$32:$AD$47,2,FALSE))) -> Hoffenheim | AD7: =IF(ISERROR(VLOOKUP(AB7,$AB$32:$AD$47,3,FALSE)),0,(VLOOKUP(AB7,$AB$32:$AD$47,3,FALSE))) -> 1 | AE7: =IF(ISERROR(VLOOKUP(AB7,$AB$32:$AE$47,4,FALSE)),0,(VLOOKUP(AB7,$AB$32:$AE$47,4,FALSE))) -> 0 | AF7: =AD7-AE7-AG7 -> 1 | AG7: =IF(ISERROR(VLOOKUP(AB7,$AB$32:$AG$47,6,FALSE)),0,(VLOOKUP(AB7,$AB$32:$AG$47,6,FALSE))) -> 0 | AH7: =IF(ISERROR(VLOOKUP(AB7,$AB$32:$AH$47,7,FALSE)),0,(VLOOKUP(AB7,$AB$32:$AH$47,7,FALSE))) -> 0 | AI7: =IF(ISERROR(VLOOKUP(AB7,$AB$32:$AI$47,8,FALSE)),0,(VLOOKUP(AB7,$AB$32:$AI$47,8,FALSE))) -> 5 | AJ7: =AH7-AI7 -> -5 | AK7: =AE7*3+AF7 -> 1 | AM7: 2 | AN7: =IF(ISERROR(VLOOKUP(AM7,$AM$32:$AO$39,2,FALSE)),0,(VLOOKUP(AM7,$AM$32:$AO$39,2,FALSE))) -> 0 | AO7: =IF(ISERROR(VLOOKUP(AM7,$AM$32:$AO$39,3,FALSE)),0,(VLOOKUP(AM7,$AM$32:$AO$39,3,FALSE))) -> 0 | AP7: =IF(ISERROR(VLOOKUP(AM7,$AM$32:$AP$39,4,FALSE)),0,(VLOOKUP(AM7,$AM$32:$AP$39,4,FALSE))) -> 0 | AQ7: =AO7-AP7-AR7 -> 0 | AR7: =IF(ISERROR(VLOOKUP(AM7,$AM$32:$AR$39,6,FALSE)),0,(VLOOKUP(AM7,$AM$32:$AR$39,6,FALSE))) -> 0 | AS7: =IF(ISERROR(VLOOKUP(AM7,$AM$32:$AS$39,7,FALSE)),0,(VLOOKUP(AM7,$AM$32:$AS$39,7,FALSE))) -> 0 | AT7: =IF(ISERROR(VLOOKUP(AM7,$AM$32:$AT$39,8,FALSE)),0,(VLOOKUP(AM7,$AM$32:$AT$39,8,FALSE))) -> 0 | AU7: =AS7-AT7 -> 0 | AV7: =AP7*3+AQ7 -> 0 | AX7: 2 | AY7: =IF(ISERROR(VLOOKUP(AX7,$AX$31:$AZ$34,2,FALSE)),0,(VLOOKUP(AX7,$AX$31:$AZ$34,2,FALSE))) -> 0 | AZ7: =IF(ISERROR(VLOOKUP(AX7,$AX$31:$BA$34,3,FALSE)),0,(VLOOKUP(AX7,$AX$31:$BA$34,3,FALSE))) -> 0 | BA7: =IF(ISERROR(VLOOKUP(AX7,$AX$31:$BA$34,4,FALSE)),0,(VLOOKUP(AX7,$AX$31:$BA$34,4,FALSE))) -> 0 | BB7: =AZ7-BA7-BC7 -> 0 | BC7: =IF(ISERROR(VLOOKUP(AX7,$AX$31:$BC$34,6,FALSE)),0,(VLOOKUP(AX7,$AX$31:$BC$34,6,FALSE))) -> 0 | BD7: =IF(ISERROR(VLOOKUP(AX7,$AX$31:$BD$34,7,FALSE)),0,(VLOOKUP(AX7,$AX$31:$BD$34,7,FALSE))) -> 0 | BE7: =IF(ISERROR(VLOOKUP(AX7,$AX$31:$BE$34,8,FALSE)),0,(VLOOKUP(AX7,$AX$31:$BE$34,8,FALSE))) -> 0 | BF7: =BD7-BE7 -> 0 | BG7: =BA7*3+BB7 -> 0 | BJ7: 2 | BK7: =IF(ISERROR(VLOOKUP(BJ7,$BJ$31:$BL$34,2,FALSE)),0,(VLOOKUP(BJ7,$BJ$31:$BL$34,2,FALSE))) -> 0 | BL7: =IF(ISERROR(VLOOKUP(BJ7,$BJ$31:$BM$34,3,FALSE)),0,(VLOOKUP(BJ7,$BJ$31:$BM$34,3,FALSE))) -> 0 | BM7: =IF(ISERROR(VLOOKUP(BJ7,$BJ$31:$BM$34,4,FALSE)),0,(VLOOKUP(BJ7,$BJ$31:$BM$34,4,FALSE))) -> 0 | BN7: =BL7-BM7-BO7 -> 0 | BO7: =IF(ISERROR(VLOOKUP(BJ7,$BJ$31:$BO$34,6,FALSE)),0,(VLOOKUP(BJ7,$BJ$31:$BO$34,6,FALSE))) -> 0 | BP7: =IF(ISERROR(VLOOKUP(BJ7,$BJ$31:$BP$34,7,FALSE)),0,(VLOOKUP(BJ7,$BJ$31:$BP$34,7,FALSE))) -> 0 | BQ7: =IF(ISERROR(VLOOKUP(BJ7,$BJ$31:$BQ$34,8,FALSE)),0,(VLOOKUP(BJ7,$BJ$31:$BQ$34,8,FALSE))) -> 0 | BR7: =BP7-BQ7 -> 0 | BS7: =BM7*3+BN7 -> 0 | BZ7: 2 | CA7: =Q7 -> Hoffenheim | CB7: =R7+AD7+AO7+AZ7+BL7 -> 11 | CC7: =S7+AE7+AP7+BA7+BM7 -> 3 | CD7: =T7+AF7+AQ7+BB7+BN7 -> 3 | CE7: =U7+AG7+AR7+BC7+BO7 -> 5 | CF7: =V7+AH7+AS7+BD7+BP7 -> 10 | CG7: =W7+AI7+AT7+BE7+BQ7 -> 19 | CH7: =X7+AJ7+AU7+BF7+BR7 -> -9 | CI7: =Y7+AK7+AV7+BG7+BS7 -> 12 | CL7: =(10^10)*CI7+(10^8)*CC7+(10^6)*(50+CH7)+(10^4)*CF7+(10^2)*CB7+(13-BZ7) -> 120341101111 | CN7: 2 | CO7: =LARGE(CL$6:CL$27,CN7) -> 300968271404 | CQ7: 2 | CR7: =MATCH(CO7,CL$6:CL$27,0) -> 9
B8: 3º | C8: =VLOOKUP(CR8,$BZ$6:$CI$27,2) -> Sporting | D8: =VLOOKUP(CR8,$BZ$6:$CI$27,3) -> 14 | E8: =VLOOKUP(CR8,$BZ$6:$CI$27,4) -> 8 | F8: =D8-E8-G8 -> 5 | G8: =VLOOKUP(CR8,$BZ$6:$CI$27,6) -> 1 | H8: =VLOOKUP(CR8,$BZ$6:$CI$27,7) -> 26 | I8: =VLOOKUP(CR8,$BZ$6:$CI$27,8) -> 11 | J8: =H8-I8 -> 15 | K8: =E8*3+F8 -> 29 | P8: =Classificação!Y11 -> 3 | Q8: =Classificação!P11 -> Real Sociedad | R8: =Classificação!Q11 -> 10 | S8: =Classificação!R11 -> 2 | T8: =Classificação!S11 -> 3 | U8: =Classificação!T11 -> 5 | V8: =Classificação!U11 -> 7 | W8: =Classificação!V11 -> 15 | X8: =Classificação!W11 -> -8 | Y8: =Classificação!X11 -> 9 | Z8: 200545131710 | AB8: 3 | AC8: =IF(ISERROR(VLOOKUP(AB8,$AB$32:$AD$47,2,FALSE)),0,(VLOOKUP(AB8,$AB$32:$AD$47,2,FALSE))) -> Real Sociedad | AD8: =IF(ISERROR(VLOOKUP(AB8,$AB$32:$AD$47,3,FALSE)),0,(VLOOKUP(AB8,$AB$32:$AD$47,3,FALSE))) -> 1 | AE8: =IF(ISERROR(VLOOKUP(AB8,$AB$32:$AE$47,4,FALSE)),0,(VLOOKUP(AB8,$AB$32:$AE$47,4,FALSE))) -> 0 | AF8: =AD8-AE8-AG8 -> 0 | AG8: =IF(ISERROR(VLOOKUP(AB8,$AB$32:$AG$47,6,FALSE)),0,(VLOOKUP(AB8,$AB$32:$AG$47,6,FALSE))) -> 1 | AH8: =IF(ISERROR(VLOOKUP(AB8,$AB$32:$AH$47,7,FALSE)),0,(VLOOKUP(AB8,$AB$32:$AH$47,7,FALSE))) -> 1 | AI8: =IF(ISERROR(VLOOKUP(AB8,$AB$32:$AI$47,8,FALSE)),0,(VLOOKUP(AB8,$AB$32:$AI$47,8,FALSE))) -> 0 | AJ8: =AH8-AI8 -> 1 | AK8: =AE8*3+AF8 -> 0 | AM8: 3 | AN8: =IF(ISERROR(VLOOKUP(AM8,$AM$32:$AO$39,2,FALSE)),0,(VLOOKUP(AM8,$AM$32:$AO$39,2,FALSE))) -> 0 | AO8: =IF(ISERROR(VLOOKUP(AM8,$AM$32:$AO$39,3,FALSE)),0,(VLOOKUP(AM8,$AM$32:$AO$39,3,FALSE))) -> 0 | AP8: =IF(ISERROR(VLOOKUP(AM8,$AM$32:$AP$39,4,FALSE)),0,(VLOOKUP(AM8,$AM$32:$AP$39,4,FALSE))) -> 0 | AQ8: =AO8-AP8-AR8 -> 0 | AR8: =IF(ISERROR(VLOOKUP(AM8,$AM$32:$AR$39,6,FALSE)),0,(VLOOKUP(AM8,$AM$32:$AR$39,6,FALSE))) -> 0 | AS8: =IF(ISERROR(VLOOKUP(AM8,$AM$32:$AS$39,7,FALSE)),0,(VLOOKUP(AM8,$AM$32:$AS$39,7,FALSE))) -> 0 | AT8: =IF(ISERROR(VLOOKUP(AM8,$AM$32:$AT$39,8,FALSE)),0,(VLOOKUP(AM8,$AM$32:$AT$39,8,FALSE))) -> 0 | AU8: =AS8-AT8 -> 0 | AV8: =AP8*3+AQ8 -> 0 | AX8: 3 | AY8: =IF(ISERROR(VLOOKUP(AX8,$AX$31:$AZ$34,2,FALSE)),0,(VLOOKUP(AX8,$AX$31:$AZ$34,2,FALSE))) -> 0 | AZ8: =IF(ISERROR(VLOOKUP(AX8,$AX$31:$BA$34,3,FALSE)),0,(VLOOKUP(AX8,$AX$31:$BA$34,3,FALSE))) -> 0 | BA8: =IF(ISERROR(VLOOKUP(AX8,$AX$31:$BA$34,4,FALSE)),0,(VLOOKUP(AX8,$AX$31:$BA$34,4,FALSE))) -> 0 | BB8: =AZ8-BA8-BC8 -> 0 | BC8: =IF(ISERROR(VLOOKUP(AX8,$AX$31:$BC$34,6,FALSE)),0,(VLOOKUP(AX8,$AX$31:$BC$34,6,FALSE))) -> 0 | BD8: =IF(ISERROR(VLOOKUP(AX8,$AX$31:$BD$34,7,FALSE)),0,(VLOOKUP(AX8,$AX$31:$BD$34,7,FALSE))) -> 0 | BE8: =IF(ISERROR(VLOOKUP(AX8,$AX$31:$BE$34,8,FALSE)),0,(VLOOKUP(AX8,$AX$31:$BE$34,8,FALSE))) -> 0 | BF8: =BD8-BE8 -> 0 | BG8: =BA8*3+BB8 -> 0 | BJ8: 3 | BK8: =IF(ISERROR(VLOOKUP(BJ8,$BJ$31:$BL$34,2,FALSE)),0,(VLOOKUP(BJ8,$BJ$31:$BL$34,2,FALSE))) -> 0 | BL8: =IF(ISERROR(VLOOKUP(BJ8,$BJ$31:$BM$34,3,FALSE)),0,(VLOOKUP(BJ8,$BJ$31:$BM$34,3,FALSE))) -> 0 | BM8: =IF(ISERROR(VLOOKUP(BJ8,$BJ$31:$BM$34,4,FALSE)),0,(VLOOKUP(BJ8,$BJ$31:$BM$34,4,FALSE))) -> 0 | BN8: =BL8-BM8-BO8 -> 0 | BO8: =IF(ISERROR(VLOOKUP(BJ8,$BJ$31:$BO$34,6,FALSE)),0,(VLOOKUP(BJ8,$BJ$31:$BO$34,6,FALSE))) -> 0 | BP8: =IF(ISERROR(VLOOKUP(BJ8,$BJ$31:$BP$34,7,FALSE)),0,(VLOOKUP(BJ8,$BJ$31:$BP$34,7,FALSE))) -> 0 | BQ8: =IF(ISERROR(VLOOKUP(BJ8,$BJ$31:$BQ$34,8,FALSE)),0,(VLOOKUP(BJ8,$BJ$31:$BQ$34,8,FALSE))) -> 0 | BR8: =BP8-BQ8 -> 0 | BS8: =BM8*3+BN8 -> 0 | BZ8: 3 | CA8: =Q8 -> Real Sociedad | CB8: =R8+AD8+AO8+AZ8+BL8 -> 11 | CC8: =S8+AE8+AP8+BA8+BM8 -> 2 | CD8: =T8+AF8+AQ8+BB8+BN8 -> 3 | CE8: =U8+AG8+AR8+BC8+BO8 -> 6 | CF8: =V8+AH8+AS8+BD8+BP8 -> 8 | CG8: =W8+AI8+AT8+BE8+BQ8 -> 15 | CH8: =X8+AJ8+AU8+BF8+BR8 -> -7 | CI8: =Y8+AK8+AV8+BG8+BS8 -> 9 | CL8: =(10^10)*CI8+(10^8)*CC8+(10^6)*(50+CH8)+(10^4)*CF8+(10^2)*CB8+(13-BZ8) -> 90243081110 | CN8: 3 | CO8: =LARGE(CL$6:CL$27,CN8) -> 290865261409 | CQ8: 3 | CR8: =MATCH(CO8,CL$6:CL$27,0) -> 4
B9: 4º | C9: =VLOOKUP(CR9,$BZ$6:$CI$27,2) -> Atalanta | D9: =VLOOKUP(CR9,$BZ$6:$CI$27,3) -> 12 | E9: =VLOOKUP(CR9,$BZ$6:$CI$27,4) -> 7 | F9: =D9-E9-G9 -> 3 | G9: =VLOOKUP(CR9,$BZ$6:$CI$27,6) -> 2 | H9: =VLOOKUP(CR9,$BZ$6:$CI$27,7) -> 20 | I9: =VLOOKUP(CR9,$BZ$6:$CI$27,8) -> 12 | J9: =H9-I9 -> 8 | K9: =E9*3+F9 -> 24 | P9: =Classificação!Y12 -> 4 | Q9: =Classificação!P12 -> Sporting | R9: =Classificação!Q12 -> 10 | S9: =Classificação!R12 -> 6 | T9: =Classificação!S12 -> 3 | U9: =Classificação!T12 -> 1 | V9: =Classificação!U12 -> 18 | W9: =Classificação!V12 -> 9 | X9: =Classificação!W12 -> 9 | Y9: =Classificação!X12 -> 21 | Z9: 16001709 | AB9: 4 | AC9: =IF(ISERROR(VLOOKUP(AB9,$AB$32:$AD$47,2,FALSE)),0,(VLOOKUP(AB9,$AB$32:$AD$47,2,FALSE))) -> Sporting | AD9: =IF(ISERROR(VLOOKUP(AB9,$AB$32:$AD$47,3,FALSE)),0,(VLOOKUP(AB9,$AB$32:$AD$47,3,FALSE))) -> 1 | AE9: =IF(ISERROR(VLOOKUP(AB9,$AB$32:$AE$47,4,FALSE)),0,(VLOOKUP(AB9,$AB$32:$AE$47,4,FALSE))) -> 1 | AF9: =AD9-AE9-AG9 -> 0 | AG9: =IF(ISERROR(VLOOKUP(AB9,$AB$32:$AG$47,6,FALSE)),0,(VLOOKUP(AB9,$AB$32:$AG$47,6,FALSE))) -> 0 | AH9: =IF(ISERROR(VLOOKUP(AB9,$AB$32:$AH$47,7,FALSE)),0,(VLOOKUP(AB9,$AB$32:$AH$47,7,FALSE))) -> 5 | AI9: =IF(ISERROR(VLOOKUP(AB9,$AB$32:$AI$47,8,FALSE)),0,(VLOOKUP(AB9,$AB$32:$AI$47,8,FALSE))) -> 0 | AJ9: =AH9-AI9 -> 5 | AK9: =AE9*3+AF9 -> 3 | AM9: 4 | AN9: =IF(ISERROR(VLOOKUP(AM9,$AM$32:$AO$39,2,FALSE)),0,(VLOOKUP(AM9,$AM$32:$AO$39,2,FALSE))) -> Sporting | AO9: =IF(ISERROR(VLOOKUP(AM9,$AM$32:$AO$39,3,FALSE)),0,(VLOOKUP(AM9,$AM$32:$AO$39,3,FALSE))) -> 1 | AP9: =IF(ISERROR(VLOOKUP(AM9,$AM$32:$AP$39,4,FALSE)),0,(VLOOKUP(AM9,$AM$32:$AP$39,4,FALSE))) -> 1 | AQ9: =AO9-AP9-AR9 -> 0 | AR9: =IF(ISERROR(VLOOKUP(AM9,$AM$32:$AR$39,6,FALSE)),0,(VLOOKUP(AM9,$AM$32:$AR$39,6,FALSE))) -> 0 | AS9: =IF(ISERROR(VLOOKUP(AM9,$AM$32:$AS$39,7,FALSE)),0,(VLOOKUP(AM9,$AM$32:$AS$39,7,FALSE))) -> 2 | AT9: =IF(ISERROR(VLOOKUP(AM9,$AM$32:$AT$39,8,FALSE)),0,(VLOOKUP(AM9,$AM$32:$AT$39,8,FALSE))) -> 1 | AU9: =AS9-AT9 -> 1 | AV9: =AP9*3+AQ9 -> 3 | AX9: 4 | AY9: =IF(ISERROR(VLOOKUP(AX9,$AX$31:$AZ$34,2,FALSE)),0,(VLOOKUP(AX9,$AX$31:$AZ$34,2,FALSE))) -> Sporting | AZ9: =IF(ISERROR(VLOOKUP(AX9,$AX$31:$BA$34,3,FALSE)),0,(VLOOKUP(AX9,$AX$31:$BA$34,3,FALSE))) -> 1 | BA9: =IF(ISERROR(VLOOKUP(AX9,$AX$31:$BA$34,4,FALSE)),0,(VLOOKUP(AX9,$AX$31:$BA$34,4,FALSE))) -> 0 | BB9: =AZ9-BA9-BC9 -> 1 | BC9: =IF(ISERROR(VLOOKUP(AX9,$AX$31:$BC$34,6,FALSE)),0,(VLOOKUP(AX9,$AX$31:$BC$34,6,FALSE))) -> 0 | BD9: =IF(ISERROR(VLOOKUP(AX9,$AX$31:$BD$34,7,FALSE)),0,(VLOOKUP(AX9,$AX$31:$BD$34,7,FALSE))) -> 1 | BE9: =IF(ISERROR(VLOOKUP(AX9,$AX$31:$BE$34,8,FALSE)),0,(VLOOKUP(AX9,$AX$31:$BE$34,8,FALSE))) -> 1 | BF9: =BD9-BE9 -> 0 | BG9: =BA9*3+BB9 -> 1 | BJ9: 4 | BK9: =IF(ISERROR(VLOOKUP(BJ9,$BJ$31:$BL$34,2,FALSE)),0,(VLOOKUP(BJ9,$BJ$31:$BL$34,2,FALSE))) -> Sporting | BL9: =IF(ISERROR(VLOOKUP(BJ9,$BJ$31:$BM$34,3,FALSE)),0,(VLOOKUP(BJ9,$BJ$31:$BM$34,3,FALSE))) -> 1 | BM9: =IF(ISERROR(VLOOKUP(BJ9,$BJ$31:$BM$34,4,FALSE)),0,(VLOOKUP(BJ9,$BJ$31:$BM$34,4,FALSE))) -> 0 | BN9: =BL9-BM9-BO9 -> 1 | BO9: =IF(ISERROR(VLOOKUP(BJ9,$BJ$31:$BO$34,6,FALSE)),0,(VLOOKUP(BJ9,$BJ$31:$BO$34,6,FALSE))) -> 0 | BP9: =IF(ISERROR(VLOOKUP(BJ9,$BJ$31:$BP$34,7,FALSE)),0,(VLOOKUP(BJ9,$BJ$31:$BP$34,7,FALSE))) -> 0 | BQ9: =IF(ISERROR(VLOOKUP(BJ9,$BJ$31:$BQ$34,8,FALSE)),0,(VLOOKUP(BJ9,$BJ$31:$BQ$34,8,FALSE))) -> 0 | BR9: =BP9-BQ9 -> 0 | BS9: =BM9*3+BN9 -> 1 | BZ9: 4 | CA9: =Q9 -> Sporting | CB9: =R9+AD9+AO9+AZ9+BL9 -> 14 | CC9: =S9+AE9+AP9+BA9+BM9 -> 8 | CD9: =T9+AF9+AQ9+BB9+BN9 -> 5 | CE9: =U9+AG9+AR9+BC9+BO9 -> 1 | CF9: =V9+AH9+AS9+BD9+BP9 -> 26 | CG9: =W9+AI9+AT9+BE9+BQ9 -> 11 | CH9: =X9+AJ9+AU9+BF9+BR9 -> 15 | CI9: =Y9+AK9+AV9+BG9+BS9 -> 29 | CL9: =(10^10)*CI9+(10^8)*CC9+(10^6)*(50+CH9)+(10^4)*CF9+(10^2)*CB9+(13-BZ9) -> 290865261409 | CN9: 4 | CO9: =LARGE(CL$6:CL$27,CN9) -> 240758201212 | CQ9: 4 | CR9: =MATCH(CO9,CL$6:CL$27,0) -> 1
