Workbook

Sheet Geral 1º Turno
B2: CLASSIFICAÇÃO GERAL - 1º Turno | P2: 1º FASE | AA2: OITAVAS DE FINAL | AL2: QUARTAS DE FINAL | AW2: SEMI FINAL | BI2: FINAL
B4: Posição | C4: Times | D4: Jogos | E4: Vitorias | F4: Empates | G4: Derrotas | H4: Gols Pró | I4: Gols Cont. | J4: Saldo | K4: Pontos | P4: ID_TIME | Q4: Times | R4: Jogos | S4: Vitorias | T4: Empates | U4: Derrotas | V4: Gols Pró | W4: Gols Cont. | X4: Saldo | Y4: Pontos | AA4: ID_TIME | AB4: Times | AC4: Jogos | AD4: Vitorias | AE4: Empates | AF4: Derrotas | AG4: Gols Pró | AH4: Gols Cont. | AI4: Saldo | AJ4: Pontos | AL4: ID_TIME | AM4: Times | AN4: Jogos | AO4: Vitorias | AP4: Empates | AQ4: Derrotas | AR4: Gols Pró | AS4: Gols Cont. | AT4: Saldo | AU4: Pontos | AW4: ID_TIME | AX4: Times | AY4: Jogos | AZ4: Vitorias | BA4: Empates | BB4: Derrotas | BC4: Gols Pró | BD4: Gols Cont. | BE4: Saldo | BF4: Pontos | BI4: ID_TIME | BJ4: Times | BK4: Jogos | BL4: Vitorias | BM4: Empates | BN4: Derrotas | BO4: Gols Pró | BP4: Gols Cont. | BQ4: Saldo | BR4: Pontos | BY4: ID_TIME | BZ4: Times | CA4: Jogos | CB4: Vitorias | CC4: Empates | CD4: Derrotas | CE4: Gols Pró | CF4: Gols Cont. | CG4: Saldo | CH4: Pontos
B6: 1º | C6: =VLOOKUP(CO6,$BY$6:$CH$23,2) -> #REF! | D6: =VLOOKUP(CO6,$BY$6:$CH$23,3) -> #REF! | E6: =VLOOKUP(CO6,$BY$6:$CH$23,4) -> #REF! | F6: =D6-E6-G6 -> #REF! | G6: =VLOOKUP(CO6,$BY$6:$CH$23,6) -> #REF! | H6: =VLOOKUP(CO6,$BY$6:$CH$23,7) -> #REF! | I6: =VLOOKUP(CO6,$BY$6:$CH$23,8) -> #REF! | J6: =H6-I6 -> #REF! | K6: =E6*3+F6 -> #REF! | P6: =#REF! -> #REF! | Q6: =#REF! -> #REF! | R6: =#REF! -> #REF! | S6: =#REF! -> #REF! | T6: =#REF! -> #REF! | U6: =#REF! -> #REF! | V6: =#REF! -> #REF! | W6: =#REF! -> #REF! | ... Y6: =#REF! -> #REF! | Z6: =(10^10)*Y6+(10^8)*S6+(10^6)*(50+X6)+(10^4)*V6+(10^2)*R6+(13-P6) -> #REF! | AK6: 0 | AL6: =#REF! -> #REF! | AM6: =IF(ISERROR(VLOOKUP(AL6,$AL$27:$AN$34,2,FALSE)),0,(VLOOKUP(AL6,$AL$27:$AN$34,2,FALSE))) -> 0 | AN6: =IF(ISERROR(VLOOKUP(AL6,$AL$27:$AN$34,3,FALSE)),0,(VLOOKUP(AL6,$AL$27:$AN$34,3,FALSE))) -> 0 | AO6: =IF(ISERROR(VLOOKUP(AL6,$AL$27:$AO$34,4,FALSE)),0,(VLOOKUP(AL6,$AL$27:$AO$34,4,FALSE))) -> 0 | AP6: =AN6-AO6-AQ6 -> 0 | AQ6: =IF(ISERROR(VLOOKUP(AL6,$AL$27:$AQ$34,6,FALSE)),0,(VLOOKUP(AL6,$AL$27:$AQ$34,6,FALSE))) -> 0 | AR6: =IF(ISERROR(VLOOKUP(AL6,$AL$27:$AR$34,7,FALSE)),0,(VLOOKUP(AL6,$AL$27:$AR$34,7,FALSE))) -> 0 | AS6: =IF(ISERROR(VLOOKUP(AL6,$AL$27:$AS$34,8,FALSE)),0,(VLOOKUP(AL6,$AL$27:$AS$34,8,FALSE))) -> 0 | AT6: =AR6-AS6 -> 0 | AU6: =AO6*3+AP6 -> 0 | AW6: 1 | AX6: =IF(ISERROR(VLOOKUP(AW6,$AW$26:$AY$29,2,FALSE)),0,(VLOOKUP(AW6,$AW$26:$AY$29,2,FALSE))) -> 0 | AY6: =IF(ISERROR(VLOOKUP(AW6,$AW$26:$BF$29,3,FALSE)),0,(VLOOKUP(AW6,$AW$26:$BF$29,3,FALSE))) -> 0 | AZ6: =IF(ISERROR(VLOOKUP(AW6,$AW$26:$BF$29,4,FALSE)),0,(VLOOKUP(AW6,$AW$26:$BF$29,4,FALSE))) -> 0 | BA6: =AY6-AZ6-BB6 -> 0 | BB6: =IF(ISERROR(VLOOKUP(AW6,$AW$26:$BF$29,6,FALSE)),0,(VLOOKUP(AW6,$AW$26:$BF$29,6,FALSE))) -> 0 | BC6: =IF(ISERROR(VLOOKUP(AW6,$AW$26:$BF$29,7,FALSE)),0,(VLOOKUP(AW6,$AW$26:$BF$29,7,FALSE))) -> 0 | BD6: =IF(ISERROR(VLOOKUP(AW6,$AW$26:$BF$29,8,FALSE)),0,(VLOOKUP(AW6,$AW$26:$BF$29,8,FALSE))) -> 0 | BE6: =BC6-BD6 -> 0 | BF6: =AZ6*3+BA6 -> 0 | BI6: 1 | BJ6: =IF(ISERROR(VLOOKUP(BI6,$BI$26:$BK$29,2,FALSE)),0,(VLOOKUP(BI6,$BI$26:$BK$29,2,FALSE))) -> 0 | BK6: =IF(ISERROR(VLOOKUP(BI6,$BI$26:$BR$27,3,FALSE)),0,(VLOOKUP(BI6,$BI$26:$BR$27,3,FALSE))) -> 0 | BL6: =IF(ISERROR(VLOOKUP(BI6,$BI$26:$BR$27,4,FALSE)),0,(VLOOKUP(BI6,$BI$26:$BR$27,4,FALSE))) -> 0 | BM6: =BK6-BL6-BN6 -> 0 | BN6: =IF(ISERROR(VLOOKUP(BI6,$BI$26:$BR$27,6,FALSE)),0,(VLOOKUP(BI6,$BI$26:$BR$27,6,FALSE))) -> 0 | BO6: =IF(ISERROR(VLOOKUP(BI6,$BI$26:$BR$27,7,FALSE)),0,(VLOOKUP(BI6,$BI$26:$BR$27,7,FALSE))) -> 0 | BP6: =IF(ISERROR(VLOOKUP(BI6,$BI$26:$BR$27,8,FALSE)),0,(VLOOKUP(BI6,$BI$26:$BR$27,8,FALSE))) -> 0 | BQ6: =BO6-BP6 -> 0 | BR6: =BL6*3+BM6 -> 0 | BY6: =P6 -> #REF! | BZ6: =Q6 -> #REF! | CA6: =R6+AN6+AY6+BK6 -> #REF! | CB6: =S6+AO6+AZ6+BL6 -> #REF! | CC6: =T6+AP6+BA6+BM6 -> #REF! | CD6: =U6+AQ6+BB6+BN6 -> #REF! | CE6: =V6+AR6+BC6+BO6 -> #REF! | CF6: =W6+AS6+BD6+BP6 -> #REF! | CG6: =X6+AT6+BE6+BQ6 -> #REF! | CH6: =Y6+AU6+BF6+BR6 -> #REF! | CJ6: =(10^10)*CH6+(10^8)*CB6+(10^6)*(50+CG6)+(10^4)*CE6+(10^2)*CA6+(13-BY6) -> #REF! | CK6: 1 | CL6: =LARGE($CJ$6:$CJ$23,CK6) -> #REF! | CN6: 1 | CO6: =MATCH(CL6,$CJ$6:$CJ$23,0) -> #REF!
B7: 2º | C7: =VLOOKUP(CO7,$BY$6:$CH$23,2) -> #REF! | D7: =VLOOKUP(CO7,$BY$6:$CH$23,3) -> #REF! | E7: =VLOOKUP(CO7,$BY$6:$CH$23,4) -> #REF! | F7: =D7-E7-G7 -> #REF! | G7: =VLOOKUP(CO7,$BY$6:$CH$23,6) -> #REF! | H7: =VLOOKUP(CO7,$BY$6:$CH$23,7) -> #REF! | I7: =VLOOKUP(CO7,$BY$6:$CH$23,8) -> #REF! | J7: =H7-I7 -> #REF! | K7: =E7*3+F7 -> #REF! | P7: =#REF! -> #REF! | Q7: =#REF! -> #REF! | R7: =#REF! -> #REF! | S7: =#REF! -> #REF! | T7: =#REF! -> #REF! | U7: =#REF! -> #REF! | V7: =#REF! -> #REF! | W7: =#REF! -> #REF! | ... Y7: =#REF! -> #REF! | Z7: =(10^10)*Y7+(10^8)*S7+(10^6)*(50+X7)+(10^4)*V7+(10^2)*R7+(13-P7) -> #REF! | AK7: 0 | AL7: =#REF! -> #REF! | AM7: =IF(ISERROR(VLOOKUP(AL7,$AL$27:$AN$34,2,FALSE)),0,(VLOOKUP(AL7,$AL$27:$AN$34,2,FALSE))) -> 0 | AN7: =IF(ISERROR(VLOOKUP(AL7,$AL$27:$AN$34,3,FALSE)),0,(VLOOKUP(AL7,$AL$27:$AN$34,3,FALSE))) -> 0 | AO7: =IF(ISERROR(VLOOKUP(AL7,$AL$27:$AO$34,4,FALSE)),0,(VLOOKUP(AL7,$AL$27:$AO$34,4,FALSE))) -> 0 | AP7: =AN7-AO7-AQ7 -> 0 | AQ7: =IF(ISERROR(VLOOKUP(AL7,$AL$27:$AQ$34,6,FALSE)),0,(VLOOKUP(AL7,$AL$27:$AQ$34,6,FALSE))) -> 0 | AR7: =IF(ISERROR(VLOOKUP(AL7,$AL$27:$AR$34,7,FALSE)),0,(VLOOKUP(AL7,$AL$27:$AR$34,7,FALSE))) -> 0 | AS7: =IF(ISERROR(VLOOKUP(AL7,$AL$27:$AS$34,8,FALSE)),0,(VLOOKUP(AL7,$AL$27:$AS$34,8,FALSE))) -> 0 | AT7: =AR7-AS7 -> 0 | AU7: =AO7*3+AP7 -> 0 | AW7: 2 | AX7: =IF(ISERROR(VLOOKUP(AW7,$AW$26:$AY$29,2,FALSE)),0,(VLOOKUP(AW7,$AW$26:$AY$29,2,FALSE))) -> 0 | AY7: =IF(ISERROR(VLOOKUP(AW7,$AW$26:$BF$29,3,FALSE)),0,(VLOOKUP(AW7,$AW$26:$BF$29,3,FALSE))) -> 0 | AZ7: =IF(ISERROR(VLOOKUP(AW7,$AW$26:$BF$29,4,FALSE)),0,(VLOOKUP(AW7,$AW$26:$BF$29,4,FALSE))) -> 0 | BA7: =AY7-AZ7-BB7 -> 0 | BB7: =IF(ISERROR(VLOOKUP(AW7,$AW$26:$BF$29,6,FALSE)),0,(VLOOKUP(AW7,$AW$26:$BF$29,6,FALSE))) -> 0 | BC7: =IF(ISERROR(VLOOKUP(AW7,$AW$26:$BF$29,7,FALSE)),0,(VLOOKUP(AW7,$AW$26:$BF$29,7,FALSE))) -> 0 | BD7: =IF(ISERROR(VLOOKUP(AW7,$AW$26:$BF$29,8,FALSE)),0,(VLOOKUP(AW7,$AW$26:$BF$29,8,FALSE))) -> 0 | BE7: =BC7-BD7 -> 0 | BF7: =AZ7*3+BA7 -> 0 | BI7: 2 | BJ7: =IF(ISERROR(VLOOKUP(BI7,$BI$26:$BK$29,2,FALSE)),0,(VLOOKUP(BI7,$BI$26:$BK$29,2,FALSE))) -> 0 | BK7: =IF(ISERROR(VLOOKUP(BI7,$BI$26:$BR$27,3,FALSE)),0,(VLOOKUP(BI7,$BI$26:$BR$27,3,FALSE))) -> 0 | BL7: =IF(ISERROR(VLOOKUP(BI7,$BI$26:$BR$27,4,FALSE)),0,(VLOOKUP(BI7,$BI$26:$BR$27,4,FALSE))) -> 0 | BM7: =BK7-BL7-BN7 -> 0 | BN7: =IF(ISERROR(VLOOKUP(BI7,$BI$26:$BR$27,6,FALSE)),0,(VLOOKUP(BI7,$BI$26:$BR$27,6,FALSE))) -> 0 | BO7: =IF(ISERROR(VLOOKUP(BI7,$BI$26:$BR$27,7,FALSE)),0,(VLOOKUP(BI7,$BI$26:$BR$27,7,FALSE))) -> 0 | BP7: =IF(ISERROR(VLOOKUP(BI7,$BI$26:$BR$27,8,FALSE)),0,(VLOOKUP(BI7,$BI$26:$BR$27,8,FALSE))) -> 0 | BQ7: =BO7-BP7 -> 0 | BR7: =BL7*3+BM7 -> 0 | BY7: =P7 -> #REF! | BZ7: =Q7 -> #REF! | CA7: =R7+AN7+AY7+BK7 -> #REF! | CB7: =S7+AO7+AZ7+BL7 -> #REF! | CC7: =T7+AP7+BA7+BM7 -> #REF! | CD7: =U7+AQ7+BB7+BN7 -> #REF! | CE7: =V7+AR7+BC7+BO7 -> #REF! | CF7: =W7+AS7+BD7+BP7 -> #REF! | CG7: =X7+AT7+BE7+BQ7 -> #REF! | CH7: =Y7+AU7+BF7+BR7 -> #REF! | CJ7: =(10^10)*CH7+(10^8)*CB7+(10^6)*(50+CG7)+(10^4)*CE7+(10^2)*CA7+(13-BY7) -> #REF! | CK7: 2 | CL7: =LARGE($CJ$6:$CJ$23,CK7) -> #REF! | CN7: 2 | CO7: =MATCH(CL7,$CJ$6:$CJ$23,0) -> #REF!
B8: 3º | C8: =VLOOKUP(CO8,$BY$6:$CH$23,2) -> #REF! | D8: =VLOOKUP(CO8,$BY$6:$CH$23,3) -> #REF! | E8: =VLOOKUP(CO8,$BY$6:$CH$23,4) -> #REF! | F8: =D8-E8-G8 -> #REF! | G8: =VLOOKUP(CO8,$BY$6:$CH$23,6) -> #REF! | H8: =VLOOKUP(CO8,$BY$6:$CH$23,7) -> #REF! | I8: =VLOOKUP(CO8,$BY$6:$CH$23,8) -> #REF! | J8: =H8-I8 -> #REF! | K8: =E8*3+F8 -> #REF! | P8: =#REF! -> #REF! | Q8: =#REF! -> #REF! | R8: =#REF! -> #REF! | S8: =#REF! -> #REF! | T8: =#REF! -> #REF! | U8: =#REF! -> #REF! | V8: =#REF! -> #REF! | W8: =#REF! -> #REF! | ... Y8: =#REF! -> #REF! | Z8: =(10^10)*Y8+(10^8)*S8+(10^6)*(50+X8)+(10^4)*V8+(10^2)*R8+(13-P8) -> #REF! | AK8: 0 | AL8: =#REF! -> #REF! | AM8: =IF(ISERROR(VLOOKUP(AL8,$AL$27:$AN$34,2,FALSE)),0,(VLOOKUP(AL8,$AL$27:$AN$34,2,FALSE))) -> 0 | AN8: =IF(ISERROR(VLOOKUP(AL8,$AL$27:$AN$34,3,FALSE)),0,(VLOOKUP(AL8,$AL$27:$AN$34,3,FALSE))) -> 0 | AO8: =IF(ISERROR(VLOOKUP(AL8,$AL$27:$AO$34,4,FALSE)),0,(VLOOKUP(AL8,$AL$27:$AO$34,4,FALSE))) -> 0 | AP8: =AN8-AO8-AQ8 -> 0 | AQ8: =IF(ISERROR(VLOOKUP(AL8,$AL$27:$AQ$34,6,FALSE)),0,(VLOOKUP(AL8,$AL$27:$AQ$34,6,FALSE))) -> 0 | AR8: =IF(ISERROR(VLOOKUP(AL8,$AL$27:$AR$34,7,FALSE)),0,(VLOOKUP(AL8,$AL$27:$AR$34,7,FALSE))) -> 0 | AS8: =IF(ISERROR(VLOOKUP(AL8,$AL$27:$AS$34,8,FALSE)),0,(VLOOKUP(AL8,$AL$27:$AS$34,8,FALSE))) -> 0 | AT8: =AR8-AS8 -> 0 | AU8: =AO8*3+AP8 -> 0 | AW8: 3 | AX8: =IF(ISERROR(VLOOKUP(AW8,$AW$26:$AY$29,2,FALSE)),0,(VLOOKUP(AW8,$AW$26:$AY$29,2,FALSE))) -> 0 | AY8: =IF(ISERROR(VLOOKUP(AW8,$AW$26:$BF$29,3,FALSE)),0,(VLOOKUP(AW8,$AW$26:$BF$29,3,FALSE))) -> 0 | AZ8: =IF(ISERROR(VLOOKUP(AW8,$AW$26:$BF$29,4,FALSE)),0,(VLOOKUP(AW8,$AW$26:$BF$29,4,FALSE))) -> 0 | BA8: =AY8-AZ8-BB8 -> 0 | BB8: =IF(ISERROR(VLOOKUP(AW8,$AW$26:$BF$29,6,FALSE)),0,(VLOOKUP(AW8,$AW$26:$BF$29,6,FALSE))) -> 0 | BC8: =IF(ISERROR(VLOOKUP(AW8,$AW$26:$BF$29,7,FALSE)),0,(VLOOKUP(AW8,$AW$26:$BF$29,7,FALSE))) -> 0 | BD8: =IF(ISERROR(VLOOKUP(AW8,$AW$26:$BF$29,8,FALSE)),0,(VLOOKUP(AW8,$AW$26:$BF$29,8,FALSE))) -> 0 | BE8: =BC8-BD8 -> 0 | BF8: =AZ8*3+BA8 -> 0 | BI8: 3 | BJ8: =IF(ISERROR(VLOOKUP(BI8,$BI$26:$BK$29,2,FALSE)),0,(VLOOKUP(BI8,$BI$26:$BK$29,2,FALSE))) -> 0 | BK8: =IF(ISERROR(VLOOKUP(BI8,$BI$26:$BR$27,3,FALSE)),0,(VLOOKUP(BI8,$BI$26:$BR$27,3,FALSE))) -> 0 | BL8: =IF(ISERROR(VLOOKUP(BI8,$BI$26:$BR$27,4,FALSE)),0,(VLOOKUP(BI8,$BI$26:$BR$27,4,FALSE))) -> 0 | BM8: =BK8-BL8-BN8 -> 0 | BN8: =IF(ISERROR(VLOOKUP(BI8,$BI$26:$BR$27,6,FALSE)),0,(VLOOKUP(BI8,$BI$26:$BR$27,6,FALSE))) -> 0 | BO8: =IF(ISERROR(VLOOKUP(BI8,$BI$26:$BR$27,7,FALSE)),0,(VLOOKUP(BI8,$BI$26:$BR$27,7,FALSE))) -> 0 | BP8: =IF(ISERROR(VLOOKUP(BI8,$BI$26:$BR$27,8,FALSE)),0,(VLOOKUP(BI8,$BI$26:$BR$27,8,FALSE))) -> 0 | BQ8: =BO8-BP8 -> 0 | BR8: =BL8*3+BM8 -> 0 | BY8: =P8 -> #REF! | BZ8: =Q8 -> #REF! | CA8: =R8+AN8+AY8+BK8 -> #REF! | CB8: =S8+AO8+AZ8+BL8 -> #REF! | CC8: =T8+AP8+BA8+BM8 -> #REF! | CD8: =U8+AQ8+BB8+BN8 -> #REF! | CE8: =V8+AR8+BC8+BO8 -> #REF! | CF8: =W8+AS8+BD8+BP8 -> #REF! | CG8: =X8+AT8+BE8+BQ8 -> #REF! | CH8: =Y8+AU8+BF8+BR8 -> #REF! | CJ8: =(10^10)*CH8+(10^8)*CB8+(10^6)*(50+CG8)+(10^4)*CE8+(10^2)*CA8+(13-BY8) -> #REF! | CK8: 3 | CL8: =LARGE($CJ$6:$CJ$23,CK8) -> #REF! | CN8: 3 | CO8: =MATCH(CL8,$CJ$6:$CJ$23,0) -> #REF!
B9: 4º | C9: =VLOOKUP(CO9,$BY$6:$CH$23,2) -> #REF! | D9: =VLOOKUP(CO9,$BY$6:$CH$23,3) -> #REF! | E9: =VLOOKUP(CO9,$BY$6:$CH$23,4) -> #REF! | F9: =D9-E9-G9 -> #REF! | G9: =VLOOKUP(CO9,$BY$6:$CH$23,6) -> #REF! | H9: =VLOOKUP(CO9,$BY$6:$CH$23,7) -> #REF! | I9: =VLOOKUP(CO9,$BY$6:$CH$23,8) -> #REF! | J9: =H9-I9 -> #REF! | K9: =E9*3+F9 -> #REF! | P9: =#REF! -> #REF! | Q9: =#REF! -> #REF! | R9: =#REF! -> #REF! | S9: =#REF! -> #REF! | T9: =#REF! -> #REF! | U9: =#REF! -> #REF! | V9: =#REF! -> #REF! | W9: =#REF! -> #REF! | ... Y9: =#REF! -> #REF! | Z9: =(10^10)*Y9+(10^8)*S9+(10^6)*(50+X9)+(10^4)*V9+(10^2)*R9+(13-P9) -> #REF! | AK9: 0 | AL9: =#REF! -> #REF! | AM9: =IF(ISERROR(VLOOKUP(AL9,$AL$27:$AN$34,2,FALSE)),0,(VLOOKUP(AL9,$AL$27:$AN$34,2,FALSE))) -> 0 | AN9: =IF(ISERROR(VLOOKUP(AL9,$AL$27:$AN$34,3,FALSE)),0,(VLOOKUP(AL9,$AL$27:$AN$34,3,FALSE))) -> 0 | AO9: =IF(ISERROR(VLOOKUP(AL9,$AL$27:$AO$34,4,FALSE)),0,(VLOOKUP(AL9,$AL$27:$AO$34,4,FALSE))) -> 0 | AP9: =AN9-AO9-AQ9 -> 0 | AQ9: =IF(ISERROR(VLOOKUP(AL9,$AL$27:$AQ$34,6,FALSE)),0,(VLOOKUP(AL9,$AL$27:$AQ$34,6,FALSE))) -> 0 | AR9: =IF(ISERROR(VLOOKUP(AL9,$AL$27:$AR$34,7,FALSE)),0,(VLOOKUP(AL9,$AL$27:$AR$34,7,FALSE))) -> 0 | AS9: =IF(ISERROR(VLOOKUP(AL9,$AL$27:$AS$34,8,FALSE)),0,(VLOOKUP(AL9,$AL$27:$AS$34,8,FALSE))) -> 0 | AT9: =AR9-AS9 -> 0 | AU9: =AO9*3+AP9 -> 0 | AW9: 4 | AX9: =IF(ISERROR(VLOOKUP(AW9,$AW$26:$AY$29,2,FALSE)),0,(VLOOKUP(AW9,$AW$26:$AY$29,2,FALSE))) -> 0 | AY9: =IF(ISERROR(VLOOKUP(AW9,$AW$26:$BF$29,3,FALSE)),0,(VLOOKUP(AW9,$AW$26:$BF$29,3,FALSE))) -> 0 | AZ9: =IF(ISERROR(VLOOKUP(AW9,$AW$26:$BF$29,4,FALSE)),0,(VLOOKUP(AW9,$AW$26:$BF$29,4,FALSE))) -> 0 | BA9: =AY9-AZ9-BB9 -> 0 | BB9: =IF(ISERROR(VLOOKUP(AW9,$AW$26:$BF$29,6,FALSE)),0,(VLOOKUP(AW9,$AW$26:$BF$29,6,FALSE))) -> 0 | BC9: =IF(ISERROR(VLOOKUP(AW9,$AW$26:$BF$29,7,FALSE)),0,(VLOOKUP(AW9,$AW$26:$BF$29,7,FALSE))) -> 0 | BD9: =IF(ISERROR(VLOOKUP(AW9,$AW$26:$BF$29,8,FALSE)),0,(VLOOKUP(AW9,$AW$26:$BF$29,8,FALSE))) -> 0 | BE9: =BC9-BD9 -> 0 | BF9: =AZ9*3+BA9 -> 0 | BI9: 4 | BJ9: =IF(ISERROR(VLOOKUP(BI9,$BI$26:$BK$29,2,FALSE)),0,(VLOOKUP(BI9,$BI$26:$BK$29,2,FALSE))) -> 0 | BK9: =IF(ISERROR(VLOOKUP(BI9,$BI$26:$BR$27,3,FALSE)),0,(VLOOKUP(BI9,$BI$26:$BR$27,3,FALSE))) -> 0 | BL9: =IF(ISERROR(VLOOKUP(BI9,$BI$26:$BR$27,4,FALSE)),0,(VLOOKUP(BI9,$BI$26:$BR$27,4,FALSE))) -> 0 | BM9: =BK9-BL9-BN9 -> 0 | BN9: =IF(ISERROR(VLOOKUP(BI9,$BI$26:$BR$27,6,FALSE)),0,(VLOOKUP(BI9,$BI$26:$BR$27,6,FALSE))) -> 0 | BO9: =IF(ISERROR(VLOOKUP(BI9,$BI$26:$BR$27,7,FALSE)),0,(VLOOKUP(BI9,$BI$26:$BR$27,7,FALSE))) -> 0 | BP9: =IF(ISERROR(VLOOKUP(BI9,$BI$26:$BR$27,8,FALSE)),0,(VLOOKUP(BI9,$BI$26:$BR$27,8,FALSE))) -> 0 | BQ9: =BO9-BP9 -> 0 | BR9: =BL9*3+BM9 -> 0 | BY9: =P9 -> #REF! | BZ9: =Q9 -> #REF! | CA9: =R9+AN9+AY9+BK9 -> #REF! | CB9: =S9+AO9+AZ9+BL9 -> #REF! | CC9: =T9+AP9+BA9+BM9 -> #REF! | CD9: =U9+AQ9+BB9+BN9 -> #REF! | CE9: =V9+AR9+BC9+BO9 -> #REF! | CF9: =W9+AS9+BD9+BP9 -> #REF! | CG9: =X9+AT9+BE9+BQ9 -> #REF! | CH9: =Y9+AU9+BF9+BR9 -> #REF! | CJ9: =(10^10)*CH9+(10^8)*CB9+(10^6)*(50+CG9)+(10^4)*CE9+(10^2)*CA9+(13-BY9) -> #REF! | CK9: 4 | CL9: =LARGE($CJ$6:$CJ$23,CK9) -> #REF! | CN9: 4 | CO9: =MATCH(CL9,$CJ$6:$CJ$23,0) -> #REF!
B10: 5º | C10: =VLOOKUP(CO10,$BY$6:$CH$23,2) -> #REF! | D10: =VLOOKUP(CO10,$BY$6:$CH$23,3) -> #REF! | E10: =VLOOKUP(CO10,$BY$6:$CH$23,4) -> #REF! | F10: =D10-E10-G10 -> #REF! | G10: =VLOOKUP(CO10,$BY$6:$CH$23,6) -> #REF! | H10: =VLOOKUP(CO10,$BY$6:$CH$23,7) -> #REF! | I10: =VLOOKUP(CO10,$BY$6:$CH$23,8) -> #REF! | J10: =H10-I10 -> #REF! | K10: =E10*3+F10 -> #REF! | P10: =#REF! -> #REF! | Q10: =#REF! -> #REF! | R10: =#REF! -> #REF! | S10: =#REF! -> #REF! | T10: =#REF! -> #REF! | U10: =#REF! -> #REF! | V10: =#REF! -> #REF! | W10: =#REF! -> #REF! | ... Y10: =#REF! -> #REF! | Z10: =(10^10)*Y10+(10^8)*S10+(10^6)*(50+X10)+(10^4)*V10+(10^2)*R10+(13-P10) -> #REF! | AK10: 0 | AL10: =#REF! -> #REF! | AM10: =IF(ISERROR(VLOOKUP(AL10,$AL$27:$AN$34,2,FALSE)),0,(VLOOKUP(AL10,$AL$27:$AN$34,2,FALSE))) -> 0 | AN10: =IF(ISERROR(VLOOKUP(AL10,$AL$27:$AN$34,3,FALSE)),0,(VLOOKUP(AL10,$AL$27:$AN$34,3,FALSE))) -> 0 | AO10: =IF(ISERROR(VLOOKUP(AL10,$AL$27:$AO$34,4,FALSE)),0,(VLOOKUP(AL10,$AL$27:$AO$34,4,FALSE))) -> 0 | AP10: =AN10-AO10-AQ10 -> 0 | AQ10: =IF(ISERROR(VLOOKUP(AL10,$AL$27:$AQ$34,6,FALSE)),0,(VLOOKUP(AL10,$AL$27:$AQ$34,6,FALSE))) -> 0 | AR10: =IF(ISERROR(VLOOKUP(AL10,$AL$27:$AR$34,7,FALSE)),0,(VLOOKUP(AL10,$AL$27:$AR$34,7,FALSE))) -> 0 | AS10: =IF(ISERROR(VLOOKUP(AL10,$AL$27:$AS$34,8,FALSE)),0,(VLOOKUP(AL10,$AL$27:$AS$34,8,FALSE))) -> 0 | AT10: =AR10-AS10 -> 0 | AU10: =AO10*3+AP10 -> 0 | AW10: 5 | AX10: =IF(ISERROR(VLOOKUP(AW10,$AW$26:$AY$29,2,FALSE)),0,(VLOOKUP(AW10,$AW$26:$AY$29,2,FALSE))) -> 0 | AY10: =IF(ISERROR(VLOOKUP(AW10,$AW$26:$BF$29,3,FALSE)),0,(VLOOKUP(AW10,$AW$26:$BF$29,3,FALSE))) -> 0 | AZ10: =IF(ISERROR(VLOOKUP(AW10,$AW$26:$BF$29,4,FALSE)),0,(VLOOKUP(AW10,$AW$26:$BF$29,4,FALSE))) -> 0 | BA10: =AY10-AZ10-BB10 -> 0 | BB10: =IF(ISERROR(VLOOKUP(AW10,$AW$26:$BF$29,6,FALSE)),0,(VLOOKUP(AW10,$AW$26:$BF$29,6,FALSE))) -> 0 | BC10: =IF(ISERROR(VLOOKUP(AW10,$AW$26:$BF$29,7,FALSE)),0,(VLOOKUP(AW10,$AW$26:$BF$29,7,FALSE))) -> 0 | BD10: =IF(ISERROR(VLOOKUP(AW10,$AW$26:$BF$29,8,FALSE)),0,(VLOOKUP(AW10,$AW$26:$BF$29,8,FALSE))) -> 0 | BE10: =BC10-BD10 -> 0 | BF10: =AZ10*3+BA10 -> 0 | BI10: 5 | BJ10: =IF(ISERROR(VLOOKUP(BI10,$BI$26:$BK$29,2,FALSE)),0,(VLOOKUP(BI10,$BI$26:$BK$29,2,FALSE))) -> 0 | BK10: =IF(ISERROR(VLOOKUP(BI10,$BI$26:$BR$27,3,FALSE)),0,(VLOOKUP(BI10,$BI$26:$BR$27,3,FALSE))) -> 0 | BL10: =IF(ISERROR(VLOOKUP(BI10,$BI$26:$BR$27,4,FALSE)),0,(VLOOKUP(BI10,$BI$26:$BR$27,4,FALSE))) -> 0 | BM10: =BK10-BL10-BN10 -> 0 | BN10: =IF(ISERROR(VLOOKUP(BI10,$BI$26:$BR$27,6,FALSE)),0,(VLOOKUP(BI10,$BI$26:$BR$27,6,FALSE))) -> 0 | BO10: =IF(ISERROR(VLOOKUP(BI10,$BI$26:$BR$27,7,FALSE)),0,(VLOOKUP(BI10,$BI$26:$BR$27,7,FALSE))) -> 0 | BP10: =IF(ISERROR(VLOOKUP(BI10,$BI$26:$BR$27,8,FALSE)),0,(VLOOKUP(BI10,$BI$26:$BR$27,8,FALSE))) -> 0 | BQ10: =BO10-BP10 -> 0 | BR10: =BL10*3+BM10 -> 0 | BY10: =P10 -> #REF! | BZ10: =Q10 -> #REF! | CA10: =R10+AN10+AY10+BK10 -> #REF! | CB10: =S10+AO10+AZ10+BL10 -> #REF! | CC10: =T10+AP10+BA10+BM10 -> #REF! | CD10: =U10+AQ10+BB10+BN10 -> #REF! | CE10: =V10+AR10+BC10+BO10 -> #REF! | CF10: =W10+AS10+BD10+BP10 -> #REF! | CG10: =X10+AT10+BE10+BQ10 -> #REF! | CH10: =Y10+AU10+BF10+BR10 -> #REF! | CJ10: =(10^10)*CH10+(10^8)*CB10+(10^6)*(50+CG10)+(10^4)*CE10+(10^2)*CA10+(13-BY10) -> #REF! | CK10: 5 | CL10: =LARGE($CJ$6:$CJ$23,CK10) -> #REF! | CN10: 5 | CO10: =MATCH(CL10,$CJ$6:$CJ$23,0) -> #REF!
B11: 6º | C11: =VLOOKUP(CO11,$BY$6:$CH$23,2) -> #REF! | D11: =VLOOKUP(CO11,$BY$6:$CH$23,3) -> #REF! | E11: =VLOOKUP(CO11,$BY$6:$CH$23,4) -> #REF! | F11: =D11-E11-G11 -> #REF! | G11: =VLOOKUP(CO11,$BY$6:$CH$23,6) -> #REF! | H11: =VLOOKUP(CO11,$BY$6:$CH$23,7) -> #REF! | I11: =VLOOKUP(CO11,$BY$6:$CH$23,8) -> #REF! | J11: =H11-I11 -> #REF! | K11: =E11*3+F11 -> #REF! | P11: =#REF! -> #REF! | Q11: =#REF! -> #REF! | R11: =#REF! -> #REF! | S11: =#REF! -> #REF! | T11: =#REF! -> #REF! | U11: =#REF! -> #REF! | V11: =#REF! -> #REF! | W11: =#REF! -> #REF! | ... Y11: =#REF! -> #REF! | Z11: =(10^10)*Y11+(10^8)*S11+(10^6)*(50+X11)+(10^4)*V11+(10^2)*R11+(13-P11) -> #REF! | AK11: 0 | AL11: =#REF! -> #REF! | AM11: =IF(ISERROR(VLOOKUP(AL11,$AL$27:$AN$34,2,FALSE)),0,(VLOOKUP(AL11,$AL$27:$AN$34,2,FALSE))) -> 0 | AN11: =IF(ISERROR(VLOOKUP(AL11,$AL$27:$AN$34,3,FALSE)),0,(VLOOKUP(AL11,$AL$27:$AN$34,3,FALSE))) -> 0 | AO11: =IF(ISERROR(VLOOKUP(AL11,$AL$27:$AO$34,4,FALSE)),0,(VLOOKUP(AL11,$AL$27:$AO$34,4,FALSE))) -> 0 | AP11: =AN11-AO11-AQ11 -> 0 | AQ11: =IF(ISERROR(VLOOKUP(AL11,$AL$27:$AQ$34,6,FALSE)),0,(VLOOKUP(AL11,$AL$27:$AQ$34,6,FALSE))) -> 0 | AR11: =IF(ISERROR(VLOOKUP(AL11,$AL$27:$AR$34,7,FALSE)),0,(VLOOKUP(AL11,$AL$27:$AR$34,7,FALSE))) -> 0 | AS11: =IF(ISERROR(VLOOKUP(AL11,$AL$27:$AS$34,8,FALSE)),0,(VLOOKUP(AL11,$AL$27:$AS$34,8,FALSE))) -> 0 | AT11: =AR11-AS11 -> 0 | AU11: =AO11*3+AP11 -> 0 | AW11: 6 | AX11: =IF(ISERROR(VLOOKUP(AW11,$AW$26:$AY$29,2,FALSE)),0,(VLOOKUP(AW11,$AW$26:$AY$29,2,FALSE))) -> 0 | AY11: =IF(ISERROR(VLOOKUP(AW11,$AW$26:$BF$29,3,FALSE)),0,(VLOOKUP(AW11,$AW$26:$BF$29,3,FALSE))) -> 0 | AZ11: =IF(ISERROR(VLOOKUP(AW11,$AW$26:$BF$29,4,FALSE)),0,(VLOOKUP(AW11,$AW$26:$BF$29,4,FALSE))) -> 0 | BA11: =AY11-AZ11-BB11 -> 0 | BB11: =IF(ISERROR(VLOOKUP(AW11,$AW$26:$BF$29,6,FALSE)),0,(VLOOKUP(AW11,$AW$26:$BF$29,6,FALSE))) -> 0 | BC11: =IF(ISERROR(VLOOKUP(AW11,$AW$26:$BF$29,7,FALSE)),0,(VLOOKUP(AW11,$AW$26:$BF$29,7,FALSE))) -> 0 | BD11: =IF(ISERROR(VLOOKUP(AW11,$AW$26:$BF$29,8,FALSE)),0,(VLOOKUP(AW11,$AW$26:$BF$29,8,FALSE))) -> 0 | BE11: =BC11-BD11 -> 0 | BF11: =AZ11*3+BA11 -> 0 | BI11: 6 | BJ11: =IF(ISERROR(VLOOKUP(BI11,$BI$26:$BK$29,2,FALSE)),0,(VLOOKUP(BI11,$BI$26:$BK$29,2,FALSE))) -> 0 | BK11: =IF(ISERROR(VLOOKUP(BI11,$BI$26:$BR$27,3,FALSE)),0,(VLOOKUP(BI11,$BI$26:$BR$27,3,FALSE))) -> 0 | BL11: =IF(ISERROR(VLOOKUP(BI11,$BI$26:$BR$27,4,FALSE)),0,(VLOOKUP(BI11,$BI$26:$BR$27,4,FALSE))) -> 0 | BM11: =BK11-BL11-BN11 -> 0 | BN11: =IF(ISERROR(VLOOKUP(BI11,$BI$26:$BR$27,6,FALSE)),0,(VLOOKUP(BI11,$BI$26:$BR$27,6,FALSE))) -> 0 | BO11: =IF(ISERROR(VLOOKUP(BI11,$BI$26:$BR$27,7,FALSE)),0,(VLOOKUP(BI11,$BI$26:$BR$27,7,FALSE))) -> 0 | BP11: =IF(ISERROR(VLOOKUP(BI11,$BI$26:$BR$27,8,FALSE)),0,(VLOOKUP(BI11,$BI$26:$BR$27,8,FALSE))) -> 0 | BQ11: =BO11-BP11 -> 0 | BR11: =BL11*3+BM11 -> 0 | BY11: =P11 -> #REF! | BZ11: =Q11 -> #REF! | CA11: =R11+AN11+AY11+BK11 -> #REF! | CB11: =S11+AO11+AZ11+BL11 -> #REF! | CC11: =T11+AP11+BA11+BM11 -> #REF! | CD11: =U11+AQ11+BB11+BN11 -> #REF! | CE11: =V11+AR11+BC11+BO11 -> #REF! | CF11: =W11+AS11+BD11+BP11 -> #REF! | CG11: =X11+AT11+BE11+BQ11 -> #REF! | CH11: =Y11+AU11+BF11+BR11 -> #REF! | CJ11: =(10^10)*CH11+(10^8)*CB11+(10^6)*(50+CG11)+(10^4)*CE11+(10^2)*CA11+(13-BY11) -> #REF! | CK11: 6 | CL11: =LARGE($CJ$6:$CJ$23,CK11) -> #REF! | CN11: 6 | CO11: =MATCH(CL11,$CJ$6:$CJ$23,0) -> #REF!
B12: 7º | C12: =VLOOKUP(CO12,$BY$6:$CH$23,2) -> #REF! | D12: =VLOOKUP(CO12,$BY$6:$CH$23,3) -> #REF! | E12: =VLOOKUP(CO12,$BY$6:$CH$23,4) -> #REF! | F12: =D12-E12-G12 -> #REF! | G12: =VLOOKUP(CO12,$BY$6:$CH$23,6) -> #REF! | H12: =VLOOKUP(CO12,$BY$6:$CH$23,7) -> #REF! | I12: =VLOOKUP(CO12,$BY$6:$CH$23,8) -> #REF! | J12: =H12-I12 -> #REF! | K12: =E12*3+F12 -> #REF! | P12: =#REF! -> #REF! | Q12: =#REF! -> #REF! | R12: =#REF! -> #REF! | S12: =#REF! -> #REF! | T12: =#REF! -> #REF! | U12: =#REF! -> #REF! | V12: =#REF! -> #REF! | W12: =#REF! -> #REF! | ... Y12: =#REF! -> #REF! | Z12: =(10^10)*Y12+(10^8)*S12+(10^6)*(50+X12)+(10^4)*V12+(10^2)*R12+(13-P12) -> #REF! | AK12: 0 | AL12: =#REF! -> #REF! | AM12: =IF(ISERROR(VLOOKUP(AL12,$AL$27:$AN$34,2,FALSE)),0,(VLOOKUP(AL12,$AL$27:$AN$34,2,FALSE))) -> 0 | AN12: =IF(ISERROR(VLOOKUP(AL12,$AL$27:$AN$34,3,FALSE)),0,(VLOOKUP(AL12,$AL$27:$AN$34,3,FALSE))) -> 0 | AO12: =IF(ISERROR(VLOOKUP(AL12,$AL$27:$AO$34,4,FALSE)),0,(VLOOKUP(AL12,$AL$27:$AO$34,4,FALSE))) -> 0 | AP12: =AN12-AO12-AQ12 -> 0 | AQ12: =IF(ISERROR(VLOOKUP(AL12,$AL$27:$AQ$34,6,FALSE)),0,(VLOOKUP(AL12,$AL$27:$AQ$34,6,FALSE))) -> 0 | AR12: =IF(ISERROR(VLOOKUP(AL12,$AL$27:$AR$34,7,FALSE)),0,(VLOOKUP(AL12,$AL$27:$AR$34,7,FALSE))) -> 0 | AS12: =IF(ISERROR(VLOOKUP(AL12,$AL$27:$AS$34,8,FALSE)),0,(VLOOKUP(AL12,$AL$27:$AS$34,8,FALSE))) -> 0 | AT12: =AR12-AS12 -> 0 | AU12: =AO12*3+AP12 -> 0 | AW12: 7 | AX12: =IF(ISERROR(VLOOKUP(AW12,$AW$26:$AY$29,2,FALSE)),0,(VLOOKUP(AW12,$AW$26:$AY$29,2,FALSE))) -> 0 | AY12: =IF(ISERROR(VLOOKUP(AW12,$AW$26:$BF$29,3,FALSE)),0,(VLOOKUP(AW12,$AW$26:$BF$29,3,FALSE))) -> 0 | AZ12: =IF(ISERROR(VLOOKUP(AW12,$AW$26:$BF$29,4,FALSE)),0,(VLOOKUP(AW12,$AW$26:$BF$29,4,FALSE))) -> 0 | BA12: =AY12-AZ12-BB12 -> 0 | BB12: =IF(ISERROR(VLOOKUP(AW12,$AW$26:$BF$29,6,FALSE)),0,(VLOOKUP(AW12,$AW$26:$BF$29,6,FALSE))) -> 0 | BC12: =IF(ISERROR(VLOOKUP(AW12,$AW$26:$BF$29,7,FALSE)),0,(VLOOKUP(AW12,$AW$26:$BF$29,7,FALSE))) -> 0 | BD12: =IF(ISERROR(VLOOKUP(AW12,$AW$26:$BF$29,8,FALSE)),0,(VLOOKUP(AW12,$AW$26:$BF$29,8,FALSE))) -> 0 | BE12: =BC12-BD12 -> 0 | BF12: =AZ12*3+BA12 -> 0 | BI12: 7 | BJ12: =IF(ISERROR(VLOOKUP(BI12,$BI$26:$BK$29,2,FALSE)),0,(VLOOKUP(BI12,$BI$26:$BK$29,2,FALSE))) -> 0 | BK12: =IF(ISERROR(VLOOKUP(BI12,$BI$26:$BR$27,3,FALSE)),0,(VLOOKUP(BI12,$BI$26:$BR$27,3,FALSE))) -> 0 | BL12: =IF(ISERROR(VLOOKUP(BI12,$BI$26:$BR$27,4,FALSE)),0,(VLOOKUP(BI12,$BI$26:$BR$27,4,FALSE))) -> 0 | BM12: =BK12-BL12-BN12 -> 0 | BN12: =IF(ISERROR(VLOOKUP(BI12,$BI$26:$BR$27,6,FALSE)),0,(VLOOKUP(BI12,$BI$26:$BR$27,6,FALSE))) -> 0 | BO12: =IF(ISERROR(VLOOKUP(BI12,$BI$26:$BR$27,7,FALSE)),0,(VLOOKUP(BI12,$BI$26:$BR$27,7,FALSE))) -> 0 | BP12: =IF(ISERROR(VLOOKUP(BI12,$BI$26:$BR$27,8,FALSE)),0,(VLOOKUP(BI12,$BI$26:$BR$27,8,FALSE))) -> 0 | BQ12: =BO12-BP12 -> 0 | BR12: =BL12*3+BM12 -> 0 | BY12: =P12 -> #REF! | BZ12: =Q12 -> #REF! | CA12: =R12+AN12+AY12+BK12 -> #REF! | CB12: =S12+AO12+AZ12+BL12 -> #REF! | CC12: =T12+AP12+BA12+BM12 -> #REF! | CD12: =U12+AQ12+BB12+BN12 -> #REF! | CE12: =V12+AR12+BC12+BO12 -> #REF! | CF12: =W12+AS12+BD12+BP12 -> #REF! | CG12: =X12+AT12+BE12+BQ12 -> #REF! | CH12: =Y12+AU12+BF12+BR12 -> #REF! | CJ12: =(10^10)*CH12+(10^8)*CB12+(10^6)*(50+CG12)+(10^4)*CE12+(10^2)*CA12+(13-BY12) -> #REF! | CK12: 7 | CL12: =LARGE($CJ$6:$CJ$23,CK12) -> #REF! | CN12: 7 | CO12: =MATCH(CL12,$CJ$6:$CJ$23,0) -> #REF!
B13: 8º | C13: =VLOOKUP(CO13,$BY$6:$CH$23,2) -> #REF! | D13: =VLOOKUP(CO13,$BY$6:$CH$23,3) -> #REF! | E13: =VLOOKUP(CO13,$BY$6:$CH$23,4) -> #REF! | F13: =D13-E13-G13 -> #REF! | G13: =VLOOKUP(CO13,$BY$6:$CH$23,6) -> #REF! | H13: =VLOOKUP(CO13,$BY$6:$CH$23,7) -> #REF! | I13: =VLOOKUP(CO13,$BY$6:$CH$23,8) -> #REF! | J13: =H13-I13 -> #REF! | K13: =E13*3+F13 -> #REF! | P13: =#REF! -> #REF! | Q13: =#REF! -> #REF! | R13: =#REF! -> #REF! | S13: =#REF! -> #REF! | T13: =#REF! -> #REF! | U13: =#REF! -> #REF! | V13: =#REF! -> #REF! | W13: =#REF! -> #REF! | ... Y13: =#REF! -> #REF! | Z13: =(10^10)*Y13+(10^8)*S13+(10^6)*(50+X13)+(10^4)*V13+(10^2)*R13+(13-P13) -> #REF! | AK13: 0 | AL13: =#REF! -> #REF! | AM13: =IF(ISERROR(VLOOKUP(AL13,$AL$27:$AN$34,2,FALSE)),0,(VLOOKUP(AL13,$AL$27:$AN$34,2,FALSE))) -> 0 | AN13: =IF(ISERROR(VLOOKUP(AL13,$AL$27:$AN$34,3,FALSE)),0,(VLOOKUP(AL13,$AL$27:$AN$34,3,FALSE))) -> 0 | AO13: =IF(ISERROR(VLOOKUP(AL13,$AL$27:$AO$34,4,FALSE)),0,(VLOOKUP(AL13,$AL$27:$AO$34,4,FALSE))) -> 0 | AP13: =AN13-AO13-AQ13 -> 0 | AQ13: =IF(ISERROR(VLOOKUP(AL13,$AL$27:$AQ$34,6,FALSE)),0,(VLOOKUP(AL13,$AL$27:$AQ$34,6,FALSE))) -> 0 | AR13: =IF(ISERROR(VLOOKUP(AL13,$AL$27:$AR$34,7,FALSE)),0,(VLOOKUP(AL13,$AL$27:$AR$34,7,FALSE))) -> 0 | AS13: =IF(ISERROR(VLOOKUP(AL13,$AL$27:$AS$34,8,FALSE)),0,(VLOOKUP(AL13,$AL$27:$AS$34,8,FALSE))) -> 0 | AT13: =AR13-AS13 -> 0 | AU13: =AO13*3+AP13 -> 0 | AW13: 8 | AX13: =IF(ISERROR(VLOOKUP(AW13,$AW$26:$AY$29,2,FALSE)),0,(VLOOKUP(AW13,$AW$26:$AY$29,2,FALSE))) -> 0 | AY13: =IF(ISERROR(VLOOKUP(AW13,$AW$26:$BF$29,3,FALSE)),0,(VLOOKUP(AW13,$AW$26:$BF$29,3,FALSE))) -> 0 | AZ13: =IF(ISERROR(VLOOKUP(AW13,$AW$26:$BF$29,4,FALSE)),0,(VLOOKUP(AW13,$AW$26:$BF$29,4,FALSE))) -> 0 | BA13: =AY13-AZ13-BB13 -> 0 | BB13: =IF(ISERROR(VLOOKUP(AW13,$AW$26:$BF$29,6,FALSE)),0,(VLOOKUP(AW13,$AW$26:$BF$29,6,FALSE))) -> 0 | BC13: =IF(ISERROR(VLOOKUP(AW13,$AW$26:$BF$29,7,FALSE)),0,(VLOOKUP(AW13,$AW$26:$BF$29,7,FALSE))) -> 0 | BD13: =IF(ISERROR(VLOOKUP(AW13,$AW$26:$BF$29,8,FALSE)),0,(VLOOKUP(AW13,$AW$26:$BF$29,8,FALSE))) -> 0 | BE13: =BC13-BD13 -> 0 | BF13: =AZ13*3+BA13 -> 0 | BI13: 8 | BJ13: =IF(ISERROR(VLOOKUP(BI13,$BI$26:$BK$29,2,FALSE)),0,(VLOOKUP(BI13,$BI$26:$BK$29,2,FALSE))) -> 0 | BK13: =IF(ISERROR(VLOOKUP(BI13,$BI$26:$BR$27,3,FALSE)),0,(VLOOKUP(BI13,$BI$26:$BR$27,3,FALSE))) -> 0 | BL13: =IF(ISERROR(VLOOKUP(BI13,$BI$26:$BR$27,4,FALSE)),0,(VLOOKUP(BI13,$BI$26:$BR$27,4,FALSE))) -> 0 | BM13: =BK13-BL13-BN13 -> 0 | BN13: =IF(ISERROR(VLOOKUP(BI13,$BI$26:$BR$27,6,FALSE)),0,(VLOOKUP(BI13,$BI$26:$BR$27,6,FALSE))) -> 0 | BO13: =IF(ISERROR(VLOOKUP(BI13,$BI$26:$BR$27,7,FALSE)),0,(VLOOKUP(BI13,$BI$26:$BR$27,7,FALSE))) -> 0 | BP13: =IF(ISERROR(VLOOKUP(BI13,$BI$26:$BR$27,8,FALSE)),0,(VLOOKUP(BI13,$BI$26:$BR$27,8,FALSE))) -> 0 | BQ13: =BO13-BP13 -> 0 | BR13: =BL13*3+BM13 -> 0 | BY13: =P13 -> #REF! | BZ13: =Q13 -> #REF! | CA13: =R13+AN13+AY13+BK13 -> #REF! | CB13: =S13+AO13+AZ13+BL13 -> #REF! | CC13: =T13+AP13+BA13+BM13 -> #REF! | CD13: =U13+AQ13+BB13+BN13 -> #REF! | CE13: =V13+AR13+BC13+BO13 -> #REF! | CF13: =W13+AS13+BD13+BP13 -> #REF! | CG13: =X13+AT13+BE13+BQ13 -> #REF! | CH13: =Y13+AU13+BF13+BR13 -> #REF! | CJ13: =(10^10)*CH13+(10^8)*CB13+(10^6)*(50+CG13)+(10^4)*CE13+(10^2)*CA13+(13-BY13) -> #REF! | CK13: 8 | CL13: =LARGE($CJ$6:$CJ$23,CK13) -> #REF! | CN13: 8 | CO13: =MATCH(CL13,$CJ$6:$CJ$23,0) -> #REF!
B14: 9º | C14: =VLOOKUP(CO14,$BY$6:$CH$23,2) -> #REF! | D14: =VLOOKUP(CO14,$BY$6:$CH$23,3) -> #REF! | E14: =VLOOKUP(CO14,$BY$6:$CH$23,4) -> #REF! | F14: =D14-E14-G14 -> #REF! | G14: =VLOOKUP(CO14,$BY$6:$CH$23,6) -> #REF! | H14: =VLOOKUP(CO14,$BY$6:$CH$23,7) -> #REF! | I14: =VLOOKUP(CO14,$BY$6:$CH$23,8) -> #REF! | J14: =H14-I14 -> #REF! | K14: =E14*3+F14 -> #REF! | P14: =#REF! -> #REF! | Q14: =#REF! -> #REF! | R14: =#REF! -> #REF! | S14: =#REF! -> #REF! | T14: =#REF! -> #REF! | U14: =#REF! -> #REF! | V14: =#REF! -> #REF! | W14: =#REF! -> #REF! | ... Y14: =#REF! -> #REF! | Z14: =(10^10)*Y14+(10^8)*S14+(10^6)*(50+X14)+(10^4)*V14+(10^2)*R14+(13-P14) -> #REF! | AK14: 0 | AL14: =#REF! -> #REF! | AM14: =IF(ISERROR(VLOOKUP(AL14,$AL$27:$AN$34,2,FALSE)),0,(VLOOKUP(AL14,$AL$27:$AN$34,2,FALSE))) -> 0 | AN14: =IF(ISERROR(VLOOKUP(AL14,$AL$27:$AN$34,3,FALSE)),0,(VLOOKUP(AL14,$AL$27:$AN$34,3,FALSE))) -> 0 | AO14: =IF(ISERROR(VLOOKUP(AL14,$AL$27:$AO$34,4,FALSE)),0,(VLOOKUP(AL14,$AL$27:$AO$34,4,FALSE))) -> 0 | AP14: =AN14-AO14-AQ14 -> 0 | AQ14: =IF(ISERROR(VLOOKUP(AL14,$AL$27:$AQ$34,6,FALSE)),0,(VLOOKUP(AL14,$AL$27:$AQ$34,6,FALSE))) -> 0 | AR14: =IF(ISERROR(VLOOKUP(AL14,$AL$27:$AR$34,7,FALSE)),0,(VLOOKUP(AL14,$AL$27:$AR$34,7,FALSE))) -> 0 | AS14: =IF(ISERROR(VLOOKUP(AL14,$AL$27:$AS$34,8,FALSE)),0,(VLOOKUP(AL14,$AL$27:$AS$34,8,FALSE))) -> 0 | AT14: =AR14-AS14 -> 0 | AU14: =AO14*3+AP14 -> 0 | AW14: 9 | AX14: =IF(ISERROR(VLOOKUP(AW14,$AW$26:$AY$29,2,FALSE)),0,(VLOOKUP(AW14,$AW$26:$AY$29,2,FALSE))) -> 0 | AY14: =IF(ISERROR(VLOOKUP(AW14,$AW$26:$BF$29,3,FALSE)),0,(VLOOKUP(AW14,$AW$26:$BF$29,3,FALSE))) -> 0 | AZ14: =IF(ISERROR(VLOOKUP(AW14,$AW$26:$BF$29,4,FALSE)),0,(VLOOKUP(AW14,$AW$26:$BF$29,4,FALSE))) -> 0 | BA14: =AY14-AZ14-BB14 -> 0 | BB14: =IF(ISERROR(VLOOKUP(AW14,$AW$26:$BF$29,6,FALSE)),0,(VLOOKUP(AW14,$AW$26:$BF$29,6,FALSE))) -> 0 | BC14: =IF(ISERROR(VLOOKUP(AW14,$AW$26:$BF$29,7,FALSE)),0,(VLOOKUP(AW14,$AW$26:$BF$29,7,FALSE))) -> 0 | BD14: =IF(ISERROR(VLOOKUP(AW14,$AW$26:$BF$29,8,FALSE)),0,(VLOOKUP(AW14,$AW$26:$BF$29,8,FALSE))) -> 0 | BE14: =BC14-BD14 -> 0 | BF14: =AZ14*3+BA14 -> 0 | BI14: 9 | BJ14: =IF(ISERROR(VLOOKUP(BI14,$BI$26:$BK$29,2,FALSE)),0,(VLOOKUP(BI14,$BI$26:$BK$29,2,FALSE))) -> 0 | BK14: =IF(ISERROR(VLOOKUP(BI14,$BI$26:$BR$27,3,FALSE)),0,(VLOOKUP(BI14,$BI$26:$BR$27,3,FALSE))) -> 0 | BL14: =IF(ISERROR(VLOOKUP(BI14,$BI$26:$BR$27,4,FALSE)),0,(VLOOKUP(BI14,$BI$26:$BR$27,4,FALSE))) -> 0 | BM14: =BK14-BL14-BN14 -> 0 | BN14: =IF(ISERROR(VLOOKUP(BI14,$BI$26:$BR$27,6,FALSE)),0,(VLOOKUP(BI14,$BI$26:$BR$27,6,FALSE))) -> 0 | BO14: =IF(ISERROR(VLOOKUP(BI14,$BI$26:$BR$27,7,FALSE)),0,(VLOOKUP(BI14,$BI$26:$BR$27,7,FALSE))) -> 0 | BP14: =IF(ISERROR(VLOOKUP(BI14,$BI$26:$BR$27,8,FALSE)),0,(VLOOKUP(BI14,$BI$26:$BR$27,8,FALSE))) -> 0 | BQ14: =BO14-BP14 -> 0 | BR14: =BL14*3+BM14 -> 0 | BY14: =P14 -> #REF! | BZ14: =Q14 -> #REF! | CA14: =R14+AN14+AY14+BK14 -> #REF! | CB14: =S14+AO14+AZ14+BL14 -> #REF! | CC14: =T14+AP14+BA14+BM14 -> #REF! | CD14: =U14+AQ14+BB14+BN14 -> #REF! | CE14: =V14+AR14+BC14+BO14 -> #REF! | CF14: =W14+AS14+BD14+BP14 -> #REF! | CG14: =X14+AT14+BE14+BQ14 -> #REF! | CH14: =Y14+AU14+BF14+BR14 -> #REF! | CJ14: =(10^10)*CH14+(10^8)*CB14+(10^6)*(50+CG14)+(10^4)*CE14+(10^2)*CA14+(13-BY14) -> #REF! | CK14: 9 | CL14: =LARGE($CJ$6:$CJ$23,CK14) -> #REF! | CN14: 9 | CO14: =MATCH(CL14,$CJ$6:$CJ$23,0) -> #REF!
B15: 10º | C15: =VLOOKUP(CO15,$BY$6:$CH$23,2) -> #REF! | D15: =VLOOKUP(CO15,$BY$6:$CH$23,3) -> #REF! | E15: =VLOOKUP(CO15,$BY$6:$CH$23,4) -> #REF! | F15: =D15-E15-G15 -> #REF! | G15: =VLOOKUP(CO15,$BY$6:$CH$23,6) -> #REF! | H15: =VLOOKUP(CO15,$BY$6:$CH$23,7) -> #REF! | I15: =VLOOKUP(CO15,$BY$6:$CH$23,8) -> #REF! | J15: =H15-I15 -> #REF! | K15: =E15*3+F15 -> #REF! | P15: =#REF! -> #REF! | Q15: =#REF! -> #REF! | R15: =#REF! -> #REF! | S15: =#REF! -> #REF! | T15: =#REF! -> #REF! | U15: =#REF! -> #REF! | V15: =#REF! -> #REF! | W15: =#REF! -> #REF! | ... Y15: =#REF! -> #REF! | Z15: =(10^10)*Y15+(10^8)*S15+(10^6)*(50+X15)+(10^4)*V15+(10^2)*R15+(13-P15) -> #REF! | AK15: 0 | AL15: =#REF! -> #REF! | AM15: =IF(ISERROR(VLOOKUP(AL15,$AL$27:$AN$34,2,FALSE)),0,(VLOOKUP(AL15,$AL$27:$AN$34,2,FALSE))) -> 0 | AN15: =IF(ISERROR(VLOOKUP(AL15,$AL$27:$AN$34,3,FALSE)),0,(VLOOKUP(AL15,$AL$27:$AN$34,3,FALSE))) -> 0 | AO15: =IF(ISERROR(VLOOKUP(AL15,$AL$27:$AO$34,4,FALSE)),0,(VLOOKUP(AL15,$AL$27:$AO$34,4,FALSE))) -> 0 | AP15: =AN15-AO15-AQ15 -> 0 | AQ15: =IF(ISERROR(VLOOKUP(AL15,$AL$27:$AQ$34,6,FALSE)),0,(VLOOKUP(AL15,$AL$27:$AQ$34,6,FALSE))) -> 0 | AR15: =IF(ISERROR(VLOOKUP(AL15,$AL$27:$AR$34,7,FALSE)),0,(VLOOKUP(AL15,$AL$27:$AR$34,7,FALSE))) -> 0 | AS15: =IF(ISERROR(VLOOKUP(AL15,$AL$27:$AS$34,8,FALSE)),0,(VLOOKUP(AL15,$AL$27:$AS$34,8,FALSE))) -> 0 | AT15: =AR15-AS15 -> 0 | AU15: =AO15*3+AP15 -> 0 | AW15: 10 | AX15: =IF(ISERROR(VLOOKUP(AW15,$AW$26:$AY$29,2,FALSE)),0,(VLOOKUP(AW15,$AW$26:$AY$29,2,FALSE))) -> 0 | AY15: =IF(ISERROR(VLOOKUP(AW15,$AW$26:$BF$29,3,FALSE)),0,(VLOOKUP(AW15,$AW$26:$BF$29,3,FALSE))) -> 0 | AZ15: =IF(ISERROR(VLOOKUP(AW15,$AW$26:$BF$29,4,FALSE)),0,(VLOOKUP(AW15,$AW$26:$BF$29,4,FALSE))) -> 0 | BA15: =AY15-AZ15-BB15 -> 0 | BB15: =IF(ISERROR(VLOOKUP(AW15,$AW$26:$BF$29,6,FALSE)),0,(VLOOKUP(AW15,$AW$26:$BF$29,6,FALSE))) -> 0 | BC15: =IF(ISERROR(VLOOKUP(AW15,$AW$26:$BF$29,7,FALSE)),0,(VLOOKUP(AW15,$AW$26:$BF$29,7,FALSE))) -> 0 | BD15: =IF(ISERROR(VLOOKUP(AW15,$AW$26:$BF$29,8,FALSE)),0,(VLOOKUP(AW15,$AW$26:$BF$29,8,FALSE))) -> 0 | BE15: =BC15-BD15 -> 0 | BF15: =AZ15*3+BA15 -> 0 | BI15: 10 | BJ15: =IF(ISERROR(VLOOKUP(BI15,$BI$26:$BK$29,2,FALSE)),0,(VLOOKUP(BI15,$BI$26:$BK$29,2,FALSE))) -> 0 | BK15: =IF(ISERROR(VLOOKUP(BI15,$BI$26:$BR$27,3,FALSE)),0,(VLOOKUP(BI15,$BI$26:$BR$27,3,FALSE))) -> 0 | BL15: =IF(ISERROR(VLOOKUP(BI15,$BI$26:$BR$27,4,FALSE)),0,(VLOOKUP(BI15,$BI$26:$BR$27,4,FALSE))) -> 0 | BM15: =BK15-BL15-BN15 -> 0 | BN15: =IF(ISERROR(VLOOKUP(BI15,$BI$26:$BR$27,6,FALSE)),0,(VLOOKUP(BI15,$BI$26:$BR$27,6,FALSE))) -> 0 | BO15: =IF(ISERROR(VLOOKUP(BI15,$BI$26:$BR$27,7,FALSE)),0,(VLOOKUP(BI15,$BI$26:$BR$27,7,FALSE))) -> 0 | BP15: =IF(ISERROR(VLOOKUP(BI15,$BI$26:$BR$27,8,FALSE)),0,(VLOOKUP(BI15,$BI$26:$BR$27,8,FALSE))) -> 0 | BQ15: =BO15-BP15 -> 0 | BR15: =BL15*3+BM15 -> 0 | BY15: =P15 -> #REF! | BZ15: =Q15 -> #REF! | CA15: =R15+AN15+AY15+BK15 -> #REF! | CB15: =S15+AO15+AZ15+BL15 -> #REF! | CC15: =T15+AP15+BA15+BM15 -> #REF! | CD15: =U15+AQ15+BB15+BN15 -> #REF! | CE15: =V15+AR15+BC15+BO15 -> #REF! | CF15: =W15+AS15+BD15+BP15 -> #REF! | CG15: =X15+AT15+BE15+BQ15 -> #REF! | CH15: =Y15+AU15+BF15+BR15 -> #REF! | CJ15: =(10^10)*CH15+(10^8)*CB15+(10^6)*(50+CG15)+(10^4)*CE15+(10^2)*CA15+(13-BY15) -> #REF! | CK15: 10 | CL15: =LARGE($CJ$6:$CJ$23,CK15) -> #REF! | CN15: 10 | CO15: =MATCH(CL15,$CJ$6:$CJ$23,0) -> #REF!
B16: 11º | C16: =VLOOKUP(CO16,$BY$6:$CH$23,2) -> #REF! | D16: =VLOOKUP(CO16,$BY$6:$CH$23,3) -> #REF! | E16: =VLOOKUP(CO16,$BY$6:$CH$23,4) -> #REF! | F16: =D16-E16-G16 -> #REF! | G16: =VLOOKUP(CO16,$BY$6:$CH$23,6) -> #REF! | H16: =VLOOKUP(CO16,$BY$6:$CH$23,7) -> #REF! | I16: =VLOOKUP(CO16,$BY$6:$CH$23,8) -> #REF! | J16: =H16-I16 -> #REF! | K16: =E16*3+F16 -> #REF! | P16: =#REF! -> #REF! | Q16: =#REF! -> #REF! | R16: =#REF! -> #REF! | S16: =#REF! -> #REF! | T16: =#REF! -> #REF! | U16: =#REF! -> #REF! | V16: =#REF! -> #REF! | W16: =#REF! -> #REF! | ... Y16: =#REF! -> #REF! | Z16: =(10^10)*Y16+(10^8)*S16+(10^6)*(50+X16)+(10^4)*V16+(10^2)*R16+(13-P16) -> #REF! | AK16: 0 | AL16: =#REF! -> #REF! | AM16: =IF(ISERROR(VLOOKUP(AL16,$AL$27:$AN$34,2,FALSE)),0,(VLOOKUP(AL16,$AL$27:$AN$34,2,FALSE))) -> 0 | AN16: =IF(ISERROR(VLOOKUP(AL16,$AL$27:$AN$34,3,FALSE)),0,(VLOOKUP(AL16,$AL$27:$AN$34,3,FALSE))) -> 0 | AO16: =IF(ISERROR(VLOOKUP(AL16,$AL$27:$AO$34,4,FALSE)),0,(VLOOKUP(AL16,$AL$27:$AO$34,4,FALSE))) -> 0 | AP16: =AN16-AO16-AQ16 -> 0 | AQ16: =IF(ISERROR(VLOOKUP(AL16,$AL$27:$AQ$34,6,FALSE)),0,(VLOOKUP(AL16,$AL$27:$AQ$34,6,FALSE))) -> 0 | AR16: =IF(ISERROR(VLOOKUP(AL16,$AL$27:$AR$34,7,FALSE)),0,(VLOOKUP(AL16,$AL$27:$AR$34,7,FALSE))) -> 0 | AS16: =IF(ISERROR(VLOOKUP(AL16,$AL$27:$AS$34,8,FALSE)),0,(VLOOKUP(AL16,$AL$27:$AS$34,8,FALSE))) -> 0 | AT16: =AR16-AS16 -> 0 | AU16: =AO16*3+AP16 -> 0 | AW16: 11 | AX16: =IF(ISERROR(VLOOKUP(AW16,$AW$26:$AY$29,2,FALSE)),0,(VLOOKUP(AW16,$AW$26:$AY$29,2,FALSE))) -> 0 | AY16: =IF(ISERROR(VLOOKUP(AW16,$AW$26:$BF$29,3,FALSE)),0,(VLOOKUP(AW16,$AW$26:$BF$29,3,FALSE))) -> 0 | AZ16: =IF(ISERROR(VLOOKUP(AW16,$AW$26:$BF$29,4,FALSE)),0,(VLOOKUP(AW16,$AW$26:$BF$29,4,FALSE))) -> 0 | BA16: =AY16-AZ16-BB16 -> 0 | BB16: =IF(ISERROR(VLOOKUP(AW16,$AW$26:$BF$29,6,FALSE)),0,(VLOOKUP(AW16,$AW$26:$BF$29,6,FALSE))) -> 0 | BC16: =IF(ISERROR(VLOOKUP(AW16,$AW$26:$BF$29,7,FALSE)),0,(VLOOKUP(AW16,$AW$26:$BF$29,7,FALSE))) -> 0 | BD16: =IF(ISERROR(VLOOKUP(AW16,$AW$26:$BF$29,8,FALSE)),0,(VLOOKUP(AW16,$AW$26:$BF$29,8,FALSE))) -> 0 | BE16: =BC16-BD16 -> 0 | BF16: =AZ16*3+BA16 -> 0 | BI16: 11 | BJ16: =IF(ISERROR(VLOOKUP(BI16,$BI$26:$BK$29,2,FALSE)),0,(VLOOKUP(BI16,$BI$26:$BK$29,2,FALSE))) -> 0 | BK16: =IF(ISERROR(VLOOKUP(BI16,$BI$26:$BR$27,3,FALSE)),0,(VLOOKUP(BI16,$BI$26:$BR$27,3,FALSE))) -> 0 | BL16: =IF(ISERROR(VLOOKUP(BI16,$BI$26:$BR$27,4,FALSE)),0,(VLOOKUP(BI16,$BI$26:$BR$27,4,FALSE))) -> 0 | BM16: =BK16-BL16-BN16 -> 0 | BN16: =IF(ISERROR(VLOOKUP(BI16,$BI$26:$BR$27,6,FALSE)),0,(VLOOKUP(BI16,$BI$26:$BR$27,6,FALSE))) -> 0 | BO16: =IF(ISERROR(VLOOKUP(BI16,$BI$26:$BR$27,7,FALSE)),0,(VLOOKUP(BI16,$BI$26:$BR$27,7,FALSE))) -> 0 | BP16: =IF(ISERROR(VLOOKUP(BI16,$BI$26:$BR$27,8,FALSE)),0,(VLOOKUP(BI16,$BI$26:$BR$27,8,FALSE))) -> 0 | BQ16: =BO16-BP16 -> 0 | BR16: =BL16*3+BM16 -> 0 | BY16: =P16 -> #REF! | BZ16: =Q16 -> #REF! | CA16: =R16+AN16+AY16+BK16 -> #REF! | CB16: =S16+AO16+AZ16+BL16 -> #REF! | CC16: =T16+AP16+BA16+BM16 -> #REF! | CD16: =U16+AQ16+BB16+BN16 -> #REF! | CE16: =V16+AR16+BC16+BO16 -> #REF! | CF16: =W16+AS16+BD16+BP16 -> #REF! | CG16: =X16+AT16+BE16+BQ16 -> #REF! | CH16: =Y16+AU16+BF16+BR16 -> #REF! | CJ16: =(10^10)*CH16+(10^8)*CB16+(10^6)*(50+CG16)+(10^4)*CE16+(10^2)*CA16+(13-BY16) -> #REF! | CK16: 11 | CL16: =LARGE($CJ$6:$CJ$23,CK16) -> #REF! | CN16: 11 | CO16: =MATCH(CL16,$CJ$6:$CJ$23,0) -> #REF!
B17: 12º | C17: =VLOOKUP(CO17,$BY$6:$CH$23,2) -> #REF! | D17: =VLOOKUP(CO17,$BY$6:$CH$23,3) -> #REF! | E17: =VLOOKUP(CO17,$BY$6:$CH$23,4) -> #REF! | F17: =D17-E17-G17 -> #REF! | G17: =VLOOKUP(CO17,$BY$6:$CH$23,6) -> #REF! | H17: =VLOOKUP(CO17,$BY$6:$CH$23,7) -> #REF! | I17: =VLOOKUP(CO17,$BY$6:$CH$23,8) -> #REF! | J17: =H17-I17 -> #REF! | K17: =E17*3+F17 -> #REF! | P17: =#REF! -> #REF! | Q17: =#REF! -> #REF! | R17: =#REF! -> #REF! | S17: =#REF! -> #REF! | T17: =#REF! -> #REF! | U17: =#REF! -> #REF! | V17: =#REF! -> #REF! | W17: =#REF! -> #REF! | ... Y17: =#REF! -> #REF! | Z17: =(10^10)*Y17+(10^8)*S17+(10^6)*(50+X17)+(10^4)*V17+(10^2)*R17+(13-P17) -> #REF! | AK17: 0 | AL17: =#REF! -> #REF! | AM17: =IF(ISERROR(VLOOKUP(AL17,$AL$27:$AN$34,2,FALSE)),0,(VLOOKUP(AL17,$AL$27:$AN$34,2,FALSE))) -> 0 | AN17: =IF(ISERROR(VLOOKUP(AL17,$AL$27:$AN$34,3,FALSE)),0,(VLOOKUP(AL17,$AL$27:$AN$34,3,FALSE))) -> 0 | AO17: =IF(ISERROR(VLOOKUP(AL17,$AL$27:$AO$34,4,FALSE)),0,(VLOOKUP(AL17,$AL$27:$AO$34,4,FALSE))) -> 0 | AP17: =AN17-AO17-AQ17 -> 0 | AQ17: =IF(ISERROR(VLOOKUP(AL17,$AL$27:$AQ$34,6,FALSE)),0,(VLOOKUP(AL17,$AL$27:$AQ$34,6,FALSE))) -> 0 | AR17: =IF(ISERROR(VLOOKUP(AL17,$AL$27:$AR$34,7,FALSE)),0,(VLOOKUP(AL17,$AL$27:$AR$34,7,FALSE))) -> 0 | AS17: =IF(ISERROR(VLOOKUP(AL17,$AL$27:$AS$34,8,FALSE)),0,(VLOOKUP(AL17,$AL$27:$AS$34,8,FALSE))) -> 0 | AT17: =AR17-AS17 -> 0 | AU17: =AO17*3+AP17 -> 0 | AW17: 12 | AX17: =IF(ISERROR(VLOOKUP(AW17,$AW$26:$AY$29,2,FALSE)),0,(VLOOKUP(AW17,$AW$26:$AY$29,2,FALSE))) -> 0 | AY17: =IF(ISERROR(VLOOKUP(AW17,$AW$26:$BF$29,3,FALSE)),0,(VLOOKUP(AW17,$AW$26:$BF$29,3,FALSE))) -> 0 | AZ17: =IF(ISERROR(VLOOKUP(AW17,$AW$26:$BF$29,4,FALSE)),0,(VLOOKUP(AW17,$AW$26:$BF$29,4,FALSE))) -> 0 | BA17: =AY17-AZ17-BB17 -> 0 | BB17: =IF(ISERROR(VLOOKUP(AW17,$AW$26:$BF$29,6,FALSE)),0,(VLOOKUP(AW17,$AW$26:$BF$29,6,FALSE))) -> 0 | BC17: =IF(ISERROR(VLOOKUP(AW17,$AW$26:$BF$29,7,FALSE)),0,(VLOOKUP(AW17,$AW$26:$BF$29,7,FALSE))) -> 0 | BD17: =IF(ISERROR(VLOOKUP(AW17,$AW$26:$BF$29,8,FALSE)),0,(VLOOKUP(AW17,$AW$26:$BF$29,8,FALSE))) -> 0 | BE17: =BC17-BD17 -> 0 | BF17: =AZ17*3+BA17 -> 0 | BI17: 12 | BJ17: =IF(ISERROR(VLOOKUP(BI17,$BI$26:$BK$29,2,FALSE)),0,(VLOOKUP(BI17,$BI$26:$BK$29,2,FALSE))) -> 0 | BK17: =IF(ISERROR(VLOOKUP(BI17,$BI$26:$BR$27,3,FALSE)),0,(VLOOKUP(BI17,$BI$26:$BR$27,3,FALSE))) -> 0 | BL17: =IF(ISERROR(VLOOKUP(BI17,$BI$26:$BR$27,4,FALSE)),0,(VLOOKUP(BI17,$BI$26:$BR$27,4,FALSE))) -> 0 | BM17: =BK17-BL17-BN17 -> 0 | BN17: =IF(ISERROR(VLOOKUP(BI17,$BI$26:$BR$27,6,FALSE)),0,(VLOOKUP(BI17,$BI$26:$BR$27,6,FALSE))) -> 0 | BO17: =IF(ISERROR(VLOOKUP(BI17,$BI$26:$BR$27,7,FALSE)),0,(VLOOKUP(BI17,$BI$26:$BR$27,7,FALSE))) -> 0 | BP17: =IF(ISERROR(VLOOKUP(BI17,$BI$26:$BR$27,8,FALSE)),0,(VLOOKUP(BI17,$BI$26:$BR$27,8,FALSE))) -> 0 | BQ17: =BO17-BP17 -> 0 | BR17: =BL17*3+BM17 -> 0 | BY17: =P17 -> #REF! | BZ17: =Q17 -> #REF! | CA17: =R17+AN17+AY17+BK17 -> #REF! | CB17: =S17+AO17+AZ17+BL17 -> #REF! | CC17: =T17+AP17+BA17+BM17 -> #REF! | CD17: =U17+AQ17+BB17+BN17 -> #REF! | CE17: =V17+AR17+BC17+BO17 -> #REF! | CF17: =W17+AS17+BD17+BP17 -> #REF! | CG17: =X17+AT17+BE17+BQ17 -> #REF! | CH17: =Y17+AU17+BF17+BR17 -> #REF! | CJ17: =(10^10)*CH17+(10^8)*CB17+(10^6)*(50+CG17)+(10^4)*CE17+(10^2)*CA17+(13-BY17) -> #REF! | CK17: 12 | CL17: =LARGE($CJ$6:$CJ$23,CK17) -> #REF! | CN17: 12 | CO17: =MATCH(CL17,$CJ$6:$CJ$23,0) -> #REF!
... B23: 18º | C23: =VLOOKUP(CO23,$BY$6:$CH$23,2) -> #REF! | D23: =VLOOKUP(CO23,$BY$6:$CH$23,3) -> #REF! | E23: =VLOOKUP(CO23,$BY$6:$CH$23,4) -> #REF! | F23: =D23-E23-G23 -> #REF! | G23: =VLOOKUP(CO23,$BY$6:$CH$23,6) -> #REF! | H23: =VLOOKUP(CO23,$BY$6:$CH$23,7) -> #REF! | I23: =VLOOKUP(CO23,$BY$6:$CH$23,8) -> #REF! | J23: =H23-I23 -> #REF! | K23: =E23*3+F23 -> #REF! | P23: =#REF! -> #REF! | Q23: =#REF! -> #REF! | R23: =#REF! -> #REF! | S23: =#REF! -> #REF! | T23: =#REF! -> #REF! | U23: =#REF! -> #REF! | V23: =#REF! -> #REF! | W23: =#REF! -> #REF! | ... Y23: =#REF! -> #REF! | Z23: =(10^10)*Y23+(10^8)*S23+(10^6)*(50+X23)+(10^4)*V23+(10^2)*R23+(13-P23) -> #REF! | AK23: 0 | AL23: =#REF! -> #REF! | AM23: =IF(ISERROR(VLOOKUP(AL23,$AL$27:$AN$34,2,FALSE)),0,(VLOOKUP(AL23,$AL$27:$AN$34,2,FALSE))) -> 0 | AN23: =IF(ISERROR(VLOOKUP(AL23,$AL$27:$AN$34,3,FALSE)),0,(VLOOKUP(AL23,$AL$27:$AN$34,3,FALSE))) -> 0 | AO23: =IF(ISERROR(VLOOKUP(AL23,$AL$27:$AO$34,4,FALSE)),0,(VLOOKUP(AL23,$AL$27:$AO$34,4,FALSE))) -> 0 | AP23: =AN23-AO23-AQ23 -> 0 | AQ23: =IF(ISERROR(VLOOKUP(AL23,$AL$27:$AQ$34,6,FALSE)),0,(VLOOKUP(AL23,$AL$27:$AQ$34,6,FALSE))) -> 0 | AR23: =IF(ISERROR(VLOOKUP(AL23,$AL$27:$AR$34,7,FALSE)),0,(VLOOKUP(AL23,$AL$27:$AR$34,7,FALSE))) -> 0 | AS23: =IF(ISERROR(VLOOKUP(AL23,$AL$27:$AS$34,8,FALSE)),0,(VLOOKUP(AL23,$AL$27:$AS$34,8,FALSE))) -> 0 | AT23: =AR23-AS23 -> 0 | AU23: =AO23*3+AP23 -> 0 | AW23: 18 | AX23: =IF(ISERROR(VLOOKUP(AW23,$AW$26:$AY$29,2,FALSE)),0,(VLOOKUP(AW23,$AW$26:$AY$29,2,FALSE))) -> 0 | AY23: =IF(ISERROR(VLOOKUP(AW23,$AW$26:$BF$29,3,FALSE)),0,(VLOOKUP(AW23,$AW$26:$BF$29,3,FALSE))) -> 0 | AZ23: =IF(ISERROR(VLOOKUP(AW23,$AW$26:$BF$29,4,FALSE)),0,(VLOOKUP(AW23,$AW$26:$BF$29,4,FALSE))) -> 0 | BA23: =AY23-AZ23-BB23 -> 0 | BB23: =IF(ISERROR(VLOOKUP(AW23,$AW$26:$BF$29,6,FALSE)),0,(VLOOKUP(AW23,$AW$26:$BF$29,6,FALSE))) -> 0 | BC23: =IF(ISERROR(VLOOKUP(AW23,$AW$26:$BF$29,7,FALSE)),0,(VLOOKUP(AW23,$AW$26:$BF$29,7,FALSE))) -> 0 | BD23: =IF(ISERROR(VLOOKUP(AW23,$AW$26:$BF$29,8,FALSE)),0,(VLOOKUP(AW23,$AW$26:$BF$29,8,FALSE))) -> 0 | BE23: =BC23-BD23 -> 0 | BF23: =AZ23*3+BA23 -> 0 | BI23: 18 | BJ23: =IF(ISERROR(VLOOKUP(BI23,$BI$26:$BK$29,2,FALSE)),0,(VLOOKUP(BI23,$BI$26:$BK$29,2,FALSE))) -> 0 | BK23: =IF(ISERROR(VLOOKUP(BI23,$BI$26:$BR$27,3,FALSE)),0,(VLOOKUP(BI23,$BI$26:$BR$27,3,FALSE))) -> 0 | BL23: =IF(ISERROR(VLOOKUP(BI23,$BI$26:$BR$27,4,FALSE)),0,(VLOOKUP(BI23,$BI$26:$BR$27,4,FALSE))) -> 0 | BM23: =BK23-BL23-BN23 -> 0 | BN23: =IF(ISERROR(VLOOKUP(BI23,$BI$26:$BR$27,6,FALSE)),0,(VLOOKUP(BI23,$BI$26:$BR$27,6,FALSE))) -> 0 | BO23: =IF(ISERROR(VLOOKUP(BI23,$BI$26:$BR$27,7,FALSE)),0,(VLOOKUP(BI23,$BI$26:$BR$27,7,FALSE))) -> 0 | BP23: =IF(ISERROR(VLOOKUP(BI23,$BI$26:$BR$27,8,FALSE)),0,(VLOOKUP(BI23,$BI$26:$BR$27,8,FALSE))) -> 0 | BQ23: =BO23-BP23 -> 0 | BR23: =BL23*3+BM23 -> 0 | BY23: =P23 -> #REF! | BZ23: =Q23 -> #REF! | CA23: =R23+AN23+AY23+BK23 -> #REF! | CB23: =S23+AO23+AZ23+BL23 -> #REF! | CC23: =T23+AP23+BA23+BM23 -> #REF! | CD23: =U23+AQ23+BB23+BN23 -> #REF! | CE23: =V23+AR23+BC23+BO23 -> #REF! | CF23: =W23+AS23+BD23+BP23 -> #REF! | CG23: =X23+AT23+BE23+BQ23 -> #REF! | CH23: =Y23+AU23+BF23+BR23 -> #REF! | CJ23: =(10^10)*CH23+(10^8)*CB23+(10^6)*(50+CG23)+(10^4)*CE23+(10^2)*CA23+(13-BY23) -> #REF! | CK23: 18 | CL23: =LARGE($CJ$6:$CJ$23,CK23) -> #REF! | CN23: 18 | CO23: =MATCH(CL23,$CJ$6:$CJ$23,0) -> #REF!
AL24: QUARTAS DE FINAL | AW24: SEMI FINAL | BI24: FINAL
AL25: ID_TIME | AM25: Times | AN25: Jogos | AO25: Vitorias | AP25: Empates | AQ25: Derrotas | AR25: Gols Pró | AS25: Gols Cont. | AT25: Saldo | AU25: Pontos | AW25: ID_TIME | AX25: Times | AY25: Jogos | AZ25: Vitorias | BA25: Empates | BB25: Derrotas | BC25: Gols Pró | BD25: Gols Cont. | BE25: Saldo | BF25: Pontos | BI25: ID_TIME | BJ25: Times | BK25: Jogos | BL25: Vitorias | BM25: Empates | BN25: Derrotas | BO25: Gols Pró | BP25: Gols Cont. | BQ25: Saldo | BR25: Pontos
AW26: =#REF! -> #REF! | AX26: =#REF! -> #REF! | AY26: =#REF! -> #REF! | AZ26: =#REF! -> #REF! | BA26: =#REF! -> #REF! | BB26: =#REF! -> #REF! | BC26: =#REF! -> #REF! | BD26: =#REF! -> #REF! | ... BF26: =#REF! -> #REF! | BI26: =#REF! -> #REF! | BJ26: =#REF! -> #REF! | BK26: =#REF! -> #REF! | BL26: =#REF! -> #REF! | BM26: =#REF! -> #REF! | BN26: =#REF! -> #REF! | BO26: =#REF! -> #REF! | BP26: =#REF! -> #REF! | ... BR26: =#REF! -> #REF!
AL27: =#REF! -> #REF! | AM27: =#REF! -> #REF! | AN27: =#REF! -> #REF! | AO27: =#REF! -> #REF! | AP27: =#REF! -> #REF! | AQ27: =#REF! -> #REF! | AR27: =#REF! -> #REF! | AS27: =#REF! -> #REF! | ... AU27: =#REF! -> #REF! | AW27: =#REF! -> #REF! | AX27: =#REF! -> #REF! | AY27: =#REF! -> #REF! | AZ27: =#REF! -> #REF! | BA27: =#REF! -> #REF! | BB27: =#REF! -> #REF! | BC27: =#REF! -> #REF! | BD27: =#REF! -> #REF! | ... BF27: =#REF! -> #REF! | BI27: =#REF! -> #REF! | BJ27: =#REF! -> #REF! | BK27: =#REF! -> #REF! | BL27: =#REF! -> #REF! | BM27: =#REF! -> #REF! | BN27: =#REF! -> #REF! | BO27: =#REF! -> #REF! | BP27: =#REF! -> #REF! | ... BR27: =#REF! -> #REF!
AL28: =#REF! -> #REF! | AM28: =#REF! -> #REF! | AN28: =#REF! -> #REF! | AO28: =#REF! -> #REF! | AP28: =#REF! -> #REF! | AQ28: =#REF! -> #REF! | AR28: =#REF! -> #REF! | AS28: =#REF! -> #REF! | ... AU28: =#REF! -> #REF! | AW28: =#REF! -> #REF! | AX28: =#REF! -> #REF! | AY28: =#REF! -> #REF! | AZ28: =#REF! -> #REF! | BA28: =#REF! -> #REF! | BB28: =#REF! -> #REF! | BC28: =#REF! -> #REF! | BD28: =#REF! -> #REF! | ... BF28: =#REF! -> #REF!
AL29: =#REF! -> #REF! | AM29: =#REF! -> #REF! | AN29: =#REF! -> #REF! | AO29: =#REF! -> #REF! | AP29: =#REF! -> #REF! | AQ29: =#REF! -> #REF! | AR29: =#REF! -> #REF! | AS29: =#REF! -> #REF! | ... AU29: =#REF! -> #REF! | AW29: =#REF! -> #REF! | AX29: =#REF! -> #REF! | AY29: =#REF! -> #REF! | AZ29: =#REF! -> #REF! | BA29: =#REF! -> #REF! | BB29: =#REF! -> #REF! | BC29: =#REF! -> #REF! | BD29: =#REF! -> #REF! | ... BF29: =#REF! -> #REF!
AL30: =#REF! -> #REF! | AM30: =#REF! -> #REF! | AN30: =#REF! -> #REF! | AO30: =#REF! -> #REF! | AP30: =#REF! -> #REF! | AQ30: =#REF! -> #REF! | AR30: =#REF! -> #REF! | AS30: =#REF! -> #REF! | ... AU30: =#REF! -> #REF!
AL31: =#REF! -> #REF! | AM31: =#REF! -> #REF! | AN31: =#REF! -> #REF! | AO31: =#REF! -> #REF! | AP31: =#REF! -> #REF! | AQ31: =#REF! -> #REF! | AR31: =#REF! -> #REF! | AS31: =#REF! -> #REF! | ... AU31: =#REF! -> #REF!
AL32: =#REF! -> #REF! | AM32: =#REF! -> #REF! | AN32: =#REF! -> #REF! | AO32: =#REF! -> #REF! | AP32: =#REF! -> #REF! | AQ32: =#REF! -> #REF! | AR32: =#REF! -> #REF! | AS32: =#REF! -> #REF! | ... AU32: =#REF! -> #REF!
AL33: =#REF! -> #REF! | AM33: =#REF! -> #REF! | AN33: =#REF! -> #REF! | AO33: =#REF! -> #REF! | AP33: =#REF! -> #REF! | AQ33: =#REF! -> #REF! | AR33: =#REF! -> #REF! | AS33: =#REF! -> #REF! | ... AU33: =#REF! -> #REF!
AL34: =#REF! -> #REF! | AM34: =#REF! -> #REF! | AN34: =#REF! -> #REF! | AO34: =#REF! -> #REF! | AP34: =#REF! -> #REF! | AQ34: =#REF! -> #REF! | AR34: =#REF! -> #REF! | AS34: =#REF! -> #REF! | ... AU34: =#REF! -> #REF!

Sheet Classificação
C2: LXXIV Campeonato Tatooleague
C4: Uefa Cup
C5: 43337
C7: Grupo A
C8: Posição | D8: Times | E8: Jogos | F8: Vitorias | G8: Empates | H8: Derrotas | I8: Gols Pró | J8: Gols Cont. | K8: Saldo | L8: Pontos | N8: Times | O8: Jogos | P8: Vitorias | Q8: Empates | R8: Derrotas | S8: Gols Pró | T8: Gols Cont. | U8: Saldo | V8: Pontos | W8: ID_TIME | Y8: Times | AC8: Maior | AE8: Ordem Crescente
C10: 1º | D10: =VLOOKUP(AF10,$M$10:$W$19,2) -> Colômbia | E10: =VLOOKUP(AF10,$M$10:$W$19,3) -> 9 | F10: =VLOOKUP(AF10,$M$10:$W$19,4) -> 8 | G10: =VLOOKUP(AF10,$M$10:$W$19,5) -> 0 | H10: =VLOOKUP(AF10,$M$10:$W$19,6) -> 1 | I10: =VLOOKUP(AF10,$M$10:$W$19,7) -> 26 | J10: =VLOOKUP(AF10,$M$10:$W$19,8) -> 6 | K10: =VLOOKUP(AF10,$M$10:$W$19,9) -> 20 | L10: =VLOOKUP(AF10,$M$10:$W$19,10) -> 24 | M10: 1 | N10: Colômbia | O10: =IF(Jogos!C9<>"",1,0)+IF(Jogos!E34<>"",1,0)+IF(Jogos!C59<>"",1,0)+IF(Jogos!E84<>"",1,0)+IF(Jogos!C109<>"",1,0)+IF(Jogos!L9<>"",1,0)+IF(Jogos!J34<>"",1,0)+IF(Jogos!L59<>"",1,0)+IF(Jogos!J84<>"",1,0)+IF(Jogos!L109<>"",1,0) -> 9 | P10: =IF(Jogos!C9>Jogos!E9,1,0)+IF(Jogos!E34>Jogos!C34,1,0)+IF(Jogos!C59>Jogos!E59,1,0)+IF(Jogos!E84>Jogos!C84,1,0)+IF(Jogos!C109>Jogos!E109,1,0)+IF(Jogos!L9>Jogos!J9,1,0)+IF(Jogos!J34>Jogos!L34,1,0)+IF(Jogos!L59>Jogos!J59,1,0)+IF(Jogos!J84>Jogos!L84,1,0)+IF(Jogos!L109>Jogos!J109,1,0) -> 8 | Q10: =O10-P10-R10 -> 0 | R10: =IF(Jogos!C9<Jogos!E9,1,0)+IF(Jogos!E34<Jogos!C34,1,0)+IF(Jogos!C59<Jogos!E59,1,0)+IF(Jogos!E84<Jogos!C84,1,0)+IF(Jogos!C109<Jogos!E109,1,0)+IF(Jogos!L9<Jogos!J9,1,0)+IF(Jogos!J34<Jogos!L34,1,0)+IF(Jogos!L59<Jogos!J59,1,0)+IF(Jogos!J84<Jogos!L84,1,0)+IF(Jogos!L109<Jogos!J109,1,0) -> 1 | S10: =Jogos!C9+Jogos!E34+Jogos!C59+Jogos!E84+Jogos!C109+Jogos!L9+Jogos!J34+Jogos!L59+Jogos!J84+Jogos!L109 -> 26 | T10: =Jogos!E9+Jogos!C34+Jogos!E59+Jogos!C84+Jogos!E109+Jogos!J9+Jogos!L34+Jogos!J59+Jogos!L84+Jogos!J109 -> 6 | U10: =S10-T10 -> 20 | V10: =P10*3+Q10 -> 24 | W10: 1 | Y10: =(10^10)*V10+(10^8)*P10+(10^6)*(50+U10)+(10^4)*S10+(10^2)*O10+(13-M10) -> 240870260912 | AB10: 1 | AC10: =LARGE(Y10:Y19,AB10) -> 240870260912 | AE10: 1 | AF10: =MATCH(AC10,Y10:Y19,0) -> 1
C11: 2º | D11: =VLOOKUP(AF11,$M$10:$W$19,2) -> Senegal | E11: =VLOOKUP(AF11,$M$10:$W$19,3) -> 9 | F11: =VLOOKUP(AF11,$M$10:$W$19,4) -> 5 | G11: =VLOOKUP(AF11,$M$10:$W$19,5) -> 2 | H11: =VLOOKUP(AF11,$M$10:$W$19,6) -> 2 | I11: =VLOOKUP(AF11,$M$10:$W$19,7) -> 16 | J11: =VLOOKUP(AF11,$M$10:$W$19,8) -> 12 | K11: =VLOOKUP(AF11,$M$10:$W$19,9) -> 4 | L11: =VLOOKUP(AF11,$M$10:$W$19,10) -> 17 | M11: 2 | N11: Brasil | O11: =IF(Jogos!C11<>"",1,0)+IF(Jogos!E36<>"",1,0)+IF(Jogos!C61<>"",1,0)+IF(Jogos!E86<>"",1,0)+IF(Jogos!C111<>"",1,0)+IF(Jogos!L11<>"",1,0)+IF(Jogos!J36<>"",1,0)+IF(Jogos!L61<>"",1,0)+IF(Jogos!J86<>"",1,0)+IF(Jogos!L111<>"",1,0) -> 9 | P11: =IF(Jogos!C11>Jogos!E11,1,0)+IF(Jogos!E36>Jogos!C36,1,0)+IF(Jogos!C61>Jogos!E61,1,0)+IF(Jogos!E86>Jogos!C86,1,0)+IF(Jogos!C111>Jogos!E111,1,0)+IF(Jogos!L11>Jogos!J11,1,0)+IF(Jogos!J36>Jogos!L36,1,0)+IF(Jogos!L61>Jogos!J61,1,0)+IF(Jogos!J86>Jogos!L86,1,0)+IF(Jogos!L111>Jogos!J111,1,0) -> 0 | Q11: =O11-P11-R11 -> 2 | R11: =IF(Jogos!C11<Jogos!E11,1,0)+IF(Jogos!E36<Jogos!C36,1,0)+IF(Jogos!C61<Jogos!E61,1,0)+IF(Jogos!E86<Jogos!C86,1,0)+IF(Jogos!C111<Jogos!E111,1,0)+IF(Jogos!L11<Jogos!J11,1,0)+IF(Jogos!J36<Jogos!L36,1,0)+IF(Jogos!L61<Jogos!J61,1,0)+IF(Jogos!J86<Jogos!L86,1,0)+IF(Jogos!L111<Jogos!J111,1,0) -> 7 | S11: =Jogos!C11+Jogos!E36+Jogos!C61+Jogos!E86+Jogos!C111+Jogos!L11+Jogos!J36+Jogos!L61+Jogos!J86+Jogos!L111 -> 5 | T11: =Jogos!E11+Jogos!C36+Jogos!E61+Jogos!C86+Jogos!E111+Jogos!J11+Jogos!L36+Jogos!J61+Jogos!L86+Jogos!J111 -> 20 | U11: =S11-T11 -> -15 | V11: =P11*3+Q11 -> 2 | W11: 2 | Y11: =(10^10)*V11+(10^8)*P11+(10^6)*(50+U11)+(10^4)*S11+(10^2)*O11+(13-M11) -> 20035050911 | AB11: 2 | AC11: =LARGE(Y10:Y19,AB11) -> 170554160909 | AE11: 2 | AF11: =MATCH(AC11,Y10:Y19,0) -> 4
C12: 3º | D12: =VLOOKUP(AF12,$M$10:$W$19,2) -> Dinamarca | E12: =VLOOKUP(AF12,$M$10:$W$19,3) -> 9 | F12: =VLOOKUP(AF12,$M$10:$W$19,4) -> 5 | G12: =VLOOKUP(AF12,$M$10:$W$19,5) -> 1 | H12: =VLOOKUP(AF12,$M$10:$W$19,6) -> 3 | I12: =VLOOKUP(AF12,$M$10:$W$19,7) -> 16 | J12: =VLOOKUP(AF12,$M$10:$W$19,8) -> 13 | K12: =VLOOKUP(AF12,$M$10:$W$19,9) -> 3 | L12: =VLOOKUP(AF12,$M$10:$W$19,10) -> 16 | M12: 3 | N12: Espanha | O12: =IF(Jogos!C13<>"",1,0)+IF(Jogos!E38<>"",1,0)+IF(Jogos!C63<>"",1,0)+IF(Jogos!E88<>"",1,0)+IF(Jogos!C113<>"",1,0)+IF(Jogos!L13<>"",1,0)+IF(Jogos!J38<>"",1,0)+IF(Jogos!L63<>"",1,0)+IF(Jogos!J88<>"",1,0)+IF(Jogos!L113<>"",1,0) -> 9 | P12: =IF(Jogos!C13>Jogos!E13,1,0)+IF(Jogos!E38>Jogos!C38,1,0)+IF(Jogos!C63>Jogos!E63,1,0)+IF(Jogos!E88>Jogos!C88,1,0)+IF(Jogos!C113>Jogos!E113,1,0)+IF(Jogos!L13>Jogos!J13,1,0)+IF(Jogos!J38>Jogos!L38,1,0)+IF(Jogos!L63>Jogos!J63,1,0)+IF(Jogos!J88>Jogos!L88,1,0)+IF(Jogos!L113>Jogos!J113,1,0) -> 0 | Q12: =O12-P12-R12 -> 4 | R12: =IF(Jogos!C13<Jogos!E13,1,0)+IF(Jogos!E38<Jogos!C38,1,0)+IF(Jogos!C63<Jogos!E63,1,0)+IF(Jogos!E88<Jogos!C88,1,0)+IF(Jogos!C113<Jogos!E113,1,0)+IF(Jogos!L13<Jogos!J13,1,0)+IF(Jogos!J38<Jogos!L38,1,0)+IF(Jogos!L63<Jogos!J63,1,0)+IF(Jogos!J88<Jogos!L88,1,0)+IF(Jogos!L113<Jogos!J113,1,0) -> 5 | S12: =Jogos!C13+Jogos!E38+Jogos!C63+Jogos!E88+Jogos!C113+Jogos!L13+Jogos!J38+Jogos!L63+Jogos!J88+Jogos!L113 -> 1 | T12: =Jogos!E13+Jogos!C38+Jogos!E63+Jogos!C88+Jogos!E113+Jogos!J13+Jogos!L38+Jogos!J63+Jogos!L88+Jogos!J113 -> 12 | U12: =S12-T12 -> -11 | V12: =P12*3+Q12 -> 4 | W12: 3 | Y12: =(10^10)*V12+(10^8)*P12+(10^6)*(50+U12)+(10^4)*S12+(10^2)*O12+(13-M12) -> 40039010910 | AB12: 3 | AC12: =LARGE(Y10:Y19,AB12) -> 160553160903 | AE12: 3 | AF12: =MATCH(AC12,Y10:Y19,0) -> 10
C13: 4º | D13: =VLOOKUP(AF13,$M$10:$W$19,2) -> Bélgica | E13: =VLOOKUP(AF13,$M$10:$W$19,3) -> 9 | F13: =VLOOKUP(AF13,$M$10:$W$19,4) -> 4 | G13: =VLOOKUP(AF13,$M$10:$W$19,5) -> 3 | H13: =VLOOKUP(AF13,$M$10:$W$19,6) -> 2 | I13: =VLOOKUP(AF13,$M$10:$W$19,7) -> 9 | J13: =VLOOKUP(AF13,$M$10:$W$19,8) -> 7 | K13: =VLOOKUP(AF13,$M$10:$W$19,9) -> 2 | L13: =VLOOKUP(AF13,$M$10:$W$19,10) -> 15 | M13: 4 | N13: Senegal | O13: =IF(Jogos!C15<>"",1,0)+IF(Jogos!E40<>"",1,0)+IF(Jogos!C65<>"",1,0)+IF(Jogos!E90<>"",1,0)+IF(Jogos!C115<>"",1,0)+IF(Jogos!L15<>"",1,0)+IF(Jogos!J40<>"",1,0)+IF(Jogos!L65<>"",1,0)+IF(Jogos!J90<>"",1,0)+IF(Jogos!L115<>"",1,0) -> 9 | P13: =IF(Jogos!C15>Jogos!E15,1,0)+IF(Jogos!E40>Jogos!C40,1,0)+IF(Jogos!C65>Jogos!E65,1,0)+IF(Jogos!E90>Jogos!C90,1,0)+IF(Jogos!C115>Jogos!E115,1,0)+IF(Jogos!L15>Jogos!J15,1,0)+IF(Jogos!J40>Jogos!L40,1,0)+IF(Jogos!L65>Jogos!J65,1,0)+IF(Jogos!J90>Jogos!L90,1,0)+IF(Jogos!L115>Jogos!J115,1,0) -> 5 | Q13: =O13-P13-R13 -> 2 | R13: =IF(Jogos!C15<Jogos!E15,1,0)+IF(Jogos!E40<Jogos!C40,1,0)+IF(Jogos!C65<Jogos!E65,1,0)+IF(Jogos!E90<Jogos!C90,1,0)+IF(Jogos!C115<Jogos!E115,1,0)+IF(Jogos!L15<Jogos!J15,1,0)+IF(Jogos!J40<Jogos!L40,1,0)+IF(Jogos!L65<Jogos!J65,1,0)+IF(Jogos!J90<Jogos!L90,1,0)+IF(Jogos!L115<Jogos!J115,1,0) -> 2 | S13: =Jogos!C15+Jogos!E40+Jogos!C65+Jogos!E90+Jogos!C115+Jogos!L15+Jogos!J40+Jogos!L65+Jogos!J90+Jogos!L115 -> 16 | T13: =Jogos!E15+Jogos!C40+Jogos!E65+Jogos!C90+Jogos!E115+Jogos!J15+Jogos!L40+Jogos!J65+Jogos!L90+Jogos!J115 -> 12 | U13: =S13-T13 -> 4 | V13: =P13*3+Q13 -> 17 | W13: 4 | Y13: =(10^10)*V13+(10^8)*P13+(10^6)*(50+U13)+(10^4)*S13+(10^2)*O13+(13-M13) -> 170554160909 | AB13: 4 | AC13: =LARGE(Y10:Y19,AB13) -> 150452090907 | AE13: 4 | AF13: =MATCH(AC13,Y10:Y19,0) -> 6
C14: 5º | D14: =VLOOKUP(AF14,$M$10:$W$19,2) -> Uruguai | E14: =VLOOKUP(AF14,$M$10:$W$19,3) -> 9 | F14: =VLOOKUP(AF14,$M$10:$W$19,4) -> 4 | G14: =VLOOKUP(AF14,$M$10:$W$19,5) -> 2 | H14: =VLOOKUP(AF14,$M$10:$W$19,6) -> 3 | I14: =VLOOKUP(AF14,$M$10:$W$19,7) -> 10 | J14: =VLOOKUP(AF14,$M$10:$W$19,8) -> 11 | K14: =VLOOKUP(AF14,$M$10:$W$19,9) -> -1 | L14: =VLOOKUP(AF14,$M$10:$W$19,10) -> 14 | M14: 5 | N14: Uruguai | O14: =IF(Jogos!C17<>"",1,0)+IF(Jogos!E42<>"",1,0)+IF(Jogos!C67<>"",1,0)+IF(Jogos!E92<>"",1,0)+IF(Jogos!C117<>"",1,0)+IF(Jogos!L17<>"",1,0)+IF(Jogos!J42<>"",1,0)+IF(Jogos!L67<>"",1,0)+IF(Jogos!J92<>"",1,0)+IF(Jogos!L117<>"",1,0) -> 9 | P14: =IF(Jogos!C17>Jogos!E17,1,0)+IF(Jogos!E42>Jogos!C42,1,0)+IF(Jogos!C67>Jogos!E67,1,0)+IF(Jogos!E92>Jogos!C92,1,0)+IF(Jogos!C117>Jogos!E117,1,0)+IF(Jogos!L17>Jogos!J17,1,0)+IF(Jogos!J42>Jogos!L42,1,0)+IF(Jogos!L67>Jogos!J67,1,0)+IF(Jogos!J92>Jogos!L92,1,0)+IF(Jogos!L117>Jogos!J117,1,0) -> 4 | Q14: =O14-P14-R14 -> 2 | R14: =IF(Jogos!C17<Jogos!E17,1,0)+IF(Jogos!E42<Jogos!C42,1,0)+IF(Jogos!C67<Jogos!E67,1,0)+IF(Jogos!E92<Jogos!C92,1,0)+IF(Jogos!C117<Jogos!E117,1,0)+IF(Jogos!L17<Jogos!J17,1,0)+IF(Jogos!J42<Jogos!L42,1,0)+IF(Jogos!L67<Jogos!J67,1,0)+IF(Jogos!J92<Jogos!L92,1,0)+IF(Jogos!L117<Jogos!J117,1,0) -> 3 | S14: =Jogos!C17+Jogos!E42+Jogos!C67+Jogos!E92+Jogos!C117+Jogos!L17+Jogos!J42+Jogos!L67+Jogos!J92+Jogos!L117 -> 10 | T14: =Jogos!E17+Jogos!C42+Jogos!E67+Jogos!C92+Jogos!E117+Jogos!J17+Jogos!L42+Jogos!J67+Jogos!L92+Jogos!J117 -> 11 | U14: =S14-T14 -> -1 | V14: =P14*3+Q14 -> 14 | W14: 5 | Y14: =(10^10)*V14+(10^8)*P14+(10^6)*(50+U14)+(10^4)*S14+(10^2)*O14+(13-M14) -> 140449100908 | AB14: 5 | AC14: =LARGE(Y10:Y19,AB14) -> 140449100908 | AE14: 5 | AF14: =MATCH(AC14,Y10:Y19,0) -> 5
C15: 6º | D15: =VLOOKUP(AF15,$M$10:$W$19,2) -> Suíça | E15: =VLOOKUP(AF15,$M$10:$W$19,3) -> 9 | F15: =VLOOKUP(AF15,$M$10:$W$19,4) -> 3 | G15: =VLOOKUP(AF15,$M$10:$W$19,5) -> 5 | H15: =VLOOKUP(AF15,$M$10:$W$19,6) -> 1 | I15: =VLOOKUP(AF15,$M$10:$W$19,7) -> 19 | J15: =VLOOKUP(AF15,$M$10:$W$19,8) -> 13 | K15: =VLOOKUP(AF15,$M$10:$W$19,9) -> 6 | L15: =VLOOKUP(AF15,$M$10:$W$19,10) -> 14 | M15: 6 | N15: Bélgica | O15: =IF(Jogos!C19<>"",1,0)+IF(Jogos!E44<>"",1,0)+IF(Jogos!C69<>"",1,0)+IF(Jogos!E94<>"",1,0)+IF(Jogos!C119<>"",1,0)+IF(Jogos!L19<>"",1,0)+IF(Jogos!J44<>"",1,0)+IF(Jogos!L69<>"",1,0)+IF(Jogos!J94<>"",1,0)+IF(Jogos!L119<>"",1,0) -> 9 | P15: =IF(Jogos!C19>Jogos!E19,1,0)+IF(Jogos!E44>Jogos!C44,1,0)+IF(Jogos!C69>Jogos!E69,1,0)+IF(Jogos!E94>Jogos!C94,1,0)+IF(Jogos!C119>Jogos!E119,1,0)+IF(Jogos!L19>Jogos!J19,1,0)+IF(Jogos!J44>Jogos!L44,1,0)+IF(Jogos!L69>Jogos!J69,1,0)+IF(Jogos!J94>Jogos!L94,1,0)+IF(Jogos!L119>Jogos!J119,1,0) -> 4 | Q15: =O15-P15-R15 -> 3 | R15: =IF(Jogos!C19<Jogos!E19,1,0)+IF(Jogos!E44<Jogos!C44,1,0)+IF(Jogos!C69<Jogos!E69,1,0)+IF(Jogos!E94<Jogos!C94,1,0)+IF(Jogos!C119<Jogos!E119,1,0)+IF(Jogos!L19<Jogos!J19,1,0)+IF(Jogos!J44<Jogos!L44,1,0)+IF(Jogos!L69<Jogos!J69,1,0)+IF(Jogos!J94<Jogos!L94,1,0)+IF(Jogos!L119<Jogos!J119,1,0) -> 2 | S15: =Jogos!C19+Jogos!E44+Jogos!C69+Jogos!E94+Jogos!C119+Jogos!L19+Jogos!J44+Jogos!L69+Jogos!J94+Jogos!L119 -> 9 | T15: =Jogos!E19+Jogos!C44+Jogos!E69+Jogos!C94+Jogos!E119+Jogos!J19+Jogos!L44+Jogos!J69+Jogos!L94+Jogos!J119 -> 7 | U15: =S15-T15 -> 2 | V15: =P15*3+Q15 -> 15 | W15: 6 | Y15: =(10^10)*V15+(10^8)*P15+(10^6)*(50+U15)+(10^4)*S15+(10^2)*O15+(13-M15) -> 150452090907 | AB15: 6 | AC15: =LARGE(Y10:Y19,AB15) -> 140356190904 | AE15: 6 | AF15: =MATCH(AC15,Y10:Y19,0) -> 9
C16: 7º | D16: =VLOOKUP(AF16,$M$10:$W$19,2) -> Espanha | E16: =VLOOKUP(AF16,$M$10:$W$19,3) -> 9 | F16: =VLOOKUP(AF16,$M$10:$W$19,4) -> 0 | G16: =VLOOKUP(AF16,$M$10:$W$19,5) -> 4 | H16: =VLOOKUP(AF16,$M$10:$W$19,6) -> 5 | I16: =VLOOKUP(AF16,$M$10:$W$19,7) -> 1 | J16: =VLOOKUP(AF16,$M$10:$W$19,8) -> 12 | K16: =VLOOKUP(AF16,$M$10:$W$19,9) -> -11 | L16: =VLOOKUP(AF16,$M$10:$W$19,10) -> 4 | M16: 7 | N16: Suécia- WO | O16: =IF(Jogos!C21<>"",1,0)+IF(Jogos!E46<>"",1,0)+IF(Jogos!C71<>"",1,0)+IF(Jogos!E96<>"",1,0)+IF(Jogos!C121<>"",1,0)+IF(Jogos!L21<>"",1,0)+IF(Jogos!J46<>"",1,0)+IF(Jogos!L71<>"",1,0)+IF(Jogos!J96<>"",1,0)+IF(Jogos!L121<>"",1,0) -> 0 | P16: =IF(Jogos!C21>Jogos!E21,1,0)+IF(Jogos!E46>Jogos!C46,1,0)+IF(Jogos!C71>Jogos!E71,1,0)+IF(Jogos!E96>Jogos!C96,1,0)+IF(Jogos!C121>Jogos!E121,1,0)+IF(Jogos!L21>Jogos!J21,1,0)+IF(Jogos!J46>Jogos!L46,1,0)+IF(Jogos!L71>Jogos!J71,1,0)+IF(Jogos!J96>Jogos!L96,1,0)+IF(Jogos!L121>Jogos!J121,1,0) -> 0 | Q16: =O16-P16-R16 -> 0 | R16: =IF(Jogos!C21<Jogos!E21,1,0)+IF(Jogos!E46<Jogos!C46,1,0)+IF(Jogos!C71<Jogos!E71,1,0)+IF(Jogos!E96<Jogos!C96,1,0)+IF(Jogos!C121<Jogos!E121,1,0)+IF(Jogos!L21<Jogos!J21,1,0)+IF(Jogos!J46<Jogos!L46,1,0)+IF(Jogos!L71<Jogos!J71,1,0)+IF(Jogos!J96<Jogos!L96,1,0)+IF(Jogos!L121<Jogos!J121,1,0) -> 0 | S16: =Jogos!C21+Jogos!E46+Jogos!C71+Jogos!E96+Jogos!C121+Jogos!L21+Jogos!J46+Jogos!L71+Jogos!J96+Jogos!L121 -> 0 | T16: =Jogos!E21+Jogos!C46+Jogos!E71+Jogos!C96+Jogos!E121+Jogos!J21+Jogos!L46+Jogos!J71+Jogos!L96+Jogos!J121 -> 0 | U16: =S16-T16 -> 0 | V16: =P16*3+Q16 -> 0 | W16: 7 | Y16: =(10^10)*V16+(10^8)*P16+(10^6)*(50+U16)+(10^4)*S16+(10^2)*O16+(13-M16) -> 50000006 | AB16: 7 | AC16: =LARGE(Y10:Y19,AB16) -> 40039010910 | AE16: 7 | AF16: =MATCH(AC16,Y10:Y19,0) -> 3
C17: 8º | D17: =VLOOKUP(AF17,$M$10:$W$19,2) -> Brasil | E17: =VLOOKUP(AF17,$M$10:$W$19,3) -> 9 | F17: =VLOOKUP(AF17,$M$10:$W$19,4) -> 0 | G17: =VLOOKUP(AF17,$M$10:$W$19,5) -> 2 | H17: =VLOOKUP(AF17,$M$10:$W$19,6) -> 7 | I17: =VLOOKUP(AF17,$M$10:$W$19,7) -> 5 | J17: =VLOOKUP(AF17,$M$10:$W$19,8) -> 20 | K17: =VLOOKUP(AF17,$M$10:$W$19,9) -> -15 | L17: =VLOOKUP(AF17,$M$10:$W$19,10) -> 2 | M17: 8 | N17: Nigéria- WO | O17: =IF(Jogos!C23<>"",1,0)+IF(Jogos!E48<>"",1,0)+IF(Jogos!C73<>"",1,0)+IF(Jogos!E98<>"",1,0)+IF(Jogos!C123<>"",1,0)+IF(Jogos!L23<>"",1,0)+IF(Jogos!J48<>"",1,0)+IF(Jogos!L73<>"",1,0)+IF(Jogos!J98<>"",1,0)+IF(Jogos!L123<>"",1,0) -> 0 | P17: =IF(Jogos!C23>Jogos!E23,1,0)+IF(Jogos!E48>Jogos!C48,1,0)+IF(Jogos!C73>Jogos!E73,1,0)+IF(Jogos!E98>Jogos!C98,1,0)+IF(Jogos!C123>Jogos!E123,1,0)+IF(Jogos!L23>Jogos!J23,1,0)+IF(Jogos!J48>Jogos!L48,1,0)+IF(Jogos!L73>Jogos!J73,1,0)+IF(Jogos!J98>Jogos!L98,1,0)+IF(Jogos!L123>Jogos!J123,1,0) -> 0 | Q17: =O17-P17-R17 -> 0 | R17: =IF(Jogos!C23<Jogos!E23,1,0)+IF(Jogos!E48<Jogos!C48,1,0)+IF(Jogos!C73<Jogos!E73,1,0)+IF(Jogos!E98<Jogos!C98,1,0)+IF(Jogos!C123<Jogos!E123,1,0)+IF(Jogos!L23<Jogos!J23,1,0)+IF(Jogos!J48<Jogos!L48,1,0)+IF(Jogos!L73<Jogos!J73,1,0)+IF(Jogos!J98<Jogos!L98,1,0)+IF(Jogos!L123<Jogos!J123,1,0) -> 0 | S17: =Jogos!C23+Jogos!E48+Jogos!C73+Jogos!E98+Jogos!C123+Jogos!L23+Jogos!J48+Jogos!L73+Jogos!J98+Jogos!L123 -> 0 | T17: =Jogos!E23+Jogos!C48+Jogos!E73+Jogos!C98+Jogos!E123+Jogos!J23+Jogos!L48+Jogos!J73+Jogos!L98+Jogos!J123 -> 0 | U17: =S17-T17 -> 0 | V17: =P17*3+Q17 -> 0 | W17: 8 | Y17: =(10^10)*V17+(10^8)*P17+(10^6)*(50+U17)+(10^4)*S17+(10^2)*O17+(13-M17) -> 50000005 | AB17: 8 | AC17: =LARGE(Y10:Y19,AB17) -> 20035050911 | AE17: 8 | AF17: =MATCH(AC17,Y10:Y19,0) -> 2
C18: 9º | D18: =VLOOKUP(AF18,$M$10:$W$19,2) -> Suécia- WO | E18: =VLOOKUP(AF18,$M$10:$W$19,3) -> 0 | F18: =VLOOKUP(AF18,$M$10:$W$19,4) -> 0 | G18: =VLOOKUP(AF18,$M$10:$W$19,5) -> 0 | H18: =VLOOKUP(AF18,$M$10:$W$19,6) -> 0 | I18: =VLOOKUP(AF18,$M$10:$W$19,7) -> 0 | J18: =VLOOKUP(AF18,$M$10:$W$19,8) -> 0 | K18: =VLOOKUP(AF18,$M$10:$W$19,9) -> 0 | L18: =VLOOKUP(AF18,$M$10:$W$19,10) -> 0 | M18: 9 | N18: Suíça | O18: =IF(Jogos!C25<>"",1,0)+IF(Jogos!E50<>"",1,0)+IF(Jogos!C75<>"",1,0)+IF(Jogos!E100<>"",1,0)+IF(Jogos!C125<>"",1,0)+IF(Jogos!L25<>"",1,0)+IF(Jogos!J50<>"",1,0)+IF(Jogos!L75<>"",1,0)+IF(Jogos!J100<>"",1,0)+IF(Jogos!L125<>"",1,0) -> 9 | P18: =IF(Jogos!C25>Jogos!E25,1,0)+IF(Jogos!E50>Jogos!C50,1,0)+IF(Jogos!C75>Jogos!E75,1,0)+IF(Jogos!E100>Jogos!C100,1,0)+IF(Jogos!C125>Jogos!E125,1,0)+IF(Jogos!L25>Jogos!J25,1,0)+IF(Jogos!J50>Jogos!L50,1,0)+IF(Jogos!L75>Jogos!J75,1,0)+IF(Jogos!J100>Jogos!L100,1,0)+IF(Jogos!L125>Jogos!J125,1,0) -> 3 | Q18: =O18-P18-R18 -> 5 | R18: =IF(Jogos!C25<Jogos!E25,1,0)+IF(Jogos!E50<Jogos!C50,1,0)+IF(Jogos!C75<Jogos!E75,1,0)+IF(Jogos!E100<Jogos!C100,1,0)+IF(Jogos!C125<Jogos!E125,1,0)+IF(Jogos!L25<Jogos!J25,1,0)+IF(Jogos!J50<Jogos!L50,1,0)+IF(Jogos!L75<Jogos!J75,1,0)+IF(Jogos!J100<Jogos!L100,1,0)+IF(Jogos!L125<Jogos!J125,1,0) -> 1 | S18: =Jogos!C25+Jogos!E50+Jogos!C75+Jogos!E100+Jogos!C125+Jogos!L25+Jogos!J50+Jogos!L75+Jogos!J100+Jogos!L125 -> 19 | T18: =Jogos!E25+Jogos!C50+Jogos!E75+Jogos!C100+Jogos!E125+Jogos!J25+Jogos!L50+Jogos!J75+Jogos!L100+Jogos!J125 -> 13 | U18: =S18-T18 -> 6 | V18: =P18*3+Q18 -> 14 | W18: 9 | Y18: =(10^10)*V18+(10^8)*P18+(10^6)*(50+U18)+(10^4)*S18+(10^2)*O18+(13-M18) -> 140356190904 | AB18: 9 | AC18: =LARGE(Y10:Y19,AB18) -> 50000006 | AE18: 9 | AF18: =MATCH(AC18,Y10:Y19,0) -> 7
C19: 10º | D19: =VLOOKUP(AF19,$M$10:$W$19,2) -> Nigéria- WO | E19: =VLOOKUP(AF19,$M$10:$W$19,3) -> 0 | F19: =VLOOKUP(AF19,$M$10:$W$19,4) -> 0 | G19: =VLOOKUP(AF19,$M$10:$W$19,5) -> 0 | H19: =VLOOKUP(AF19,$M$10:$W$19,6) -> 0 | I19: =VLOOKUP(AF19,$M$10:$W$19,7) -> 0 | J19: =VLOOKUP(AF19,$M$10:$W$19,8) -> 0 | K19: =VLOOKUP(AF19,$M$10:$W$19,9) -> 0 | L19: =VLOOKUP(AF19,$M$10:$W$19,10) -> 0 | M19: 10 | N19: Dinamarca | O19: =IF(Jogos!C27<>"",1,0)+IF(Jogos!E52<>"",1,0)+IF(Jogos!C77<>"",1,0)+IF(Jogos!E102<>"",1,0)+IF(Jogos!C127<>"",1,0)+IF(Jogos!L27<>"",1,0)+IF(Jogos!J52<>"",1,0)+IF(Jogos!L77<>"",1,0)+IF(Jogos!J102<>"",1,0)+IF(Jogos!L127<>"",1,0) -> 9 | P19: =IF(Jogos!C27>Jogos!E27,1,0)+IF(Jogos!E52>Jogos!C52,1,0)+IF(Jogos!C77>Jogos!E77,1,0)+IF(Jogos!E102>Jogos!C102,1,0)+IF(Jogos!C127>Jogos!E127,1,0)+IF(Jogos!L27>Jogos!J27,1,0)+IF(Jogos!J52>Jogos!L52,1,0)+IF(Jogos!L77>Jogos!J77,1,0)+IF(Jogos!J102>Jogos!L102,1,0)+IF(Jogos!L127>Jogos!J127,1,0) -> 5 | Q19: =O19-P19-R19 -> 1 | R19: =IF(Jogos!C27<Jogos!E27,1,0)+IF(Jogos!E52<Jogos!C52,1,0)+IF(Jogos!C77<Jogos!E77,1,0)+IF(Jogos!E102<Jogos!C102,1,0)+IF(Jogos!C127<Jogos!E127,1,0)+IF(Jogos!L27<Jogos!J27,1,0)+IF(Jogos!J52<Jogos!L52,1,0)+IF(Jogos!L77<Jogos!J77,1,0)+IF(Jogos!J102<Jogos!L102,1,0)+IF(Jogos!L127<Jogos!J127,1,0) -> 3 | S19: =Jogos!C27+Jogos!E52+Jogos!C77+Jogos!E102+Jogos!C127+Jogos!L27+Jogos!J52+Jogos!L77+Jogos!J102+Jogos!L127 -> 16 | T19: =Jogos!E27+Jogos!C52+Jogos!E77+Jogos!C102+Jogos!E127+Jogos!J27+Jogos!L52+Jogos!J77+Jogos!L102+Jogos!J127 -> 13 | U19: =S19-T19 -> 3 | V19: =P19*3+Q19 -> 16 | W19: 10 | Y19: =(10^10)*V19+(10^8)*P19+(10^6)*(50+U19)+(10^4)*S19+(10^2)*O19+(13-M19) -> 160553160903 | AB19: 10 | AC19: =LARGE(Y10:Y19,AB19) -> 50000005 | AE19: 10 | AF19: =MATCH(AC19,Y10:Y19,0) -> 8
C21: Grupo B
C22: Posição | D22: Times | E22: Jogos | F22: Vitorias | G22: Empates | H22: Derrotas | I22: Gols Pró | J22: Gols Cont. | K22: Saldo | L22: Pontos | N22: Times | O22: Jogos | P22: Vitorias | Q22: Empates | R22: Derrotas | S22: Gols Pró | T22: Gols Cont. | U22: Saldo | V22: Pontos | W22: ID_TIME
C24: 1º | D24: =VLOOKUP(AF24,$M$24:$W$33,2) -> México | E24: =VLOOKUP(AF24,$M$24:$W$33,3) -> 8 | F24: =VLOOKUP(AF24,$M$24:$W$33,4) -> 4 | G24: =VLOOKUP(AF24,$M$24:$W$33,5) -> 2 | H24: =VLOOKUP(AF24,$M$24:$W$33,6) -> 2 | I24: =VLOOKUP(AF24,$M$24:$W$33,7) -> 13 | J24: =VLOOKUP(AF24,$M$24:$W$33,8) -> 10 | K24: =VLOOKUP(AF24,$M$24:$W$33,9) -> 3 | L24: =VLOOKUP(AF24,$M$24:$W$33,10) -> 14 | M24: 1 | N24: Portugal | O24: =IF(Jogos!E9<>"",1,0)+IF(Jogos!C52<>"",1,0)+IF(Jogos!E75<>"",1,0)+IF(Jogos!C98<>"",1,0)+IF(Jogos!E121<>"",1,0)+IF(Jogos!J19<>"",1,0)+IF(Jogos!L42<>"",1,0)+IF(Jogos!J65<>"",1,0)+IF(Jogos!L88<>"",1,0)+IF(Jogos!J111<>"",1,0) -> 8 | P24: =IF(Jogos!E9>Jogos!C9,1,0)+IF(Jogos!C52>Jogos!E52,1,0)+IF(Jogos!E75>Jogos!C75,1,0)+IF(Jogos!C98>Jogos!E98,1,0)+IF(Jogos!E121>Jogos!C121,1,0)+IF(Jogos!J19>Jogos!L19,1,0)+IF(Jogos!L42>Jogos!J42,1,0)+IF(Jogos!J65>Jogos!L65,1,0)+IF(Jogos!L88>Jogos!J88,1,0)+IF(Jogos!J111>Jogos!L111,1,0) -> 3 | Q24: =O24-P24-R24 -> 3 | R24: =IF(Jogos!E9<Jogos!C9,1,0)+IF(Jogos!C52<Jogos!E52,1,0)+IF(Jogos!E75<Jogos!C75,1,0)+IF(Jogos!C98<Jogos!E98,1,0)+IF(Jogos!E121<Jogos!C121,1,0)+IF(Jogos!J19<Jogos!L19,1,0)+IF(Jogos!L42<Jogos!J42,1,0)+IF(Jogos!J65<Jogos!L65,1,0)+IF(Jogos!L88<Jogos!J88,1,0)+IF(Jogos!J111<Jogos!L111,1,0) -> 2 | S24: =Jogos!E9+Jogos!C52+Jogos!E75+Jogos!C98+Jogos!E121+Jogos!J19+Jogos!L42+Jogos!J65+Jogos!L88+Jogos!J111 -> 12 | T24: =Jogos!C9+Jogos!E52+Jogos!C75+Jogos!E98+Jogos!C121+Jogos!L19+Jogos!J42+Jogos!L65+Jogos!J88+Jogos!L111 -> 11 | U24: =S24-T24 -> 1 | V24: =P24*3+Q24 -> 12 | W24: 11 | Y24: =(10^10)*V24+(10^8)*P24+(10^6)*(50+U24)+(10^4)*S24+(10^2)*O24+(13-M24) -> 120351120812 | AB24: 1 | AC24: =LARGE(Y24:Y33,AB24) -> 140453130807 | AE24: 1 | AF24: =MATCH(AC24,$Y24:Y33,0) -> 6
C25: 2º | D25: =VLOOKUP(AF25,$M$24:$W$33,2) -> França | E25: =VLOOKUP(AF25,$M$24:$W$33,3) -> 8 | F25: =VLOOKUP(AF25,$M$24:$W$33,4) -> 3 | G25: =VLOOKUP(AF25,$M$24:$W$33,5) -> 4 | H25: =VLOOKUP(AF25,$M$24:$W$33,6) -> 1 | I25: =VLOOKUP(AF25,$M$24:$W$33,7) -> 19 | J25: =VLOOKUP(AF25,$M$24:$W$33,8) -> 11 | K25: =VLOOKUP(AF25,$M$24:$W$33,9) -> 8 | L25: =VLOOKUP(AF25,$M$24:$W$33,10) -> 13 | M25: 2 | N25: Argentina | O25: =IF(Jogos!E11<>"",1,0)+IF(Jogos!C34<>"",1,0)+IF(Jogos!E77<>"",1,0)+IF(Jogos!C100<>"",1,0)+IF(Jogos!E123<>"",1,0)+IF(Jogos!J21<>"",1,0)+IF(Jogos!L44<>"",1,0)+IF(Jogos!J67<>"",1,0)+IF(Jogos!L90<>"",1,0)+IF(Jogos!J113<>"",1,0) -> 8 | P25: =IF(Jogos!E11>Jogos!C11,1,0)+IF(Jogos!C34>Jogos!E34,1,0)+IF(Jogos!E77>Jogos!C77,1,0)+IF(Jogos!C100>Jogos!E100,1,0)+IF(Jogos!E123>Jogos!C123,1,0)+IF(Jogos!J21>Jogos!L21,1,0)+IF(Jogos!L44>Jogos!J44,1,0)+IF(Jogos!J67>Jogos!L67,1,0)+IF(Jogos!L90>Jogos!J90,1,0)+IF(Jogos!J113>Jogos!L113,1,0) -> 2 | Q25: =O25-P25-R25 -> 4 | R25: =IF(Jogos!E11>Jogos!C11,1,0)+IF(Jogos!C34>Jogos!E34,1,0)+IF(Jogos!E77>Jogos!C77,1,0)+IF(Jogos!C100>Jogos!E100,1,0)+IF(Jogos!E123>Jogos!C123,1,0)+IF(Jogos!J21>Jogos!L21,1,0)+IF(Jogos!L44>Jogos!J44,1,0)+IF(Jogos!J67>Jogos!L67,1,0)+IF(Jogos!L90>Jogos!J90,1,0)+IF(Jogos!J113>Jogos!L113,1,0) -> 2 | S25: =Jogos!E11+Jogos!C34+Jogos!E77+Jogos!C100+Jogos!E123+Jogos!J21+Jogos!L44+Jogos!J67+Jogos!L90+Jogos!J113 -> 7 | T25: =Jogos!C11+Jogos!E34+Jogos!C77+Jogos!E100+Jogos!C123+Jogos!L21+Jogos!J44+Jogos!L67+Jogos!J90+Jogos!L113 -> 14 | U25: =S25-T25 -> -7 | V25: =P25*3+Q25 -> 10 | W25: 12 | Y25: =(10^10)*V25+(10^8)*P25+(10^6)*(50+U25)+(10^4)*S25+(10^2)*O25+(13-M25) -> 100243070811 | AB25: 2 | AC25: =LARGE(Y24:Y33,AB25) -> 130358190809 | AE25: 2 | AF25: =MATCH(AC25,Y24:Y33,0) -> 4
C26: 3º | D26: =VLOOKUP(AF26,$M$24:$W$33,2) -> Portugal | E26: =VLOOKUP(AF26,$M$24:$W$33,3) -> 8 | F26: =VLOOKUP(AF26,$M$24:$W$33,4) -> 3 | G26: =VLOOKUP(AF26,$M$24:$W$33,5) -> 3 | H26: =VLOOKUP(AF26,$M$24:$W$33,6) -> 2 | I26: =VLOOKUP(AF26,$M$24:$W$33,7) -> 12 | J26: =VLOOKUP(AF26,$M$24:$W$33,8) -> 11 | K26: =VLOOKUP(AF26,$M$24:$W$33,9) -> 1 | L26: =VLOOKUP(AF26,$M$24:$W$33,10) -> 12 | M26: 3 | N26: Sérvia | O26: =IF(Jogos!E13<>"",1,0)+IF(Jogos!C36<>"",1,0)+IF(Jogos!E59<>"",1,0)+IF(Jogos!C102<>"",1,0)+IF(Jogos!E125<>"",1,0)+IF(Jogos!J23<>"",1,0)+IF(Jogos!L46<>"",1,0)+IF(Jogos!J69<>"",1,0)+IF(Jogos!L92<>"",1,0)+IF(Jogos!J115<>"",1,0) -> 8 | P26: =IF(Jogos!E13>Jogos!C13,1,0)+IF(Jogos!C36>Jogos!E36,1,0)+IF(Jogos!E59>Jogos!C59,1,0)+IF(Jogos!C102>Jogos!E102,1,0)+IF(Jogos!E125>Jogos!C125,1,0)+IF(Jogos!J23>Jogos!L23,1,0)+IF(Jogos!L46>Jogos!J46,1,0)+IF(Jogos!J69>Jogos!L69,1,0)+IF(Jogos!L92>Jogos!J92,1,0)+IF(Jogos!J115>Jogos!L115,1,0) -> 3 | Q26: =O26-P26-R26 -> 1 | R26: =IF(Jogos!E13<Jogos!C13,1,0)+IF(Jogos!C36<Jogos!E36,1,0)+IF(Jogos!E59<Jogos!C59,1,0)+IF(Jogos!C102<Jogos!E102,1,0)+IF(Jogos!E125<Jogos!C125,1,0)+IF(Jogos!J23<Jogos!L23,1,0)+IF(Jogos!L46<Jogos!J46,1,0)+IF(Jogos!J69<Jogos!L69,1,0)+IF(Jogos!L92<Jogos!J92,1,0)+IF(Jogos!J115<Jogos!L115,1,0) -> 4 | S26: =Jogos!E13+Jogos!C36+Jogos!E59+Jogos!C102+Jogos!E125+Jogos!J23+Jogos!L46+Jogos!J69+Jogos!L92+Jogos!J115 -> 9 | T26: =Jogos!C13+Jogos!E36+Jogos!C59+Jogos!E102+Jogos!C125+Jogos!L23+Jogos!J46+Jogos!L69+Jogos!J92+Jogos!L115 -> 7 | U26: =S26-T26 -> 2 | V26: =P26*3+Q26 -> 10 | W26: 13 | Y26: =(10^10)*V26+(10^8)*P26+(10^6)*(50+U26)+(10^4)*S26+(10^2)*O26+(13-M26) -> 100352090810 | AB26: 3 | AC26: =LARGE(Y24:Y33,AB26) -> 120351120812 | AE26: 3 | AF26: =MATCH(AC26,Y24:Y33,0) -> 1
C27: 4º | D27: =VLOOKUP(AF27,$M$24:$W$33,2) -> Croácia | E27: =VLOOKUP(AF27,$M$24:$W$33,3) -> 8 | F27: =VLOOKUP(AF27,$M$24:$W$33,4) -> 3 | G27: =VLOOKUP(AF27,$M$24:$W$33,5) -> 3 | H27: =VLOOKUP(AF27,$M$24:$W$33,6) -> 2 | I27: =VLOOKUP(AF27,$M$24:$W$33,7) -> 9 | J27: =VLOOKUP(AF27,$M$24:$W$33,8) -> 10 | K27: =VLOOKUP(AF27,$M$24:$W$33,9) -> -1 | L27: =VLOOKUP(AF27,$M$24:$W$33,10) -> 12 | M27: 4 | N27: França | O27: =IF(Jogos!E15<>"",1,0)+IF(Jogos!C38<>"",1,0)+IF(Jogos!E61<>"",1,0)+IF(Jogos!C84<>"",1,0)+IF(Jogos!E127<>"",1,0)+IF(Jogos!J25<>"",1,0)+IF(Jogos!L48<>"",1,0)+IF(Jogos!J71<>"",1,0)+IF(Jogos!L94<>"",1,0)+IF(Jogos!J117<>"",1,0) -> 8 | P27: =IF(Jogos!E15>Jogos!C15,1,0)+IF(Jogos!C38>Jogos!E38,1,0)+IF(Jogos!E61>Jogos!C61,1,0)+IF(Jogos!C84>Jogos!E84,1,0)+IF(Jogos!E127>Jogos!C127,1,0)+IF(Jogos!J25>Jogos!L25,1,0)+IF(Jogos!L48>Jogos!J48,1,0)+IF(Jogos!J71>Jogos!L71,1,0)+IF(Jogos!L94>Jogos!J94,1,0)+IF(Jogos!J117>Jogos!L117,1,0) -> 3 | Q27: =O27-P27-R27 -> 4 | R27: =IF(Jogos!E15<Jogos!C15,1,0)+IF(Jogos!C38<Jogos!E38,1,0)+IF(Jogos!E61<Jogos!C61,1,0)+IF(Jogos!C84<Jogos!E84,1,0)+IF(Jogos!E127<Jogos!C127,1,0)+IF(Jogos!J25<Jogos!L25,1,0)+IF(Jogos!L48<Jogos!J48,1,0)+IF(Jogos!J71<Jogos!L71,1,0)+IF(Jogos!L94<Jogos!J94,1,0)+IF(Jogos!J117<Jogos!L117,1,0) -> 1 | S27: =Jogos!E15+Jogos!C38+Jogos!E61+Jogos!C84+Jogos!E127+Jogos!J25+Jogos!L48+Jogos!J71+Jogos!L94+Jogos!J117 -> 19 | T27: =Jogos!C15+Jogos!E38+Jogos!C61+Jogos!E84+Jogos!C127+Jogos!L25+Jogos!J48+Jogos!L71+Jogos!J94+Jogos!L117 -> 11 | U27: =S27-T27 -> 8 | V27: =P27*3+Q27 -> 13 | W27: 14 | Y27: =(10^10)*V27+(10^8)*P27+(10^6)*(50+U27)+(10^4)*S27+(10^2)*O27+(13-M27) -> 130358190809 | AB27: 4 | AC27: =LARGE(Y24:Y33,AB27) -> 120349090806 | AE27: 4 | AF27: =MATCH(AC27,Y24:Y33,0) -> 7
C28: 5º | D28: =VLOOKUP(AF28,$M$24:$W$33,2) -> Sérvia | E28: =VLOOKUP(AF28,$M$24:$W$33,3) -> 8 | F28: =VLOOKUP(AF28,$M$24:$W$33,4) -> 3 | G28: =VLOOKUP(AF28,$M$24:$W$33,5) -> 1 | H28: =VLOOKUP(AF28,$M$24:$W$33,6) -> 4 | I28: =VLOOKUP(AF28,$M$24:$W$33,7) -> 9 | J28: =VLOOKUP(AF28,$M$24:$W$33,8) -> 7 | K28: =VLOOKUP(AF28,$M$24:$W$33,9) -> 2 | L28: =VLOOKUP(AF28,$M$24:$W$33,10) -> 10 | M28: 5 | N28: Inglaterra | O28: =IF(Jogos!E17<>"",1,0)+IF(Jogos!C40<>"",1,0)+IF(Jogos!E63<>"",1,0)+IF(Jogos!C86<>"",1,0)+IF(Jogos!E109<>"",1,0)+IF(Jogos!J27<>"",1,0)+IF(Jogos!L50<>"",1,0)+IF(Jogos!J73<>"",1,0)+IF(Jogos!L96<>"",1,0)+IF(Jogos!J119<>"",1,0) -> 8 | P28: =IF(Jogos!E17>Jogos!C17,1,0)+IF(Jogos!C40>Jogos!E40,1,0)+IF(Jogos!E63>Jogos!C63,1,0)+IF(Jogos!C86>Jogos!E86,1,0)+IF(Jogos!E109>Jogos!C109,1,0)+IF(Jogos!J27>Jogos!L27,1,0)+IF(Jogos!L50>Jogos!J50,1,0)+IF(Jogos!J73>Jogos!L73,1,0)+IF(Jogos!L96>Jogos!J96,1,0)+IF(Jogos!J119>Jogos!L119,1,0) -> 2 | Q28: =O28-P28-R28 -> 2 | R28: =IF(Jogos!E17<Jogos!C17,1,0)+IF(Jogos!C40<Jogos!E40,1,0)+IF(Jogos!E63<Jogos!C63,1,0)+IF(Jogos!C86<Jogos!E86,1,0)+IF(Jogos!E109<Jogos!C109,1,0)+IF(Jogos!J27<Jogos!L27,1,0)+IF(Jogos!L50<Jogos!J50,1,0)+IF(Jogos!J73<Jogos!L73,1,0)+IF(Jogos!L96<Jogos!J96,1,0)+IF(Jogos!J119<Jogos!L119,1,0) -> 4 | S28: =Jogos!E17+Jogos!C40+Jogos!E63+Jogos!C86+Jogos!E109+Jogos!J27+Jogos!L50+Jogos!J73+Jogos!L96+Jogos!J119 -> 6 | T28: =Jogos!C17+Jogos!E40+Jogos!C63+Jogos!E86+Jogos!C109+Jogos!L27+Jogos!J50+Jogos!L73+Jogos!J96+Jogos!L119 -> 14 | U28: =S28-T28 -> -8 | V28: =P28*3+Q28 -> 8 | W28: 15 | Y28: =(10^10)*V28+(10^8)*P28+(10^6)*(50+U28)+(10^4)*S28+(10^2)*O28+(13-M28) -> 80242060808 | AB28: 5 | AC28: =LARGE(Y24:Y33,AB28) -> 100352090810 | AE28: 5 | AF28: =MATCH(AC28,Y24:Y33,0) -> 3
C29: 6º | D29: =VLOOKUP(AF29,$M$24:$W$33,2) -> Argentina | E29: =VLOOKUP(AF29,$M$24:$W$33,3) -> 8 | F29: =VLOOKUP(AF29,$M$24:$W$33,4) -> 2 | G29: =VLOOKUP(AF29,$M$24:$W$33,5) -> 4 | H29: =VLOOKUP(AF29,$M$24:$W$33,6) -> 2 | I29: =VLOOKUP(AF29,$M$24:$W$33,7) -> 7 | J29: =VLOOKUP(AF29,$M$24:$W$33,8) -> 14 | K29: =VLOOKUP(AF29,$M$24:$W$33,9) -> -7 | L29: =VLOOKUP(AF29,$M$24:$W$33,10) -> 10 | M29: 6 | N29: México | O29: =IF(Jogos!E19<>"",1,0)+IF(Jogos!C42<>"",1,0)+IF(Jogos!E65<>"",1,0)+IF(Jogos!C88<>"",1,0)+IF(Jogos!E111<>"",1,0)+IF(Jogos!J9<>"",1,0)+IF(Jogos!L52<>"",1,0)+IF(Jogos!J75<>"",1,0)+IF(Jogos!L98<>"",1,0)+IF(Jogos!J121<>"",1,0) -> 8 | P29: =IF(Jogos!E19>Jogos!C19,1,0)+IF(Jogos!C42>Jogos!E42,1,0)+IF(Jogos!E65>Jogos!C65,1,0)+IF(Jogos!C88>Jogos!E88,1,0)+IF(Jogos!E111>Jogos!C111,1,0)+IF(Jogos!J9>Jogos!L9,1,0)+IF(Jogos!L52>Jogos!J52,1,0)+IF(Jogos!J75>Jogos!L75,1,0)+IF(Jogos!L98>Jogos!J98,1,0)+IF(Jogos!J121>Jogos!L121,1,0) -> 4 | Q29: =O29-P29-R29 -> 2 | R29: =IF(Jogos!E19<Jogos!C19,1,0)+IF(Jogos!C42<Jogos!E42,1,0)+IF(Jogos!E65<Jogos!C65,1,0)+IF(Jogos!C88<Jogos!E88,1,0)+IF(Jogos!E111<Jogos!C111,1,0)+IF(Jogos!J9<Jogos!L9,1,0)+IF(Jogos!L52<Jogos!J52,1,0)+IF(Jogos!J75<Jogos!L75,1,0)+IF(Jogos!L98<Jogos!J98,1,0)+IF(Jogos!J121<Jogos!L121,1,0) -> 2 | S29: =Jogos!E19+Jogos!C42+Jogos!E65+Jogos!C88+Jogos!E111+Jogos!J9+Jogos!L52+Jogos!J75+Jogos!L98+Jogos!J121 -> 13 | T29: =Jogos!C19+Jogos!E42+Jogos!C65+Jogos!E88+Jogos!C111+Jogos!L9+Jogos!J52+Jogos!L75+Jogos!J98+Jogos!L121 -> 10 | U29: =S29-T29 -> 3 | V29: =P29*3+Q29 -> 14 | W29: 16 | Y29: =(10^10)*V29+(10^8)*P29+(10^6)*(50+U29)+(10^4)*S29+(10^2)*O29+(13-M29) -> 140453130807 | AB29: 6 | AC29: =LARGE(Y24:Y33,AB29) -> 100243070811 | AE29: 6 | AF29: =MATCH(AC29,Y24:Y33,0) -> 2
C30: 7º | D30: =VLOOKUP(AF30,$M$24:$W$33,2) -> Inglaterra | E30: =VLOOKUP(AF30,$M$24:$W$33,3) -> 8 | F30: =VLOOKUP(AF30,$M$24:$W$33,4) -> 2 | G30: =VLOOKUP(AF30,$M$24:$W$33,5) -> 2 | H30: =VLOOKUP(AF30,$M$24:$W$33,6) -> 4 | I30: =VLOOKUP(AF30,$M$24:$W$33,7) -> 6 | J30: =VLOOKUP(AF30,$M$24:$W$33,8) -> 14 | K30: =VLOOKUP(AF30,$M$24:$W$33,9) -> -8 | L30: =VLOOKUP(AF30,$M$24:$W$33,10) -> 8 | M30: 7 | N30: Croácia | O30: =IF(Jogos!E21<>"",1,0)+IF(Jogos!C44<>"",1,0)+IF(Jogos!E67<>"",1,0)+IF(Jogos!C90<>"",1,0)+IF(Jogos!E113<>"",1,0)+IF(Jogos!J11<>"",1,0)+IF(Jogos!L34<>"",1,0)+IF(Jogos!J77<>"",1,0)+IF(Jogos!L100<>"",1,0)+IF(Jogos!J123<>"",1,0) -> 8 | P30: =IF(Jogos!E21>Jogos!C21,1,0)+IF(Jogos!C44>Jogos!E44,1,0)+IF(Jogos!E67>Jogos!C67,1,0)+IF(Jogos!C90>Jogos!E90,1,0)+IF(Jogos!E113>Jogos!C113,1,0)+IF(Jogos!J11>Jogos!L11,1,0)+IF(Jogos!L34>Jogos!J34,1,0)+IF(Jogos!J77>Jogos!L77,1,0)+IF(Jogos!L100>Jogos!J100,1,0)+IF(Jogos!J123>Jogos!L123,1,0) -> 3 | Q30: =O30-P30-R30 -> 3 | R30: =IF(Jogos!E21<Jogos!C21,1,0)+IF(Jogos!C44<Jogos!E44,1,0)+IF(Jogos!E67<Jogos!C67,1,0)+IF(Jogos!C90<Jogos!E90,1,0)+IF(Jogos!E113<Jogos!C113,1,0)+IF(Jogos!J11<Jogos!L11,1,0)+IF(Jogos!L34<Jogos!J34,1,0)+IF(Jogos!J77<Jogos!L77,1,0)+IF(Jogos!L100<Jogos!J100,1,0)+IF(Jogos!J123<Jogos!L123,1,0) -> 2 | S30: =Jogos!E21+Jogos!C44+Jogos!E67+Jogos!C90+Jogos!E113+Jogos!J11+Jogos!L34+Jogos!J77+Jogos!L100+Jogos!J123 -> 9 | T30: =Jogos!C21+Jogos!E44+Jogos!C67+Jogos!E90+Jogos!C113+Jogos!L11+Jogos!J34+Jogos!L77+Jogos!J100+Jogos!L123 -> 10 | U30: =S30-T30 -> -1 | V30: =P30*3+Q30 -> 12 | W30: 17 | Y30: =(10^10)*V30+(10^8)*P30+(10^6)*(50+U30)+(10^4)*S30+(10^2)*O30+(13-M30) -> 120349090806 | AB30: 7 | AC30: =LARGE(Y24:Y33,AB30) -> 80242060808 | AE30: 7 | AF30: =MATCH(AC30,Y24:Y33,0) -> 5
C31: 8º | D31: =VLOOKUP(AF31,$M$24:$W$33,2) -> Polônia | E31: =VLOOKUP(AF31,$M$24:$W$33,3) -> 8 | F31: =VLOOKUP(AF31,$M$24:$W$33,4) -> 2 | G31: =VLOOKUP(AF31,$M$24:$W$33,5) -> 1 | H31: =VLOOKUP(AF31,$M$24:$W$33,6) -> 5 | I31: =VLOOKUP(AF31,$M$24:$W$33,7) -> 12 | J31: =VLOOKUP(AF31,$M$24:$W$33,8) -> 13 | K31: =VLOOKUP(AF31,$M$24:$W$33,9) -> -1 | L31: =VLOOKUP(AF31,$M$24:$W$33,10) -> 7 | M31: 8 | N31: Russia | O31: =IF(Jogos!E23<>"",1,0)+IF(Jogos!C46<>"",1,0)+IF(Jogos!E69<>"",1,0)+IF(Jogos!C92<>"",1,0)+IF(Jogos!E115<>"",1,0)+IF(Jogos!J13<>"",1,0)+IF(Jogos!L36<>"",1,0)+IF(Jogos!J59<>"",1,0)+IF(Jogos!L102<>"",1,0)+IF(Jogos!J125<>"",1,0) -> 8 | P31: =IF(Jogos!E23>Jogos!C23,1,0)+IF(Jogos!C46>Jogos!E46,1,0)+IF(Jogos!E69>Jogos!C69,1,0)+IF(Jogos!C92>Jogos!E92,1,0)+IF(Jogos!E115>Jogos!C115,1,0)+IF(Jogos!J13>Jogos!L13,1,0)+IF(Jogos!L36>Jogos!J36,1,0)+IF(Jogos!J59>Jogos!L59,1,0)+IF(Jogos!L102>Jogos!J102,1,0)+IF(Jogos!J125>Jogos!L125,1,0) -> 2 | Q31: =O31-P31-R31 -> 1 | R31: =IF(Jogos!E23<Jogos!C23,1,0)+IF(Jogos!C46<Jogos!E46,1,0)+IF(Jogos!E69<Jogos!C69,1,0)+IF(Jogos!C92<Jogos!E92,1,0)+IF(Jogos!E115<Jogos!C115,1,0)+IF(Jogos!J13<Jogos!L13,1,0)+IF(Jogos!L36<Jogos!J36,1,0)+IF(Jogos!J59<Jogos!L59,1,0)+IF(Jogos!L102<Jogos!J102,1,0)+IF(Jogos!J125<Jogos!L125,1,0) -> 5 | S31: =Jogos!E23+Jogos!C46+Jogos!E69+Jogos!C92+Jogos!E115+Jogos!J13+Jogos!L36+Jogos!J59+Jogos!L102+Jogos!J125 -> 7 | T31: =Jogos!C23+Jogos!E46+Jogos!C69+Jogos!E92+Jogos!C115+Jogos!L13+Jogos!J36+Jogos!L59+Jogos!J102+Jogos!L125 -> 12 | U31: =S31-T31 -> -5 | V31: =P31*3+Q31 -> 7 | W31: 18 | Y31: =(10^10)*V31+(10^8)*P31+(10^6)*(50+U31)+(10^4)*S31+(10^2)*O31+(13-M31) -> 70245070805 | AB31: 8 | AC31: =LARGE(Y24:Y33,AB31) -> 70249120804 | AE31: 8 | AF31: =MATCH(AC31,Y24:Y33,0) -> 9
C32: 9º | D32: =VLOOKUP(AF32,$M$24:$W$33,2) -> Russia | E32: =VLOOKUP(AF32,$M$24:$W$33,3) -> 8 | F32: =VLOOKUP(AF32,$M$24:$W$33,4) -> 2 | G32: =VLOOKUP(AF32,$M$24:$W$33,5) -> 1 | H32: =VLOOKUP(AF32,$M$24:$W$33,6) -> 5 | I32: =VLOOKUP(AF32,$M$24:$W$33,7) -> 7 | J32: =VLOOKUP(AF32,$M$24:$W$33,8) -> 12 | K32: =VLOOKUP(AF32,$M$24:$W$33,9) -> -5 | L32: =VLOOKUP(AF32,$M$24:$W$33,10) -> 7 | M32: 9 | N32: Polônia | O32: =IF(Jogos!E25<>"",1,0)+IF(Jogos!C48<>"",1,0)+IF(Jogos!E71<>"",1,0)+IF(Jogos!C94<>"",1,0)+IF(Jogos!E117<>"",1,0)+IF(Jogos!J15<>"",1,0)+IF(Jogos!L38<>"",1,0)+IF(Jogos!J61<>"",1,0)+IF(Jogos!L84<>"",1,0)+IF(Jogos!J127<>"",1,0) -> 8 | P32: =IF(Jogos!E25>Jogos!C25,1,0)+IF(Jogos!C48>Jogos!E48,1,0)+IF(Jogos!E71>Jogos!C71,1,0)+IF(Jogos!C94>Jogos!E94,1,0)+IF(Jogos!E117>Jogos!C117,1,0)+IF(Jogos!J15>Jogos!L15,1,0)+IF(Jogos!L38>Jogos!J38,1,0)+IF(Jogos!J61>Jogos!L61,1,0)+IF(Jogos!L84>Jogos!J84,1,0)+IF(Jogos!J127>Jogos!L127,1,0) -> 2 | Q32: =O32-P32-R32 -> 1 | R32: =IF(Jogos!E25<Jogos!C25,1,0)+IF(Jogos!C48<Jogos!E48,1,0)+IF(Jogos!E71<Jogos!C71,1,0)+IF(Jogos!C94<Jogos!E94,1,0)+IF(Jogos!E117<Jogos!C117,1,0)+IF(Jogos!J15<Jogos!L15,1,0)+IF(Jogos!L38<Jogos!J38,1,0)+IF(Jogos!J61<Jogos!L61,1,0)+IF(Jogos!L84<Jogos!J84,1,0)+IF(Jogos!J127<Jogos!L127,1,0) -> 5 | S32: =Jogos!E25+Jogos!C48+Jogos!E71+Jogos!C94+Jogos!E117+Jogos!J15+Jogos!L38+Jogos!J61+Jogos!L84+Jogos!J127 -> 12 | T32: =Jogos!C25+Jogos!E48+Jogos!C71+Jogos!E94+Jogos!C117+Jogos!L15+Jogos!J38+Jogos!L61+Jogos!J84+Jogos!L127 -> 13 | U32: =S32-T32 -> -1 | V32: =P32*3+Q32 -> 7 | W32: 19 | Y32: =(10^10)*V32+(10^8)*P32+(10^6)*(50+U32)+(10^4)*S32+(10^2)*O32+(13-M32) -> 70249120804 | AB32: 9 | AC32: =LARGE(Y24:Y33,AB32) -> 70245070805 | AE32: 9 | AF32: =MATCH(AC32,Y24:Y33,0) -> 8
C33: 10º | D33: =VLOOKUP(AF33,$M$24:$W$33,2) -> W.O. | E33: =VLOOKUP(AF33,$M$24:$W$33,3) -> 0 | F33: =VLOOKUP(AF33,$M$24:$W$33,4) -> 0 | G33: =VLOOKUP(AF33,$M$24:$W$33,5) -> 0 | H33: =VLOOKUP(AF33,$M$24:$W$33,6) -> 0 | I33: =VLOOKUP(AF33,$M$24:$W$33,7) -> 0 | J33: =VLOOKUP(AF33,$M$24:$W$33,8) -> 0 | K33: =VLOOKUP(AF33,$M$24:$W$33,9) -> 0 | L33: =VLOOKUP(AF33,$M$24:$W$33,10) -> 0 | M33: 10 | N33: W.O. | O33: =IF(Jogos!E27<>"",1,0)+IF(Jogos!C50<>"",1,0)+IF(Jogos!E73<>"",1,0)+IF(Jogos!C96<>"",1,0)+IF(Jogos!E119<>"",1,0)+IF(Jogos!J17<>"",1,0)+IF(Jogos!L40<>"",1,0)+IF(Jogos!J63<>"",1,0)+IF(Jogos!L86<>"",1,0)+IF(Jogos!J109<>"",1,0) -> 0 | P33: =IF(Jogos!E27>Jogos!C27,1,0)+IF(Jogos!C50>Jogos!E50,1,0)+IF(Jogos!E73>Jogos!C73,1,0)+IF(Jogos!C96>Jogos!E96,1,0)+IF(Jogos!E119>Jogos!C119,1,0)+IF(Jogos!J17>Jogos!L17,1,0)+IF(Jogos!L40>Jogos!J40,1,0)+IF(Jogos!J63>Jogos!L63,1,0)+IF(Jogos!L86>Jogos!J86,1,0)+IF(Jogos!J109>Jogos!L109,1,0) -> 0 | Q33: =O33-P33-R33 -> 0 | R33: =IF(Jogos!E27<Jogos!C27,1,0)+IF(Jogos!C50<Jogos!E50,1,0)+IF(Jogos!E73<Jogos!C73,1,0)+IF(Jogos!C96<Jogos!E96,1,0)+IF(Jogos!E119<Jogos!C119,1,0)+IF(Jogos!J17<Jogos!L17,1,0)+IF(Jogos!L40<Jogos!J40,1,0)+IF(Jogos!J63<Jogos!L63,1,0)+IF(Jogos!L86<Jogos!J86,1,0)+IF(Jogos!J109<Jogos!L109,1,0) -> 0 | S33: =Jogos!E27+Jogos!C50+Jogos!E73+Jogos!C96+Jogos!E119+Jogos!J17+Jogos!L40+Jogos!J63+Jogos!L86+Jogos!J109 -> 0 | T33: =Jogos!C27+Jogos!E50+Jogos!C73+Jogos!E96+Jogos!C119+Jogos!L17+Jogos!J40+Jogos!L63+Jogos!J86+Jogos!L109 -> 0 | U33: =S33-T33 -> 0 | V33: =P33*3+Q33 -> 0 | W33: 20 | Y33: =(10^10)*V33+(10^8)*P33+(10^6)*(50+U33)+(10^4)*S33+(10^2)*O33+(13-M33) -> 50000003 | AB33: 10 | AC33: =LARGE(Y24:Y33,AB33) -> 50000003 | AE33: 10 | AF33: =MATCH(AC33,Y24:Y33,0) -> 10
C41: Argentina Bélgica Brasil Colômbia Croácia Espanha França
C42: (Shrek) (Gustavão) (Grandin) (João) (Roger) (Antonio) (Tooty)
A48: Inglaterra México Nigéria Polônia Portugal Rússia Senegal
C49: (Michel) (Hugo) (Senador) (Deyvid) (Cayera) (Diego) (Deh)
B55: Suécia Suíça Uruguai Sérvia Dinamarca
D56: (Mario) (Juninho) (Alex) (Danilando) (Guilherme)

Sheet Jogos
B6: 1º Rodada | I6: 6º Rodada
B9: =Classificação!N10 -> Colômbia | C9: 3 | D9: x | E9: 1 | F9: =Classificação!N24 -> Portugal | I9: =Classificação!N29 -> México | J9: 0 | K9: x | L9: 3 | M9: =Classificação!N10 -> Colômbia
B11: =Classificação!N11 -> Brasil | C11: 1 | D11: x | E11: 1 | F11: =Classificação!N25 -> Argentina | I11: =Classificação!N30 -> Croácia | J11: 1 | K11: x | L11: 1 | M11: =Classificação!N11 -> Brasil
B13: =Classificação!N12 -> Espanha | C13: 0 | D13: x | E13: 0 | F13: =Classificação!N26 -> Sérvia | I13: =Classificação!N31 -> Russia | J13: 2 | K13: x | L13: 0 | M13: =Classificação!N12 -> Espanha
B15: =Classificação!N13 -> Senegal | C15: 2 | D15: x | E15: 2 | F15: =Classificação!N27 -> França | I15: =Classificação!N32 -> Polônia | J15: 1 | K15: x | L15: 2 | M15: =Classificação!N13 -> Senegal
B17: =Classificação!N14 -> Uruguai | C17: 2 | D17: x | E17: 0 | F17: =Classificação!N28 -> Inglaterra | I17: =Classificação!N33 -> W.O. | K17: x | M17: =Classificação!N14 -> Uruguai
B19: =Classificação!N15 -> Bélgica | C19: 1 | D19: x | E19: 1 | F19: =Classificação!N29 -> México | I19: =Classificação!N24 -> Portugal | J19: 1 | K19: x | L19: 1 | M19: =Classificação!N15 -> Bélgica
B21: =Classificação!N16 -> Suécia- WO | D21: x | F21: =Classificação!N30 -> Croácia | I21: =Classificação!N25 -> Argentina | K21: x | M21: =Classificação!N16 -> Suécia- WO
B23: =Classificação!N17 -> Nigéria- WO | D23: x | F23: =Classificação!N31 -> Russia | I23: =Classificação!N26 -> Sérvia | K23: x | M23: =Classificação!N17 -> Nigéria- WO
B25: =Classificação!N18 -> Suíça | C25: 2 | D25: x | E25: 2 | F25: =Classificação!N32 -> Polônia | I25: =Classificação!N27 -> França | J25: 3 | K25: x | L25: 3 | M25: =Classificação!N18 -> Suíça
L26: ,/
B27: =Classificação!N19 -> Dinamarca | D27: x | F27: =Classificação!N33 -> W.O. | I27: =Classificação!N28 -> Inglaterra | J27: 0 | K27: x | L27: 2 | M27: =Classificação!N19 -> Dinamarca
B31: 2º Rodada | I31: 7º Rodada
B34: =Classificação!N25 -> Argentina | C34: 0 | D34: x | E34: 3 | F34: =Classificação!N10 -> Colômbia | I34: =Classificação!N10 -> Colômbia | J34: 3 | K34: x | L34: 0 | M34: =Classificação!N30 -> Croácia
B36: =Classificação!N26 -> Sérvia | C36: 2 | D36: x | E36: 0 | F36: =Classificação!N11 -> Brasil | I36: =Classificação!N11 -> Brasil | J36: 0 | K36: x | L36: 1 | M36: =Classificação!N31 -> Russia
B38: =Classificação!N27 -> França | C38: 0 | D38: x | E38: 0 | F38: =Classificação!N12 -> Espanha | I38: =Classificação!N12 -> Espanha | J38: 0 | K38: x | L38: 3 | M38: =Classificação!N32 -> Polônia
B40: =Classificação!N28 -> Inglaterra | C40: 1 | D40: x | E40: 3 | F40: =Classificação!N13 -> Senegal | I40: =Classificação!N13 -> Senegal | K40: x | M40: =Classificação!N33 -> W.O.
B42: =Classificação!N29 -> México | C42: 0 | D42: x | E42: 0 | F42: =Classificação!N14 -> Uruguai | I42: =Classificação!N14 -> Uruguai | J42: 1 | K42: x | L42: 1 | M42: =Classificação!N24 -> Portugal
B44: =Classificação!N30 -> Croácia | C44: 2 | D44: x | E44: 0 | F44: =Classificação!N15 -> Bélgica | I44: =Classificação!N15 -> Bélgica | J44: 2 | K44: x | L44: 0 | M44: =Classificação!N25 -> Argentina
B46: =Classificação!N31 -> Russia | D46: x | F46: =Classificação!N16 -> Suécia- WO | I46: =Classificação!N16 -> Suécia- WO | K46: x | M46: =Classificação!N26 -> Sérvia
B48: =Classificação!N32 -> Polônia | D48: x | F48: =Classificação!N17 -> Nigéria- WO | I48: =Classificação!N17 -> Nigéria- WO | K48: x | M48: =Classificação!N27 -> França
B50: =Classificação!N33 -> W.O. | D50: x | F50: =Classificação!N18 -> Suíça | I50: =Classificação!N18 -> Suíça | J50: 2 | K50: x | L50: 2 | M50: =Classificação!N28 -> Inglaterra
B52: =Classificação!N24 -> Portugal | C52: 2 | D52: x | E52: 1 | F52: =Classificação!N19 -> Dinamarca | I52: =Classificação!N19 -> Dinamarca | J52: 2 | K52: x | L52: 3 | M52: =Classificação!N29 -> México
B56: 3º Rodada | I56: 8º Rodada
B59: =Classificação!N10 -> Colômbia | C59: 3 | D59: x | E59: 1 | F59: =Classificação!N26 -> Sérvia | I59: =Classificação!N31 -> Russia | J59: 0 | K59: x | L59: 4 | M59: =Classificação!N10 -> Colômbia
B61: =Classificação!N11 -> Brasil | C61: 0 | D61: x | E61: 3 | F61: =Classificação!N27 -> França | I61: =Classificação!N32 -> Polônia | J61: 3 | K61: x | L61: 1 | M61: =Classificação!N11 -> Brasil
B63: =Classificação!N12 -> Espanha | C63: 0 | D63: x | E63: 0 | F63: =Classificação!N28 -> Inglaterra | I63: =Classificação!N33 -> W.O. | K63: x | M63: =Classificação!N12 -> Espanha
B65: =Classificação!N13 -> Senegal | C65: 1 | D65: x | E65: 2 | F65: =Classificação!N29 -> México | I65: =Classificação!N24 -> Portugal | J65: 4 | K65: x | L65: 1 | M65: =Classificação!N13 -> Senegal
B67: =Classificação!N14 -> Uruguai | C67: 0 | D67: x | E67: 1 | F67: =Classificação!N30 -> Croácia | I67: =Classificação!N25 -> Argentina | J67: 2 | K67: x | L67: 1 | M67: =Classificação!N14 -> Uruguai
B69: =Classificação!N15 -> Bélgica | C69: 1 | D69: x | E69: 0 | F69: =Classificação!N31 -> Russia | I69: =Classificação!N26 -> Sérvia | J69: 0 | K69: x | L69: 1 | M69: =Classificação!N15 -> Bélgica
B71: =Classificação!N16 -> Suécia- WO | D71: x | F71: =Classificação!N32 -> Polônia | I71: =Classificação!N27 -> França | K71: x | M71: =Classificação!N16 -> Suécia- WO
B73: =Classificação!N17 -> Nigéria- WO | D73: x | F73: =Classificação!N33 -> W.O. | I73: =Classificação!N28 -> Inglaterra | K73: x | M73: =Classificação!N17 -> Nigéria- WO
B75: =Classificação!N18 -> Suíça | C75: 4 | D75: x | E75: 0 | F75: =Classificação!N24 -> Portugal | I75: =Classificação!N29 -> México | J75: 0 | K75: x | L75: 2 | M75: =Classificação!N18 -> Suíça
B77: =Classificação!N19 -> Dinamarca | C77: 3 | D77: x | E77: 0 | F77: =Classificação!N25 -> Argentina | I77: =Classificação!N30 -> Croácia | J77: 1 | K77: x | L77: 1 | M77: =Classificação!N19 -> Dinamarca
B81: 4º Rodada | I81: 9º Rodada
B84: =Classificação!N27 -> França | C84: 3 | D84: x | E84: 0 | F84: =Classificação!N10 -> Colômbia | I84: =Classificação!N10 -> Colômbia | J84: 3 | K84: x | L84: 1 | M84: =Classificação!N32 -> Polônia
B86: =Classificação!N28 -> Inglaterra | C86: 2 | D86: x | E86: 1 | F86: =Classificação!N11 -> Brasil | I86: =Classificação!N11 -> Brasil | K86: x | M86: =Classificação!N33 -> W.O.
B88: =Classificação!N29 -> México | C88: 3 | D88: x | E88: 0 | F88: =Classificação!N12 -> Espanha | I88: =Classificação!N12 -> Espanha | J88: 0 | K88: x | L88: 0 | M88: =Classificação!N24 -> Portugal
B90: =Classificação!N30 -> Croácia | C90: 0 | D90: x | E90: 3 | F90: =Classificação!N13 -> Senegal | I90: =Classificação!N13 -> Senegal | J90: 2 | K90: x | L90: 1 | M90: =Classificação!N25 -> Argentina
B92: =Classificação!N31 -> Russia | C92: 1 | D92: x | E92: 2 | F92: =Classificação!N14 -> Uruguai | I92: =Classificação!N14 -> Uruguai | J92: 0 | K92: x | L92: 4 | M92: =Classificação!N26 -> Sérvia
B94: =Classificação!N32 -> Polônia | C94: 0 | D94: x | E94: 1 | F94: =Classificação!N15 -> Bélgica | I94: =Classificação!N15 -> Bélgica | J94: 2 | K94: x | L94: 2 | M94: =Classificação!N27 -> França
B96: =Classificação!N33 -> W.O. | D96: x | F96: =Classificação!N16 -> Suécia- WO | I96: =Classificação!N16 -> Suécia- WO | K96: x | M96: =Classificação!N28 -> Inglaterra
B98: =Classificação!N24 -> Portugal | D98: x | F98: =Classificação!N17 -> Nigéria- WO | I98: =Classificação!N17 -> Nigéria- WO | K98: x | M98: =Classificação!N29 -> México
B100: =Classificação!N25 -> Argentina | C100: 1 | D100: x | E100: 1 | F100: =Classificação!N18 -> Suíça | I100: =Classificação!N18 -> Suíça | J100: 2 | K100: x | L100: 2 | M100: =Classificação!N30 -> Croácia
B102: =Classificação!N26 -> Sérvia | C102: 0 | D102: x | E102: 1 | F102: =Classificação!N19 -> Dinamarca | I102: =Classificação!N19 -> Dinamarca | J102: 2 | K102: x | L102: 1 | M102: =Classificação!N31 -> Russia
B106: 5º Rodada | I106: 10º Rodada
B109: =Classificação!N10 -> Colômbia | C109: 4 | D109: x | E109: 0 | F109: =Classificação!N28 -> Inglaterra | I109: =Classificação!N33 -> W.O. | K109: x | M109: =Classificação!N10 -> Colômbia
B111: =Classificação!N11 -> Brasil | C111: 1 | D111: x | E111: 4 | F111: =Classificação!N29 -> México | I111: =Classificação!N24 -> Portugal | J111: 3 | K111: x | L111: 0 | M111: =Classificação!N11 -> Brasil
B113: =Classificação!N12 -> Espanha | C113: 0 | D113: x | E113: 2 | F113: =Classificação!N30 -> Croácia | I113: =Classificação!N25 -> Argentina | J113: 2 | K113: x | L113: 1 | M113: =Classificação!N12 -> Espanha
B115: =Classificação!N13 -> Senegal | C115: 0 | D115: x | E115: 0 | F115: =Classificação!N31 -> Russia | I115: =Classificação!N26 -> Sérvia | J115: 1 | K115: x | L115: 2 | M115: =Classificação!N13 -> Senegal
B117: =Classificação!N14 -> Uruguai | C117: 1 | D117: x | E117: 0 | F117: =Classificação!N32 -> Polônia | I117: =Classificação!N27 -> França | J117: 2 | K117: x | L117: 3 | M117: =Classificação!N14 -> Uruguai
B119: =Classificação!N15 -> Bélgica | D119: x | F119: =Classificação!N33 -> W.O. | I119: =Classificação!N28 -> Inglaterra | J119: 1 | K119: x | L119: 0 | M119: =Classificação!N15 -> Bélgica
B121: =Classificação!N16 -> Suécia- WO | D121: x | F121: =Classificação!N24 -> Portugal | I121: =Classificação!N29 -> México | K121: x | M121: =Classificação!N16 -> Suécia- WO
B123: =Classificação!N17 -> Nigéria- WO | D123: x | F123: =Classificação!N25 -> Argentina | I123: =Classificação!N30 -> Croácia | K123: x | M123: =Classificação!N17 -> Nigéria- WO
B125: =Classificação!N18 -> Suíça | C125: 0 | D125: x | E125: 1 | F125: =Classificação!N26 -> Sérvia | I125: =Classificação!N31 -> Russia | J125: 2 | K125: x | L125: 3 | M125: =Classificação!N18 -> Suíça
B127: =Classificação!N19 -> Dinamarca | C127: 1 | D127: x | E127: 4 | F127: =Classificação!N27 -> França | I127: =Classificação!N32 -> Polônia | J127: 2 | K127: x | L127: 3 | M127: =Classificação!N19 -> Dinamarca
G132: Repescagem
B136: Dinamarca | C136: 2 | D136: x | E136: 1 | F136: Uruguai | I136: Croácia | J136: 1 | K136: x | L136: 0 | M136: Sérvia
B140: Argentina | C140: 1 | E140: 0 | F140: Bélgica | I140: Suíça | J140: 4 | L140: 1 | M140: Portugal
G145: Quartas de Final
B149: Senegal | C149: 6 | D149: x | E149: 1 | F149: Dinamarca | I149: Argentina | J149: 1 | K149: x | L149: 3 | M149: México
B153: Suíça | C153: 0 | D153: x | E153: 0 | F153: França | I153: Croácia | J153: 0 | K153: x | L153: 2 | M153: Colômbia
C154: 3 | E154: 5
G158: Semi - Final
B162: Senegal | C162: 3 | D162: x | E162: 2 | F162: Colômbia | I162: França | J162: 2 | K162: x | L162: 1 | M162: México
I166: ok
D168: 3º e 4º
I169: Campeão: | K169: =IF(I166="ok",IF(C181+C182>E181+E182,B181,F181),"") -> Senegal
B171: México | C171: 0 | E171: 4 | F171: Colômbia
I173: Vice Campeão: | K173: =IF(I166="ok",IF(C181+C182<E181+E182,B181,F181),"") -> França
I177: Terceiro: | K177: =IF(I166="ok",IF(C171+C172>E171+E172,B171,F171),"") -> Colômbia
D178: Final
B181: França | C181: 1 | E181: 2 | F181: Senegal | I181: Quarto: | K181: =IF(I166="ok",IF(C171+C172<E171+E172,B171,F171),"") -> México

Sheet Geral 2º Turno
B2: CLASSIFICAÇÃO GERAL - 2º Turno | P2: 1º FASE | AA2: OITAVAS DE FINAL | AL2: QUARTAS DE FINAL | AW2: SEMI FINAL | BI2: FINAL
B4: Posição | C4: Times | D4: Jogos | E4: Vitorias | F4: Empates | G4: Derrotas | H4: Gols Pró | I4: Gols Cont. | J4: Saldo | K4: Pontos | P4: ID_TIME | Q4: Times | R4: Jogos | S4: Vitorias | T4: Empates | U4: Derrotas | V4: Gols Pró | W4: Gols Cont. | X4: Saldo | Y4: Pontos | AA4: ID_TIME | AB4: Times | AC4: Jogos | AD4: Vitorias | AE4: Empates | AF4: Derrotas | AG4: Gols Pró | AH4: Gols Cont. | AI4: Saldo | AJ4: Pontos | AL4: ID_TIME | AM4: Times | AN4: Jogos | AO4: Vitorias | AP4: Empates | AQ4: Derrotas | AR4: Gols Pró | AS4: Gols Cont. | AT4: Saldo | AU4: Pontos | AW4: ID_TIME | AX4: Times | AY4: Jogos | AZ4: Vitorias | BA4: Empates | BB4: Derrotas | BC4: Gols Pró | BD4: Gols Cont. | BE4: Saldo | BF4: Pontos | BI4: ID_TIME | BJ4: Times | BK4: Jogos | BL4: Vitorias | BM4: Empates | BN4: Derrotas | BO4: Gols Pró | BP4: Gols Cont. | BQ4: Saldo | BR4: Pontos | BY4: ID_TIME | BZ4: Times | CA4: Jogos | CB4: Vitorias | CC4: Empates | CD4: Derrotas | CE4: Gols Pró | CF4: Gols Cont. | CG4: Saldo | CH4: Pontos
B6: 1º | C6: =VLOOKUP(CO6,$BY$6:$CH$23,2) -> #REF! | D6: =VLOOKUP(CO6,$BY$6:$CH$23,3) -> #REF! | E6: =VLOOKUP(CO6,$BY$6:$CH$23,4) -> #REF! | F6: =D6-E6-G6 -> #REF! | G6: =VLOOKUP(CO6,$BY$6:$CH$23,6) -> #REF! | H6: =VLOOKUP(CO6,$BY$6:$CH$23,7) -> #REF! | I6: =VLOOKUP(CO6,$BY$6:$CH$23,8) -> #REF! | J6: =H6-I6 -> #REF! | K6: =E6*3+F6 -> #REF! | P6: =#REF! -> #REF! | Q6: =Classificação!N10 -> Colômbia | R6: =Classificação!O10 -> 9 | S6: =Classificação!P10 -> 8 | T6: =Classificação!Q10 -> 0 | U6: =Classificação!R10 -> 1 | V6: =Classificação!S10 -> 26 | W6: =Classificação!T10 -> 6 | X6: =Classificação!U10 -> 20 | Y6: =Classificação!V10 -> 24 | Z6: =(10^10)*Y6+(10^8)*S6+(10^6)*(50+X6)+(10^4)*V6+(10^2)*R6+(13-P6) -> #REF! | AK6: 0 | AL6: =#REF! -> #REF! | AM6: =IF(ISERROR(VLOOKUP(AL6,$AL$27:$AN$34,2,FALSE)),0,(VLOOKUP(AL6,$AL$27:$AN$34,2,FALSE))) -> 0 | AN6: =IF(ISERROR(VLOOKUP(AL6,$AL$27:$AN$34,3,FALSE)),0,(VLOOKUP(AL6,$AL$27:$AN$34,3,FALSE))) -> 0 | AO6: =IF(ISERROR(VLOOKUP(AL6,$AL$27:$AO$34,4,FALSE)),0,(VLOOKUP(AL6,$AL$27:$AO$34,4,FALSE))) -> 0 | AP6: =AN6-AO6-AQ6 -> 0 | AQ6: =IF(ISERROR(VLOOKUP(AL6,$AL$27:$AQ$34,6,FALSE)),0,(VLOOKUP(AL6,$AL$27:$AQ$34,6,FALSE))) -> 0 | AR6: =IF(ISERROR(VLOOKUP(AL6,$AL$27:$AR$34,7,FALSE)),0,(VLOOKUP(AL6,$AL$27:$AR$34,7,FALSE))) -> 0 | AS6: =IF(ISERROR(VLOOKUP(AL6,$AL$27:$AS$34,8,FALSE)),0,(VLOOKUP(AL6,$AL$27:$AS$34,8,FALSE))) -> 0 | AT6: =AR6-AS6 -> 0 | AU6: =AO6*3+AP6 -> 0 | AW6: 1 | AX6: =IF(ISERROR(VLOOKUP(AW6,$AW$26:$AY$29,2,FALSE)),0,(VLOOKUP(AW6,$AW$26:$AY$29,2,FALSE))) -> 0 | AY6: =IF(ISERROR(VLOOKUP(AW6,$AW$26:$BF$29,3,FALSE)),0,(VLOOKUP(AW6,$AW$26:$BF$29,3,FALSE))) -> 0 | AZ6: =IF(ISERROR(VLOOKUP(AW6,$AW$26:$BF$29,4,FALSE)),0,(VLOOKUP(AW6,$AW$26:$BF$29,4,FALSE))) -> 0 | BA6: =AY6-AZ6-BB6 -> 0 | BB6: =IF(ISERROR(VLOOKUP(AW6,$AW$26:$BF$29,6,FALSE)),0,(VLOOKUP(AW6,$AW$26:$BF$29,6,FALSE))) -> 0 | BC6: =IF(ISERROR(VLOOKUP(AW6,$AW$26:$BF$29,7,FALSE)),0,(VLOOKUP(AW6,$AW$26:$BF$29,7,FALSE))) -> 0 | BD6: =IF(ISERROR(VLOOKUP(AW6,$AW$26:$BF$29,8,FALSE)),0,(VLOOKUP(AW6,$AW$26:$BF$29,8,FALSE))) -> 0 | BE6: =BC6-BD6 -> 0 | BF6: =AZ6*3+BA6 -> 0 | BI6: 1 | BJ6: =IF(ISERROR(VLOOKUP(BI6,$BI$26:$BK$29,2,FALSE)),0,(VLOOKUP(BI6,$BI$26:$BK$29,2,FALSE))) -> 0 | BK6: =IF(ISERROR(VLOOKUP(BI6,$BI$26:$BR$27,3,FALSE)),0,(VLOOKUP(BI6,$BI$26:$BR$27,3,FALSE))) -> 0 | BL6: =IF(ISERROR(VLOOKUP(BI6,$BI$26:$BR$27,4,FALSE)),0,(VLOOKUP(BI6,$BI$26:$BR$27,4,FALSE))) -> 0 | BM6: =BK6-BL6-BN6 -> 0 | BN6: =IF(ISERROR(VLOOKUP(BI6,$BI$26:$BR$27,6,FALSE)),0,(VLOOKUP(BI6,$BI$26:$BR$27,6,FALSE))) -> 0 | BO6: =IF(ISERROR(VLOOKUP(BI6,$BI$26:$BR$27,7,FALSE)),0,(VLOOKUP(BI6,$BI$26:$BR$27,7,FALSE))) -> 0 | BP6: =IF(ISERROR(VLOOKUP(BI6,$BI$26:$BR$27,8,FALSE)),0,(VLOOKUP(BI6,$BI$26:$BR$27,8,FALSE))) -> 0 | BQ6: =BO6-BP6 -> 0 | BR6: =BL6*3+BM6 -> 0 | BY6: =P6 -> #REF! | BZ6: =Q6 -> Colômbia | CA6: =R6+AN6+AY6+BK6 -> 9 | CB6: =S6+AO6+AZ6+BL6 -> 8 | CC6: =T6+AP6+BA6+BM6 -> 0 | CD6: =U6+AQ6+BB6+BN6 -> 1 | CE6: =V6+AR6+BC6+BO6 -> 26 | CF6: =W6+AS6+BD6+BP6 -> 6 | CG6: =X6+AT6+BE6+BQ6 -> 20 | CH6: =Y6+AU6+BF6+BR6 -> 24 | CJ6: =(10^10)*CH6+(10^8)*CB6+(10^6)*(50+CG6)+(10^4)*CE6+(10^2)*CA6+(13-BY6) -> #REF! | CK6: 1 | CL6: =LARGE($CJ$6:$CJ$23,CK6) -> #REF! | CN6: 1 | CO6: =MATCH(CL6,$CJ$6:$CJ$23,0) -> #REF!
B7: 2º | C7: =VLOOKUP(CO7,$BY$6:$CH$23,2) -> #REF! | D7: =VLOOKUP(CO7,$BY$6:$CH$23,3) -> #REF! | E7: =VLOOKUP(CO7,$BY$6:$CH$23,4) -> #REF! | F7: =D7-E7-G7 -> #REF! | G7: =VLOOKUP(CO7,$BY$6:$CH$23,6) -> #REF! | H7: =VLOOKUP(CO7,$BY$6:$CH$23,7) -> #REF! | I7: =VLOOKUP(CO7,$BY$6:$CH$23,8) -> #REF! | J7: =H7-I7 -> #REF! | K7: =E7*3+F7 -> #REF! | P7: =#REF! -> #REF! | Q7: =Classificação!N11 -> Brasil | R7: =Classificação!O11 -> 9 | S7: =Classificação!P11 -> 0 | T7: =Classificação!Q11 -> 2 | U7: =Classificação!R11 -> 7 | V7: =Classificação!S11 -> 5 | W7: =Classificação!T11 -> 20 | X7: =Classificação!U11 -> -15 | Y7: =Classificação!V11 -> 2 | Z7: =(10^10)*Y7+(10^8)*S7+(10^6)*(50+X7)+(10^4)*V7+(10^2)*R7+(13-P7) -> #REF! | AK7: 0 | AL7: =#REF! -> #REF! | AM7: =IF(ISERROR(VLOOKUP(AL7,$AL$27:$AN$34,2,FALSE)),0,(VLOOKUP(AL7,$AL$27:$AN$34,2,FALSE))) -> 0 | AN7: =IF(ISERROR(VLOOKUP(AL7,$AL$27:$AN$34,3,FALSE)),0,(VLOOKUP(AL7,$AL$27:$AN$34,3,FALSE))) -> 0 | AO7: =IF(ISERROR(VLOOKUP(AL7,$AL$27:$AO$34,4,FALSE)),0,(VLOOKUP(AL7,$AL$27:$AO$34,4,FALSE))) -> 0 | AP7: =AN7-AO7-AQ7 -> 0 | AQ7: =IF(ISERROR(VLOOKUP(AL7,$AL$27:$AQ$34,6,FALSE)),0,(VLOOKUP(AL7,$AL$27:$AQ$34,6,FALSE))) -> 0 | AR7: =IF(ISERROR(VLOOKUP(AL7,$AL$27:$AR$34,7,FALSE)),0,(VLOOKUP(AL7,$AL$27:$AR$34,7,FALSE))) -> 0 | AS7: =IF(ISERROR(VLOOKUP(AL7,$AL$27:$AS$34,8,FALSE)),0,(VLOOKUP(AL7,$AL$27:$AS$34,8,FALSE))) -> 0 | AT7: =AR7-AS7 -> 0 | AU7: =AO7*3+AP7 -> 0 | AW7: 2 | AX7: =IF(ISERROR(VLOOKUP(AW7,$AW$26:$AY$29,2,FALSE)),0,(VLOOKUP(AW7,$AW$26:$AY$29,2,FALSE))) -> 0 | AY7: =IF(ISERROR(VLOOKUP(AW7,$AW$26:$BF$29,3,FALSE)),0,(VLOOKUP(AW7,$AW$26:$BF$29,3,FALSE))) -> 0 | AZ7: =IF(ISERROR(VLOOKUP(AW7,$AW$26:$BF$29,4,FALSE)),0,(VLOOKUP(AW7,$AW$26:$BF$29,4,FALSE))) -> 0 | BA7: =AY7-AZ7-BB7 -> 0 | BB7: =IF(ISERROR(VLOOKUP(AW7,$AW$26:$BF$29,6,FALSE)),0,(VLOOKUP(AW7,$AW$26:$BF$29,6,FALSE))) -> 0 | BC7: =IF(ISERROR(VLOOKUP(AW7,$AW$26:$BF$29,7,FALSE)),0,(VLOOKUP(AW7,$AW$26:$BF$29,7,FALSE))) -> 0 | BD7: =IF(ISERROR(VLOOKUP(AW7,$AW$26:$BF$29,8,FALSE)),0,(VLOOKUP(AW7,$AW$26:$BF$29,8,FALSE))) -> 0 | BE7: =BC7-BD7 -> 0 | BF7: =AZ7*3+BA7 -> 0 | BI7: 2 | BJ7: =IF(ISERROR(VLOOKUP(BI7,$BI$26:$BK$29,2,FALSE)),0,(VLOOKUP(BI7,$BI$26:$BK$29,2,FALSE))) -> 0 | BK7: =IF(ISERROR(VLOOKUP(BI7,$BI$26:$BR$27,3,FALSE)),0,(VLOOKUP(BI7,$BI$26:$BR$27,3,FALSE))) -> 0 | BL7: =IF(ISERROR(VLOOKUP(BI7,$BI$26:$BR$27,4,FALSE)),0,(VLOOKUP(BI7,$BI$26:$BR$27,4,FALSE))) -> 0 | BM7: =BK7-BL7-BN7 -> 0 | BN7: =IF(ISERROR(VLOOKUP(BI7,$BI$26:$BR$27,6,FALSE)),0,(VLOOKUP(BI7,$BI$26:$BR$27,6,FALSE))) -> 0 | BO7: =IF(ISERROR(VLOOKUP(BI7,$BI$26:$BR$27,7,FALSE)),0,(VLOOKUP(BI7,$BI$26:$BR$27,7,FALSE))) -> 0 | BP7: =IF(ISERROR(VLOOKUP(BI7,$BI$26:$BR$27,8,FALSE)),0,(VLOOKUP(BI7,$BI$26:$BR$27,8,FALSE))) -> 0 | BQ7: =BO7-BP7 -> 0 | BR7: =BL7*3+BM7 -> 0 | BY7: =P7 -> #REF! | BZ7: =Q7 -> Brasil | CA7: =R7+AN7+AY7+BK7 -> 9 | CB7: =S7+AO7+AZ7+BL7 -> 0 | CC7: =T7+AP7+BA7+BM7 -> 2 | CD7: =U7+AQ7+BB7+BN7 -> 7 | CE7: =V7+AR7+BC7+BO7 -> 5 | CF7: =W7+AS7+BD7+BP7 -> 20 | CG7: =X7+AT7+BE7+BQ7 -> -15 | CH7: =Y7+AU7+BF7+BR7 -> 2 | CJ7: =(10^10)*CH7+(10^8)*CB7+(10^6)*(50+CG7)+(10^4)*CE7+(10^2)*CA7+(13-BY7) -> #REF! | CK7: 2 | CL7: =LARGE($CJ$6:$CJ$23,CK7) -> #REF! | CN7: 2 | CO7: =MATCH(CL7,$CJ$6:$CJ$23,0) -> #REF!
B8: 3º | C8: =VLOOKUP(CO8,$BY$6:$CH$23,2) -> #REF! | D8: =VLOOKUP(CO8,$BY$6:$CH$23,3) -> #REF! | E8: =VLOOKUP(CO8,$BY$6:$CH$23,4) -> #REF! | F8: =D8-E8-G8 -> #REF! | G8: =VLOOKUP(CO8,$BY$6:$CH$23,6) -> #REF! | H8: =VLOOKUP(CO8,$BY$6:$CH$23,7) -> #REF! | I8: =VLOOKUP(CO8,$BY$6:$CH$23,8) -> #REF! | J8: =H8-I8 -> #REF! | K8: =E8*3+F8 -> #REF! | P8: =#REF! -> #REF! | Q8: =Classificação!N12 -> Espanha | R8: =Classificação!O12 -> 9 | S8: =Classificação!P12 -> 0 | T8: =Classificação!Q12 -> 4 | U8: =Classificação!R12 -> 5 | V8: =Classificação!S12 -> 1 | W8: =Classificação!T12 -> 12 | X8: =Classificação!U12 -> -11 | Y8: =Classificação!V12 -> 4 | Z8: =(10^10)*Y8+(10^8)*S8+(10^6)*(50+X8)+(10^4)*V8+(10^2)*R8+(13-P8) -> #REF! | AK8: 0 | AL8: =#REF! -> #REF! | AM8: =IF(ISERROR(VLOOKUP(AL8,$AL$27:$AN$34,2,FALSE)),0,(VLOOKUP(AL8,$AL$27:$AN$34,2,FALSE))) -> 0 | AN8: =IF(ISERROR(VLOOKUP(AL8,$AL$27:$AN$34,3,FALSE)),0,(VLOOKUP(AL8,$AL$27:$AN$34,3,FALSE))) -> 0 | AO8: =IF(ISERROR(VLOOKUP(AL8,$AL$27:$AO$34,4,FALSE)),0,(VLOOKUP(AL8,$AL$27:$AO$34,4,FALSE))) -> 0 | AP8: =AN8-AO8-AQ8 -> 0 | AQ8: =IF(ISERROR(VLOOKUP(AL8,$AL$27:$AQ$34,6,FALSE)),0,(VLOOKUP(AL8,$AL$27:$AQ$34,6,FALSE))) -> 0 | AR8: =IF(ISERROR(VLOOKUP(AL8,$AL$27:$AR$34,7,FALSE)),0,(VLOOKUP(AL8,$AL$27:$AR$34,7,FALSE))) -> 0 | AS8: =IF(ISERROR(VLOOKUP(AL8,$AL$27:$AS$34,8,FALSE)),0,(VLOOKUP(AL8,$AL$27:$AS$34,8,FALSE))) -> 0 | AT8: =AR8-AS8 -> 0 | AU8: =AO8*3+AP8 -> 0 | AW8: 3 | AX8: =IF(ISERROR(VLOOKUP(AW8,$AW$26:$AY$29,2,FALSE)),0,(VLOOKUP(AW8,$AW$26:$AY$29,2,FALSE))) -> 0 | AY8: =IF(ISERROR(VLOOKUP(AW8,$AW$26:$BF$29,3,FALSE)),0,(VLOOKUP(AW8,$AW$26:$BF$29,3,FALSE))) -> 0 | AZ8: =IF(ISERROR(VLOOKUP(AW8,$AW$26:$BF$29,4,FALSE)),0,(VLOOKUP(AW8,$AW$26:$BF$29,4,FALSE))) -> 0 | BA8: =AY8-AZ8-BB8 -> 0 | BB8: =IF(ISERROR(VLOOKUP(AW8,$AW$26:$BF$29,6,FALSE)),0,(VLOOKUP(AW8,$AW$26:$BF$29,6,FALSE))) -> 0 | BC8: =IF(ISERROR(VLOOKUP(AW8,$AW$26:$BF$29,7,FALSE)),0,(VLOOKUP(AW8,$AW$26:$BF$29,7,FALSE))) -> 0 | BD8: =IF(ISERROR(VLOOKUP(AW8,$AW$26:$BF$29,8,FALSE)),0,(VLOOKUP(AW8,$AW$26:$BF$29,8,FALSE))) -> 0 | BE8: =BC8-BD8 -> 0 | BF8: =AZ8*3+BA8 -> 0 | BI8: 3 | BJ8: =IF(ISERROR(VLOOKUP(BI8,$BI$26:$BK$29,2,FALSE)),0,(VLOOKUP(BI8,$BI$26:$BK$29,2,FALSE))) -> 0 | BK8: =IF(ISERROR(VLOOKUP(BI8,$BI$26:$BR$27,3,FALSE)),0,(VLOOKUP(BI8,$BI$26:$BR$27,3,FALSE))) -> 0 | BL8: =IF(ISERROR(VLOOKUP(BI8,$BI$26:$BR$27,4,FALSE)),0,(VLOOKUP(BI8,$BI$26:$BR$27,4,FALSE))) -> 0 | BM8: =BK8-BL8-BN8 -> 0 | BN8: =IF(ISERROR(VLOOKUP(BI8,$BI$26:$BR$27,6,FALSE)),0,(VLOOKUP(BI8,$BI$26:$BR$27,6,FALSE))) -> 0 | BO8: =IF(ISERROR(VLOOKUP(BI8,$BI$26:$BR$27,7,FALSE)),0,(VLOOKUP(BI8,$BI$26:$BR$27,7,FALSE))) -> 0 | BP8: =IF(ISERROR(VLOOKUP(BI8,$BI$26:$BR$27,8,FALSE)),0,(VLOOKUP(BI8,$BI$26:$BR$27,8,FALSE))) -> 0 | BQ8: =BO8-BP8 -> 0 | BR8: =BL8*3+BM8 -> 0 | BY8: =P8 -> #REF! | BZ8: =Q8 -> Espanha | CA8: =R8+AN8+AY8+BK8 -> 9 | CB8: =S8+AO8+AZ8+BL8 -> 0 | CC8: =T8+AP8+BA8+BM8 -> 4 | CD8: =U8+AQ8+BB8+BN8 -> 5 | CE8: =V8+AR8+BC8+BO8 -> 1 | CF8: =W8+AS8+BD8+BP8 -> 12 | CG8: =X8+AT8+BE8+BQ8 -> -11 | CH8: =Y8+AU8+BF8+BR8 -> 4 | CJ8: =(10^10)*CH8+(10^8)*CB8+(10^6)*(50+CG8)+(10^4)*CE8+(10^2)*CA8+(13-BY8) -> #REF! | CK8: 3 | CL8: =LARGE($CJ$6:$CJ$23,CK8) -> #REF! | CN8: 3 | CO8: =MATCH(CL8,$CJ$6:$CJ$23,0) -> #REF!
B9: 4º | C9: =VLOOKUP(CO9,$BY$6:$CH$23,2) -> #REF! | D9: =VLOOKUP(CO9,$BY$6:$CH$23,3) -> #REF! | E9: =VLOOKUP(CO9,$BY$6:$CH$23,4) -> #REF! | F9: =D9-E9-G9 -> #REF! | G9: =VLOOKUP(CO9,$BY$6:$CH$23,6) -> #REF! | H9: =VLOOKUP(CO9,$BY$6:$CH$23,7) -> #REF! | I9: =VLOOKUP(CO9,$BY$6:$CH$23,8) -> #REF! | J9: =H9-I9 -> #REF! | K9: =E9*3+F9 -> #REF! | P9: =#REF! -> #REF! | Q9: =Classificação!N13 -> Senegal | R9: =Classificação!O13 -> 9 | S9: =Classificação!P13 -> 5 | T9: =Classificação!Q13 -> 2 | U9: =Classificação!R13 -> 2 | V9: =Classificação!S13 -> 16 | W9: =Classificação!T13 -> 12 | X9: =Classificação!U13 -> 4 | Y9: =Classificação!V13 -> 17 | Z9: =(10^10)*Y9+(10^8)*S9+(10^6)*(50+X9)+(10^4)*V9+(10^2)*R9+(13-P9) -> #REF! | AK9: 0 | AL9: =#REF! -> #REF! | AM9: =IF(ISERROR(VLOOKUP(AL9,$AL$27:$AN$34,2,FALSE)),0,(VLOOKUP(AL9,$AL$27:$AN$34,2,FALSE))) -> 0 | AN9: =IF(ISERROR(VLOOKUP(AL9,$AL$27:$AN$34,3,FALSE)),0,(VLOOKUP(AL9,$AL$27:$AN$34,3,FALSE))) -> 0 | AO9: =IF(ISERROR(VLOOKUP(AL9,$AL$27:$AO$34,4,FALSE)),0,(VLOOKUP(AL9,$AL$27:$AO$34,4,FALSE))) -> 0 | AP9: =AN9-AO9-AQ9 -> 0 | AQ9: =IF(ISERROR(VLOOKUP(AL9,$AL$27:$AQ$34,6,FALSE)),0,(VLOOKUP(AL9,$AL$27:$AQ$34,6,FALSE))) -> 0 | AR9: =IF(ISERROR(VLOOKUP(AL9,$AL$27:$AR$34,7,FALSE)),0,(VLOOKUP(AL9,$AL$27:$AR$34,7,FALSE))) -> 0 | AS9: =IF(ISERROR(VLOOKUP(AL9,$AL$27:$AS$34,8,FALSE)),0,(VLOOKUP(AL9,$AL$27:$AS$34,8,FALSE))) -> 0 | AT9: =AR9-AS9 -> 0 | AU9: =AO9*3+AP9 -> 0 | AW9: 4 | AX9: =IF(ISERROR(VLOOKUP(AW9,$AW$26:$AY$29,2,FALSE)),0,(VLOOKUP(AW9,$AW$26:$AY$29,2,FALSE))) -> 0 | AY9: =IF(ISERROR(VLOOKUP(AW9,$AW$26:$BF$29,3,FALSE)),0,(VLOOKUP(AW9,$AW$26:$BF$29,3,FALSE))) -> 0 | AZ9: =IF(ISERROR(VLOOKUP(AW9,$AW$26:$BF$29,4,FALSE)),0,(VLOOKUP(AW9,$AW$26:$BF$29,4,FALSE))) -> 0 | BA9: =AY9-AZ9-BB9 -> 0 | BB9: =IF(ISERROR(VLOOKUP(AW9,$AW$26:$BF$29,6,FALSE)),0,(VLOOKUP(AW9,$AW$26:$BF$29,6,FALSE))) -> 0 | BC9: =IF(ISERROR(VLOOKUP(AW9,$AW$26:$BF$29,7,FALSE)),0,(VLOOKUP(AW9,$AW$26:$BF$29,7,FALSE))) -> 0 | BD9: =IF(ISERROR(VLOOKUP(AW9,$AW$26:$BF$29,8,FALSE)),0,(VLOOKUP(AW9,$AW$26:$BF$29,8,FALSE))) -> 0 | BE9: =BC9-BD9 -> 0 | BF9: =AZ9*3+BA9 -> 0 | BI9: 4 | BJ9: =IF(ISERROR(VLOOKUP(BI9,$BI$26:$BK$29,2,FALSE)),0,(VLOOKUP(BI9,$BI$26:$BK$29,2,FALSE))) -> 0 | BK9: =IF(ISERROR(VLOOKUP(BI9,$BI$26:$BR$27,3,FALSE)),0,(VLOOKUP(BI9,$BI$26:$BR$27,3,FALSE))) -> 0 | BL9: =IF(ISERROR(VLOOKUP(BI9,$BI$26:$BR$27,4,FALSE)),0,(VLOOKUP(BI9,$BI$26:$BR$27,4,FALSE))) -> 0 | BM9: =BK9-BL9-BN9 -> 0 | BN9: =IF(ISERROR(VLOOKUP(BI9,$BI$26:$BR$27,6,FALSE)),0,(VLOOKUP(BI9,$BI$26:$BR$27,6,FALSE))) -> 0 | BO9: =IF(ISERROR(VLOOKUP(BI9,$BI$26:$BR$27,7,FALSE)),0,(VLOOKUP(BI9,$BI$26:$BR$27,7,FALSE))) -> 0 | BP9: =IF(ISERROR(VLOOKUP(BI9,$BI$26:$BR$27,8,FALSE)),0,(VLOOKUP(BI9,$BI$26:$BR$27,8,FALSE))) -> 0 | BQ9: =BO9-BP9 -> 0 | BR9: =BL9*3+BM9 -> 0 | BY9: =P9 -> #REF! | BZ9: =Q9 -> Senegal | CA9: =R9+AN9+AY9+BK9 -> 9 | CB9: =S9+AO9+AZ9+BL9 -> 5 | CC9: =T9+AP9+BA9+BM9 -> 2 | CD9: =U9+AQ9+BB9+BN9 -> 2 | CE9: =V9+AR9+BC9+BO9 -> 16 | CF9: =W9+AS9+BD9+BP9 -> 12 | CG9: =X9+AT9+BE9+BQ9 -> 4 | CH9: =Y9+AU9+BF9+BR9 -> 17 | CJ9: =(10^10)*CH9+(10^8)*CB9+(10^6)*(50+CG9)+(10^4)*CE9+(10^2)*CA9+(13-BY9) -> #REF! | CK9: 4 | CL9: =LARGE($CJ$6:$CJ$23,CK9) -> #REF! | CN9: 4 | CO9: =MATCH(CL9,$CJ$6:$CJ$23,0) -> #REF!
B10: 5º | C10: =VLOOKUP(CO10,$BY$6:$CH$23,2) -> #REF! | D10: =VLOOKUP(CO10,$BY$6:$CH$23,3) -> #REF! | E10: =VLOOKUP(CO10,$BY$6:$CH$23,4) -> #REF! | F10: =D10-E10-G10 -> #REF! | G10: =VLOOKUP(CO10,$BY$6:$CH$23,6) -> #REF! | H10: =VLOOKUP(CO10,$BY$6:$CH$23,7) -> #REF! | I10: =VLOOKUP(CO10,$BY$6:$CH$23,8) -> #REF! | J10: =H10-I10 -> #REF! | K10: =E10*3+F10 -> #REF! | P10: =#REF! -> #REF! | Q10: =Classificação!N14 -> Uruguai | R10: =Classificação!O14 -> 9 | S10: =Classificação!P14 -> 4 | T10: =Classificação!Q14 -> 2 | U10: =Classificação!R14 -> 3 | V10: =Classificação!S14 -> 10 | W10: =Classificação!T14 -> 11 | X10: =Classificação!U14 -> -1 | Y10: =Classificação!V14 -> 14 | Z10: =(10^10)*Y10+(10^8)*S10+(10^6)*(50+X10)+(10^4)*V10+(10^2)*R10+(13-P10) -> #REF! | AK10: 0 | AL10: =#REF! -> #REF! | AM10: =IF(ISERROR(VLOOKUP(AL10,$AL$27:$AN$34,2,FALSE)),0,(VLOOKUP(AL10,$AL$27:$AN$34,2,FALSE))) -> 0 | AN10: =IF(ISERROR(VLOOKUP(AL10,$AL$27:$AN$34,3,FALSE)),0,(VLOOKUP(AL10,$AL$27:$AN$34,3,FALSE))) -> 0 | AO10: =IF(ISERROR(VLOOKUP(AL10,$AL$27:$AO$34,4,FALSE)),0,(VLOOKUP(AL10,$AL$27:$AO$34,4,FALSE))) -> 0 | AP10: =AN10-AO10-AQ10 -> 0 | AQ10: =IF(ISERROR(VLOOKUP(AL10,$AL$27:$AQ$34,6,FALSE)),0,(VLOOKUP(AL10,$AL$27:$AQ$34,6,FALSE))) -> 0 | AR10: =IF(ISERROR(VLOOKUP(AL10,$AL$27:$AR$34,7,FALSE)),0,(VLOOKUP(AL10,$AL$27:$AR$34,7,FALSE))) -> 0 | AS10: =IF(ISERROR(VLOOKUP(AL10,$AL$27:$AS$34,8,FALSE)),0,(VLOOKUP(AL10,$AL$27:$AS$34,8,FALSE))) -> 0 | AT10: =AR10-AS10 -> 0 | AU10: =AO10*3+AP10 -> 0 | AW10: 5 | AX10: =IF(ISERROR(VLOOKUP(AW10,$AW$26:$AY$29,2,FALSE)),0,(VLOOKUP(AW10,$AW$26:$AY$29,2,FALSE))) -> 0 | AY10: =IF(ISERROR(VLOOKUP(AW10,$AW$26:$BF$29,3,FALSE)),0,(VLOOKUP(AW10,$AW$26:$BF$29,3,FALSE))) -> 0 | AZ10: =IF(ISERROR(VLOOKUP(AW10,$AW$26:$BF$29,4,FALSE)),0,(VLOOKUP(AW10,$AW$26:$BF$29,4,FALSE))) -> 0 | BA10: =AY10-AZ10-BB10 -> 0 | BB10: =IF(ISERROR(VLOOKUP(AW10,$AW$26:$BF$29,6,FALSE)),0,(VLOOKUP(AW10,$AW$26:$BF$29,6,FALSE))) -> 0 | BC10: =IF(ISERROR(VLOOKUP(AW10,$AW$26:$BF$29,7,FALSE)),0,(VLOOKUP(AW10,$AW$26:$BF$29,7,FALSE))) -> 0 | BD10: =IF(ISERROR(VLOOKUP(AW10,$AW$26:$BF$29,8,FALSE)),0,(VLOOKUP(AW10,$AW$26:$BF$29,8,FALSE))) -> 0 | BE10: =BC10-BD10 -> 0 | BF10: =AZ10*3+BA10 -> 0 | BI10: 5 | BJ10: =IF(ISERROR(VLOOKUP(BI10,$BI$26:$BK$29,2,FALSE)),0,(VLOOKUP(BI10,$BI$26:$BK$29,2,FALSE))) -> 0 | BK10: =IF(ISERROR(VLOOKUP(BI10,$BI$26:$BR$27,3,FALSE)),0,(VLOOKUP(BI10,$BI$26:$BR$27,3,FALSE))) -> 0 | BL10: =IF(ISERROR(VLOOKUP(BI10,$BI$26:$BR$27,4,FALSE)),0,(VLOOKUP(BI10,$BI$26:$BR$27,4,FALSE))) -> 0 | BM10: =BK10-BL10-BN10 -> 0 | BN10: =IF(ISERROR(VLOOKUP(BI10,$BI$26:$BR$27,6,FALSE)),0,(VLOOKUP(BI10,$BI$26:$BR$27,6,FALSE))) -> 0 | BO10: =IF(ISERROR(VLOOKUP(BI10,$BI$26:$BR$27,7,FALSE)),0,(VLOOKUP(BI10,$BI$26:$BR$27,7,FALSE))) -> 0 | BP10: =IF(ISERROR(VLOOKUP(BI10,$BI$26:$BR$27,8,FALSE)),0,(VLOOKUP(BI10,$BI$26:$BR$27,8,FALSE))) -> 0 | BQ10: =BO10-BP10 -> 0 | BR10: =BL10*3+BM10 -> 0 | BY10: =P10 -> #REF! | BZ10: =Q10 -> Uruguai | CA10: =R10+AN10+AY10+BK10 -> 9 | CB10: =S10+AO10+AZ10+BL10 -> 4 | CC10: =T10+AP10+BA10+BM10 -> 2 | CD10: =U10+AQ10+BB10+BN10 -> 3 | CE10: =V10+AR10+BC10+BO10 -> 10 | CF10: =W10+AS10+BD10+BP10 -> 11 | CG10: =X10+AT10+BE10+BQ10 -> -1 | CH10: =Y10+AU10+BF10+BR10 -> 14 | CJ10: =(10^10)*CH10+(10^8)*CB10+(10^6)*(50+CG10)+(10^4)*CE10+(10^2)*CA10+(13-BY10) -> #REF! | CK10: 5 | CL10: =LARGE($CJ$6:$CJ$23,CK10) -> #REF! | CN10: 5 | CO10: =MATCH(CL10,$CJ$6:$CJ$23,0) -> #REF!
B11: 6º | C11: =VLOOKUP(CO11,$BY$6:$CH$23,2) -> #REF! | D11: =VLOOKUP(CO11,$BY$6:$CH$23,3) -> #REF! | E11: =VLOOKUP(CO11,$BY$6:$CH$23,4) -> #REF! | F11: =D11-E11-G11 -> #REF! | G11: =VLOOKUP(CO11,$BY$6:$CH$23,6) -> #REF! | H11: =VLOOKUP(CO11,$BY$6:$CH$23,7) -> #REF! | I11: =VLOOKUP(CO11,$BY$6:$CH$23,8) -> #REF! | J11: =H11-I11 -> #REF! | K11: =E11*3+F11 -> #REF! | P11: =#REF! -> #REF! | Q11: =Classificação!N15 -> Bélgica | R11: =Classificação!O15 -> 9 | S11: =Classificação!P15 -> 4 | T11: =Classificação!Q15 -> 3 | U11: =Classificação!R15 -> 2 | V11: =Classificação!S15 -> 9 | W11: =Classificação!T15 -> 7 | X11: =Classificação!U15 -> 2 | Y11: =Classificação!V15 -> 15 | Z11: =(10^10)*Y11+(10^8)*S11+(10^6)*(50+X11)+(10^4)*V11+(10^2)*R11+(13-P11) -> #REF! | AK11: 0 | AL11: =#REF! -> #REF! | AM11: =IF(ISERROR(VLOOKUP(AL11,$AL$27:$AN$34,2,FALSE)),0,(VLOOKUP(AL11,$AL$27:$AN$34,2,FALSE))) -> 0 | AN11: =IF(ISERROR(VLOOKUP(AL11,$AL$27:$AN$34,3,FALSE)),0,(VLOOKUP(AL11,$AL$27:$AN$34,3,FALSE))) -> 0 | AO11: =IF(ISERROR(VLOOKUP(AL11,$AL$27:$AO$34,4,FALSE)),0,(VLOOKUP(AL11,$AL$27:$AO$34,4,FALSE))) -> 0 | AP11: =AN11-AO11-AQ11 -> 0 | AQ11: =IF(ISERROR(VLOOKUP(AL11,$AL$27:$AQ$34,6,FALSE)),0,(VLOOKUP(AL11,$AL$27:$AQ$34,6,FALSE))) -> 0 | AR11: =IF(ISERROR(VLOOKUP(AL11,$AL$27:$AR$34,7,FALSE)),0,(VLOOKUP(AL11,$AL$27:$AR$34,7,FALSE))) -> 0 | AS11: =IF(ISERROR(VLOOKUP(AL11,$AL$27:$AS$34,8,FALSE)),0,(VLOOKUP(AL11,$AL$27:$AS$34,8,FALSE))) -> 0 | AT11: =AR11-AS11 -> 0 | AU11: =AO11*3+AP11 -> 0 | AW11: 6 | AX11: =IF(ISERROR(VLOOKUP(AW11,$AW$26:$AY$29,2,FALSE)),0,(VLOOKUP(AW11,$AW$26:$AY$29,2,FALSE))) -> 0 | AY11: =IF(ISERROR(VLOOKUP(AW11,$AW$26:$BF$29,3,FALSE)),0,(VLOOKUP(AW11,$AW$26:$BF$29,3,FALSE))) -> 0 | AZ11: =IF(ISERROR(VLOOKUP(AW11,$AW$26:$BF$29,4,FALSE)),0,(VLOOKUP(AW11,$AW$26:$BF$29,4,FALSE))) -> 0 | BA11: =AY11-AZ11-BB11 -> 0 | BB11: =IF(ISERROR(VLOOKUP(AW11,$AW$26:$BF$29,6,FALSE)),0,(VLOOKUP(AW11,$AW$26:$BF$29,6,FALSE))) -> 0 | BC11: =IF(ISERROR(VLOOKUP(AW11,$AW$26:$BF$29,7,FALSE)),0,(VLOOKUP(AW11,$AW$26:$BF$29,7,FALSE))) -> 0 | BD11: =IF(ISERROR(VLOOKUP(AW11,$AW$26:$BF$29,8,FALSE)),0,(VLOOKUP(AW11,$AW$26:$BF$29,8,FALSE))) -> 0 | BE11: =BC11-BD11 -> 0 | BF11: =AZ11*3+BA11 -> 0 | BI11: 6 | BJ11: =IF(ISERROR(VLOOKUP(BI11,$BI$26:$BK$29,2,FALSE)),0,(VLOOKUP(BI11,$BI$26:$BK$29,2,FALSE))) -> 0 | BK11: =IF(ISERROR(VLOOKUP(BI11,$BI$26:$BR$27,3,FALSE)),0,(VLOOKUP(BI11,$BI$26:$BR$27,3,FALSE))) -> 0 | BL11: =IF(ISERROR(VLOOKUP(BI11,$BI$26:$BR$27,4,FALSE)),0,(VLOOKUP(BI11,$BI$26:$BR$27,4,FALSE))) -> 0 | BM11: =BK11-BL11-BN11 -> 0 | BN11: =IF(ISERROR(VLOOKUP(BI11,$BI$26:$BR$27,6,FALSE)),0,(VLOOKUP(BI11,$BI$26:$BR$27,6,FALSE))) -> 0 | BO11: =IF(ISERROR(VLOOKUP(BI11,$BI$26:$BR$27,7,FALSE)),0,(VLOOKUP(BI11,$BI$26:$BR$27,7,FALSE))) -> 0 | BP11: =IF(ISERROR(VLOOKUP(BI11,$BI$26:$BR$27,8,FALSE)),0,(VLOOKUP(BI11,$BI$26:$BR$27,8,FALSE))) -> 0 | BQ11: =BO11-BP11 -> 0 | BR11: =BL11*3+BM11 -> 0 | BY11: =P11 -> #REF! | BZ11: =Q11 -> Bélgica | CA11: =R11+AN11+AY11+BK11 -> 9 | CB11: =S11+AO11+AZ11+BL11 -> 4 | CC11: =T11+AP11+BA11+BM11 -> 3 | CD11: =U11+AQ11+BB11+BN11 -> 2 | CE11: =V11+AR11+BC11+BO11 -> 9 | CF11: =W11+AS11+BD11+BP11 -> 7 | CG11: =X11+AT11+BE11+BQ11 -> 2 | CH11: =Y11+AU11+BF11+BR11 -> 15 | CJ11: =(10^10)*CH11+(10^8)*CB11+(10^6)*(50+CG11)+(10^4)*CE11+(10^2)*CA11+(13-BY11) -> #REF! | CK11: 6 | CL11: =LARGE($CJ$6:$CJ$23,CK11) -> #REF! | CN11: 6 | CO11: =MATCH(CL11,$CJ$6:$CJ$23,0) -> #REF!
B12: 7º | C12: =VLOOKUP(CO12,$BY$6:$CH$23,2) -> #REF! | D12: =VLOOKUP(CO12,$BY$6:$CH$23,3) -> #REF! | E12: =VLOOKUP(CO12,$BY$6:$CH$23,4) -> #REF! | F12: =D12-E12-G12 -> #REF! | G12: =VLOOKUP(CO12,$BY$6:$CH$23,6) -> #REF! | H12: =VLOOKUP(CO12,$BY$6:$CH$23,7) -> #REF! | I12: =VLOOKUP(CO12,$BY$6:$CH$23,8) -> #REF! | J12: =H12-I12 -> #REF! | K12: =E12*3+F12 -> #REF! | P12: =#REF! -> #REF! | Q12: =Classificação!N16 -> Suécia- WO | R12: =Classificação!O16 -> 0 | S12: =Classificação!P16 -> 0 | T12: =Classificação!Q16 -> 0 | U12: =Classificação!R16 -> 0 | V12: =Classificação!S16 -> 0 | W12: =Classificação!T16 -> 0 | X12: =Classificação!U16 -> 0 | Y12: =Classificação!V16 -> 0 | Z12: =(10^10)*Y12+(10^8)*S12+(10^6)*(50+X12)+(10^4)*V12+(10^2)*R12+(13-P12) -> #REF! | AK12: 0 | AL12: =#REF! -> #REF! | AM12: =IF(ISERROR(VLOOKUP(AL12,$AL$27:$AN$34,2,FALSE)),0,(VLOOKUP(AL12,$AL$27:$AN$34,2,FALSE))) -> 0 | AN12: =IF(ISERROR(VLOOKUP(AL12,$AL$27:$AN$34,3,FALSE)),0,(VLOOKUP(AL12,$AL$27:$AN$34,3,FALSE))) -> 0 | AO12: =IF(ISERROR(VLOOKUP(AL12,$AL$27:$AO$34,4,FALSE)),0,(VLOOKUP(AL12,$AL$27:$AO$34,4,FALSE))) -> 0 | AP12: =AN12-AO12-AQ12 -> 0 | AQ12: =IF(ISERROR(VLOOKUP(AL12,$AL$27:$AQ$34,6,FALSE)),0,(VLOOKUP(AL12,$AL$27:$AQ$34,6,FALSE))) -> 0 | AR12: =IF(ISERROR(VLOOKUP(AL12,$AL$27:$AR$34,7,FALSE)),0,(VLOOKUP(AL12,$AL$27:$AR$34,7,FALSE))) -> 0 | AS12: =IF(ISERROR(VLOOKUP(AL12,$AL$27:$AS$34,8,FALSE)),0,(VLOOKUP(AL12,$AL$27:$AS$34,8,FALSE))) -> 0 | AT12: =AR12-AS12 -> 0 | AU12: =AO12*3+AP12 -> 0 | AW12: 7 | AX12: =IF(ISERROR(VLOOKUP(AW12,$AW$26:$AY$29,2,FALSE)),0,(VLOOKUP(AW12,$AW$26:$AY$29,2,FALSE))) -> 0 | AY12: =IF(ISERROR(VLOOKUP(AW12,$AW$26:$BF$29,3,FALSE)),0,(VLOOKUP(AW12,$AW$26:$BF$29,3,FALSE))) -> 0 | AZ12: =IF(ISERROR(VLOOKUP(AW12,$AW$26:$BF$29,4,FALSE)),0,(VLOOKUP(AW12,$AW$26:$BF$29,4,FALSE))) -> 0 | BA12: =AY12-AZ12-BB12 -> 0 | BB12: =IF(ISERROR(VLOOKUP(AW12,$AW$26:$BF$29,6,FALSE)),0,(VLOOKUP(AW12,$AW$26:$BF$29,6,FALSE))) -> 0 | BC12: =IF(ISERROR(VLOOKUP(AW12,$AW$26:$BF$29,7,FALSE)),0,(VLOOKUP(AW12,$AW$26:$BF$29,7,FALSE))) -> 0 | BD12: =IF(ISERROR(VLOOKUP(AW12,$AW$26:$BF$29,8,FALSE)),0,(VLOOKUP(AW12,$AW$26:$BF$29,8,FALSE))) -> 0 | BE12: =BC12-BD12 -> 0 | BF12: =AZ12*3+BA12 -> 0 | BI12: 7 | BJ12: =IF(ISERROR(VLOOKUP(BI12,$BI$26:$BK$29,2,FALSE)),0,(VLOOKUP(BI12,$BI$26:$BK$29,2,FALSE))) -> 0 | BK12: =IF(ISERROR(VLOOKUP(BI12,$BI$26:$BR$27,3,FALSE)),0,(VLOOKUP(BI12,$BI$26:$BR$27,3,FALSE))) -> 0 | BL12: =IF(ISERROR(VLOOKUP(BI12,$BI$26:$BR$27,4,FALSE)),0,(VLOOKUP(BI12,$BI$26:$BR$27,4,FALSE))) -> 0 | BM12: =BK12-BL12-BN12 -> 0 | BN12: =IF(ISERROR(VLOOKUP(BI12,$BI$26:$BR$27,6,FALSE)),0,(VLOOKUP(BI12,$BI$26:$BR$27,6,FALSE))) -> 0 | BO12: =IF(ISERROR(VLOOKUP(BI12,$BI$26:$BR$27,7,FALSE)),0,(VLOOKUP(BI12,$BI$26:$BR$27,7,FALSE))) -> 0 | BP12: =IF(ISERROR(VLOOKUP(BI12,$BI$26:$BR$27,8,FALSE)),0,(VLOOKUP(BI12,$BI$26:$BR$27,8,FALSE))) -> 0 | BQ12: =BO12-BP12 -> 0 | BR12: =BL12*3+BM12 -> 0 | BY12: =P12 -> #REF! | BZ12: =Q12 -> Suécia- WO | CA12: =R12+AN12+AY12+BK12 -> 0 | CB12: =S12+AO12+AZ12+BL12 -> 0 | CC12: =T12+AP12+BA12+BM12 -> 0 | CD12: =U12+AQ12+BB12+BN12 -> 0 | CE12: =V12+AR12+BC12+BO12 -> 0 | CF12: =W12+AS12+BD12+BP12 -> 0 | CG12: =X12+AT12+BE12+BQ12 -> 0 | CH12: =Y12+AU12+BF12+BR12 -> 0 | CJ12: =(10^10)*CH12+(10^8)*CB12+(10^6)*(50+CG12)+(10^4)*CE12+(10^2)*CA12+(13-BY12) -> #REF! | CK12: 7 | CL12: =LARGE($CJ$6:$CJ$23,CK12) -> #REF! | CN12: 7 | CO12: =MATCH(CL12,$CJ$6:$CJ$23,0) -> #REF!
B13: 8º | C13: =VLOOKUP(CO13,$BY$6:$CH$23,2) -> #REF! | D13: =VLOOKUP(CO13,$BY$6:$CH$23,3) -> #REF! | E13: =VLOOKUP(CO13,$BY$6:$CH$23,4) -> #REF! | F13: =D13-E13-G13 -> #REF! | G13: =VLOOKUP(CO13,$BY$6:$CH$23,6) -> #REF! | H13: =VLOOKUP(CO13,$BY$6:$CH$23,7) -> #REF! | I13: =VLOOKUP(CO13,$BY$6:$CH$23,8) -> #REF! | J13: =H13-I13 -> #REF! | K13: =E13*3+F13 -> #REF! | P13: =#REF! -> #REF! | Q13: =Classificação!N17 -> Nigéria- WO | R13: =Classificação!O17 -> 0 | S13: =Classificação!P17 -> 0 | T13: =Classificação!Q17 -> 0 | U13: =Classificação!R17 -> 0 | V13: =Classificação!S17 -> 0 | W13: =Classificação!T17 -> 0 | X13: =Classificação!U17 -> 0 | Y13: =Classificação!V17 -> 0 | Z13: =(10^10)*Y13+(10^8)*S13+(10^6)*(50+X13)+(10^4)*V13+(10^2)*R13+(13-P13) -> #REF! | AK13: 0 | AL13: =#REF! -> #REF! | AM13: =IF(ISERROR(VLOOKUP(AL13,$AL$27:$AN$34,2,FALSE)),0,(VLOOKUP(AL13,$AL$27:$AN$34,2,FALSE))) -> 0 | AN13: =IF(ISERROR(VLOOKUP(AL13,$AL$27:$AN$34,3,FALSE)),0,(VLOOKUP(AL13,$AL$27:$AN$34,3,FALSE))) -> 0 | AO13: =IF(ISERROR(VLOOKUP(AL13,$AL$27:$AO$34,4,FALSE)),0,(VLOOKUP(AL13,$AL$27:$AO$34,4,FALSE))) -> 0 | AP13: =AN13-AO13-AQ13 -> 0 | AQ13: =IF(ISERROR(VLOOKUP(AL13,$AL$27:$AQ$34,6,FALSE)),0,(VLOOKUP(AL13,$AL$27:$AQ$34,6,FALSE))) -> 0 | AR13: =IF(ISERROR(VLOOKUP(AL13,$AL$27:$AR$34,7,FALSE)),0,(VLOOKUP(AL13,$AL$27:$AR$34,7,FALSE))) -> 0 | AS13: =IF(ISERROR(VLOOKUP(AL13,$AL$27:$AS$34,8,FALSE)),0,(VLOOKUP(AL13,$AL$27:$AS$34,8,FALSE))) -> 0 | AT13: =AR13-AS13 -> 0 | AU13: =AO13*3+AP13 -> 0 | AW13: 8 | AX13: =IF(ISERROR(VLOOKUP(AW13,$AW$26:$AY$29,2,FALSE)),0,(VLOOKUP(AW13,$AW$26:$AY$29,2,FALSE))) -> 0 | AY13: =IF(ISERROR(VLOOKUP(AW13,$AW$26:$BF$29,3,FALSE)),0,(VLOOKUP(AW13,$AW$26:$BF$29,3,FALSE))) -> 0 | AZ13: =IF(ISERROR(VLOOKUP(AW13,$AW$26:$BF$29,4,FALSE)),0,(VLOOKUP(AW13,$AW$26:$BF$29,4,FALSE))) -> 0 | BA13: =AY13-AZ13-BB13 -> 0 | BB13: =IF(ISERROR(VLOOKUP(AW13,$AW$26:$BF$29,6,FALSE)),0,(VLOOKUP(AW13,$AW$26:$BF$29,6,FALSE))) -> 0 | BC13: =IF(ISERROR(VLOOKUP(AW13,$AW$26:$BF$29,7,FALSE)),0,(VLOOKUP(AW13,$AW$26:$BF$29,7,FALSE))) -> 0 | BD13: =IF(ISERROR(VLOOKUP(AW13,$AW$26:$BF$29,8,FALSE)),0,(VLOOKUP(AW13,$AW$26:$BF$29,8,FALSE))) -> 0 | BE13: =BC13-BD13 -> 0 | BF13: =AZ13*3+BA13 -> 0 | BI13: 8 | BJ13: =IF(ISERROR(VLOOKUP(BI13,$BI$26:$BK$29,2,FALSE)),0,(VLOOKUP(BI13,$BI$26:$BK$29,2,FALSE))) -> 0 | BK13: =IF(ISERROR(VLOOKUP(BI13,$BI$26:$BR$27,3,FALSE)),0,(VLOOKUP(BI13,$BI$26:$BR$27,3,FALSE))) -> 0 | BL13: =IF(ISERROR(VLOOKUP(BI13,$BI$26:$BR$27,4,FALSE)),0,(VLOOKUP(BI13,$BI$26:$BR$27,4,FALSE))) -> 0 | BM13: =BK13-BL13-BN13 -> 0 | BN13: =IF(ISERROR(VLOOKUP(BI13,$BI$26:$BR$27,6,FALSE)),0,(VLOOKUP(BI13,$BI$26:$BR$27,6,FALSE))) -> 0 | BO13: =IF(ISERROR(VLOOKUP(BI13,$BI$26:$BR$27,7,FALSE)),0,(VLOOKUP(BI13,$BI$26:$BR$27,7,FALSE))) -> 0 | BP13: =IF(ISERROR(VLOOKUP(BI13,$BI$26:$BR$27,8,FALSE)),0,(VLOOKUP(BI13,$BI$26:$BR$27,8,FALSE))) -> 0 | BQ13: =BO13-BP13 -> 0 | BR13: =BL13*3+BM13 -> 0 | BY13: =P13 -> #REF! | BZ13: =Q13 -> Nigéria- WO | CA13: =R13+AN13+AY13+BK13 -> 0 | CB13: =S13+AO13+AZ13+BL13 -> 0 | CC13: =T13+AP13+BA13+BM13 -> 0 | CD13: =U13+AQ13+BB13+BN13 -> 0 | CE13: =V13+AR13+BC13+BO13 -> 0 | CF13: =W13+AS13+BD13+BP13 -> 0 | CG13: =X13+AT13+BE13+BQ13 -> 0 | CH13: =Y13+AU13+BF13+BR13 -> 0 | CJ13: =(10^10)*CH13+(10^8)*CB13+(10^6)*(50+CG13)+(10^4)*CE13+(10^2)*CA13+(13-BY13) -> #REF! | CK13: 8 | CL13: =LARGE($CJ$6:$CJ$23,CK13) -> #REF! | CN13: 8 | CO13: =MATCH(CL13,$CJ$6:$CJ$23,0) -> #REF!
B14: 9º | C14: =VLOOKUP(CO14,$BY$6:$CH$23,2) -> #REF! | D14: =VLOOKUP(CO14,$BY$6:$CH$23,3) -> #REF! | E14: =VLOOKUP(CO14,$BY$6:$CH$23,4) -> #REF! | F14: =D14-E14-G14 -> #REF! | G14: =VLOOKUP(CO14,$BY$6:$CH$23,6) -> #REF! | H14: =VLOOKUP(CO14,$BY$6:$CH$23,7) -> #REF! | I14: =VLOOKUP(CO14,$BY$6:$CH$23,8) -> #REF! | J14: =H14-I14 -> #REF! | K14: =E14*3+F14 -> #REF! | P14: =#REF! -> #REF! | Q14: =Classificação!N18 -> Suíça | R14: =Classificação!O18 -> 9 | S14: =Classificação!P18 -> 3 | T14: =Classificação!Q18 -> 5 | U14: =Classificação!R18 -> 1 | V14: =Classificação!S18 -> 19 | W14: =Classificação!T18 -> 13 | X14: =Classificação!U18 -> 6 | Y14: =Classificação!V18 -> 14 | Z14: =(10^10)*Y14+(10^8)*S14+(10^6)*(50+X14)+(10^4)*V14+(10^2)*R14+(13-P14) -> #REF! | AK14: 0 | AL14: =#REF! -> #REF! | AM14: =IF(ISERROR(VLOOKUP(AL14,$AL$27:$AN$34,2,FALSE)),0,(VLOOKUP(AL14,$AL$27:$AN$34,2,FALSE))) -> 0 | AN14: =IF(ISERROR(VLOOKUP(AL14,$AL$27:$AN$34,3,FALSE)),0,(VLOOKUP(AL14,$AL$27:$AN$34,3,FALSE))) -> 0 | AO14: =IF(ISERROR(VLOOKUP(AL14,$AL$27:$AO$34,4,FALSE)),0,(VLOOKUP(AL14,$AL$27:$AO$34,4,FALSE))) -> 0 | AP14: =AN14-AO14-AQ14 -> 0 | AQ14: =IF(ISERROR(VLOOKUP(AL14,$AL$27:$AQ$34,6,FALSE)),0,(VLOOKUP(AL14,$AL$27:$AQ$34,6,FALSE))) -> 0 | AR14: =IF(ISERROR(VLOOKUP(AL14,$AL$27:$AR$34,7,FALSE)),0,(VLOOKUP(AL14,$AL$27:$AR$34,7,FALSE))) -> 0 | AS14: =IF(ISERROR(VLOOKUP(AL14,$AL$27:$AS$34,8,FALSE)),0,(VLOOKUP(AL14,$AL$27:$AS$34,8,FALSE))) -> 0 | AT14: =AR14-AS14 -> 0 | AU14: =AO14*3+AP14 -> 0 | AW14: 9 | AX14: =IF(ISERROR(VLOOKUP(AW14,$AW$26:$AY$29,2,FALSE)),0,(VLOOKUP(AW14,$AW$26:$AY$29,2,FALSE))) -> 0 | AY14: =IF(ISERROR(VLOOKUP(AW14,$AW$26:$BF$29,3,FALSE)),0,(VLOOKUP(AW14,$AW$26:$BF$29,3,FALSE))) -> 0 | AZ14: =IF(ISERROR(VLOOKUP(AW14,$AW$26:$BF$29,4,FALSE)),0,(VLOOKUP(AW14,$AW$26:$BF$29,4,FALSE))) -> 0 | BA14: =AY14-AZ14-BB14 -> 0 | BB14: =IF(ISERROR(VLOOKUP(AW14,$AW$26:$BF$29,6,FALSE)),0,(VLOOKUP(AW14,$AW$26:$BF$29,6,FALSE))) -> 0 | BC14: =IF(ISERROR(VLOOKUP(AW14,$AW$26:$BF$29,7,FALSE)),0,(VLOOKUP(AW14,$AW$26:$BF$29,7,FALSE))) -> 0 | BD14: =IF(ISERROR(VLOOKUP(AW14,$AW$26:$BF$29,8,FALSE)),0,(VLOOKUP(AW14,$AW$26:$BF$29,8,FALSE))) -> 0 | BE14: =BC14-BD14 -> 0 | BF14: =AZ14*3+BA14 -> 0 | BI14: 9 | BJ14: =IF(ISERROR(VLOOKUP(BI14,$BI$26:$BK$29,2,FALSE)),0,(VLOOKUP(BI14,$BI$26:$BK$29,2,FALSE))) -> 0 | BK14: =IF(ISERROR(VLOOKUP(BI14,$BI$26:$BR$27,3,FALSE)),0,(VLOOKUP(BI14,$BI$26:$BR$27,3,FALSE))) -> 0 | BL14: =IF(ISERROR(VLOOKUP(BI14,$BI$26:$BR$27,4,FALSE)),0,(VLOOKUP(BI14,$BI$26:$BR$27,4,FALSE))) -> 0 | BM14: =BK14-BL14-BN14 -> 0 | BN14: =IF(ISERROR(VLOOKUP(BI14,$BI$26:$BR$27,6,FALSE)),0,(VLOOKUP(BI14,$BI$26:$BR$27,6,FALSE))) -> 0 | BO14: =IF(ISERROR(VLOOKUP(BI14,$BI$26:$BR$27,7,FALSE)),0,(VLOOKUP(BI14,$BI$26:$BR$27,7,FALSE))) -> 0 | BP14: =IF(ISERROR(VLOOKUP(BI14,$BI$26:$BR$27,8,FALSE)),0,(VLOOKUP(BI14,$BI$26:$BR$27,8,FALSE))) -> 0 | BQ14: =BO14-BP14 -> 0 | BR14: =BL14*3+BM14 -> 0 | BY14: =P14 -> #REF! | BZ14: =Q14 -> Suíça | CA14: =R14+AN14+AY14+BK14 -> 9 | CB14: =S14+AO14+AZ14+BL14 -> 3 | CC14: =T14+AP14+BA14+BM14 -> 5 | CD14: =U14+AQ14+BB14+BN14 -> 1 | CE14: =V14+AR14+BC14+BO14 -> 19 | CF14: =W14+AS14+BD14+BP14 -> 13 | CG14: =X14+AT14+BE14+BQ14 -> 6 | CH14: =Y14+AU14+BF14+BR14 -> 14 | CJ14: =(10^10)*CH14+(10^8)*CB14+(10^6)*(50+CG14)+(10^4)*CE14+(10^2)*CA14+(13-BY14) -> #REF! | CK14: 9 | CL14: =LARGE($CJ$6:$CJ$23,CK14) -> #REF! | CN14: 9 | CO14: =MATCH(CL14,$CJ$6:$CJ$23,0) -> #REF!
B15: 10º | C15: =VLOOKUP(CO15,$BY$6:$CH$23,2) -> #REF! | D15: =VLOOKUP(CO15,$BY$6:$CH$23,3) -> #REF! | E15: =VLOOKUP(CO15,$BY$6:$CH$23,4) -> #REF! | F15: =D15-E15-G15 -> #REF! | G15: =VLOOKUP(CO15,$BY$6:$CH$23,6) -> #REF! | H15: =VLOOKUP(CO15,$BY$6:$CH$23,7) -> #REF! | I15: =VLOOKUP(CO15,$BY$6:$CH$23,8) -> #REF! | J15: =H15-I15 -> #REF! | K15: =E15*3+F15 -> #REF! | P15: =#REF! -> #REF! | Q15: =Classificação!N24 -> Portugal | R15: =Classificação!O24 -> 8 | S15: =Classificação!P24 -> 3 | T15: =Classificação!Q24 -> 3 | U15: =Classificação!R24 -> 2 | V15: =Classificação!S24 -> 12 | W15: =Classificação!T24 -> 11 | X15: =Classificação!U24 -> 1 | Y15: =Classificação!V24 -> 12 | Z15: =(10^10)*Y15+(10^8)*S15+(10^6)*(50+X15)+(10^4)*V15+(10^2)*R15+(13-P15) -> #REF! | AK15: 0 | AL15: =#REF! -> #REF! | AM15: =IF(ISERROR(VLOOKUP(AL15,$AL$27:$AN$34,2,FALSE)),0,(VLOOKUP(AL15,$AL$27:$AN$34,2,FALSE))) -> 0 | AN15: =IF(ISERROR(VLOOKUP(AL15,$AL$27:$AN$34,3,FALSE)),0,(VLOOKUP(AL15,$AL$27:$AN$34,3,FALSE))) -> 0 | AO15: =IF(ISERROR(VLOOKUP(AL15,$AL$27:$AO$34,4,FALSE)),0,(VLOOKUP(AL15,$AL$27:$AO$34,4,FALSE))) -> 0 | AP15: =AN15-AO15-AQ15 -> 0 | AQ15: =IF(ISERROR(VLOOKUP(AL15,$AL$27:$AQ$34,6,FALSE)),0,(VLOOKUP(AL15,$AL$27:$AQ$34,6,FALSE))) -> 0 | AR15: =IF(ISERROR(VLOOKUP(AL15,$AL$27:$AR$34,7,FALSE)),0,(VLOOKUP(AL15,$AL$27:$AR$34,7,FALSE))) -> 0 | AS15: =IF(ISERROR(VLOOKUP(AL15,$AL$27:$AS$34,8,FALSE)),0,(VLOOKUP(AL15,$AL$27:$AS$34,8,FALSE))) -> 0 | AT15: =AR15-AS15 -> 0 | AU15: =AO15*3+AP15 -> 0 | AW15: 10 | AX15: =IF(ISERROR(VLOOKUP(AW15,$AW$26:$AY$29,2,FALSE)),0,(VLOOKUP(AW15,$AW$26:$AY$29,2,FALSE))) -> 0 | AY15: =IF(ISERROR(VLOOKUP(AW15,$AW$26:$BF$29,3,FALSE)),0,(VLOOKUP(AW15,$AW$26:$BF$29,3,FALSE))) -> 0 | AZ15: =IF(ISERROR(VLOOKUP(AW15,$AW$26:$BF$29,4,FALSE)),0,(VLOOKUP(AW15,$AW$26:$BF$29,4,FALSE))) -> 0 | BA15: =AY15-AZ15-BB15 -> 0 | BB15: =IF(ISERROR(VLOOKUP(AW15,$AW$26:$BF$29,6,FALSE)),0,(VLOOKUP(AW15,$AW$26:$BF$29,6,FALSE))) -> 0 | BC15: =IF(ISERROR(VLOOKUP(AW15,$AW$26:$BF$29,7,FALSE)),0,(VLOOKUP(AW15,$AW$26:$BF$29,7,FALSE))) -> 0 | BD15: =IF(ISERROR(VLOOKUP(AW15,$AW$26:$BF$29,8,FALSE)),0,(VLOOKUP(AW15,$AW$26:$BF$29,8,FALSE))) -> 0 | BE15: =BC15-BD15 -> 0 | BF15: =AZ15*3+BA15 -> 0 | BI15: 10 | BJ15: =IF(ISERROR(VLOOKUP(BI15,$BI$26:$BK$29,2,FALSE)),0,(VLOOKUP(BI15,$BI$26:$BK$29,2,FALSE))) -> 0 | BK15: =IF(ISERROR(VLOOKUP(BI15,$BI$26:$BR$27,3,FALSE)),0,(VLOOKUP(BI15,$BI$26:$BR$27,3,FALSE))) -> 0 | BL15: =IF(ISERROR(VLOOKUP(BI15,$BI$26:$BR$27,4,FALSE)),0,(VLOOKUP(BI15,$BI$26:$BR$27,4,FALSE))) -> 0 | BM15: =BK15-BL15-BN15 -> 0 | BN15: =IF(ISERROR(VLOOKUP(BI15,$BI$26:$BR$27,6,FALSE)),0,(VLOOKUP(BI15,$BI$26:$BR$27,6,FALSE))) -> 0 | BO15: =IF(ISERROR(VLOOKUP(BI15,$BI$26:$BR$27,7,FALSE)),0,(VLOOKUP(BI15,$BI$26:$BR$27,7,FALSE))) -> 0 | BP15: =IF(ISERROR(VLOOKUP(BI15,$BI$26:$BR$27,8,FALSE)),0,(VLOOKUP(BI15,$BI$26:$BR$27,8,FALSE))) -> 0 | BQ15: =BO15-BP15 -> 0 | BR15: =BL15*3+BM15 -> 0 | BY15: =P15 -> #REF! | BZ15: =Q15 -> Portugal | CA15: =R15+AN15+AY15+BK15 -> 8 | CB15: =S15+AO15+AZ15+BL15 -> 3 | CC15: =T15+AP15+BA15+BM15 -> 3 | CD15: =U15+AQ15+BB15+BN15 -> 2 | CE15: =V15+AR15+BC15+BO15 -> 12 | CF15: =W15+AS15+BD15+BP15 -> 11 | CG15: =X15+AT15+BE15+BQ15 -> 1 | CH15: =Y15+AU15+BF15+BR15 -> 12 | CJ15: =(10^10)*CH15+(10^8)*CB15+(10^6)*(50+CG15)+(10^4)*CE15+(10^2)*CA15+(13-BY15) -> #REF! | CK15: 10 | CL15: =LARGE($CJ$6:$CJ$23,CK15) -> #REF! | CN15: 10 | CO15: =MATCH(CL15,$CJ$6:$CJ$23,0) -> #REF!
B16: 11º | C16: =VLOOKUP(CO16,$BY$6:$CH$23,2) -> #REF! | D16: =VLOOKUP(CO16,$BY$6:$CH$23,3) -> #REF! | E16: =VLOOKUP(CO16,$BY$6:$CH$23,4) -> #REF! | F16: =D16-E16-G16 -> #REF! | G16: =VLOOKUP(CO16,$BY$6:$CH$23,6) -> #REF! | H16: =VLOOKUP(CO16,$BY$6:$CH$23,7) -> #REF! | I16: =VLOOKUP(CO16,$BY$6:$CH$23,8) -> #REF! | J16: =H16-I16 -> #REF! | K16: =E16*3+F16 -> #REF! | P16: =#REF! -> #REF! | Q16: =Classificação!N25 -> Argentina | R16: =Classificação!O25 -> 8 | S16: =Classificação!P25 -> 2 | T16: =Classificação!Q25 -> 4 | U16: =Classificação!R25 -> 2 | V16: =Classificação!S25 -> 7 | W16: =Classificação!T25 -> 14 | X16: =Classificação!U25 -> -7 | Y16: =Classificação!V25 -> 10 | Z16: =(10^10)*Y16+(10^8)*S16+(10^6)*(50+X16)+(10^4)*V16+(10^2)*R16+(13-P16) -> #REF! | AK16: 0 | AL16: =#REF! -> #REF! | AM16: =IF(ISERROR(VLOOKUP(AL16,$AL$27:$AN$34,2,FALSE)),0,(VLOOKUP(AL16,$AL$27:$AN$34,2,FALSE))) -> 0 | AN16: =IF(ISERROR(VLOOKUP(AL16,$AL$27:$AN$34,3,FALSE)),0,(VLOOKUP(AL16,$AL$27:$AN$34,3,FALSE))) -> 0 | AO16: =IF(ISERROR(VLOOKUP(AL16,$AL$27:$AO$34,4,FALSE)),0,(VLOOKUP(AL16,$AL$27:$AO$34,4,FALSE))) -> 0 | AP16: =AN16-AO16-AQ16 -> 0 | AQ16: =IF(ISERROR(VLOOKUP(AL16,$AL$27:$AQ$34,6,FALSE)),0,(VLOOKUP(AL16,$AL$27:$AQ$34,6,FALSE))) -> 0 | AR16: =IF(ISERROR(VLOOKUP(AL16,$AL$27:$AR$34,7,FALSE)),0,(VLOOKUP(AL16,$AL$27:$AR$34,7,FALSE))) -> 0 | AS16: =IF(ISERROR(VLOOKUP(AL16,$AL$27:$AS$34,8,FALSE)),0,(VLOOKUP(AL16,$AL$27:$AS$34,8,FALSE))) -> 0 | AT16: =AR16-AS16 -> 0 | AU16: =AO16*3+AP16 -> 0 | AW16: 11 | AX16: =IF(ISERROR(VLOOKUP(AW16,$AW$26:$AY$29,2,FALSE)),0,(VLOOKUP(AW16,$AW$26:$AY$29,2,FALSE))) -> 0 | AY16: =IF(ISERROR(VLOOKUP(AW16,$AW$26:$BF$29,3,FALSE)),0,(VLOOKUP(AW16,$AW$26:$BF$29,3,FALSE))) -> 0 | AZ16: =IF(ISERROR(VLOOKUP(AW16,$AW$26:$BF$29,4,FALSE)),0,(VLOOKUP(AW16,$AW$26:$BF$29,4,FALSE))) -> 0 | BA16: =AY16-AZ16-BB16 -> 0 | BB16: =IF(ISERROR(VLOOKUP(AW16,$AW$26:$BF$29,6,FALSE)),0,(VLOOKUP(AW16,$AW$26:$BF$29,6,FALSE))) -> 0 | BC16: =IF(ISERROR(VLOOKUP(AW16,$AW$26:$BF$29,7,FALSE)),0,(VLOOKUP(AW16,$AW$26:$BF$29,7,FALSE))) -> 0 | BD16: =IF(ISERROR(VLOOKUP(AW16,$AW$26:$BF$29,8,FALSE)),0,(VLOOKUP(AW16,$AW$26:$BF$29,8,FALSE))) -> 0 | BE16: =BC16-BD16 -> 0 | BF16: =AZ16*3+BA16 -> 0 | BI16: 11 | BJ16: =IF(ISERROR(VLOOKUP(BI16,$BI$26:$BK$29,2,FALSE)),0,(VLOOKUP(BI16,$BI$26:$BK$29,2,FALSE))) -> 0 | BK16: =IF(ISERROR(VLOOKUP(BI16,$BI$26:$BR$27,3,FALSE)),0,(VLOOKUP(BI16,$BI$26:$BR$27,3,FALSE))) -> 0 | BL16: =IF(ISERROR(VLOOKUP(BI16,$BI$26:$BR$27,4,FALSE)),0,(VLOOKUP(BI16,$BI$26:$BR$27,4,FALSE))) -> 0 | BM16: =BK16-BL16-BN16 -> 0 | BN16: =IF(ISERROR(VLOOKUP(BI16,$BI$26:$BR$27,6,FALSE)),0,(VLOOKUP(BI16,$BI$26:$BR$27,6,FALSE))) -> 0 | BO16: =IF(ISERROR(VLOOKUP(BI16,$BI$26:$BR$27,7,FALSE)),0,(VLOOKUP(BI16,$BI$26:$BR$27,7,FALSE))) -> 0 | BP16: =IF(ISERROR(VLOOKUP(BI16,$BI$26:$BR$27,8,FALSE)),0,(VLOOKUP(BI16,$BI$26:$BR$27,8,FALSE))) -> 0 | BQ16: =BO16-BP16 -> 0 | BR16: =BL16*3+BM16 -> 0 | BY16: =P16 -> #REF! | BZ16: =Q16 -> Argentina | CA16: =R16+AN16+AY16+BK16 -> 8 | CB16: =S16+AO16+AZ16+BL16 -> 2 | CC16: =T16+AP16+BA16+BM16 -> 4 | CD16: =U16+AQ16+BB16+BN16 -> 2 | CE16: =V16+AR16+BC16+BO16 -> 7 | CF16: =W16+AS16+BD16+BP16 -> 14 | CG16: =X16+AT16+BE16+BQ16 -> -7 | CH16: =Y16+AU16+BF16+BR16 -> 10 | CJ16: =(10^10)*CH16+(10^8)*CB16+(10^6)*(50+CG16)+(10^4)*CE16+(10^2)*CA16+(13-BY16) -> #REF! | CK16: 11 | CL16: =LARGE($CJ$6:$CJ$23,CK16) -> #REF! | CN16: 11 | CO16: =MATCH(CL16,$CJ$6:$CJ$23,0) -> #REF!
B17: 12º | C17: =VLOOKUP(CO17,$BY$6:$CH$23,2) -> #REF! | D17: =VLOOKUP(CO17,$BY$6:$CH$23,3) -> #REF! | E17: =VLOOKUP(CO17,$BY$6:$CH$23,4) -> #REF! | F17: =D17-E17-G17 -> #REF! | G17: =VLOOKUP(CO17,$BY$6:$CH$23,6) -> #REF! | H17: =VLOOKUP(CO17,$BY$6:$CH$23,7) -> #REF! | I17: =VLOOKUP(CO17,$BY$6:$CH$23,8) -> #REF! | J17: =H17-I17 -> #REF! | K17: =E17*3+F17 -> #REF! | P17: =#REF! -> #REF! | Q17: =Classificação!N26 -> Sérvia | R17: =Classificação!O26 -> 8 | S17: =Classificação!P26 -> 3 | T17: =Classificação!Q26 -> 1 | U17: =Classificação!R26 -> 4 | V17: =Classificação!S26 -> 9 | W17: =Classificação!T26 -> 7 | X17: =Classificação!U26 -> 2 | Y17: =Classificação!V26 -> 10 | Z17: =(10^10)*Y17+(10^8)*S17+(10^6)*(50+X17)+(10^4)*V17+(10^2)*R17+(13-P17) -> #REF! | AK17: 0 | AL17: =#REF! -> #REF! | AM17: =IF(ISERROR(VLOOKUP(AL17,$AL$27:$AN$34,2,FALSE)),0,(VLOOKUP(AL17,$AL$27:$AN$34,2,FALSE))) -> 0 | AN17: =IF(ISERROR(VLOOKUP(AL17,$AL$27:$AN$34,3,FALSE)),0,(VLOOKUP(AL17,$AL$27:$AN$34,3,FALSE))) -> 0 | AO17: =IF(ISERROR(VLOOKUP(AL17,$AL$27:$AO$34,4,FALSE)),0,(VLOOKUP(AL17,$AL$27:$AO$34,4,FALSE))) -> 0 | AP17: =AN17-AO17-AQ17 -> 0 | AQ17: =IF(ISERROR(VLOOKUP(AL17,$AL$27:$AQ$34,6,FALSE)),0,(VLOOKUP(AL17,$AL$27:$AQ$34,6,FALSE))) -> 0 | AR17: =IF(ISERROR(VLOOKUP(AL17,$AL$27:$AR$34,7,FALSE)),0,(VLOOKUP(AL17,$AL$27:$AR$34,7,FALSE))) -> 0 | AS17: =IF(ISERROR(VLOOKUP(AL17,$AL$27:$AS$34,8,FALSE)),0,(VLOOKUP(AL17,$AL$27:$AS$34,8,FALSE))) -> 0 | AT17: =AR17-AS17 -> 0 | AU17: =AO17*3+AP17 -> 0 | AW17: 12 | AX17: =IF(ISERROR(VLOOKUP(AW17,$AW$26:$AY$29,2,FALSE)),0,(VLOOKUP(AW17,$AW$26:$AY$29,2,FALSE))) -> 0 | AY17: =IF(ISERROR(VLOOKUP(AW17,$AW$26:$BF$29,3,FALSE)),0,(VLOOKUP(AW17,$AW$26:$BF$29,3,FALSE))) -> 0 | AZ17: =IF(ISERROR(VLOOKUP(AW17,$AW$26:$BF$29,4,FALSE)),0,(VLOOKUP(AW17,$AW$26:$BF$29,4,FALSE))) -> 0 | BA17: =AY17-AZ17-BB17 -> 0 | BB17: =IF(ISERROR(VLOOKUP(AW17,$AW$26:$BF$29,6,FALSE)),0,(VLOOKUP(AW17,$AW$26:$BF$29,6,FALSE))) -> 0 | BC17: =IF(ISERROR(VLOOKUP(AW17,$AW$26:$BF$29,7,FALSE)),0,(VLOOKUP(AW17,$AW$26:$BF$29,7,FALSE))) -> 0 | BD17: =IF(ISERROR(VLOOKUP(AW17,$AW$26:$BF$29,8,FALSE)),0,(VLOOKUP(AW17,$AW$26:$BF$29,8,FALSE))) -> 0 | BE17: =BC17-BD17 -> 0 | BF17: =AZ17*3+BA17 -> 0 | BI17: 12 | BJ17: =IF(ISERROR(VLOOKUP(BI17,$BI$26:$BK$29,2,FALSE)),0,(VLOOKUP(BI17,$BI$26:$BK$29,2,FALSE))) -> 0 | BK17: =IF(ISERROR(VLOOKUP(BI17,$BI$26:$BR$27,3,FALSE)),0,(VLOOKUP(BI17,$BI$26:$BR$27,3,FALSE))) -> 0 | BL17: =IF(ISERROR(VLOOKUP(BI17,$BI$26:$BR$27,4,FALSE)),0,(VLOOKUP(BI17,$BI$26:$BR$27,4,FALSE))) -> 0 | BM17: =BK17-BL17-BN17 -> 0 | BN17: =IF(ISERROR(VLOOKUP(BI17,$BI$26:$BR$27,6,FALSE)),0,(VLOOKUP(BI17,$BI$26:$BR$27,6,FALSE))) -> 0 | BO17: =IF(ISERROR(VLOOKUP(BI17,$BI$26:$BR$27,7,FALSE)),0,(VLOOKUP(BI17,$BI$26:$BR$27,7,FALSE))) -> 0 | BP17: =IF(ISERROR(VLOOKUP(BI17,$BI$26:$BR$27,8,FALSE)),0,(VLOOKUP(BI17,$BI$26:$BR$27,8,FALSE))) -> 0 | BQ17: =BO17-BP17 -> 0 | BR17: =BL17*3+BM17 -> 0 | BY17: =P17 -> #REF! | BZ17: =Q17 -> Sérvia | CA17: =R17+AN17+AY17+BK17 -> 8 | CB17: =S17+AO17+AZ17+BL17 -> 3 | CC17: =T17+AP17+BA17+BM17 -> 1 | CD17: =U17+AQ17+BB17+BN17 -> 4 | CE17: =V17+AR17+BC17+BO17 -> 9 | CF17: =W17+AS17+BD17+BP17 -> 7 | CG17: =X17+AT17+BE17+BQ17 -> 2 | CH17: =Y17+AU17+BF17+BR17 -> 10 | CJ17: =(10^10)*CH17+(10^8)*CB17+(10^6)*(50+CG17)+(10^4)*CE17+(10^2)*CA17+(13-BY17) -> #REF! | CK17: 12 | CL17: =LARGE($CJ$6:$CJ$23,CK17) -> #REF! | CN17: 12 | CO17: =MATCH(CL17,$CJ$6:$CJ$23,0) -> #REF!
B18: 13º | C18: =VLOOKUP(CO18,$BY$6:$CH$23,2) -> #REF! | D18: =VLOOKUP(CO18,$BY$6:$CH$23,3) -> #REF! | E18: =VLOOKUP(CO18,$BY$6:$CH$23,4) -> #REF! | F18: =D18-E18-G18 -> #REF! | G18: =VLOOKUP(CO18,$BY$6:$CH$23,6) -> #REF! | H18: =VLOOKUP(CO18,$BY$6:$CH$23,7) -> #REF! | I18: =VLOOKUP(CO18,$BY$6:$CH$23,8) -> #REF! | J18: =H18-I18 -> #REF! | K18: =E18*3+F18 -> #REF! | P18: =#REF! -> #REF! | Q18: =Classificação!N27 -> França | R18: =Classificação!O27 -> 8 | S18: =Classificação!P27 -> 3 | T18: =Classificação!Q27 -> 4 | U18: =Classificação!R27 -> 1 | V18: =Classificação!S27 -> 19 | W18: =Classificação!T27 -> 11 | X18: =Classificação!U27 -> 8 | Y18: =Classificação!V27 -> 13 | Z18: =(10^10)*Y18+(10^8)*S18+(10^6)*(50+X18)+(10^4)*V18+(10^2)*R18+(13-P18) -> #REF! | AK18: 0 | AL18: =#REF! -> #REF! | AM18: =IF(ISERROR(VLOOKUP(AL18,$AL$27:$AN$34,2,FALSE)),0,(VLOOKUP(AL18,$AL$27:$AN$34,2,FALSE))) -> 0 | AN18: =IF(ISERROR(VLOOKUP(AL18,$AL$27:$AN$34,3,FALSE)),0,(VLOOKUP(AL18,$AL$27:$AN$34,3,FALSE))) -> 0 | AO18: =IF(ISERROR(VLOOKUP(AL18,$AL$27:$AO$34,4,FALSE)),0,(VLOOKUP(AL18,$AL$27:$AO$34,4,FALSE))) -> 0 | AP18: =AN18-AO18-AQ18 -> 0 | AQ18: =IF(ISERROR(VLOOKUP(AL18,$AL$27:$AQ$34,6,FALSE)),0,(VLOOKUP(AL18,$AL$27:$AQ$34,6,FALSE))) -> 0 | AR18: =IF(ISERROR(VLOOKUP(AL18,$AL$27:$AR$34,7,FALSE)),0,(VLOOKUP(AL18,$AL$27:$AR$34,7,FALSE))) -> 0 | AS18: =IF(ISERROR(VLOOKUP(AL18,$AL$27:$AS$34,8,FALSE)),0,(VLOOKUP(AL18,$AL$27:$AS$34,8,FALSE))) -> 0 | AT18: =AR18-AS18 -> 0 | AU18: =AO18*3+AP18 -> 0 | AW18: 13 | AX18: =IF(ISERROR(VLOOKUP(AW18,$AW$26:$AY$29,2,FALSE)),0,(VLOOKUP(AW18,$AW$26:$AY$29,2,FALSE))) -> 0 | AY18: =IF(ISERROR(VLOOKUP(AW18,$AW$26:$BF$29,3,FALSE)),0,(VLOOKUP(AW18,$AW$26:$BF$29,3,FALSE))) -> 0 | AZ18: =IF(ISERROR(VLOOKUP(AW18,$AW$26:$BF$29,4,FALSE)),0,(VLOOKUP(AW18,$AW$26:$BF$29,4,FALSE))) -> 0 | BA18: =AY18-AZ18-BB18 -> 0 | BB18: =IF(ISERROR(VLOOKUP(AW18,$AW$26:$BF$29,6,FALSE)),0,(VLOOKUP(AW18,$AW$26:$BF$29,6,FALSE))) -> 0 | BC18: =IF(ISERROR(VLOOKUP(AW18,$AW$26:$BF$29,7,FALSE)),0,(VLOOKUP(AW18,$AW$26:$BF$29,7,FALSE))) -> 0 | BD18: =IF(ISERROR(VLOOKUP(AW18,$AW$26:$BF$29,8,FALSE)),0,(VLOOKUP(AW18,$AW$26:$BF$29,8,FALSE))) -> 0 | BE18: =BC18-BD18 -> 0 | BF18: =AZ18*3+BA18 -> 0 | BI18: 13 | BJ18: =IF(ISERROR(VLOOKUP(BI18,$BI$26:$BK$29,2,FALSE)),0,(VLOOKUP(BI18,$BI$26:$BK$29,2,FALSE))) -> 0 | BK18: =IF(ISERROR(VLOOKUP(BI18,$BI$26:$BR$27,3,FALSE)),0,(VLOOKUP(BI18,$BI$26:$BR$27,3,FALSE))) -> 0 | BL18: =IF(ISERROR(VLOOKUP(BI18,$BI$26:$BR$27,4,FALSE)),0,(VLOOKUP(BI18,$BI$26:$BR$27,4,FALSE))) -> 0 | BM18: =BK18-BL18-BN18 -> 0 | BN18: =IF(ISERROR(VLOOKUP(BI18,$BI$26:$BR$27,6,FALSE)),0,(VLOOKUP(BI18,$BI$26:$BR$27,6,FALSE))) -> 0 | BO18: =IF(ISERROR(VLOOKUP(BI18,$BI$26:$BR$27,7,FALSE)),0,(VLOOKUP(BI18,$BI$26:$BR$27,7,FALSE))) -> 0 | BP18: =IF(ISERROR(VLOOKUP(BI18,$BI$26:$BR$27,8,FALSE)),0,(VLOOKUP(BI18,$BI$26:$BR$27,8,FALSE))) -> 0 | BQ18: =BO18-BP18 -> 0 | BR18: =BL18*3+BM18 -> 0 | BY18: =P18 -> #REF! | BZ18: =Q18 -> França | CA18: =R18+AN18+AY18+BK18 -> 8 | CB18: =S18+AO18+AZ18+BL18 -> 3 | CC18: =T18+AP18+BA18+BM18 -> 4 | CD18: =U18+AQ18+BB18+BN18 -> 1 | CE18: =V18+AR18+BC18+BO18 -> 19 | CF18: =W18+AS18+BD18+BP18 -> 11 | CG18: =X18+AT18+BE18+BQ18 -> 8 | CH18: =Y18+AU18+BF18+BR18 -> 13 | CJ18: =(10^10)*CH18+(10^8)*CB18+(10^6)*(50+CG18)+(10^4)*CE18+(10^2)*CA18+(13-BY18) -> #REF! | CK18: 13 | CL18: =LARGE($CJ$6:$CJ$23,CK18) -> #REF! | CN18: 13 | CO18: =MATCH(CL18,$CJ$6:$CJ$23,0) -> #REF!
B19: 14º | C19: =VLOOKUP(CO19,$BY$6:$CH$23,2) -> #REF! | D19: =VLOOKUP(CO19,$BY$6:$CH$23,3) -> #REF! | E19: =VLOOKUP(CO19,$BY$6:$CH$23,4) -> #REF! | F19: =D19-E19-G19 -> #REF! | G19: =VLOOKUP(CO19,$BY$6:$CH$23,6) -> #REF! | H19: =VLOOKUP(CO19,$BY$6:$CH$23,7) -> #REF! | I19: =VLOOKUP(CO19,$BY$6:$CH$23,8) -> #REF! | J19: =H19-I19 -> #REF! | K19: =E19*3+F19 -> #REF! | P19: =#REF! -> #REF! | Q19: =Classificação!N28 -> Inglaterra | R19: =Classificação!O28 -> 8 | S19: =Classificação!P28 -> 2 | T19: =Classificação!Q28 -> 2 | U19: =Classificação!R28 -> 4 | V19: =Classificação!S28 -> 6 | W19: =Classificação!T28 -> 14 | X19: =Classificação!U28 -> -8 | Y19: =Classificação!V28 -> 8 | Z19: =(10^10)*Y19+(10^8)*S19+(10^6)*(50+X19)+(10^4)*V19+(10^2)*R19+(13-P19) -> #REF! | AK19: 0 | AL19: =#REF! -> #REF! | AM19: =IF(ISERROR(VLOOKUP(AL19,$AL$27:$AN$34,2,FALSE)),0,(VLOOKUP(AL19,$AL$27:$AN$34,2,FALSE))) -> 0 | AN19: =IF(ISERROR(VLOOKUP(AL19,$AL$27:$AN$34,3,FALSE)),0,(VLOOKUP(AL19,$AL$27:$AN$34,3,FALSE))) -> 0 | AO19: =IF(ISERROR(VLOOKUP(AL19,$AL$27:$AO$34,4,FALSE)),0,(VLOOKUP(AL19,$AL$27:$AO$34,4,FALSE))) -> 0 | AP19: =AN19-AO19-AQ19 -> 0 | AQ19: =IF(ISERROR(VLOOKUP(AL19,$AL$27:$AQ$34,6,FALSE)),0,(VLOOKUP(AL19,$AL$27:$AQ$34,6,FALSE))) -> 0 | AR19: =IF(ISERROR(VLOOKUP(AL19,$AL$27:$AR$34,7,FALSE)),0,(VLOOKUP(AL19,$AL$27:$AR$34,7,FALSE))) -> 0 | AS19: =IF(ISERROR(VLOOKUP(AL19,$AL$27:$AS$34,8,FALSE)),0,(VLOOKUP(AL19,$AL$27:$AS$34,8,FALSE))) -> 0 | AT19: =AR19-AS19 -> 0 | AU19: =AO19*3+AP19 -> 0 | AW19: 14 | AX19: =IF(ISERROR(VLOOKUP(AW19,$AW$26:$AY$29,2,FALSE)),0,(VLOOKUP(AW19,$AW$26:$AY$29,2,FALSE))) -> 0 | AY19: =IF(ISERROR(VLOOKUP(AW19,$AW$26:$BF$29,3,FALSE)),0,(VLOOKUP(AW19,$AW$26:$BF$29,3,FALSE))) -> 0 | AZ19: =IF(ISERROR(VLOOKUP(AW19,$AW$26:$BF$29,4,FALSE)),0,(VLOOKUP(AW19,$AW$26:$BF$29,4,FALSE))) -> 0 | BA19: =AY19-AZ19-BB19 -> 0 | BB19: =IF(ISERROR(VLOOKUP(AW19,$AW$26:$BF$29,6,FALSE)),0,(VLOOKUP(AW19,$AW$26:$BF$29,6,FALSE))) -> 0 | BC19: =IF(ISERROR(VLOOKUP(AW19,$AW$26:$BF$29,7,FALSE)),0,(VLOOKUP(AW19,$AW$26:$BF$29,7,FALSE))) -> 0 | BD19: =IF(ISERROR(VLOOKUP(AW19,$AW$26:$BF$29,8,FALSE)),0,(VLOOKUP(AW19,$AW$26:$BF$29,8,FALSE))) -> 0 | BE19: =BC19-BD19 -> 0 | BF19: =AZ19*3+BA19 -> 0 | BI19: 14 | BJ19: =IF(ISERROR(VLOOKUP(BI19,$BI$26:$BK$29,2,FALSE)),0,(VLOOKUP(BI19,$BI$26:$BK$29,2,FALSE))) -> 0 | BK19: =IF(ISERROR(VLOOKUP(BI19,$BI$26:$BR$27,3,FALSE)),0,(VLOOKUP(BI19,$BI$26:$BR$27,3,FALSE))) -> 0 | BL19: =IF(ISERROR(VLOOKUP(BI19,$BI$26:$BR$27,4,FALSE)),0,(VLOOKUP(BI19,$BI$26:$BR$27,4,FALSE))) -> 0 | BM19: =BK19-BL19-BN19 -> 0 | BN19: =IF(ISERROR(VLOOKUP(BI19,$BI$26:$BR$27,6,FALSE)),0,(VLOOKUP(BI19,$BI$26:$BR$27,6,FALSE))) -> 0 | BO19: =IF(ISERROR(VLOOKUP(BI19,$BI$26:$BR$27,7,FALSE)),0,(VLOOKUP(BI19,$BI$26:$BR$27,7,FALSE))) -> 0 | BP19: =IF(ISERROR(VLOOKUP(BI19,$BI$26:$BR$27,8,FALSE)),0,(VLOOKUP(BI19,$BI$26:$BR$27,8,FALSE))) -> 0 | BQ19: =BO19-BP19 -> 0 | BR19: =BL19*3+BM19 -> 0 | BY19: =P19 -> #REF! | BZ19: =Q19 -> Inglaterra | CA19: =R19+AN19+AY19+BK19 -> 8 | CB19: =S19+AO19+AZ19+BL19 -> 2 | CC19: =T19+AP19+BA19+BM19 -> 2 | CD19: =U19+AQ19+BB19+BN19 -> 4 | CE19: =V19+AR19+BC19+BO19 -> 6 | CF19: =W19+AS19+BD19+BP19 -> 14 | CG19: =X19+AT19+BE19+BQ19 -> -8 | CH19: =Y19+AU19+BF19+BR19 -> 8 | CJ19: =(10^10)*CH19+(10^8)*CB19+(10^6)*(50+CG19)+(10^4)*CE19+(10^2)*CA19+(13-BY19) -> #REF! | CK19: 14 | CL19: =LARGE($CJ$6:$CJ$23,CK19) -> #REF! | CN19: 14 | CO19: =MATCH(CL19,$CJ$6:$CJ$23,0) -> #REF!
B20: 15º | C20: =VLOOKUP(CO20,$BY$6:$CH$23,2) -> #REF! | D20: =VLOOKUP(CO20,$BY$6:$CH$23,3) -> #REF! | E20: =VLOOKUP(CO20,$BY$6:$CH$23,4) -> #REF! | F20: =D20-E20-G20 -> #REF! | G20: =VLOOKUP(CO20,$BY$6:$CH$23,6) -> #REF! | H20: =VLOOKUP(CO20,$BY$6:$CH$23,7) -> #REF! | I20: =VLOOKUP(CO20,$BY$6:$CH$23,8) -> #REF! | J20: =H20-I20 -> #REF! | K20: =E20*3+F20 -> #REF! | P20: =#REF! -> #REF! | Q20: =Classificação!N29 -> México | R20: =Classificação!O29 -> 8 | S20: =Classificação!P29 -> 4 | T20: =Classificação!Q29 -> 2 | U20: =Classificação!R29 -> 2 | V20: =Classificação!S29 -> 13 | W20: =Classificação!T29 -> 10 | X20: =Classificação!U29 -> 3 | Y20: =Classificação!V29 -> 14 | Z20: =(10^10)*Y20+(10^8)*S20+(10^6)*(50+X20)+(10^4)*V20+(10^2)*R20+(13-P20) -> #REF! | AK20: 0 | AL20: =#REF! -> #REF! | AM20: =IF(ISERROR(VLOOKUP(AL20,$AL$27:$AN$34,2,FALSE)),0,(VLOOKUP(AL20,$AL$27:$AN$34,2,FALSE))) -> 0 | AN20: =IF(ISERROR(VLOOKUP(AL20,$AL$27:$AN$34,3,FALSE)),0,(VLOOKUP(AL20,$AL$27:$AN$34,3,FALSE))) -> 0 | AO20: =IF(ISERROR(VLOOKUP(AL20,$AL$27:$AO$34,4,FALSE)),0,(VLOOKUP(AL20,$AL$27:$AO$34,4,FALSE))) -> 0 | AP20: =AN20-AO20-AQ20 -> 0 | AQ20: =IF(ISERROR(VLOOKUP(AL20,$AL$27:$AQ$34,6,FALSE)),0,(VLOOKUP(AL20,$AL$27:$AQ$34,6,FALSE))) -> 0 | AR20: =IF(ISERROR(VLOOKUP(AL20,$AL$27:$AR$34,7,FALSE)),0,(VLOOKUP(AL20,$AL$27:$AR$34,7,FALSE))) -> 0 | AS20: =IF(ISERROR(VLOOKUP(AL20,$AL$27:$AS$34,8,FALSE)),0,(VLOOKUP(AL20,$AL$27:$AS$34,8,FALSE))) -> 0 | AT20: =AR20-AS20 -> 0 | AU20: =AO20*3+AP20 -> 0 | AW20: 15 | AX20: =IF(ISERROR(VLOOKUP(AW20,$AW$26:$AY$29,2,FALSE)),0,(VLOOKUP(AW20,$AW$26:$AY$29,2,FALSE))) -> 0 | AY20: =IF(ISERROR(VLOOKUP(AW20,$AW$26:$BF$29,3,FALSE)),0,(VLOOKUP(AW20,$AW$26:$BF$29,3,FALSE))) -> 0 | AZ20: =IF(ISERROR(VLOOKUP(AW20,$AW$26:$BF$29,4,FALSE)),0,(VLOOKUP(AW20,$AW$26:$BF$29,4,FALSE))) -> 0 | BA20: =AY20-AZ20-BB20 -> 0 | BB20: =IF(ISERROR(VLOOKUP(AW20,$AW$26:$BF$29,6,FALSE)),0,(VLOOKUP(AW20,$AW$26:$BF$29,6,FALSE))) -> 0 | BC20: =IF(ISERROR(VLOOKUP(AW20,$AW$26:$BF$29,7,FALSE)),0,(VLOOKUP(AW20,$AW$26:$BF$29,7,FALSE))) -> 0 | BD20: =IF(ISERROR(VLOOKUP(AW20,$AW$26:$BF$29,8,FALSE)),0,(VLOOKUP(AW20,$AW$26:$BF$29,8,FALSE))) -> 0 | BE20: =BC20-BD20 -> 0 | BF20: =AZ20*3+BA20 -> 0 | BI20: 15 | BJ20: =IF(ISERROR(VLOOKUP(BI20,$BI$26:$BK$29,2,FALSE)),0,(VLOOKUP(BI20,$BI$26:$BK$29,2,FALSE))) -> 0 | BK20: =IF(ISERROR(VLOOKUP(BI20,$BI$26:$BR$27,3,FALSE)),0,(VLOOKUP(BI20,$BI$26:$BR$27,3,FALSE))) -> 0 | BL20: =IF(ISERROR(VLOOKUP(BI20,$BI$26:$BR$27,4,FALSE)),0,(VLOOKUP(BI20,$BI$26:$BR$27,4,FALSE))) -> 0 | BM20: =BK20-BL20-BN20 -> 0 | BN20: =IF(ISERROR(VLOOKUP(BI20,$BI$26:$BR$27,6,FALSE)),0,(VLOOKUP(BI20,$BI$26:$BR$27,6,FALSE))) -> 0 | BO20: =IF(ISERROR(VLOOKUP(BI20,$BI$26:$BR$27,7,FALSE)),0,(VLOOKUP(BI20,$BI$26:$BR$27,7,FALSE))) -> 0 | BP20: =IF(ISERROR(VLOOKUP(BI20,$BI$26:$BR$27,8,FALSE)),0,(VLOOKUP(BI20,$BI$26:$BR$27,8,FALSE))) -> 0 | BQ20: =BO20-BP20 -> 0 | BR20: =BL20*3+BM20 -> 0 | BY20: =P20 -> #REF! | BZ20: =Q20 -> México | CA20: =R20+AN20+AY20+BK20 -> 8 | CB20: =S20+AO20+AZ20+BL20 -> 4 | CC20: =T20+AP20+BA20+BM20 -> 2 | CD20: =U20+AQ20+BB20+BN20 -> 2 | CE20: =V20+AR20+BC20+BO20 -> 13 | CF20: =W20+AS20+BD20+BP20 -> 10 | CG20: =X20+AT20+BE20+BQ20 -> 3 | CH20: =Y20+AU20+BF20+BR20 -> 14 | CJ20: =(10^10)*CH20+(10^8)*CB20+(10^6)*(50+CG20)+(10^4)*CE20+(10^2)*CA20+(13-BY20) -> #REF! | CK20: 15 | CL20: =LARGE($CJ$6:$CJ$23,CK20) -> #REF! | CN20: 15 | CO20: =MATCH(CL20,$CJ$6:$CJ$23,0) -> #REF!
B21: 16º | C21: =VLOOKUP(CO21,$BY$6:$CH$23,2) -> #REF! | D21: =VLOOKUP(CO21,$BY$6:$CH$23,3) -> #REF! | E21: =VLOOKUP(CO21,$BY$6:$CH$23,4) -> #REF! | F21: =D21-E21-G21 -> #REF! | G21: =VLOOKUP(CO21,$BY$6:$CH$23,6) -> #REF! | H21: =VLOOKUP(CO21,$BY$6:$CH$23,7) -> #REF! | I21: =VLOOKUP(CO21,$BY$6:$CH$23,8) -> #REF! | J21: =H21-I21 -> #REF! | K21: =E21*3+F21 -> #REF! | P21: =#REF! -> #REF! | Q21: =Classificação!N30 -> Croácia | R21: =Classificação!O30 -> 8 | S21: =Classificação!P30 -> 3 | T21: =Classificação!Q30 -> 3 | U21: =Classificação!R30 -> 2 | V21: =Classificação!S30 -> 9 | W21: =Classificação!T30 -> 10 | X21: =Classificação!U30 -> -1 | Y21: =Classificação!V30 -> 12 | Z21: =(10^10)*Y21+(10^8)*S21+(10^6)*(50+X21)+(10^4)*V21+(10^2)*R21+(13-P21) -> #REF! | AK21: 0 | AL21: =#REF! -> #REF! | AM21: =IF(ISERROR(VLOOKUP(AL21,$AL$27:$AN$34,2,FALSE)),0,(VLOOKUP(AL21,$AL$27:$AN$34,2,FALSE))) -> 0 | AN21: =IF(ISERROR(VLOOKUP(AL21,$AL$27:$AN$34,3,FALSE)),0,(VLOOKUP(AL21,$AL$27:$AN$34,3,FALSE))) -> 0 | AO21: =IF(ISERROR(VLOOKUP(AL21,$AL$27:$AO$34,4,FALSE)),0,(VLOOKUP(AL21,$AL$27:$AO$34,4,FALSE))) -> 0 | AP21: =AN21-AO21-AQ21 -> 0 | AQ21: =IF(ISERROR(VLOOKUP(AL21,$AL$27:$AQ$34,6,FALSE)),0,(VLOOKUP(AL21,$AL$27:$AQ$34,6,FALSE))) -> 0 | AR21: =IF(ISERROR(VLOOKUP(AL21,$AL$27:$AR$34,7,FALSE)),0,(VLOOKUP(AL21,$AL$27:$AR$34,7,FALSE))) -> 0 | AS21: =IF(ISERROR(VLOOKUP(AL21,$AL$27:$AS$34,8,FALSE)),0,(VLOOKUP(AL21,$AL$27:$AS$34,8,FALSE))) -> 0 | AT21: =AR21-AS21 -> 0 | AU21: =AO21*3+AP21 -> 0 | AW21: 16 | AX21: =IF(ISERROR(VLOOKUP(AW21,$AW$26:$AY$29,2,FALSE)),0,(VLOOKUP(AW21,$AW$26:$AY$29,2,FALSE))) -> 0 | AY21: =IF(ISERROR(VLOOKUP(AW21,$AW$26:$BF$29,3,FALSE)),0,(VLOOKUP(AW21,$AW$26:$BF$29,3,FALSE))) -> 0 | AZ21: =IF(ISERROR(VLOOKUP(AW21,$AW$26:$BF$29,4,FALSE)),0,(VLOOKUP(AW21,$AW$26:$BF$29,4,FALSE))) -> 0 | BA21: =AY21-AZ21-BB21 -> 0 | BB21: =IF(ISERROR(VLOOKUP(AW21,$AW$26:$BF$29,6,FALSE)),0,(VLOOKUP(AW21,$AW$26:$BF$29,6,FALSE))) -> 0 | BC21: =IF(ISERROR(VLOOKUP(AW21,$AW$26:$BF$29,7,FALSE)),0,(VLOOKUP(AW21,$AW$26:$BF$29,7,FALSE))) -> 0 | BD21: =IF(ISERROR(VLOOKUP(AW21,$AW$26:$BF$29,8,FALSE)),0,(VLOOKUP(AW21,$AW$26:$BF$29,8,FALSE))) -> 0 | BE21: =BC21-BD21 -> 0 | BF21: =AZ21*3+BA21 -> 0 | BI21: 16 | BJ21: =IF(ISERROR(VLOOKUP(BI21,$BI$26:$BK$29,2,FALSE)),0,(VLOOKUP(BI21,$BI$26:$BK$29,2,FALSE))) -> 0 | BK21: =IF(ISERROR(VLOOKUP(BI21,$BI$26:$BR$27,3,FALSE)),0,(VLOOKUP(BI21,$BI$26:$BR$27,3,FALSE))) -> 0 | BL21: =IF(ISERROR(VLOOKUP(BI21,$BI$26:$BR$27,4,FALSE)),0,(VLOOKUP(BI21,$BI$26:$BR$27,4,FALSE))) -> 0 | BM21: =BK21-BL21-BN21 -> 0 | BN21: =IF(ISERROR(VLOOKUP(BI21,$BI$26:$BR$27,6,FALSE)),0,(VLOOKUP(BI21,$BI$26:$BR$27,6,FALSE))) -> 0 | BO21: =IF(ISERROR(VLOOKUP(BI21,$BI$26:$BR$27,7,FALSE)),0,(VLOOKUP(BI21,$BI$26:$BR$27,7,FALSE))) -> 0 | BP21: =IF(ISERROR(VLOOKUP(BI21,$BI$26:$BR$27,8,FALSE)),0,(VLOOKUP(BI21,$BI$26:$BR$27,8,FALSE))) -> 0 | BQ21: =BO21-BP21 -> 0 | BR21: =BL21*3+BM21 -> 0 | BY21: =P21 -> #REF! | BZ21: =Q21 -> Croácia | CA21: =R21+AN21+AY21+BK21 -> 8 | CB21: =S21+AO21+AZ21+BL21 -> 3 | CC21: =T21+AP21+BA21+BM21 -> 3 | CD21: =U21+AQ21+BB21+BN21 -> 2 | CE21: =V21+AR21+BC21+BO21 -> 9 | CF21: =W21+AS21+BD21+BP21 -> 10 | CG21: =X21+AT21+BE21+BQ21 -> -1 | CH21: =Y21+AU21+BF21+BR21 -> 12 | CJ21: =(10^10)*CH21+(10^8)*CB21+(10^6)*(50+CG21)+(10^4)*CE21+(10^2)*CA21+(13-BY21) -> #REF! | CK21: 16 | CL21: =LARGE($CJ$6:$CJ$23,CK21) -> #REF! | CN21: 16 | CO21: =MATCH(CL21,$CJ$6:$CJ$23,0) -> #REF!
B22: 17º | C22: =VLOOKUP(CO22,$BY$6:$CH$23,2) -> #REF! | D22: =VLOOKUP(CO22,$BY$6:$CH$23,3) -> #REF! | E22: =VLOOKUP(CO22,$BY$6:$CH$23,4) -> #REF! | F22: =D22-E22-G22 -> #REF! | G22: =VLOOKUP(CO22,$BY$6:$CH$23,6) -> #REF! | H22: =VLOOKUP(CO22,$BY$6:$CH$23,7) -> #REF! | I22: =VLOOKUP(CO22,$BY$6:$CH$23,8) -> #REF! | J22: =H22-I22 -> #REF! | K22: =E22*3+F22 -> #REF! | P22: =#REF! -> #REF! | Q22: =Classificação!N31 -> Russia | R22: =Classificação!O31 -> 8 | S22: =Classificação!P31 -> 2 | T22: =Classificação!Q31 -> 1 | U22: =Classificação!R31 -> 5 | V22: =Classificação!S31 -> 7 | W22: =Classificação!T31 -> 12 | X22: =Classificação!U31 -> -5 | Y22: =Classificação!V31 -> 7 | Z22: =(10^10)*Y22+(10^8)*S22+(10^6)*(50+X22)+(10^4)*V22+(10^2)*R22+(13-P22) -> #REF! | AK22: 0 | AL22: =#REF! -> #REF! | AM22: =IF(ISERROR(VLOOKUP(AL22,$AL$27:$AN$34,2,FALSE)),0,(VLOOKUP(AL22,$AL$27:$AN$34,2,FALSE))) -> 0 | AN22: =IF(ISERROR(VLOOKUP(AL22,$AL$27:$AN$34,3,FALSE)),0,(VLOOKUP(AL22,$AL$27:$AN$34,3,FALSE))) -> 0 | AO22: =IF(ISERROR(VLOOKUP(AL22,$AL$27:$AO$34,4,FALSE)),0,(VLOOKUP(AL22,$AL$27:$AO$34,4,FALSE))) -> 0 | AP22: =AN22-AO22-AQ22 -> 0 | AQ22: =IF(ISERROR(VLOOKUP(AL22,$AL$27:$AQ$34,6,FALSE)),0,(VLOOKUP(AL22,$AL$27:$AQ$34,6,FALSE))) -> 0 | AR22: =IF(ISERROR(VLOOKUP(AL22,$AL$27:$AR$34,7,FALSE)),0,(VLOOKUP(AL22,$AL$27:$AR$34,7,FALSE))) -> 0 | AS22: =IF(ISERROR(VLOOKUP(AL22,$AL$27:$AS$34,8,FALSE)),0,(VLOOKUP(AL22,$AL$27:$AS$34,8,FALSE))) -> 0 | AT22: =AR22-AS22 -> 0 | AU22: =AO22*3+AP22 -> 0 | AW22: 17 | AX22: =IF(ISERROR(VLOOKUP(AW22,$AW$26:$AY$29,2,FALSE)),0,(VLOOKUP(AW22,$AW$26:$AY$29,2,FALSE))) -> 0 | AY22: =IF(ISERROR(VLOOKUP(AW22,$AW$26:$BF$29,3,FALSE)),0,(VLOOKUP(AW22,$AW$26:$BF$29,3,FALSE))) -> 0 | AZ22: =IF(ISERROR(VLOOKUP(AW22,$AW$26:$BF$29,4,FALSE)),0,(VLOOKUP(AW22,$AW$26:$BF$29,4,FALSE))) -> 0 | BA22: =AY22-AZ22-BB22 -> 0 | BB22: =IF(ISERROR(VLOOKUP(AW22,$AW$26:$BF$29,6,FALSE)),0,(VLOOKUP(AW22,$AW$26:$BF$29,6,FALSE))) -> 0 | BC22: =IF(ISERROR(VLOOKUP(AW22,$AW$26:$BF$29,7,FALSE)),0,(VLOOKUP(AW22,$AW$26:$BF$29,7,FALSE))) -> 0 | BD22: =IF(ISERROR(VLOOKUP(AW22,$AW$26:$BF$29,8,FALSE)),0,(VLOOKUP(AW22,$AW$26:$BF$29,8,FALSE))) -> 0 | BE22: =BC22-BD22 -> 0 | BF22: =AZ22*3+BA22 -> 0 | BI22: 17 | BJ22: =IF(ISERROR(VLOOKUP(BI22,$BI$26:$BK$29,2,FALSE)),0,(VLOOKUP(BI22,$BI$26:$BK$29,2,FALSE))) -> 0 | BK22: =IF(ISERROR(VLOOKUP(BI22,$BI$26:$BR$27,3,FALSE)),0,(VLOOKUP(BI22,$BI$26:$BR$27,3,FALSE))) -> 0 | BL22: =IF(ISERROR(VLOOKUP(BI22,$BI$26:$BR$27,4,FALSE)),0,(VLOOKUP(BI22,$BI$26:$BR$27,4,FALSE))) -> 0 | BM22: =BK22-BL22-BN22 -> 0 | BN22: =IF(ISERROR(VLOOKUP(BI22,$BI$26:$BR$27,6,FALSE)),0,(VLOOKUP(BI22,$BI$26:$BR$27,6,FALSE))) -> 0 | BO22: =IF(ISERROR(VLOOKUP(BI22,$BI$26:$BR$27,7,FALSE)),0,(VLOOKUP(BI22,$BI$26:$BR$27,7,FALSE))) -> 0 | BP22: =IF(ISERROR(VLOOKUP(BI22,$BI$26:$BR$27,8,FALSE)),0,(VLOOKUP(BI22,$BI$26:$BR$27,8,FALSE))) -> 0 | BQ22: =BO22-BP22 -> 0 | BR22: =BL22*3+BM22 -> 0 | BY22: =P22 -> #REF! | BZ22: =Q22 -> Russia | CA22: =R22+AN22+AY22+BK22 -> 8 | CB22: =S22+AO22+AZ22+BL22 -> 2 | CC22: =T22+AP22+BA22+BM22 -> 1 | CD22: =U22+AQ22+BB22+BN22 -> 5 | CE22: =V22+AR22+BC22+BO22 -> 7 | CF22: =W22+AS22+BD22+BP22 -> 12 | CG22: =X22+AT22+BE22+BQ22 -> -5 | CH22: =Y22+AU22+BF22+BR22 -> 7 | CJ22: =(10^10)*CH22+(10^8)*CB22+(10^6)*(50+CG22)+(10^4)*CE22+(10^2)*CA22+(13-BY22) -> #REF! | CK22: 17 | CL22: =LARGE($CJ$6:$CJ$23,CK22) -> #REF! | CN22: 17 | CO22: =MATCH(CL22,$CJ$6:$CJ$23,0) -> #REF!
B23: 18º | C23: =VLOOKUP(CO23,$BY$6:$CH$23,2) -> #REF! | D23: =VLOOKUP(CO23,$BY$6:$CH$23,3) -> #REF! | E23: =VLOOKUP(CO23,$BY$6:$CH$23,4) -> #REF! | F23: =D23-E23-G23 -> #REF! | G23: =VLOOKUP(CO23,$BY$6:$CH$23,6) -> #REF! | H23: =VLOOKUP(CO23,$BY$6:$CH$23,7) -> #REF! | I23: =VLOOKUP(CO23,$BY$6:$CH$23,8) -> #REF! | J23: =H23-I23 -> #REF! | K23: =E23*3+F23 -> #REF! | P23: =#REF! -> #REF! | Q23: =Classificação!N32 -> Polônia | R23: =Classificação!O32 -> 8 | S23: =Classificação!P32 -> 2 | T23: =Classificação!Q32 -> 1 | U23: =Classificação!R32 -> 5 | V23: =Classificação!S32 -> 12 | W23: =Classificação!T32 -> 13 | X23: =Classificação!U32 -> -1 | Y23: =Classificação!V32 -> 7 | Z23: =(10^10)*Y23+(10^8)*S23+(10^6)*(50+X23)+(10^4)*V23+(10^2)*R23+(13-P23) -> #REF! | AK23: 0 | AL23: =#REF! -> #REF! | AM23: =IF(ISERROR(VLOOKUP(AL23,$AL$27:$AN$34,2,FALSE)),0,(VLOOKUP(AL23,$AL$27:$AN$34,2,FALSE))) -> 0 | AN23: =IF(ISERROR(VLOOKUP(AL23,$AL$27:$AN$34,3,FALSE)),0,(VLOOKUP(AL23,$AL$27:$AN$34,3,FALSE))) -> 0 | AO23: =IF(ISERROR(VLOOKUP(AL23,$AL$27:$AO$34,4,FALSE)),0,(VLOOKUP(AL23,$AL$27:$AO$34,4,FALSE))) -> 0 | AP23: =AN23-AO23-AQ23 -> 0 | AQ23: =IF(ISERROR(VLOOKUP(AL23,$AL$27:$AQ$34,6,FALSE)),0,(VLOOKUP(AL23,$AL$27:$AQ$34,6,FALSE))) -> 0 | AR23: =IF(ISERROR(VLOOKUP(AL23,$AL$27:$AR$34,7,FALSE)),0,(VLOOKUP(AL23,$AL$27:$AR$34,7,FALSE))) -> 0 | AS23: =IF(ISERROR(VLOOKUP(AL23,$AL$27:$AS$34,8,FALSE)),0,(VLOOKUP(AL23,$AL$27:$AS$34,8,FALSE))) -> 0 | AT23: =AR23-AS23 -> 0 | AU23: =AO23*3+AP23 -> 0 | AW23: 18 | AX23: =IF(ISERROR(VLOOKUP(AW23,$AW$26:$AY$29,2,FALSE)),0,(VLOOKUP(AW23,$AW$26:$AY$29,2,FALSE))) -> 0 | AY23: =IF(ISERROR(VLOOKUP(AW23,$AW$26:$BF$29,3,FALSE)),0,(VLOOKUP(AW23,$AW$26:$BF$29,3,FALSE))) -> 0 | AZ23: =IF(ISERROR(VLOOKUP(AW23,$AW$26:$BF$29,4,FALSE)),0,(VLOOKUP(AW23,$AW$26:$BF$29,4,FALSE))) -> 0 | BA23: =AY23-AZ23-BB23 -> 0 | BB23: =IF(ISERROR(VLOOKUP(AW23,$AW$26:$BF$29,6,FALSE)),0,(VLOOKUP(AW23,$AW$26:$BF$29,6,FALSE))) -> 0 | BC23: =IF(ISERROR(VLOOKUP(AW23,$AW$26:$BF$29,7,FALSE)),0,(VLOOKUP(AW23,$AW$26:$BF$29,7,FALSE))) -> 0 | BD23: =IF(ISERROR(VLOOKUP(AW23,$AW$26:$BF$29,8,FALSE)),0,(VLOOKUP(AW23,$AW$26:$BF$29,8,FALSE))) -> 0 | BE23: =BC23-BD23 -> 0 | BF23: =AZ23*3+BA23 -> 0 | BI23: 18 | BJ23: =IF(ISERROR(VLOOKUP(BI23,$BI$26:$BK$29,2,FALSE)),0,(VLOOKUP(BI23,$BI$26:$BK$29,2,FALSE))) -> 0 | BK23: =IF(ISERROR(VLOOKUP(BI23,$BI$26:$BR$27,3,FALSE)),0,(VLOOKUP(BI23,$BI$26:$BR$27,3,FALSE))) -> 0 | BL23: =IF(ISERROR(VLOOKUP(BI23,$BI$26:$BR$27,4,FALSE)),0,(VLOOKUP(BI23,$BI$26:$BR$27,4,FALSE))) -> 0 | BM23: =BK23-BL23-BN23 -> 0 | BN23: =IF(ISERROR(VLOOKUP(BI23,$BI$26:$BR$27,6,FALSE)),0,(VLOOKUP(BI23,$BI$26:$BR$27,6,FALSE))) -> 0 | BO23: =IF(ISERROR(VLOOKUP(BI23,$BI$26:$BR$27,7,FALSE)),0,(VLOOKUP(BI23,$BI$26:$BR$27,7,FALSE))) -> 0 | BP23: =IF(ISERROR(VLOOKUP(BI23,$BI$26:$BR$27,8,FALSE)),0,(VLOOKUP(BI23,$BI$26:$BR$27,8,FALSE))) -> 0 | BQ23: =BO23-BP23 -> 0 | BR23: =BL23*3+BM23 -> 0 | BY23: =P23 -> #REF! | BZ23: =Q23 -> Polônia | CA23: =R23+AN23+AY23+BK23 -> 8 | CB23: =S23+AO23+AZ23+BL23 -> 2 | CC23: =T23+AP23+BA23+BM23 -> 1 | CD23: =U23+AQ23+BB23+BN23 -> 5 | CE23: =V23+AR23+BC23+BO23 -> 12 | CF23: =W23+AS23+BD23+BP23 -> 13 | CG23: =X23+AT23+BE23+BQ23 -> -1 | CH23: =Y23+AU23+BF23+BR23 -> 7 | CJ23: =(10^10)*CH23+(10^8)*CB23+(10^6)*(50+CG23)+(10^4)*CE23+(10^2)*CA23+(13-BY23) -> #REF! | CK23: 18 | CL23: =LARGE($CJ$6:$CJ$23,CK23) -> #REF! | CN23: 18 | CO23: =MATCH(CL23,$CJ$6:$CJ$23,0) -> #REF!
AL24: QUARTAS DE FINAL | AW24: SEMI FINAL | BI24: FINAL
AL25: ID_TIME | AM25: Times | AN25: Jogos | AO25: Vitorias | AP25: Empates | AQ25: Derrotas | AR25: Gols Pró | AS25: Gols Cont. | AT25: Saldo | AU25: Pontos | AW25: ID_TIME | AX25: Times | AY25: Jogos | AZ25: Vitorias | BA25: Empates | BB25: Derrotas | BC25: Gols Pró | BD25: Gols Cont. | BE25: Saldo | BF25: Pontos | BI25: ID_TIME | BJ25: Times | BK25: Jogos | BL25: Vitorias | BM25: Empates | BN25: Derrotas | BO25: Gols Pró | BP25: Gols Cont. | BQ25: Saldo | BR25: Pontos
AW26: =Jogos!#REF! -> #REF! | AX26: =Jogos!#REF! -> #REF! | AY26: =Jogos!#REF! -> #REF! | AZ26: =Jogos!#REF! -> #REF! | BA26: =Jogos!#REF! -> #REF! | BB26: =Jogos!#REF! -> #REF! | BC26: =Jogos!#REF! -> #REF! | BD26: =Jogos!#REF! -> #REF! | ... BF26: =Jogos!#REF! -> #REF! | BI26: =Jogos!#REF! -> #REF! | BJ26: =Jogos!#REF! -> #REF! | BK26: =Jogos!#REF! -> #REF! | BL26: =Jogos!#REF! -> #REF! | BM26: =Jogos!#REF! -> #REF! | BN26: =Jogos!#REF! -> #REF! | BO26: =Jogos!#REF! -> #REF! | BP26: =Jogos!#REF! -> #REF! | ... BR26: =Jogos!#REF! -> #REF!
AL27: =Jogos!#REF! -> #REF! | AM27: =Jogos!#REF! -> #REF! | AN27: =Jogos!#REF! -> #REF! | AO27: =Jogos!#REF! -> #REF! | AP27: =Jogos!#REF! -> #REF! | AQ27: =Jogos!#REF! -> #REF! | AR27: =Jogos!#REF! -> #REF! | AS27: =Jogos!#REF! -> #REF! | ... AU27: =Jogos!#REF! -> #REF! | AW27: =Jogos!#REF! -> #REF! | AX27: =Jogos!#REF! -> #REF! | AY27: =Jogos!#REF! -> #REF! | AZ27: =Jogos!#REF! -> #REF! | BA27: =Jogos!#REF! -> #REF! | BB27: =Jogos!#REF! -> #REF! | BC27: =Jogos!#REF! -> #REF! | BD27: =Jogos!#REF! -> #REF! | ... BF27: =Jogos!#REF! -> #REF! | BI27: =Jogos!#REF! -> #REF! | BJ27: =Jogos!#REF! -> #REF! | BK27: =Jogos!#REF! -> #REF! | BL27: =Jogos!#REF! -> #REF! | BM27: =Jogos!#REF! -> #REF! | BN27: =Jogos!#REF! -> #REF! | BO27: =Jogos!#REF! -> #REF! | BP27: =Jogos!#REF! -> #REF! | ... BR27: =Jogos!#REF! -> #REF!
AL28: =Jogos!#REF! -> #REF! | AM28: =Jogos!#REF! -> #REF! | AN28: =Jogos!#REF! -> #REF! | AO28: =Jogos!#REF! -> #REF! | AP28: =Jogos!#REF! -> #REF! | AQ28: =Jogos!#REF! -> #REF! | AR28: =Jogos!#REF! -> #REF! | AS28: =Jogos!#REF! -> #REF! | ... AU28: =Jogos!#REF! -> #REF! | AW28: =Jogos!#REF! -> #REF! | AX28: =Jogos!#REF! -> #REF! | AY28: =Jogos!#REF! -> #REF! | AZ28: =Jogos!#REF! -> #REF! | BA28: =Jogos!#REF! -> #REF! | BB28: =Jogos!#REF! -> #REF! | BC28: =Jogos!#REF! -> #REF! | BD28: =Jogos!#REF! -> #REF! | ... BF28: =Jogos!#REF! -> #REF!
AL29: =Jogos!#REF! -> #REF! | AM29: =Jogos!#REF! -> #REF! | AN29: =Jogos!#REF! -> #REF! | AO29: =Jogos!#REF! -> #REF! | AP29: =Jogos!#REF! -> #REF! | AQ29: =Jogos!#REF! -> #REF! | AR29: =Jogos!#REF! -> #REF! | AS29: =Jogos!#REF! -> #REF! | ... AU29: =Jogos!#REF! -> #REF! | AW29: =Jogos!#REF! -> #REF! | AX29: =Jogos!#REF! -> #REF! | AY29: =Jogos!#REF! -> #REF! | AZ29: =Jogos!#REF! -> #REF! | BA29: =Jogos!#REF! -> #REF! | BB29: =Jogos!#REF! -> #REF! | BC29: =Jogos!#REF! -> #REF! | BD29: =Jogos!#REF! -> #REF! | ... BF29: =Jogos!#REF! -> #REF!
AL30: =Jogos!#REF! -> #REF! | AM30: =Jogos!#REF! -> #REF! | AN30: =Jogos!#REF! -> #REF! | AO30: =Jogos!#REF! -> #REF! | AP30: =Jogos!#REF! -> #REF! | AQ30: =Jogos!#REF! -> #REF! | AR30: =Jogos!#REF! -> #REF! | AS30: =Jogos!#REF! -> #REF! | ... AU30: =Jogos!#REF! -> #REF!
AL31: =Jogos!#REF! -> #REF! | AM31: =Jogos!#REF! -> #REF! | AN31: =Jogos!#REF! -> #REF! | AO31: =Jogos!#REF! -> #REF! | AP31: =Jogos!#REF! -> #REF! | AQ31: =Jogos!#REF! -> #REF! | AR31: =Jogos!#REF! -> #REF! | AS31: =Jogos!#REF! -> #REF! | ... AU31: =Jogos!#REF! -> #REF!
AL32: =Jogos!#REF! -> #REF! | AM32: =Jogos!#REF! -> #REF! | AN32: =Jogos!#REF! -> #REF! | AO32: =Jogos!#REF! -> #REF! | AP32: =Jogos!#REF! -> #REF! | AQ32: =Jogos!#REF! -> #REF! | AR32: =Jogos!#REF! -> #REF! | AS32: =Jogos!#REF! -> #REF! | ... AU32: =Jogos!#REF! -> #REF!
AL33: =Jogos!#REF! -> #REF! | AM33: =Jogos!#REF! -> #REF! | AN33: =Jogos!#REF! -> #REF! | AO33: =Jogos!#REF! -> #REF! | AP33: =Jogos!#REF! -> #REF! | AQ33: =Jogos!#REF! -> #REF! | AR33: =Jogos!#REF! -> #REF! | AS33: =Jogos!#REF! -> #REF! | ... AU33: =Jogos!#REF! -> #REF!
AL34: =Jogos!#REF! -> #REF! | AM34: =Jogos!#REF! -> #REF! | AN34: =Jogos!#REF! -> #REF! | AO34: =Jogos!#REF! -> #REF! | AP34: =Jogos!#REF! -> #REF! | AQ34: =Jogos!#REF! -> #REF! | AR34: =Jogos!#REF! -> #REF! | AS34: =Jogos!#REF! -> #REF! | ... AU34: =Jogos!#REF! -> #REF!

Sheet Geral
B2: CLASSIFICAÇÃO GERAL | P2: 1º FASE | AB2: REPESCAGEM | AM2: QUARTAS DE FINAL | AX2: SEMI FINAL | BJ2: FINAL
B4: Posição | C4: Times | D4: Jogos | E4: Vitorias | F4: Empates | G4: Derrotas | H4: Gols Pró | I4: Gols Cont. | J4: Saldo | K4: Pontos | P4: ID_TIME | Q4: Times | R4: Jogos | S4: Vitorias | T4: Empates | U4: Derrotas | V4: Gols Pró | W4: Gols Cont. | X4: Saldo | Y4: Pontos | AB4: ID_TIME | AC4: Times | AD4: Jogos | AE4: Vitorias | AF4: Empates | AG4: Derrotas | AH4: Gols Pró | AI4: Gols Cont. | AJ4: Saldo | AK4: Pontos | AM4: ID_TIME | AN4: Times | AO4: Jogos | AP4: Vitorias | AQ4: Empates | AR4: Derrotas | AS4: Gols Pró | AT4: Gols Cont. | AU4: Saldo | AV4: Pontos | AW4: Ranking | AX4: ID_TIME | AY4: Times | AZ4: Jogos | BA4: Vitorias | BB4: Empates | BC4: Derrotas | BD4: Gols Pró | BE4: Gols Cont. | BF4: Saldo | BG4: Pontos | BJ4: ID_TIME | BK4: Times | BL4: Jogos | BM4: Vitorias | BN4: Empates | BO4: Derrotas | BP4: Gols Pró | BQ4: Gols Cont. | BR4: Saldo | BS4: Pontos | BZ4: ID_TIME | CA4: Times | CB4: Jogos | CC4: Vitorias | CD4: Empates | CE4: Derrotas | CF4: Gols Pró | CG4: Gols Cont. | CH4: Saldo | CI4: Pontos
B6: 1º | C6: =VLOOKUP(CR6,$BZ$6:$CI$23,2) -> Colômbia | D6: =VLOOKUP(CR6,$BZ$6:$CI$23,3) -> 9 | E6: =VLOOKUP(CR6,$BZ$6:$CI$23,4) -> 8 | F6: =D6-E6-G6 -> 0 | G6: =VLOOKUP(CR6,$BZ$6:$CI$23,6) -> 1 | H6: =VLOOKUP(CR6,$BZ$6:$CI$23,7) -> 26 | I6: =VLOOKUP(CR6,$BZ$6:$CI$23,8) -> 6 | J6: =H6-I6 -> 20 | K6: =E6*3+F6 -> 24 | P6: =Classificação!W10 -> 1 | Q6: =Classificação!N10 -> Colômbia | R6: =Classificação!O10 -> 9 | S6: =Classificação!P10 -> 8 | T6: =Classificação!Q10 -> 0 | U6: =Classificação!R10 -> 1 | V6: =Classificação!S10 -> 26 | W6: =Classificação!T10 -> 6 | X6: =Classificação!U10 -> 20 | Y6: =Classificação!V10 -> 24 | Z6: 321060261712 | AB6: 1 | AC6: =IF(ISERROR(VLOOKUP(AB6,$AB$28:$AD$43,2,FALSE)),0,(VLOOKUP(AB6,$AB$28:$AD$43,2,FALSE))) -> 0 | AD6: =IF(ISERROR(VLOOKUP(AB6,$AB$28:$AD$43,3,FALSE)),0,(VLOOKUP(AB6,$AB$28:$AD$43,3,FALSE))) -> 0 | AE6: =IF(ISERROR(VLOOKUP(AB6,$AB$28:$AE$43,4,FALSE)),0,(VLOOKUP(AB6,$AB$28:$AE$43,4,FALSE))) -> 0 | AF6: =AD6-AE6-AG6 -> 0 | AG6: =IF(ISERROR(VLOOKUP(AB6,$AB$28:$AG$43,6,FALSE)),0,(VLOOKUP(AB6,$AB$28:$AG$43,6,FALSE))) -> 0 | AH6: =IF(ISERROR(VLOOKUP(AB6,$AB$28:$AH$43,7,FALSE)),0,(VLOOKUP(AB6,$AB$28:$AH$43,7,FALSE))) -> 0 | AI6: =IF(ISERROR(VLOOKUP(AB6,$AB$28:$AI$43,8,FALSE)),0,(VLOOKUP(AB6,$AB$28:$AI$43,8,FALSE))) -> 0 | AJ6: =AH6-AI6 -> 0 | AK6: =AE6*3+AF6 -> 0 | AM6: 1 | AN6: =IF(ISERROR(VLOOKUP(AM6,$AM$28:$AO$35,2,FALSE)),0,(VLOOKUP(AM6,$AM$28:$AO$35,2,FALSE))) -> 0 | AO6: =IF(ISERROR(VLOOKUP(AM6,$AM$28:$AO$35,3,FALSE)),0,(VLOOKUP(AM6,$AM$28:$AO$35,3,FALSE))) -> 0 | AP6: =IF(ISERROR(VLOOKUP(AM6,$AM$28:$AP$35,4,FALSE)),0,(VLOOKUP(AM6,$AM$28:$AP$35,4,FALSE))) -> 0 | AQ6: =AO6-AP6-AR6 -> 0 | AR6: =IF(ISERROR(VLOOKUP(AM6,$AM$28:$AR$35,6,FALSE)),0,(VLOOKUP(AM6,$AM$28:$AR$35,6,FALSE))) -> 0 | AS6: =IF(ISERROR(VLOOKUP(AM6,$AM$28:$AS$35,7,FALSE)),0,(VLOOKUP(AM6,$AM$28:$AS$35,7,FALSE))) -> 0 | AT6: =IF(ISERROR(VLOOKUP(AM6,$AM$28:$AT$35,8,FALSE)),0,(VLOOKUP(AM6,$AM$28:$AT$35,8,FALSE))) -> 0 | AU6: =AS6-AT6 -> 0 | AV6: =AP6*3+AQ6 -> 0 | AX6: 1 | AY6: =IF(ISERROR(VLOOKUP(AX6,$AX$27:$AZ$30,2,FALSE)),0,(VLOOKUP(AX6,$AX$27:$AZ$30,2,FALSE))) -> 0 | AZ6: =IF(ISERROR(VLOOKUP(AX6,$AX$27:$BA$30,3,FALSE)),0,(VLOOKUP(AX6,$AX$27:$BA$30,3,FALSE))) -> 0 | BA6: =IF(ISERROR(VLOOKUP(AX6,$AX$27:$BA$30,4,FALSE)),0,(VLOOKUP(AX6,$AX$27:$BA$30,4,FALSE))) -> 0 | BB6: =AZ6-BA6-BC6 -> 0 | BC6: =IF(ISERROR(VLOOKUP(AX6,$AX$27:$BC$30,6,FALSE)),0,(VLOOKUP(AX6,$AX$27:$BC$30,6,FALSE))) -> 0 | BD6: =IF(ISERROR(VLOOKUP(AX6,$AX$27:$BD$30,7,FALSE)),0,(VLOOKUP(AX6,$AX$27:$BD$30,7,FALSE))) -> 0 | BE6: =IF(ISERROR(VLOOKUP(AX6,$AX$27:$BE$30,8,FALSE)),0,(VLOOKUP(AX6,$AX$27:$BE$30,8,FALSE))) -> 0 | BF6: =BD6-BE6 -> 0 | BG6: =BA6*3+BB6 -> 0 | BJ6: 1 | BK6: =IF(ISERROR(VLOOKUP(BJ6,$BJ$27:$BL$30,2,FALSE)),0,(VLOOKUP(BJ6,$BJ$27:$BL$30,2,FALSE))) -> 0 | BL6: =IF(ISERROR(VLOOKUP(BJ6,$BJ$27:$BM$30,3,FALSE)),0,(VLOOKUP(BJ6,$BJ$27:$BM$30,3,FALSE))) -> 0 | BM6: =IF(ISERROR(VLOOKUP(BJ6,$BJ$27:$BM$30,4,FALSE)),0,(VLOOKUP(BJ6,$BJ$27:$BM$30,4,FALSE))) -> 0 | BN6: =BL6-BM6-BO6 -> 0 | BO6: =IF(ISERROR(VLOOKUP(BJ6,$BJ$27:$BO$30,6,FALSE)),0,(VLOOKUP(BJ6,$BJ$27:$BO$30,6,FALSE))) -> 0 | BP6: =IF(ISERROR(VLOOKUP(BJ6,$BJ$27:$BP$30,7,FALSE)),0,(VLOOKUP(BJ6,$BJ$27:$BP$30,7,FALSE))) -> 0 | BQ6: =IF(ISERROR(VLOOKUP(BJ6,$BJ$27:$BQ$30,8,FALSE)),0,(VLOOKUP(BJ6,$BJ$27:$BQ$30,8,FALSE))) -> 0 | BR6: =BP6-BQ6 -> 0 | BS6: =BM6*3+BN6 -> 0 | BZ6: 1 | CA6: =Q6 -> Colômbia | CB6: =R6+AO6+AZ6+BL6 -> 9 | CC6: =S6+AP6+BA6+BM6 -> 8 | CD6: =T6+AQ6+BB6+BN6 -> 0 | CE6: =U6+AR6+BC6+BO6 -> 1 | CF6: =V6+AS6+BD6+BP6 -> 26 | CG6: =W6+AT6+BE6+BQ6 -> 6 | CH6: =X6+AU6+BF6+BR6 -> 20 | CI6: =Y6+AV6+BG6+BS6 -> 24 | CL6: =(10^10)*CI6+(10^8)*CC6+(10^6)*(50+CH6)+(10^4)*CF6+(10^2)*CB6+(13-BZ6) -> 240870260912 | CN6: 1 | CO6: =LARGE(CL6:CL23,CN6) -> 240870260912 | CQ6: 1 | CR6: =MATCH(CO6,CL$6:CL$23,0) -> 1
B7: 2º | C7: =VLOOKUP(CR7,$BZ$6:$CI$23,2) -> Senegal | D7: =VLOOKUP(CR7,$BZ$6:$CI$23,3) -> 9 | E7: =VLOOKUP(CR7,$BZ$6:$CI$23,4) -> 5 | F7: =D7-E7-G7 -> 2 | G7: =VLOOKUP(CR7,$BZ$6:$CI$23,6) -> 2 | H7: =VLOOKUP(CR7,$BZ$6:$CI$23,7) -> 16 | I7: =VLOOKUP(CR7,$BZ$6:$CI$23,8) -> 12 | J7: =H7-I7 -> 4 | K7: =E7*3+F7 -> 17 | P7: =Classificação!W11 -> 2 | Q7: =Classificação!N11 -> Brasil | R7: =Classificação!O11 -> 9 | S7: =Classificação!P11 -> 0 | T7: =Classificação!Q11 -> 2 | U7: =Classificação!R11 -> 7 | V7: =Classificação!S11 -> 5 | W7: =Classificação!T11 -> 20 | X7: =Classificação!U11 -> -15 | Y7: =Classificação!V11 -> 2 | Z7: 220548161711 | AB7: 2 | AC7: =IF(ISERROR(VLOOKUP(AB7,$AB$28:$AD$43,2,FALSE)),0,(VLOOKUP(AB7,$AB$28:$AD$43,2,FALSE))) -> 0 | AD7: =IF(ISERROR(VLOOKUP(AB7,$AB$28:$AD$43,3,FALSE)),0,(VLOOKUP(AB7,$AB$28:$AD$43,3,FALSE))) -> 0 | AE7: =IF(ISERROR(VLOOKUP(AB7,$AB$28:$AE$43,4,FALSE)),0,(VLOOKUP(AB7,$AB$28:$AE$43,4,FALSE))) -> 0 | AF7: =AD7-AE7-AG7 -> 0 | AG7: =IF(ISERROR(VLOOKUP(AB7,$AB$28:$AG$43,6,FALSE)),0,(VLOOKUP(AB7,$AB$28:$AG$43,6,FALSE))) -> 0 | AH7: =IF(ISERROR(VLOOKUP(AB7,$AB$28:$AH$43,7,FALSE)),0,(VLOOKUP(AB7,$AB$28:$AH$43,7,FALSE))) -> 0 | AI7: =IF(ISERROR(VLOOKUP(AB7,$AB$28:$AI$43,8,FALSE)),0,(VLOOKUP(AB7,$AB$28:$AI$43,8,FALSE))) -> 0 | AJ7: =AH7-AI7 -> 0 | AK7: =AE7*3+AF7 -> 0 | AM7: 2 | AN7: =IF(ISERROR(VLOOKUP(AM7,$AM$28:$AO$35,2,FALSE)),0,(VLOOKUP(AM7,$AM$28:$AO$35,2,FALSE))) -> 0 | AO7: =IF(ISERROR(VLOOKUP(AM7,$AM$28:$AO$35,3,FALSE)),0,(VLOOKUP(AM7,$AM$28:$AO$35,3,FALSE))) -> 0 | AP7: =IF(ISERROR(VLOOKUP(AM7,$AM$28:$AP$35,4,FALSE)),0,(VLOOKUP(AM7,$AM$28:$AP$35,4,FALSE))) -> 0 | AQ7: =AO7-AP7-AR7 -> 0 | AR7: =IF(ISERROR(VLOOKUP(AM7,$AM$28:$AR$35,6,FALSE)),0,(VLOOKUP(AM7,$AM$28:$AR$35,6,FALSE))) -> 0 | AS7: =IF(ISERROR(VLOOKUP(AM7,$AM$28:$AS$35,7,FALSE)),0,(VLOOKUP(AM7,$AM$28:$AS$35,7,FALSE))) -> 0 | AT7: =IF(ISERROR(VLOOKUP(AM7,$AM$28:$AT$35,8,FALSE)),0,(VLOOKUP(AM7,$AM$28:$AT$35,8,FALSE))) -> 0 | AU7: =AS7-AT7 -> 0 | AV7: =AP7*3+AQ7 -> 0 | AX7: 2 | AY7: =IF(ISERROR(VLOOKUP(AX7,$AX$27:$AZ$30,2,FALSE)),0,(VLOOKUP(AX7,$AX$27:$AZ$30,2,FALSE))) -> 0 | AZ7: =IF(ISERROR(VLOOKUP(AX7,$AX$27:$BA$30,3,FALSE)),0,(VLOOKUP(AX7,$AX$27:$BA$30,3,FALSE))) -> 0 | BA7: =IF(ISERROR(VLOOKUP(AX7,$AX$27:$BA$30,4,FALSE)),0,(VLOOKUP(AX7,$AX$27:$BA$30,4,FALSE))) -> 0 | BB7: =AZ7-BA7-BC7 -> 0 | BC7: =IF(ISERROR(VLOOKUP(AX7,$AX$27:$BC$30,6,FALSE)),0,(VLOOKUP(AX7,$AX$27:$BC$30,6,FALSE))) -> 0 | BD7: =IF(ISERROR(VLOOKUP(AX7,$AX$27:$BD$30,7,FALSE)),0,(VLOOKUP(AX7,$AX$27:$BD$30,7,FALSE))) -> 0 | BE7: =IF(ISERROR(VLOOKUP(AX7,$AX$27:$BE$30,8,FALSE)),0,(VLOOKUP(AX7,$AX$27:$BE$30,8,FALSE))) -> 0 | BF7: =BD7-BE7 -> 0 | BG7: =BA7*3+BB7 -> 0 | BJ7: 2 | BK7: =IF(ISERROR(VLOOKUP(BJ7,$BJ$27:$BL$30,2,FALSE)),0,(VLOOKUP(BJ7,$BJ$27:$BL$30,2,FALSE))) -> 0 | BL7: =IF(ISERROR(VLOOKUP(BJ7,$BJ$27:$BM$30,3,FALSE)),0,(VLOOKUP(BJ7,$BJ$27:$BM$30,3,FALSE))) -> 0 | BM7: =IF(ISERROR(VLOOKUP(BJ7,$BJ$27:$BM$30,4,FALSE)),0,(VLOOKUP(BJ7,$BJ$27:$BM$30,4,FALSE))) -> 0 | BN7: =BL7-BM7-BO7 -> 0 | BO7: =IF(ISERROR(VLOOKUP(BJ7,$BJ$27:$BO$30,6,FALSE)),0,(VLOOKUP(BJ7,$BJ$27:$BO$30,6,FALSE))) -> 0 | BP7: =IF(ISERROR(VLOOKUP(BJ7,$BJ$27:$BP$30,7,FALSE)),0,(VLOOKUP(BJ7,$BJ$27:$BP$30,7,FALSE))) -> 0 | BQ7: =IF(ISERROR(VLOOKUP(BJ7,$BJ$27:$BQ$30,8,FALSE)),0,(VLOOKUP(BJ7,$BJ$27:$BQ$30,8,FALSE))) -> 0 | BR7: =BP7-BQ7 -> 0 | BS7: =BM7*3+BN7 -> 0 | BZ7: 2 | CA7: =Q7 -> Brasil | CB7: =R7+AO7+AZ7+BL7 -> 9 | CC7: =S7+AP7+BA7+BM7 -> 0 | CD7: =T7+AQ7+BB7+BN7 -> 2 | CE7: =U7+AR7+BC7+BO7 -> 7 | CF7: =V7+AS7+BD7+BP7 -> 5 | CG7: =W7+AT7+BE7+BQ7 -> 20 | CH7: =X7+AU7+BF7+BR7 -> -15 | CI7: =Y7+AV7+BG7+BS7 -> 2 | CL7: =(10^10)*CI7+(10^8)*CC7+(10^6)*(50+CH7)+(10^4)*CF7+(10^2)*CB7+(13-BZ7) -> 20035050911 | CN7: 2 | CO7: =LARGE(CL6:CL23,CN7) -> 170554160909 | CQ7: 2 | CR7: =MATCH(CO7,CL$6:CL$23,0) -> 4
B8: 3º | C8: =VLOOKUP(CR8,$BZ$6:$CI$23,2) -> Bélgica | D8: =VLOOKUP(CR8,$BZ$6:$CI$23,3) -> 9 | E8: =VLOOKUP(CR8,$BZ$6:$CI$23,4) -> 4 | F8: =D8-E8-G8 -> 3 | G8: =VLOOKUP(CR8,$BZ$6:$CI$23,6) -> 2 | H8: =VLOOKUP(CR8,$BZ$6:$CI$23,7) -> 9 | I8: =VLOOKUP(CR8,$BZ$6:$CI$23,8) -> 7 | J8: =H8-I8 -> 2 | K8: =E8*3+F8 -> 15 | P8: =Classificação!W12 -> 3 | Q8: =Classificação!N12 -> Espanha | R8: =Classificação!O12 -> 9 | S8: =Classificação!P12 -> 0 | T8: =Classificação!Q12 -> 4 | U8: =Classificação!R12 -> 5 | V8: =Classificação!S12 -> 1 | W8: =Classificação!T12 -> 12 | X8: =Classificação!U12 -> -11 | Y8: =Classificação!V12 -> 4 | Z8: 200545131710 | AB8: 3 | AC8: =IF(ISERROR(VLOOKUP(AB8,$AB$28:$AD$43,2,FALSE)),0,(VLOOKUP(AB8,$AB$28:$AD$43,2,FALSE))) -> 0 | AD8: =IF(ISERROR(VLOOKUP(AB8,$AB$28:$AD$43,3,FALSE)),0,(VLOOKUP(AB8,$AB$28:$AD$43,3,FALSE))) -> 0 | AE8: =IF(ISERROR(VLOOKUP(AB8,$AB$28:$AE$43,4,FALSE)),0,(VLOOKUP(AB8,$AB$28:$AE$43,4,FALSE))) -> 0 | AF8: =AD8-AE8-AG8 -> 0 | AG8: =IF(ISERROR(VLOOKUP(AB8,$AB$28:$AG$43,6,FALSE)),0,(VLOOKUP(AB8,$AB$28:$AG$43,6,FALSE))) -> 0 | AH8: =IF(ISERROR(VLOOKUP(AB8,$AB$28:$AH$43,7,FALSE)),0,(VLOOKUP(AB8,$AB$28:$AH$43,7,FALSE))) -> 0 | AI8: =IF(ISERROR(VLOOKUP(AB8,$AB$28:$AI$43,8,FALSE)),0,(VLOOKUP(AB8,$AB$28:$AI$43,8,FALSE))) -> 0 | AJ8: =AH8-AI8 -> 0 | AK8: =AE8*3+AF8 -> 0 | AM8: 3 | AN8: =IF(ISERROR(VLOOKUP(AM8,$AM$28:$AO$35,2,FALSE)),0,(VLOOKUP(AM8,$AM$28:$AO$35,2,FALSE))) -> 0 | AO8: =IF(ISERROR(VLOOKUP(AM8,$AM$28:$AO$35,3,FALSE)),0,(VLOOKUP(AM8,$AM$28:$AO$35,3,FALSE))) -> 0 | AP8: =IF(ISERROR(VLOOKUP(AM8,$AM$28:$AP$35,4,FALSE)),0,(VLOOKUP(AM8,$AM$28:$AP$35,4,FALSE))) -> 0 | AQ8: =AO8-AP8-AR8 -> 0 | AR8: =IF(ISERROR(VLOOKUP(AM8,$AM$28:$AR$35,6,FALSE)),0,(VLOOKUP(AM8,$AM$28:$AR$35,6,FALSE))) -> 0 | AS8: =IF(ISERROR(VLOOKUP(AM8,$AM$28:$AS$35,7,FALSE)),0,(VLOOKUP(AM8,$AM$28:$AS$35,7,FALSE))) -> 0 | AT8: =IF(ISERROR(VLOOKUP(AM8,$AM$28:$AT$35,8,FALSE)),0,(VLOOKUP(AM8,$AM$28:$AT$35,8,FALSE))) -> 0 | AU8: =AS8-AT8 -> 0 | AV8: =AP8*3+AQ8 -> 0 | AX8: 3 | AY8: =IF(ISERROR(VLOOKUP(AX8,$AX$27:$AZ$30,2,FALSE)),0,(VLOOKUP(AX8,$AX$27:$AZ$30,2,FALSE))) -> 0 | AZ8: =IF(ISERROR(VLOOKUP(AX8,$AX$27:$BA$30,3,FALSE)),0,(VLOOKUP(AX8,$AX$27:$BA$30,3,FALSE))) -> 0 | BA8: =IF(ISERROR(VLOOKUP(AX8,$AX$27:$BA$30,4,FALSE)),0,(VLOOKUP(AX8,$AX$27:$BA$30,4,FALSE))) -> 0 | BB8: =AZ8-BA8-BC8 -> 0 | BC8: =IF(ISERROR(VLOOKUP(AX8,$AX$27:$BC$30,6,FALSE)),0,(VLOOKUP(AX8,$AX$27:$BC$30,6,FALSE))) -> 0 | BD8: =IF(ISERROR(VLOOKUP(AX8,$AX$27:$BD$30,7,FALSE)),0,(VLOOKUP(AX8,$AX$27:$BD$30,7,FALSE))) -> 0 | BE8: =IF(ISERROR(VLOOKUP(AX8,$AX$27:$BE$30,8,FALSE)),0,(VLOOKUP(AX8,$AX$27:$BE$30,8,FALSE))) -> 0 | BF8: =BD8-BE8 -> 0 | BG8: =BA8*3+BB8 -> 0 | BJ8: 3 | BK8: =IF(ISERROR(VLOOKUP(BJ8,$BJ$27:$BL$30,2,FALSE)),0,(VLOOKUP(BJ8,$BJ$27:$BL$30,2,FALSE))) -> 0 | BL8: =IF(ISERROR(VLOOKUP(BJ8,$BJ$27:$BM$30,3,FALSE)),0,(VLOOKUP(BJ8,$BJ$27:$BM$30,3,FALSE))) -> 0 | BM8: =IF(ISERROR(VLOOKUP(BJ8,$BJ$27:$BM$30,4,FALSE)),0,(VLOOKUP(BJ8,$BJ$27:$BM$30,4,FALSE))) -> 0 | BN8: =BL8-BM8-BO8 -> 0 | BO8: =IF(ISERROR(VLOOKUP(BJ8,$BJ$27:$BO$30,6,FALSE)),0,(VLOOKUP(BJ8,$BJ$27:$BO$30,6,FALSE))) -> 0 | BP8: =IF(ISERROR(VLOOKUP(BJ8,$BJ$27:$BP$30,7,FALSE)),0,(VLOOKUP(BJ8,$BJ$27:$BP$30,7,FALSE))) -> 0 | BQ8: =IF(ISERROR(VLOOKUP(BJ8,$BJ$27:$BQ$30,8,FALSE)),0,(VLOOKUP(BJ8,$BJ$27:$BQ$30,8,FALSE))) -> 0 | BR8: =BP8-BQ8 -> 0 | BS8: =BM8*3+BN8 -> 0 | BZ8: 3 | CA8: =Q8 -> Espanha | CB8: =R8+AO8+AZ8+BL8 -> 9 | CC8: =S8+AP8+BA8+BM8 -> 0 | CD8: =T8+AQ8+BB8+BN8 -> 4 | CE8: =U8+AR8+BC8+BO8 -> 5 | CF8: =V8+AS8+BD8+BP8 -> 1 | CG8: =W8+AT8+BE8+BQ8 -> 12 | CH8: =X8+AU8+BF8+BR8 -> -11 | CI8: =Y8+AV8+BG8+BS8 -> 4 | CL8: =(10^10)*CI8+(10^8)*CC8+(10^6)*(50+CH8)+(10^4)*CF8+(10^2)*CB8+(13-BZ8) -> 40039010910 | CN8: 3 | CO8: =LARGE(CL$6:CL$23,CN8) -> 150452090907 | CQ8: 3 | CR8: =MATCH(CO8,CL$6:CL$23,0) -> 6
B9: 4º | C9: =VLOOKUP(CR9,$BZ$6:$CI$23,2) -> México | D9: =VLOOKUP(CR9,$BZ$6:$CI$23,3) -> 8 | E9: =VLOOKUP(CR9,$BZ$6:$CI$23,4) -> 4 | F9: =D9-E9-G9 -> 2 | G9: =VLOOKUP(CR9,$BZ$6:$CI$23,6) -> 2 | H9: =VLOOKUP(CR9,$BZ$6:$CI$23,7) -> 13 | I9: =VLOOKUP(CR9,$BZ$6:$CI$23,8) -> 10 | J9: =H9-I9 -> 3 | K9: =E9*3+F9 -> 14 | P9: =Classificação!W13 -> 4 | Q9: =Classificação!N13 -> Senegal | R9: =Classificação!O13 -> 9 | S9: =Classificação!P13 -> 5 | T9: =Classificação!Q13 -> 2 | U9: =Classificação!R13 -> 2 | V9: =Classificação!S13 -> 16 | W9: =Classificação!T13 -> 12 | X9: =Classificação!U13 -> 4 | Y9: =Classificação!V13 -> 17 | Z9: 16001709 | AB9: 4 | AC9: =IF(ISERROR(VLOOKUP(AB9,$AB$28:$AD$43,2,FALSE)),0,(VLOOKUP(AB9,$AB$28:$AD$43,2,FALSE))) -> 0 | AD9: =IF(ISERROR(VLOOKUP(AB9,$AB$28:$AD$43,3,FALSE)),0,(VLOOKUP(AB9,$AB$28:$AD$43,3,FALSE))) -> 0 | AE9: =IF(ISERROR(VLOOKUP(AB9,$AB$28:$AE$43,4,FALSE)),0,(VLOOKUP(AB9,$AB$28:$AE$43,4,FALSE))) -> 0 | AF9: =AD9-AE9-AG9 -> 0 | AG9: =IF(ISERROR(VLOOKUP(AB9,$AB$28:$AG$43,6,FALSE)),0,(VLOOKUP(AB9,$AB$28:$AG$43,6,FALSE))) -> 0 | AH9: =IF(ISERROR(VLOOKUP(AB9,$AB$28:$AH$43,7,FALSE)),0,(VLOOKUP(AB9,$AB$28:$AH$43,7,FALSE))) -> 0 | AI9: =IF(ISERROR(VLOOKUP(AB9,$AB$28:$AI$43,8,FALSE)),0,(VLOOKUP(AB9,$AB$28:$AI$43,8,FALSE))) -> 0 | AJ9: =AH9-AI9 -> 0 | AK9: =AE9*3+AF9 -> 0 | AM9: 4 | AN9: =IF(ISERROR(VLOOKUP(AM9,$AM$28:$AO$35,2,FALSE)),0,(VLOOKUP(AM9,$AM$28:$AO$35,2,FALSE))) -> 0 | AO9: =IF(ISERROR(VLOOKUP(AM9,$AM$28:$AO$35,3,FALSE)),0,(VLOOKUP(AM9,$AM$28:$AO$35,3,FALSE))) -> 0 | AP9: =IF(ISERROR(VLOOKUP(AM9,$AM$28:$AP$35,4,FALSE)),0,(VLOOKUP(AM9,$AM$28:$AP$35,4,FALSE))) -> 0 | AQ9: =AO9-AP9-AR9 -> 0 | AR9: =IF(ISERROR(VLOOKUP(AM9,$AM$28:$AR$35,6,FALSE)),0,(VLOOKUP(AM9,$AM$28:$AR$35,6,FALSE))) -> 0 | AS9: =IF(ISERROR(VLOOKUP(AM9,$AM$28:$AS$35,7,FALSE)),0,(VLOOKUP(AM9,$AM$28:$AS$35,7,FALSE))) -> 0 | AT9: =IF(ISERROR(VLOOKUP(AM9,$AM$28:$AT$35,8,FALSE)),0,(VLOOKUP(AM9,$AM$28:$AT$35,8,FALSE))) -> 0 | AU9: =AS9-AT9 -> 0 | AV9: =AP9*3+AQ9 -> 0 | AX9: 4 | AY9: =IF(ISERROR(VLOOKUP(AX9,$AX$27:$AZ$30,2,FALSE)),0,(VLOOKUP(AX9,$AX$27:$AZ$30,2,FALSE))) -> 0 | AZ9: =IF(ISERROR(VLOOKUP(AX9,$AX$27:$BA$30,3,FALSE)),0,(VLOOKUP(AX9,$AX$27:$BA$30,3,FALSE))) -> 0 | BA9: =IF(ISERROR(VLOOKUP(AX9,$AX$27:$BA$30,4,FALSE)),0,(VLOOKUP(AX9,$AX$27:$BA$30,4,FALSE))) -> 0 | BB9: =AZ9-BA9-BC9 -> 0 | BC9: =IF(ISERROR(VLOOKUP(AX9,$AX$27:$BC$30,6,FALSE)),0,(VLOOKUP(AX9,$AX$27:$BC$30,6,FALSE))) -> 0 | BD9: =IF(ISERROR(VLOOKUP(AX9,$AX$27:$BD$30,7,FALSE)),0,(VLOOKUP(AX9,$AX$27:$BD$30,7,FALSE))) -> 0 | BE9: =IF(ISERROR(VLOOKUP(AX9,$AX$27:$BE$30,8,FALSE)),0,(VLOOKUP(AX9,$AX$27:$BE$30,8,FALSE))) -> 0 | BF9: =BD9-BE9 -> 0 | BG9: =BA9*3+BB9 -> 0 | BJ9: 4 | BK9: =IF(ISERROR(VLOOKUP(BJ9,$BJ$27:$BL$30,2,FALSE)),0,(VLOOKUP(BJ9,$BJ$27:$BL$30,2,FALSE))) -> 0 | BL9: =IF(ISERROR(VLOOKUP(BJ9,$BJ$27:$BM$30,3,FALSE)),0,(VLOOKUP(BJ9,$BJ$27:$BM$30,3,FALSE))) -> 0 | BM9: =IF(ISERROR(VLOOKUP(BJ9,$BJ$27:$BM$30,4,FALSE)),0,(VLOOKUP(BJ9,$BJ$27:$BM$30,4,FALSE))) -> 0 | BN9: =BL9-BM9-BO9 -> 0 | BO9: =IF(ISERROR(VLOOKUP(BJ9,$BJ$27:$BO$30,6,FALSE)),0,(VLOOKUP(BJ9,$BJ$27:$BO$30,6,FALSE))) -> 0 | BP9: =IF(ISERROR(VLOOKUP(BJ9,$BJ$27:$BP$30,7,FALSE)),0,(VLOOKUP(BJ9,$BJ$27:$BP$30,7,FALSE))) -> 0 | BQ9: =IF(ISERROR(VLOOKUP(BJ9,$BJ$27:$BQ$30,8,FALSE)),0,(VLOOKUP(BJ9,$BJ$27:$BQ$30,8,FALSE))) -> 0 | BR9: =BP9-BQ9 -> 0 | BS9: =BM9*3+BN9 -> 0 | BZ9: 4 | CA9: =Q9 -> Senegal | CB9: =R9+AO9+AZ9+BL9 -> 9 | CC9: =S9+AP9+BA9+BM9 -> 5 | CD9: =T9+AQ9+BB9+BN9 -> 2 | CE9: =U9+AR9+BC9+BO9 -> 2 | CF9: =V9+AS9+BD9+BP9 -> 16 | CG9: =W9+AT9+BE9+BQ9 -> 12 | CH9: =X9+AU9+BF9+BR9 -> 4 | CI9: =Y9+AV9+BG9+BS9 -> 17 | CL9: =(10^10)*CI9+(10^8)*CC9+(10^6)*(50+CH9)+(10^4)*CF9+(10^2)*CB9+(13-BZ9) -> 170554160909 | CN9: 4 | CO9: =LARGE(CL$6:CL$23,CN9) -> 140453130798 | CQ9: 4 | CR9: =MATCH(CO9,CL$6:CL$23,0) -> 15
B10: 5º | C10: =VLOOKUP(CR10,$BZ$6:$CI$23,2) -> Uruguai | D10: =VLOOKUP(CR10,$BZ$6:$CI$23,3) -> 9 | E10: =VLOOKUP(CR10,$BZ$6:$CI$23,4) -> 4 | F10: =D10-E10-G10 -> 2 | G10: =VLOOKUP(CR10,$BZ$6:$CI$23,6) -> 3 | H10: =VLOOKUP(CR10,$BZ$6:$CI$23,7) -> 10 | I10: =VLOOKUP(CR10,$BZ$6:$CI$23,8) -> 11 | J10: =H10-I10 -> -1 | K10: =E10*3+F10 -> 14 | P10: =Classificação!W14 -> 5 | Q10: =Classificação!N14 -> Uruguai | R10: =Classificação!O14 -> 9 | S10: =Classificação!P14 -> 4 | T10: =Classificação!Q14 -> 2 | U10: =Classificação!R14 -> 3 | V10: =Classificação!S14 -> 10 | W10: =Classificação!T14 -> 11 | X10: =Classificação!U14 -> -1 | Y10: =Classificação!V14 -> 14 | Z10: 70126051708 | AB10: 5 | AC10: =IF(ISERROR(VLOOKUP(AB10,$AB$28:$AD$43,2,FALSE)),0,(VLOOKUP(AB10,$AB$28:$AD$43,2,FALSE))) -> 0 | AD10: =IF(ISERROR(VLOOKUP(AB10,$AB$28:$AD$43,3,FALSE)),0,(VLOOKUP(AB10,$AB$28:$AD$43,3,FALSE))) -> 0 | AE10: =IF(ISERROR(VLOOKUP(AB10,$AB$28:$AE$43,4,FALSE)),0,(VLOOKUP(AB10,$AB$28:$AE$43,4,FALSE))) -> 0 | AF10: =AD10-AE10-AG10 -> 0 | AG10: =IF(ISERROR(VLOOKUP(AB10,$AB$28:$AG$43,6,FALSE)),0,(VLOOKUP(AB10,$AB$28:$AG$43,6,FALSE))) -> 0 | AH10: =IF(ISERROR(VLOOKUP(AB10,$AB$28:$AH$43,7,FALSE)),0,(VLOOKUP(AB10,$AB$28:$AH$43,7,FALSE))) -> 0 | AI10: =IF(ISERROR(VLOOKUP(AB10,$AB$28:$AI$43,8,FALSE)),0,(VLOOKUP(AB10,$AB$28:$AI$43,8,FALSE))) -> 0 | AJ10: =AH10-AI10 -> 0 | AK10: =AE10*3+AF10 -> 0 | AM10: 5 | AN10: =IF(ISERROR(VLOOKUP(AM10,$AM$28:$AO$35,2,FALSE)),0,(VLOOKUP(AM10,$AM$28:$AO$35,2,FALSE))) -> 0 | AO10: =IF(ISERROR(VLOOKUP(AM10,$AM$28:$AO$35,3,FALSE)),0,(VLOOKUP(AM10,$AM$28:$AO$35,3,FALSE))) -> 0 | AP10: =IF(ISERROR(VLOOKUP(AM10,$AM$28:$AP$35,4,FALSE)),0,(VLOOKUP(AM10,$AM$28:$AP$35,4,FALSE))) -> 0 | AQ10: =AO10-AP10-AR10 -> 0 | AR10: =IF(ISERROR(VLOOKUP(AM10,$AM$28:$AR$35,6,FALSE)),0,(VLOOKUP(AM10,$AM$28:$AR$35,6,FALSE))) -> 0 | AS10: =IF(ISERROR(VLOOKUP(AM10,$AM$28:$AS$35,7,FALSE)),0,(VLOOKUP(AM10,$AM$28:$AS$35,7,FALSE))) -> 0 | AT10: =IF(ISERROR(VLOOKUP(AM10,$AM$28:$AT$35,8,FALSE)),0,(VLOOKUP(AM10,$AM$28:$AT$35,8,FALSE))) -> 0 | AU10: =AS10-AT10 -> 0 | AV10: =AP10*3+AQ10 -> 0 | AX10: 5 | AY10: =IF(ISERROR(VLOOKUP(AX10,$AX$27:$AZ$30,2,FALSE)),0,(VLOOKUP(AX10,$AX$27:$AZ$30,2,FALSE))) -> 0 | AZ10: =IF(ISERROR(VLOOKUP(AX10,$AX$27:$BA$30,3,FALSE)),0,(VLOOKUP(AX10,$AX$27:$BA$30,3,FALSE))) -> 0 | BA10: =IF(ISERROR(VLOOKUP(AX10,$AX$27:$BA$30,4,FALSE)),0,(VLOOKUP(AX10,$AX$27:$BA$30,4,FALSE))) -> 0 | BB10: =AZ10-BA10-BC10 -> 0 | BC10: =IF(ISERROR(VLOOKUP(AX10,$AX$27:$BC$30,6,FALSE)),0,(VLOOKUP(AX10,$AX$27:$BC$30,6,FALSE))) -> 0 | BD10: =IF(ISERROR(VLOOKUP(AX10,$AX$27:$BD$30,7,FALSE)),0,(VLOOKUP(AX10,$AX$27:$BD$30,7,FALSE))) -> 0 | BE10: =IF(ISERROR(VLOOKUP(AX10,$AX$27:$BE$30,8,FALSE)),0,(VLOOKUP(AX10,$AX$27:$BE$30,8,FALSE))) -> 0 | BF10: =BD10-BE10 -> 0 | BG10: =BA10*3+BB10 -> 0 | BJ10: 5 | BK10: =IF(ISERROR(VLOOKUP(BJ10,$BJ$27:$BL$30,2,FALSE)),0,(VLOOKUP(BJ10,$BJ$27:$BL$30,2,FALSE))) -> 0 | BL10: =IF(ISERROR(VLOOKUP(BJ10,$BJ$27:$BM$30,3,FALSE)),0,(VLOOKUP(BJ10,$BJ$27:$BM$30,3,FALSE))) -> 0 | BM10: =IF(ISERROR(VLOOKUP(BJ10,$BJ$27:$BM$30,4,FALSE)),0,(VLOOKUP(BJ10,$BJ$27:$BM$30,4,FALSE))) -> 0 | BN10: =BL10-BM10-BO10 -> 0 | BO10: =IF(ISERROR(VLOOKUP(BJ10,$BJ$27:$BO$30,6,FALSE)),0,(VLOOKUP(BJ10,$BJ$27:$BO$30,6,FALSE))) -> 0 | BP10: =IF(ISERROR(VLOOKUP(BJ10,$BJ$27:$BP$30,7,FALSE)),0,(VLOOKUP(BJ10,$BJ$27:$BP$30,7,FALSE))) -> 0 | BQ10: =IF(ISERROR(VLOOKUP(BJ10,$BJ$27:$BQ$30,8,FALSE)),0,(VLOOKUP(BJ10,$BJ$27:$BQ$30,8,FALSE))) -> 0 | BR10: =BP10-BQ10 -> 0 | BS10: =BM10*3+BN10 -> 0 | BZ10: 5 | CA10: =Q10 -> Uruguai | CB10: =R10+AO10+AZ10+BL10 -> 9 | CC10: =S10+AP10+BA10+BM10 -> 4 | CD10: =T10+AQ10+BB10+BN10 -> 2 | CE10: =U10+AR10+BC10+BO10 -> 3 | CF10: =V10+AS10+BD10+BP10 -> 10 | CG10: =W10+AT10+BE10+BQ10 -> 11 | CH10: =X10+AU10+BF10+BR10 -> -1 | CI10: =Y10+AV10+BG10+BS10 -> 14 | CL10: =(10^10)*CI10+(10^8)*CC10+(10^6)*(50+CH10)+(10^4)*CF10+(10^2)*CB10+(13-BZ10) -> 140449100908 | CN10: 5 | CO10: =LARGE(CL$6:CL$23,CN10) -> 140449100908 | CQ10: 5 | CR10: =MATCH(CO10,CL$6:CL$23,0) -> 5
B11: 6º | C11: =VLOOKUP(CR11,$BZ$6:$CI$23,2) -> Suíça | D11: =VLOOKUP(CR11,$BZ$6:$CI$23,3) -> 9 | E11: =VLOOKUP(CR11,$BZ$6:$CI$23,4) -> 3 | F11: =D11-E11-G11 -> 5 | G11: =VLOOKUP(CR11,$BZ$6:$CI$23,6) -> 1 | H11: =VLOOKUP(CR11,$BZ$6:$CI$23,7) -> 19 | I11: =VLOOKUP(CR11,$BZ$6:$CI$23,8) -> 13 | J11: =H11-I11 -> 6 | K11: =E11*3+F11 -> 14 | P11: =Classificação!W15 -> 6 | Q11: =Classificação!N15 -> Bélgica | R11: =Classificação!O15 -> 9 | S11: =Classificação!P15 -> 4 | T11: =Classificação!Q15 -> 3 | U11: =Classificação!R15 -> 2 | V11: =Classificação!S15 -> 9 | W11: =Classificação!T15 -> 7 | X11: =Classificação!U15 -> 2 | Y11: =Classificação!V15 -> 15 | Z11: 210452111707 | AB11: 6 | AC11: =IF(ISERROR(VLOOKUP(AB11,$AB$28:$AD$43,2,FALSE)),0,(VLOOKUP(AB11,$AB$28:$AD$43,2,FALSE))) -> 0 | AD11: =IF(ISERROR(VLOOKUP(AB11,$AB$28:$AD$43,3,FALSE)),0,(VLOOKUP(AB11,$AB$28:$AD$43,3,FALSE))) -> 0 | AE11: =IF(ISERROR(VLOOKUP(AB11,$AB$28:$AE$43,4,FALSE)),0,(VLOOKUP(AB11,$AB$28:$AE$43,4,FALSE))) -> 0 | AF11: =AD11-AE11-AG11 -> 0 | AG11: =IF(ISERROR(VLOOKUP(AB11,$AB$28:$AG$43,6,FALSE)),0,(VLOOKUP(AB11,$AB$28:$AG$43,6,FALSE))) -> 0 | AH11: =IF(ISERROR(VLOOKUP(AB11,$AB$28:$AH$43,7,FALSE)),0,(VLOOKUP(AB11,$AB$28:$AH$43,7,FALSE))) -> 0 | AI11: =IF(ISERROR(VLOOKUP(AB11,$AB$28:$AI$43,8,FALSE)),0,(VLOOKUP(AB11,$AB$28:$AI$43,8,FALSE))) -> 0 | AJ11: =AH11-AI11 -> 0 | AK11: =AE11*3+AF11 -> 0 | AM11: 6 | AN11: =IF(ISERROR(VLOOKUP(AM11,$AM$28:$AO$35,2,FALSE)),0,(VLOOKUP(AM11,$AM$28:$AO$35,2,FALSE))) -> 0 | AO11: =IF(ISERROR(VLOOKUP(AM11,$AM$28:$AO$35,3,FALSE)),0,(VLOOKUP(AM11,$AM$28:$AO$35,3,FALSE))) -> 0 | AP11: =IF(ISERROR(VLOOKUP(AM11,$AM$28:$AP$35,4,FALSE)),0,(VLOOKUP(AM11,$AM$28:$AP$35,4,FALSE))) -> 0 | AQ11: =AO11-AP11-AR11 -> 0 | AR11: =IF(ISERROR(VLOOKUP(AM11,$AM$28:$AR$35,6,FALSE)),0,(VLOOKUP(AM11,$AM$28:$AR$35,6,FALSE))) -> 0 | AS11: =IF(ISERROR(VLOOKUP(AM11,$AM$28:$AS$35,7,FALSE)),0,(VLOOKUP(AM11,$AM$28:$AS$35,7,FALSE))) -> 0 | AT11: =IF(ISERROR(VLOOKUP(AM11,$AM$28:$AT$35,8,FALSE)),0,(VLOOKUP(AM11,$AM$28:$AT$35,8,FALSE))) -> 0 | AU11: =AS11-AT11 -> 0 | AV11: =AP11*3+AQ11 -> 0 | AX11: 6 | AY11: =IF(ISERROR(VLOOKUP(AX11,$AX$27:$AZ$30,2,FALSE)),0,(VLOOKUP(AX11,$AX$27:$AZ$30,2,FALSE))) -> 0 | AZ11: =IF(ISERROR(VLOOKUP(AX11,$AX$27:$BA$30,3,FALSE)),0,(VLOOKUP(AX11,$AX$27:$BA$30,3,FALSE))) -> 0 | BA11: =IF(ISERROR(VLOOKUP(AX11,$AX$27:$BA$30,4,FALSE)),0,(VLOOKUP(AX11,$AX$27:$BA$30,4,FALSE))) -> 0 | BB11: =AZ11-BA11-BC11 -> 0 | BC11: =IF(ISERROR(VLOOKUP(AX11,$AX$27:$BC$30,6,FALSE)),0,(VLOOKUP(AX11,$AX$27:$BC$30,6,FALSE))) -> 0 | BD11: =IF(ISERROR(VLOOKUP(AX11,$AX$27:$BD$30,7,FALSE)),0,(VLOOKUP(AX11,$AX$27:$BD$30,7,FALSE))) -> 0 | BE11: =IF(ISERROR(VLOOKUP(AX11,$AX$27:$BE$30,8,FALSE)),0,(VLOOKUP(AX11,$AX$27:$BE$30,8,FALSE))) -> 0 | BF11: =BD11-BE11 -> 0 | BG11: =BA11*3+BB11 -> 0 | BJ11: 6 | BK11: =IF(ISERROR(VLOOKUP(BJ11,$BJ$27:$BL$30,2,FALSE)),0,(VLOOKUP(BJ11,$BJ$27:$BL$30,2,FALSE))) -> 0 | BL11: =IF(ISERROR(VLOOKUP(BJ11,$BJ$27:$BM$30,3,FALSE)),0,(VLOOKUP(BJ11,$BJ$27:$BM$30,3,FALSE))) -> 0 | BM11: =IF(ISERROR(VLOOKUP(BJ11,$BJ$27:$BM$30,4,FALSE)),0,(VLOOKUP(BJ11,$BJ$27:$BM$30,4,FALSE))) -> 0 | BN11: =BL11-BM11-BO11 -> 0 | BO11: =IF(ISERROR(VLOOKUP(BJ11,$BJ$27:$BO$30,6,FALSE)),0,(VLOOKUP(BJ11,$BJ$27:$BO$30,6,FALSE))) -> 0 | BP11: =IF(ISERROR(VLOOKUP(BJ11,$BJ$27:$BP$30,7,FALSE)),0,(VLOOKUP(BJ11,$BJ$27:$BP$30,7,FALSE))) -> 0 | BQ11: =IF(ISERROR(VLOOKUP(BJ11,$BJ$27:$BQ$30,8,FALSE)),0,(VLOOKUP(BJ11,$BJ$27:$BQ$30,8,FALSE))) -> 0 | BR11: =BP11-BQ11 -> 0 | BS11: =BM11*3+BN11 -> 0 | BZ11: 6 | CA11: =Q11 -> Bélgica | CB11: =R11+AO11+AZ11+BL11 -> 9 | CC11: =S11+AP11+BA11+BM11 -> 4 | CD11: =T11+AQ11+BB11+BN11 -> 3 | CE11: =U11+AR11+BC11+BO11 -> 2 | CF11: =V11+AS11+BD11+BP11 -> 9 | CG11: =W11+AT11+BE11+BQ11 -> 7 | CH11: =X11+AU11+BF11+BR11 -> 2 | CI11: =Y11+AV11+BG11+BS11 -> 15 | CL11: =(10^10)*CI11+(10^8)*CC11+(10^6)*(50+CH11)+(10^4)*CF11+(10^2)*CB11+(13-BZ11) -> 150452090907 | CN11: 6 | CO11: =LARGE(CL$6:CL$23,CN11) -> 140356190904 | CQ11: 6 | CR11: =MATCH(CO11,CL$6:CL$23,0) -> 9
B12: 7º | C12: =VLOOKUP(CR12,$BZ$6:$CI$23,2) -> França | D12: =VLOOKUP(CR12,$BZ$6:$CI$23,3) -> 8 | E12: =VLOOKUP(CR12,$BZ$6:$CI$23,4) -> 3 | F12: =D12-E12-G12 -> 4 | G12: =VLOOKUP(CR12,$BZ$6:$CI$23,6) -> 1 | H12: =VLOOKUP(CR12,$BZ$6:$CI$23,7) -> 19 | I12: =VLOOKUP(CR12,$BZ$6:$CI$23,8) -> 11 | J12: =H12-I12 -> 8 | K12: =E12*3+F12 -> 13 | P12: =Classificação!W16 -> 7 | Q12: =Classificação!N16 -> Suécia- WO | R12: =Classificação!O16 -> 0 | S12: =Classificação!P16 -> 0 | T12: =Classificação!Q16 -> 0 | U12: =Classificação!R16 -> 0 | V12: =Classificação!S16 -> 0 | W12: =Classificação!T16 -> 0 | X12: =Classificação!U16 -> 0 | Y12: =Classificação!V16 -> 0 | Z12: 320957171706 | AB12: 7 | AC12: =IF(ISERROR(VLOOKUP(AB12,$AB$28:$AD$43,2,FALSE)),0,(VLOOKUP(AB12,$AB$28:$AD$43,2,FALSE))) -> 0 | AD12: =IF(ISERROR(VLOOKUP(AB12,$AB$28:$AD$43,3,FALSE)),0,(VLOOKUP(AB12,$AB$28:$AD$43,3,FALSE))) -> 0 | AE12: =IF(ISERROR(VLOOKUP(AB12,$AB$28:$AE$43,4,FALSE)),0,(VLOOKUP(AB12,$AB$28:$AE$43,4,FALSE))) -> 0 | AF12: =AD12-AE12-AG12 -> 0 | AG12: =IF(ISERROR(VLOOKUP(AB12,$AB$28:$AG$43,6,FALSE)),0,(VLOOKUP(AB12,$AB$28:$AG$43,6,FALSE))) -> 0 | AH12: =IF(ISERROR(VLOOKUP(AB12,$AB$28:$AH$43,7,FALSE)),0,(VLOOKUP(AB12,$AB$28:$AH$43,7,FALSE))) -> 0 | AI12: =IF(ISERROR(VLOOKUP(AB12,$AB$28:$AI$43,8,FALSE)),0,(VLOOKUP(AB12,$AB$28:$AI$43,8,FALSE))) -> 0 | AJ12: =AH12-AI12 -> 0 | AK12: =AE12*3+AF12 -> 0 | AM12: 7 | AN12: =IF(ISERROR(VLOOKUP(AM12,$AM$28:$AO$35,2,FALSE)),0,(VLOOKUP(AM12,$AM$28:$AO$35,2,FALSE))) -> 0 | AO12: =IF(ISERROR(VLOOKUP(AM12,$AM$28:$AO$35,3,FALSE)),0,(VLOOKUP(AM12,$AM$28:$AO$35,3,FALSE))) -> 0 | AP12: =IF(ISERROR(VLOOKUP(AM12,$AM$28:$AP$35,4,FALSE)),0,(VLOOKUP(AM12,$AM$28:$AP$35,4,FALSE))) -> 0 | AQ12: =AO12-AP12-AR12 -> 0 | AR12: =IF(ISERROR(VLOOKUP(AM12,$AM$28:$AR$35,6,FALSE)),0,(VLOOKUP(AM12,$AM$28:$AR$35,6,FALSE))) -> 0 | AS12: =IF(ISERROR(VLOOKUP(AM12,$AM$28:$AS$35,7,FALSE)),0,(VLOOKUP(AM12,$AM$28:$AS$35,7,FALSE))) -> 0 | AT12: =IF(ISERROR(VLOOKUP(AM12,$AM$28:$AT$35,8,FALSE)),0,(VLOOKUP(AM12,$AM$28:$AT$35,8,FALSE))) -> 0 | AU12: =AS12-AT12 -> 0 | AV12: =AP12*3+AQ12 -> 0 | AX12: 7 | AY12: =IF(ISERROR(VLOOKUP(AX12,$AX$27:$AZ$30,2,FALSE)),0,(VLOOKUP(AX12,$AX$27:$AZ$30,2,FALSE))) -> 0 | AZ12: =IF(ISERROR(VLOOKUP(AX12,$AX$27:$BA$30,3,FALSE)),0,(VLOOKUP(AX12,$AX$27:$BA$30,3,FALSE))) -> 0 | BA12: =IF(ISERROR(VLOOKUP(AX12,$AX$27:$BA$30,4,FALSE)),0,(VLOOKUP(AX12,$AX$27:$BA$30,4,FALSE))) -> 0 | BB12: =AZ12-BA12-BC12 -> 0 | BC12: =IF(ISERROR(VLOOKUP(AX12,$AX$27:$BC$30,6,FALSE)),0,(VLOOKUP(AX12,$AX$27:$BC$30,6,FALSE))) -> 0 | BD12: =IF(ISERROR(VLOOKUP(AX12,$AX$27:$BD$30,7,FALSE)),0,(VLOOKUP(AX12,$AX$27:$BD$30,7,FALSE))) -> 0 | BE12: =IF(ISERROR(VLOOKUP(AX12,$AX$27:$BE$30,8,FALSE)),0,(VLOOKUP(AX12,$AX$27:$BE$30,8,FALSE))) -> 0 | BF12: =BD12-BE12 -> 0 | BG12: =BA12*3+BB12 -> 0 | BJ12: 7 | BK12: =IF(ISERROR(VLOOKUP(BJ12,$BJ$27:$BL$30,2,FALSE)),0,(VLOOKUP(BJ12,$BJ$27:$BL$30,2,FALSE))) -> 0 | BL12: =IF(ISERROR(VLOOKUP(BJ12,$BJ$27:$BM$30,3,FALSE)),0,(VLOOKUP(BJ12,$BJ$27:$BM$30,3,FALSE))) -> 0 | BM12: =IF(ISERROR(VLOOKUP(BJ12,$BJ$27:$BM$30,4,FALSE)),0,(VLOOKUP(BJ12,$BJ$27:$BM$30,4,FALSE))) -> 0 | BN12: =BL12-BM12-BO12 -> 0 | BO12: =IF(ISERROR(VLOOKUP(BJ12,$BJ$27:$BO$30,6,FALSE)),0,(VLOOKUP(BJ12,$BJ$27:$BO$30,6,FALSE))) -> 0 | BP12: =IF(ISERROR(VLOOKUP(BJ12,$BJ$27:$BP$30,7,FALSE)),0,(VLOOKUP(BJ12,$BJ$27:$BP$30,7,FALSE))) -> 0 | BQ12: =IF(ISERROR(VLOOKUP(BJ12,$BJ$27:$BQ$30,8,FALSE)),0,(VLOOKUP(BJ12,$BJ$27:$BQ$30,8,FALSE))) -> 0 | BR12: =BP12-BQ12 -> 0 | BS12: =BM12*3+BN12 -> 0 | BZ12: 7 | CA12: =Q12 -> Suécia- WO | CB12: =R12+AO12+AZ12+BL12 -> 0 | CC12: =S12+AP12+BA12+BM12 -> 0 | CD12: =T12+AQ12+BB12+BN12 -> 0 | CE12: =U12+AR12+BC12+BO12 -> 0 | CF12: =V12+AS12+BD12+BP12 -> 0 | CG12: =W12+AT12+BE12+BQ12 -> 0 | CH12: =X12+AU12+BF12+BR12 -> 0 | CI12: =Y12+AV12+BG12+BS12 -> 0 | CL12: =(10^10)*CI12+(10^8)*CC12+(10^6)*(50+CH12)+(10^4)*CF12+(10^2)*CB12+(13-BZ12) -> 50000006 | CN12: 7 | CO12: =LARGE(CL$6:CL$23,CN12) -> 130358190800 | CQ12: 7 | CR12: =MATCH(CO12,CL$6:CL$23,0) -> 13
B13: 8º | C13: =VLOOKUP(CR13,$BZ$6:$CI$23,2) -> Portugal | D13: =VLOOKUP(CR13,$BZ$6:$CI$23,3) -> 8 | E13: =VLOOKUP(CR13,$BZ$6:$CI$23,4) -> 3 | F13: =D13-E13-G13 -> 3 | G13: =VLOOKUP(CR13,$BZ$6:$CI$23,6) -> 2 | H13: =VLOOKUP(CR13,$BZ$6:$CI$23,7) -> 12 | I13: =VLOOKUP(CR13,$BZ$6:$CI$23,8) -> 11 | J13: =H13-I13 -> 1 | K13: =E13*3+F13 -> 12 | P13: =Classificação!W17 -> 8 | Q13: =Classificação!N17 -> Nigéria- WO | R13: =Classificação!O17 -> 0 | S13: =Classificação!P17 -> 0 | T13: =Classificação!Q17 -> 0 | U13: =Classificação!R17 -> 0 | V13: =Classificação!S17 -> 0 | W13: =Classificação!T17 -> 0 | X13: =Classificação!U17 -> 0 | Y13: =Classificação!V17 -> 0 | Z13: 250654161705 | AB13: 8 | AC13: =IF(ISERROR(VLOOKUP(AB13,$AB$28:$AD$43,2,FALSE)),0,(VLOOKUP(AB13,$AB$28:$AD$43,2,FALSE))) -> 0 | AD13: =IF(ISERROR(VLOOKUP(AB13,$AB$28:$AD$43,3,FALSE)),0,(VLOOKUP(AB13,$AB$28:$AD$43,3,FALSE))) -> 0 | AE13: =IF(ISERROR(VLOOKUP(AB13,$AB$28:$AE$43,4,FALSE)),0,(VLOOKUP(AB13,$AB$28:$AE$43,4,FALSE))) -> 0 | AF13: =AD13-AE13-AG13 -> 0 | AG13: =IF(ISERROR(VLOOKUP(AB13,$AB$28:$AG$43,6,FALSE)),0,(VLOOKUP(AB13,$AB$28:$AG$43,6,FALSE))) -> 0 | AH13: =IF(ISERROR(VLOOKUP(AB13,$AB$28:$AH$43,7,FALSE)),0,(VLOOKUP(AB13,$AB$28:$AH$43,7,FALSE))) -> 0 | AI13: =IF(ISERROR(VLOOKUP(AB13,$AB$28:$AI$43,8,FALSE)),0,(VLOOKUP(AB13,$AB$28:$AI$43,8,FALSE))) -> 0 | AJ13: =AH13-AI13 -> 0 | AK13: =AE13*3+AF13 -> 0 | AM13: 8 | AN13: =IF(ISERROR(VLOOKUP(AM13,$AM$28:$AO$35,2,FALSE)),0,(VLOOKUP(AM13,$AM$28:$AO$35,2,FALSE))) -> 0 | AO13: =IF(ISERROR(VLOOKUP(AM13,$AM$28:$AO$35,3,FALSE)),0,(VLOOKUP(AM13,$AM$28:$AO$35,3,FALSE))) -> 0 | AP13: =IF(ISERROR(VLOOKUP(AM13,$AM$28:$AP$35,4,FALSE)),0,(VLOOKUP(AM13,$AM$28:$AP$35,4,FALSE))) -> 0 | AQ13: =AO13-AP13-AR13 -> 0 | AR13: =IF(ISERROR(VLOOKUP(AM13,$AM$28:$AR$35,6,FALSE)),0,(VLOOKUP(AM13,$AM$28:$AR$35,6,FALSE))) -> 0 | AS13: =IF(ISERROR(VLOOKUP(AM13,$AM$28:$AS$35,7,FALSE)),0,(VLOOKUP(AM13,$AM$28:$AS$35,7,FALSE))) -> 0 | AT13: =IF(ISERROR(VLOOKUP(AM13,$AM$28:$AT$35,8,FALSE)),0,(VLOOKUP(AM13,$AM$28:$AT$35,8,FALSE))) -> 0 | AU13: =AS13-AT13 -> 0 | AV13: =AP13*3+AQ13 -> 0 | AX13: 8 | AY13: =IF(ISERROR(VLOOKUP(AX13,$AX$27:$AZ$30,2,FALSE)),0,(VLOOKUP(AX13,$AX$27:$AZ$30,2,FALSE))) -> 0 | AZ13: =IF(ISERROR(VLOOKUP(AX13,$AX$27:$BA$30,3,FALSE)),0,(VLOOKUP(AX13,$AX$27:$BA$30,3,FALSE))) -> 0 | BA13: =IF(ISERROR(VLOOKUP(AX13,$AX$27:$BA$30,4,FALSE)),0,(VLOOKUP(AX13,$AX$27:$BA$30,4,FALSE))) -> 0 | BB13: =AZ13-BA13-BC13 -> 0 | BC13: =IF(ISERROR(VLOOKUP(AX13,$AX$27:$BC$30,6,FALSE)),0,(VLOOKUP(AX13,$AX$27:$BC$30,6,FALSE))) -> 0 | BD13: =IF(ISERROR(VLOOKUP(AX13,$AX$27:$BD$30,7,FALSE)),0,(VLOOKUP(AX13,$AX$27:$BD$30,7,FALSE))) -> 0 | BE13: =IF(ISERROR(VLOOKUP(AX13,$AX$27:$BE$30,8,FALSE)),0,(VLOOKUP(AX13,$AX$27:$BE$30,8,FALSE))) -> 0 | BF13: =BD13-BE13 -> 0 | BG13: =BA13*3+BB13 -> 0 | BJ13: 8 | BK13: =IF(ISERROR(VLOOKUP(BJ13,$BJ$27:$BL$30,2,FALSE)),0,(VLOOKUP(BJ13,$BJ$27:$BL$30,2,FALSE))) -> 0 | BL13: =IF(ISERROR(VLOOKUP(BJ13,$BJ$27:$BM$30,3,FALSE)),0,(VLOOKUP(BJ13,$BJ$27:$BM$30,3,FALSE))) -> 0 | BM13: =IF(ISERROR(VLOOKUP(BJ13,$BJ$27:$BM$30,4,FALSE)),0,(VLOOKUP(BJ13,$BJ$27:$BM$30,4,FALSE))) -> 0 | BN13: =BL13-BM13-BO13 -> 0 | BO13: =IF(ISERROR(VLOOKUP(BJ13,$BJ$27:$BO$30,6,FALSE)),0,(VLOOKUP(BJ13,$BJ$27:$BO$30,6,FALSE))) -> 0 | BP13: =IF(ISERROR(VLOOKUP(BJ13,$BJ$27:$BP$30,7,FALSE)),0,(VLOOKUP(BJ13,$BJ$27:$BP$30,7,FALSE))) -> 0 | BQ13: =IF(ISERROR(VLOOKUP(BJ13,$BJ$27:$BQ$30,8,FALSE)),0,(VLOOKUP(BJ13,$BJ$27:$BQ$30,8,FALSE))) -> 0 | BR13: =BP13-BQ13 -> 0 | BS13: =BM13*3+BN13 -> 0 | BZ13: 8 | CA13: =Q13 -> Nigéria- WO | CB13: =R13+AO13+AZ13+BL13 -> 0 | CC13: =S13+AP13+BA13+BM13 -> 0 | CD13: =T13+AQ13+BB13+BN13 -> 0 | CE13: =U13+AR13+BC13+BO13 -> 0 | CF13: =V13+AS13+BD13+BP13 -> 0 | CG13: =W13+AT13+BE13+BQ13 -> 0 | CH13: =X13+AU13+BF13+BR13 -> 0 | CI13: =Y13+AV13+BG13+BS13 -> 0 | CL13: =(10^10)*CI13+(10^8)*CC13+(10^6)*(50+CH13)+(10^4)*CF13+(10^2)*CB13+(13-BZ13) -> 50000005 | CN13: 8 | CO13: =LARGE(CL$6:CL$23,CN13) -> 120351120803 | CQ13: 8 | CR13: =MATCH(CO13,CL$6:CL$23,0) -> 10
B14: 9º | C14: =VLOOKUP(CR14,$BZ$6:$CI$23,2) -> Croácia | D14: =VLOOKUP(CR14,$BZ$6:$CI$23,3) -> 8 | E14: =VLOOKUP(CR14,$BZ$6:$CI$23,4) -> 3 | F14: =D14-E14-G14 -> 3 | G14: =VLOOKUP(CR14,$BZ$6:$CI$23,6) -> 2 | H14: =VLOOKUP(CR14,$BZ$6:$CI$23,7) -> 9 | I14: =VLOOKUP(CR14,$BZ$6:$CI$23,8) -> 10 | J14: =H14-I14 -> -1 | K14: =E14*3+F14 -> 12 | P14: =Classificação!W18 -> 9 | Q14: =Classificação!N18 -> Suíça | R14: =Classificação!O18 -> 9 | S14: =Classificação!P18 -> 3 | T14: =Classificação!Q18 -> 5 | U14: =Classificação!R18 -> 1 | V14: =Classificação!S18 -> 19 | W14: =Classificação!T18 -> 13 | X14: =Classificação!U18 -> 6 | Y14: =Classificação!V18 -> 14 | Z14: 150339091704 | AB14: 9 | AC14: =IF(ISERROR(VLOOKUP(AB14,$AB$28:$AD$43,2,FALSE)),0,(VLOOKUP(AB14,$AB$28:$AD$43,2,FALSE))) -> 0 | AD14: =IF(ISERROR(VLOOKUP(AB14,$AB$28:$AD$43,3,FALSE)),0,(VLOOKUP(AB14,$AB$28:$AD$43,3,FALSE))) -> 0 | AE14: =IF(ISERROR(VLOOKUP(AB14,$AB$28:$AE$43,4,FALSE)),0,(VLOOKUP(AB14,$AB$28:$AE$43,4,FALSE))) -> 0 | AF14: =AD14-AE14-AG14 -> 0 | AG14: =IF(ISERROR(VLOOKUP(AB14,$AB$28:$AG$43,6,FALSE)),0,(VLOOKUP(AB14,$AB$28:$AG$43,6,FALSE))) -> 0 | AH14: =IF(ISERROR(VLOOKUP(AB14,$AB$28:$AH$43,7,FALSE)),0,(VLOOKUP(AB14,$AB$28:$AH$43,7,FALSE))) -> 0 | AI14: =IF(ISERROR(VLOOKUP(AB14,$AB$28:$AI$43,8,FALSE)),0,(VLOOKUP(AB14,$AB$28:$AI$43,8,FALSE))) -> 0 | AJ14: =AH14-AI14 -> 0 | AK14: =AE14*3+AF14 -> 0 | AM14: 9 | AN14: =IF(ISERROR(VLOOKUP(AM14,$AM$28:$AO$35,2,FALSE)),0,(VLOOKUP(AM14,$AM$28:$AO$35,2,FALSE))) -> 0 | AO14: =IF(ISERROR(VLOOKUP(AM14,$AM$28:$AO$35,3,FALSE)),0,(VLOOKUP(AM14,$AM$28:$AO$35,3,FALSE))) -> 0 | AP14: =IF(ISERROR(VLOOKUP(AM14,$AM$28:$AP$35,4,FALSE)),0,(VLOOKUP(AM14,$AM$28:$AP$35,4,FALSE))) -> 0 | AQ14: =AO14-AP14-AR14 -> 0 | AR14: =IF(ISERROR(VLOOKUP(AM14,$AM$28:$AR$35,6,FALSE)),0,(VLOOKUP(AM14,$AM$28:$AR$35,6,FALSE))) -> 0 | AS14: =IF(ISERROR(VLOOKUP(AM14,$AM$28:$AS$35,7,FALSE)),0,(VLOOKUP(AM14,$AM$28:$AS$35,7,FALSE))) -> 0 | AT14: =IF(ISERROR(VLOOKUP(AM14,$AM$28:$AT$35,8,FALSE)),0,(VLOOKUP(AM14,$AM$28:$AT$35,8,FALSE))) -> 0 | AU14: =AS14-AT14 -> 0 | AV14: =AP14*3+AQ14 -> 0 | AX14: 9 | AY14: =IF(ISERROR(VLOOKUP(AX14,$AX$27:$AZ$30,2,FALSE)),0,(VLOOKUP(AX14,$AX$27:$AZ$30,2,FALSE))) -> 0 | AZ14: =IF(ISERROR(VLOOKUP(AX14,$AX$27:$BA$30,3,FALSE)),0,(VLOOKUP(AX14,$AX$27:$BA$30,3,FALSE))) -> 0 | BA14: =IF(ISERROR(VLOOKUP(AX14,$AX$27:$BA$30,4,FALSE)),0,(VLOOKUP(AX14,$AX$27:$BA$30,4,FALSE))) -> 0 | BB14: =AZ14-BA14-BC14 -> 0 | BC14: =IF(ISERROR(VLOOKUP(AX14,$AX$27:$BC$30,6,FALSE)),0,(VLOOKUP(AX14,$AX$27:$BC$30,6,FALSE))) -> 0 | BD14: =IF(ISERROR(VLOOKUP(AX14,$AX$27:$BD$30,7,FALSE)),0,(VLOOKUP(AX14,$AX$27:$BD$30,7,FALSE))) -> 0 | BE14: =IF(ISERROR(VLOOKUP(AX14,$AX$27:$BE$30,8,FALSE)),0,(VLOOKUP(AX14,$AX$27:$BE$30,8,FALSE))) -> 0 | BF14: =BD14-BE14 -> 0 | BG14: =BA14*3+BB14 -> 0 | BJ14: 9 | BK14: =IF(ISERROR(VLOOKUP(BJ14,$BJ$27:$BL$30,2,FALSE)),0,(VLOOKUP(BJ14,$BJ$27:$BL$30,2,FALSE))) -> 0 | BL14: =IF(ISERROR(VLOOKUP(BJ14,$BJ$27:$BM$30,3,FALSE)),0,(VLOOKUP(BJ14,$BJ$27:$BM$30,3,FALSE))) -> 0 | BM14: =IF(ISERROR(VLOOKUP(BJ14,$BJ$27:$BM$30,4,FALSE)),0,(VLOOKUP(BJ14,$BJ$27:$BM$30,4,FALSE))) -> 0 | BN14: =BL14-BM14-BO14 -> 0 | BO14: =IF(ISERROR(VLOOKUP(BJ14,$BJ$27:$BO$30,6,FALSE)),0,(VLOOKUP(BJ14,$BJ$27:$BO$30,6,FALSE))) -> 0 | BP14: =IF(ISERROR(VLOOKUP(BJ14,$BJ$27:$BP$30,7,FALSE)),0,(VLOOKUP(BJ14,$BJ$27:$BP$30,7,FALSE))) -> 0 | BQ14: =IF(ISERROR(VLOOKUP(BJ14,$BJ$27:$BQ$30,8,FALSE)),0,(VLOOKUP(BJ14,$BJ$27:$BQ$30,8,FALSE))) -> 0 | BR14: =BP14-BQ14 -> 0 | BS14: =BM14*3+BN14 -> 0 | BZ14: 9 | CA14: =Q14 -> Suíça | CB14: =R14+AO14+AZ14+BL14 -> 9 | CC14: =S14+AP14+BA14+BM14 -> 3 | CD14: =T14+AQ14+BB14+BN14 -> 5 | CE14: =U14+AR14+BC14+BO14 -> 1 | CF14: =V14+AS14+BD14+BP14 -> 19 | CG14: =W14+AT14+BE14+BQ14 -> 13 | CH14: =X14+AU14+BF14+BR14 -> 6 | CI14: =Y14+AV14+BG14+BS14 -> 14 | CL14: =(10^10)*CI14+(10^8)*CC14+(10^6)*(50+CH14)+(10^4)*CF14+(10^2)*CB14+(13-BZ14) -> 140356190904 | CN14: 9 | CO14: =LARGE(CL$6:CL$23,CN14) -> 120349090797 | CQ14: 9 | CR14: =MATCH(CO14,CL$6:CL$23,0) -> 16
