Workbook
Name GM1_: Jogos!$C$5:$C$176
Name GM2_: Jogos!$K$5:$K$176
Name GM3_: Jogos!$S$5:$S$176
Name GM4_: Jogos!$C$181:$C$190
Name GM5_: Jogos!$K$181:$K$190
Name GM6_: Jogos!$C$195:$C$198
Name GM7_: Jogos!$C$195:$C$198
Name GM8_: Jogos!$C$204:$C$215
Name GM9_: Jogos!$K$204:$K$215
Name GV1_: Jogos!$E$5:$E$176
Name GV2_: Jogos!$M$5:$M$176
Name GV3_: Jogos!$U$5:$U$176
Name GV4_: Jogos!$E$181:$E$190
Name GV5_: Jogos!$M$181:$M$190
Name GV6_: Jogos!$E$195:$E$198
Name GV7_: Jogos!$M$195:$M$198
Name GV8_: Jogos!$E$204:$E$215
Name GV9_: Jogos!$M$204:$M$215
Name M1_: Jogos!$B$5:$B$176
Name M2_: Jogos!$J$5:$J$176
Name M3_: Jogos!$R$5:$R$176
Name M4_: Jogos!$B$181:$B$190
Name M5_: Jogos!$J$181:$J$190
Name M6_: Jogos!$B$195:$B$198
Name M7_: Jogos!$J$195:$J$198
Name M8_: Jogos!$B$204:$B$215
Name M9_: Jogos!$J$204:$J$215
Name POS.: Geral!$AA$35:$AA$56
Name POS.: 'Regras - Quartas'!$AA$35:$AA$56
Name POS.: 'Regras - Semi'!$AA$35:$AA$56
Name POS.: Tabelas!$AA$35:$AA$56
Name SM1_: Jogos!$G$5:$G$176
Name SM2_: Jogos!$O$5:$O$176
Name SM3_: Jogos!$W$5:$W$176
Name SM4_: Jogos!$G$181:$G$190
Name SM5_: Jogos!$O$181:$O$190
Name SM6_: Jogos!$G$195:$G$198
Name SM7_: Jogos!$O$195:$O$198
Name SM8_: Jogos!$G$204:$G$215
Name SM9_: Jogos!$O$204:$O$215
Name SV1_: Jogos!$H$5:$H$176
Name SV2_: Jogos!$P$5:$P$176
Name SV3_: Jogos!$X$5:$X$176
Name SV4_: Jogos!$H$181:$H$190
Name SV5_: Jogos!$P$181:$P$190
Name SV6_: Jogos!$H$195:$H$198
Name SV7_: Jogos!$P$195:$P$198
Name SV8_: Jogos!$H$204:$H$215
Name SV9_: Jogos!$P$204:$P$215
Name V1_: Jogos!$F$5:$F$176
Name V2_: Jogos!$N$5:$N$176
Name V3_: Jogos!$V$5:$V$176
Name V4_: Jogos!$F$181:$F$190
Name V5_: Jogos!$N$181:$N$190
Name V6_: Jogos!$F$195:$F$198
Name V7_: Jogos!$N$195:$N$198
Name V8_: Jogos!$F$204:$F$215
Name V9_: Jogos!$N$204:$N$215

Sheet Tabelas
B2: LXVI - CAMPEONATO
B3: EUROCOPA
B4: 42833
B7: pos. | C7: Time | D7: Jogos | E7: v | F7: e | G7: d | H7: gp | I7: gc | J7: Saldo | K7: Pontos | O7: COD | P7: TIME | Q7: JOGOS | R7: V | S7: E | T7: D | U7: GP | V7: GC | W7: SALDO | X7: PONTOS | Y7: Técnico
B9: 1 | C9: =INDEX(P$9:P$30,MATCH($B9,POS.,0)) -> Escócia | D9: =INDEX(Q$9:Q$30,MATCH($B9,POS.,0)) -> 18 | E9: =INDEX(R$9:R$30,MATCH($B9,POS.,0)) -> 12 | F9: =INDEX(S$9:S$30,MATCH($B9,POS.,0)) -> 5 | G9: =INDEX(T$9:T$30,MATCH($B9,POS.,0)) -> 1 | H9: =INDEX(U$9:U$30,MATCH($B9,POS.,0)) -> 34 | I9: =INDEX(V$9:V$30,MATCH($B9,POS.,0)) -> 8 | J9: =INDEX(W$9:W$30,MATCH($B9,POS.,0)) -> 26 | K9: =INDEX(X$9:X$30,MATCH($B9,POS.,0)) -> 41 | O9: 1 | P9: DESISTIU | Q9: =SUM(R9:T9) -> 0 | R9: =COUNTIFS(M1_,P9,GM1_,"<>"&"",SM1_,">0")+COUNTIFS(M2_,P9,GM2_,"<>"&"",SM2_,">0")+COUNTIFS(M3_,P9,GM3_,"<>"&"",SM3_,">0")+COUNTIFS(V1_,P9,GV1_,"<>"&"",SV1_,">0")+COUNTIFS(V2_,P9,GV2_,"<>"&"",SV2_,">0")+COUNTIFS(V3_,P9,GV3_,"<>"&"",SV3_,">0") -> 0 | S9: =COUNTIFS(M1_,P9,GM1_,"<>"&"",SM1_,"=0")+COUNTIFS(M2_,P9,GM2_,"<>"&"",SM2_,"=0")+COUNTIFS(M3_,P9,GM3_,"<>"&"",SM3_,"=0")+COUNTIFS(V1_,P9,GV1_,"<>"&"",SV1_,"=0")+COUNTIFS(V2_,P9,GV2_,"<>"&"",SV2_,"=0")+COUNTIFS(V3_,P9,GV3_,"<>"&"",SV3_,"=0") -> 0 | T9: =COUNTIFS(M1_,P9,GM1_,"<>"&"",SM1_,"<0")+COUNTIFS(M2_,P9,GM2_,"<>"&"",SM2_,"<0")+COUNTIFS(M3_,P9,GM3_,"<>"&"",SM3_,"<0")+COUNTIFS(V1_,P9,GV1_,"<>"&"",SV1_,"<0")+COUNTIFS(V2_,P9,GV2_,"<>"&"",SV2_,"<0")+COUNTIFS(V3_,P9,GV3_,"<>"&"",SV3_,"<0") -> 0 | U9: =SUMIFS(GM1_,M1_,P9)+SUMIFS(GM2_,M2_,P9)+SUMIFS(GM3_,M3_,P9)+SUMIFS(GV1_,V1_,P9)+SUMIFS(GV2_,V2_,P9)+SUMIFS(GV3_,V3_,P9) -> 0 | V9: =SUMIFS(GV1_,M1_,P9)+SUMIFS(GV2_,M2_,P9)+SUMIFS(GV3_,M3_,P9)+SUMIFS(GM1_,V1_,P9)+SUMIFS(GM2_,V2_,P9)+SUMIFS(GM3_,V3_,P9) -> 0 | W9: =U9-V9 -> 0 | X9: =R9*3+S9 -> 0 | Y9: DESISTIU
B10: 2 | C10: =INDEX(P$9:P$30,MATCH($B10,POS.,0)) -> Inglaterra | D10: =INDEX(Q$9:Q$30,MATCH($B10,POS.,0)) -> 18 | E10: =INDEX(R$9:R$30,MATCH($B10,POS.,0)) -> 12 | F10: =INDEX(S$9:S$30,MATCH($B10,POS.,0)) -> 2 | G10: =INDEX(T$9:T$30,MATCH($B10,POS.,0)) -> 4 | H10: =INDEX(U$9:U$30,MATCH($B10,POS.,0)) -> 27 | I10: =INDEX(V$9:V$30,MATCH($B10,POS.,0)) -> 12 | J10: =INDEX(W$9:W$30,MATCH($B10,POS.,0)) -> 15 | K10: =INDEX(X$9:X$30,MATCH($B10,POS.,0)) -> 38 | O10: 2 | P10: Alemanha | Q10: =SUM(R10:T10) -> 18 | R10: =COUNTIFS(M1_,P10,GM1_,"<>"&"",SM1_,">0")+COUNTIFS(M2_,P10,GM2_,"<>"&"",SM2_,">0")+COUNTIFS(M3_,P10,GM3_,"<>"&"",SM3_,">0")+COUNTIFS(V1_,P10,GV1_,"<>"&"",SV1_,">0")+COUNTIFS(V2_,P10,GV2_,"<>"&"",SV2_,">0")+COUNTIFS(V3_,P10,GV3_,"<>"&"",SV3_,">0") -> 5 | S10: =COUNTIFS(M1_,P10,GM1_,"<>"&"",SM1_,"=0")+COUNTIFS(M2_,P10,GM2_,"<>"&"",SM2_,"=0")+COUNTIFS(M3_,P10,GM3_,"<>"&"",SM3_,"=0")+COUNTIFS(V1_,P10,GV1_,"<>"&"",SV1_,"=0")+COUNTIFS(V2_,P10,GV2_,"<>"&"",SV2_,"=0")+COUNTIFS(V3_,P10,GV3_,"<>"&"",SV3_,"=0") -> 5 | T10: =COUNTIFS(M1_,P10,GM1_,"<>"&"",SM1_,"<0")+COUNTIFS(M2_,P10,GM2_,"<>"&"",SM2_,"<0")+COUNTIFS(M3_,P10,GM3_,"<>"&"",SM3_,"<0")+COUNTIFS(V1_,P10,GV1_,"<>"&"",SV1_,"<0")+COUNTIFS(V2_,P10,GV2_,"<>"&"",SV2_,"<0")+COUNTIFS(V3_,P10,GV3_,"<>"&"",SV3_,"<0") -> 8 | U10: =SUMIFS(GM1_,M1_,P10)+SUMIFS(GM2_,M2_,P10)+SUMIFS(GM3_,M3_,P10)+SUMIFS(GV1_,V1_,P10)+SUMIFS(GV2_,V2_,P10)+SUMIFS(GV3_,V3_,P10) -> 7 | V10: =SUMIFS(GV1_,M1_,P10)+SUMIFS(GV2_,M2_,P10)+SUMIFS(GV3_,M3_,P10)+SUMIFS(GM1_,V1_,P10)+SUMIFS(GM2_,V2_,P10)+SUMIFS(GM3_,V3_,P10) -> 13 | W10: =U10-V10 -> -6 | X10: =R10*3+S10 -> 20 | Y10: Roger
B11: 3 | C11: =INDEX(P$9:P$30,MATCH($B11,POS.,0)) -> Suíça | D11: =INDEX(Q$9:Q$30,MATCH($B11,POS.,0)) -> 18 | E11: =INDEX(R$9:R$30,MATCH($B11,POS.,0)) -> 9 | F11: =INDEX(S$9:S$30,MATCH($B11,POS.,0)) -> 8 | G11: =INDEX(T$9:T$30,MATCH($B11,POS.,0)) -> 1 | H11: =INDEX(U$9:U$30,MATCH($B11,POS.,0)) -> 19 | I11: =INDEX(V$9:V$30,MATCH($B11,POS.,0)) -> 6 | J11: =INDEX(W$9:W$30,MATCH($B11,POS.,0)) -> 13 | K11: =INDEX(X$9:X$30,MATCH($B11,POS.,0)) -> 35 | O11: 3 | P11: Áustria | Q11: =SUM(R11:T11) -> 18 | R11: =COUNTIFS(M1_,P11,GM1_,"<>"&"",SM1_,">0")+COUNTIFS(M2_,P11,GM2_,"<>"&"",SM2_,">0")+COUNTIFS(M3_,P11,GM3_,"<>"&"",SM3_,">0")+COUNTIFS(V1_,P11,GV1_,"<>"&"",SV1_,">0")+COUNTIFS(V2_,P11,GV2_,"<>"&"",SV2_,">0")+COUNTIFS(V3_,P11,GV3_,"<>"&"",SV3_,">0") -> 6 | S11: =COUNTIFS(M1_,P11,GM1_,"<>"&"",SM1_,"=0")+COUNTIFS(M2_,P11,GM2_,"<>"&"",SM2_,"=0")+COUNTIFS(M3_,P11,GM3_,"<>"&"",SM3_,"=0")+COUNTIFS(V1_,P11,GV1_,"<>"&"",SV1_,"=0")+COUNTIFS(V2_,P11,GV2_,"<>"&"",SV2_,"=0")+COUNTIFS(V3_,P11,GV3_,"<>"&"",SV3_,"=0") -> 7 | T11: =COUNTIFS(M1_,P11,GM1_,"<>"&"",SM1_,"<0")+COUNTIFS(M2_,P11,GM2_,"<>"&"",SM2_,"<0")+COUNTIFS(M3_,P11,GM3_,"<>"&"",SM3_,"<0")+COUNTIFS(V1_,P11,GV1_,"<>"&"",SV1_,"<0")+COUNTIFS(V2_,P11,GV2_,"<>"&"",SV2_,"<0")+COUNTIFS(V3_,P11,GV3_,"<>"&"",SV3_,"<0") -> 5 | U11: =SUMIFS(GM1_,M1_,P11)+SUMIFS(GM2_,M2_,P11)+SUMIFS(GM3_,M3_,P11)+SUMIFS(GV1_,V1_,P11)+SUMIFS(GV2_,V2_,P11)+SUMIFS(GV3_,V3_,P11) -> 11 | V11: =SUMIFS(GV1_,M1_,P11)+SUMIFS(GV2_,M2_,P11)+SUMIFS(GV3_,M3_,P11)+SUMIFS(GM1_,V1_,P11)+SUMIFS(GM2_,V2_,P11)+SUMIFS(GM3_,V3_,P11) -> 9 | W11: =U11-V11 -> 2 | X11: =R11*3+S11 -> 25 | Y11: Mário
B12: 4 | C12: =INDEX(P$9:P$30,MATCH($B12,POS.,0)) -> Polônia | D12: =INDEX(Q$9:Q$30,MATCH($B12,POS.,0)) -> 18 | E12: =INDEX(R$9:R$30,MATCH($B12,POS.,0)) -> 10 | F12: =INDEX(S$9:S$30,MATCH($B12,POS.,0)) -> 3 | G12: =INDEX(T$9:T$30,MATCH($B12,POS.,0)) -> 5 | H12: =INDEX(U$9:U$30,MATCH($B12,POS.,0)) -> 28 | I12: =INDEX(V$9:V$30,MATCH($B12,POS.,0)) -> 25 | J12: =INDEX(W$9:W$30,MATCH($B12,POS.,0)) -> 3 | K12: =INDEX(X$9:X$30,MATCH($B12,POS.,0)) -> 33 | O12: 4 | P12: Bélgica | Q12: =SUM(R12:T12) -> 18 | R12: =COUNTIFS(M1_,P12,GM1_,"<>"&"",SM1_,">0")+COUNTIFS(M2_,P12,GM2_,"<>"&"",SM2_,">0")+COUNTIFS(M3_,P12,GM3_,"<>"&"",SM3_,">0")+COUNTIFS(V1_,P12,GV1_,"<>"&"",SV1_,">0")+COUNTIFS(V2_,P12,GV2_,"<>"&"",SV2_,">0")+COUNTIFS(V3_,P12,GV3_,"<>"&"",SV3_,">0") -> 4 | S12: =COUNTIFS(M1_,P12,GM1_,"<>"&"",SM1_,"=0")+COUNTIFS(M2_,P12,GM2_,"<>"&"",SM2_,"=0")+COUNTIFS(M3_,P12,GM3_,"<>"&"",SM3_,"=0")+COUNTIFS(V1_,P12,GV1_,"<>"&"",SV1_,"=0")+COUNTIFS(V2_,P12,GV2_,"<>"&"",SV2_,"=0")+COUNTIFS(V3_,P12,GV3_,"<>"&"",SV3_,"=0") -> 7 | T12: =COUNTIFS(M1_,P12,GM1_,"<>"&"",SM1_,"<0")+COUNTIFS(M2_,P12,GM2_,"<>"&"",SM2_,"<0")+COUNTIFS(M3_,P12,GM3_,"<>"&"",SM3_,"<0")+COUNTIFS(V1_,P12,GV1_,"<>"&"",SV1_,"<0")+COUNTIFS(V2_,P12,GV2_,"<>"&"",SV2_,"<0")+COUNTIFS(V3_,P12,GV3_,"<>"&"",SV3_,"<0") -> 7 | U12: =SUMIFS(GM1_,M1_,P12)+SUMIFS(GM2_,M2_,P12)+SUMIFS(GM3_,M3_,P12)+SUMIFS(GV1_,V1_,P12)+SUMIFS(GV2_,V2_,P12)+SUMIFS(GV3_,V3_,P12) -> 9 | V12: =SUMIFS(GV1_,M1_,P12)+SUMIFS(GV2_,M2_,P12)+SUMIFS(GV3_,M3_,P12)+SUMIFS(GM1_,V1_,P12)+SUMIFS(GM2_,V2_,P12)+SUMIFS(GM3_,V3_,P12) -> 14 | W12: =U12-V12 -> -5 | X12: =R12*3+S12 -> 19 | Y12: Gustavão
B13: 5 | C13: =INDEX(P$9:P$30,MATCH($B13,POS.,0)) -> Noruega | D13: =INDEX(Q$9:Q$30,MATCH($B13,POS.,0)) -> 18 | E13: =INDEX(R$9:R$30,MATCH($B13,POS.,0)) -> 8 | F13: =INDEX(S$9:S$30,MATCH($B13,POS.,0)) -> 6 | G13: =INDEX(T$9:T$30,MATCH($B13,POS.,0)) -> 4 | H13: =INDEX(U$9:U$30,MATCH($B13,POS.,0)) -> 16 | I13: =INDEX(V$9:V$30,MATCH($B13,POS.,0)) -> 8 | J13: =INDEX(W$9:W$30,MATCH($B13,POS.,0)) -> 8 | K13: =INDEX(X$9:X$30,MATCH($B13,POS.,0)) -> 30 | O13: 5 | P13: Dinamarca | Q13: =SUM(R13:T13) -> 18 | R13: =COUNTIFS(M1_,P13,GM1_,"<>"&"",SM1_,">0")+COUNTIFS(M2_,P13,GM2_,"<>"&"",SM2_,">0")+COUNTIFS(M3_,P13,GM3_,"<>"&"",SM3_,">0")+COUNTIFS(V1_,P13,GV1_,"<>"&"",SV1_,">0")+COUNTIFS(V2_,P13,GV2_,"<>"&"",SV2_,">0")+COUNTIFS(V3_,P13,GV3_,"<>"&"",SV3_,">0") -> 3 | S13: =COUNTIFS(M1_,P13,GM1_,"<>"&"",SM1_,"=0")+COUNTIFS(M2_,P13,GM2_,"<>"&"",SM2_,"=0")+COUNTIFS(M3_,P13,GM3_,"<>"&"",SM3_,"=0")+COUNTIFS(V1_,P13,GV1_,"<>"&"",SV1_,"=0")+COUNTIFS(V2_,P13,GV2_,"<>"&"",SV2_,"=0")+COUNTIFS(V3_,P13,GV3_,"<>"&"",SV3_,"=0") -> 9 | T13: =COUNTIFS(M1_,P13,GM1_,"<>"&"",SM1_,"<0")+COUNTIFS(M2_,P13,GM2_,"<>"&"",SM2_,"<0")+COUNTIFS(M3_,P13,GM3_,"<>"&"",SM3_,"<0")+COUNTIFS(V1_,P13,GV1_,"<>"&"",SV1_,"<0")+COUNTIFS(V2_,P13,GV2_,"<>"&"",SV2_,"<0")+COUNTIFS(V3_,P13,GV3_,"<>"&"",SV3_,"<0") -> 6 | U13: =SUMIFS(GM1_,M1_,P13)+SUMIFS(GM2_,M2_,P13)+SUMIFS(GM3_,M3_,P13)+SUMIFS(GV1_,V1_,P13)+SUMIFS(GV2_,V2_,P13)+SUMIFS(GV3_,V3_,P13) -> 9 | V13: =SUMIFS(GV1_,M1_,P13)+SUMIFS(GV2_,M2_,P13)+SUMIFS(GV3_,M3_,P13)+SUMIFS(GM1_,V1_,P13)+SUMIFS(GM2_,V2_,P13)+SUMIFS(GM3_,V3_,P13) -> 16 | W13: =U13-V13 -> -7 | X13: =R13*3+S13 -> 18 | Y13: Michael
B14: 6 | C14: =INDEX(P$9:P$30,MATCH($B14,POS.,0)) -> Suécia | D14: =INDEX(Q$9:Q$30,MATCH($B14,POS.,0)) -> 18 | E14: =INDEX(R$9:R$30,MATCH($B14,POS.,0)) -> 8 | F14: =INDEX(S$9:S$30,MATCH($B14,POS.,0)) -> 6 | G14: =INDEX(T$9:T$30,MATCH($B14,POS.,0)) -> 4 | H14: =INDEX(U$9:U$30,MATCH($B14,POS.,0)) -> 20 | I14: =INDEX(V$9:V$30,MATCH($B14,POS.,0)) -> 14 | J14: =INDEX(W$9:W$30,MATCH($B14,POS.,0)) -> 6 | K14: =INDEX(X$9:X$30,MATCH($B14,POS.,0)) -> 30 | O14: 6 | P14: Escócia | Q14: =SUM(R14:T14) -> 18 | R14: =COUNTIFS(M1_,P14,GM1_,"<>"&"",SM1_,">0")+COUNTIFS(M2_,P14,GM2_,"<>"&"",SM2_,">0")+COUNTIFS(M3_,P14,GM3_,"<>"&"",SM3_,">0")+COUNTIFS(V1_,P14,GV1_,"<>"&"",SV1_,">0")+COUNTIFS(V2_,P14,GV2_,"<>"&"",SV2_,">0")+COUNTIFS(V3_,P14,GV3_,"<>"&"",SV3_,">0") -> 12 | S14: =COUNTIFS(M1_,P14,GM1_,"<>"&"",SM1_,"=0")+COUNTIFS(M2_,P14,GM2_,"<>"&"",SM2_,"=0")+COUNTIFS(M3_,P14,GM3_,"<>"&"",SM3_,"=0")+COUNTIFS(V1_,P14,GV1_,"<>"&"",SV1_,"=0")+COUNTIFS(V2_,P14,GV2_,"<>"&"",SV2_,"=0")+COUNTIFS(V3_,P14,GV3_,"<>"&"",SV3_,"=0") -> 5 | T14: =COUNTIFS(M1_,P14,GM1_,"<>"&"",SM1_,"<0")+COUNTIFS(M2_,P14,GM2_,"<>"&"",SM2_,"<0")+COUNTIFS(M3_,P14,GM3_,"<>"&"",SM3_,"<0")+COUNTIFS(V1_,P14,GV1_,"<>"&"",SV1_,"<0")+COUNTIFS(V2_,P14,GV2_,"<>"&"",SV2_,"<0")+COUNTIFS(V3_,P14,GV3_,"<>"&"",SV3_,"<0") -> 1 | U14: =SUMIFS(GM1_,M1_,P14)+SUMIFS(GM2_,M2_,P14)+SUMIFS(GM3_,M3_,P14)+SUMIFS(GV1_,V1_,P14)+SUMIFS(GV2_,V2_,P14)+SUMIFS(GV3_,V3_,P14) -> 34 | V14: =SUMIFS(GV1_,M1_,P14)+SUMIFS(GV2_,M2_,P14)+SUMIFS(GV3_,M3_,P14)+SUMIFS(GM1_,V1_,P14)+SUMIFS(GM2_,V2_,P14)+SUMIFS(GM3_,V3_,P14) -> 8 | W14: =U14-V14 -> 26 | X14: =R14*3+S14 -> 41 | Y14: João
B15: 7 | C15: =INDEX(P$9:P$30,MATCH($B15,POS.,0)) -> Turquia | D15: =INDEX(Q$9:Q$30,MATCH($B15,POS.,0)) -> 18 | E15: =INDEX(R$9:R$30,MATCH($B15,POS.,0)) -> 8 | F15: =INDEX(S$9:S$30,MATCH($B15,POS.,0)) -> 4 | G15: =INDEX(T$9:T$30,MATCH($B15,POS.,0)) -> 6 | H15: =INDEX(U$9:U$30,MATCH($B15,POS.,0)) -> 14 | I15: =INDEX(V$9:V$30,MATCH($B15,POS.,0)) -> 12 | J15: =INDEX(W$9:W$30,MATCH($B15,POS.,0)) -> 2 | K15: =INDEX(X$9:X$30,MATCH($B15,POS.,0)) -> 28 | O15: 7 | P15: Eslovênia | Q15: =SUM(R15:T15) -> 18 | R15: =COUNTIFS(M1_,P15,GM1_,"<>"&"",SM1_,">0")+COUNTIFS(M2_,P15,GM2_,"<>"&"",SM2_,">0")+COUNTIFS(M3_,P15,GM3_,"<>"&"",SM3_,">0")+COUNTIFS(V1_,P15,GV1_,"<>"&"",SV1_,">0")+COUNTIFS(V2_,P15,GV2_,"<>"&"",SV2_,">0")+COUNTIFS(V3_,P15,GV3_,"<>"&"",SV3_,">0") -> 4 | S15: =COUNTIFS(M1_,P15,GM1_,"<>"&"",SM1_,"=0")+COUNTIFS(M2_,P15,GM2_,"<>"&"",SM2_,"=0")+COUNTIFS(M3_,P15,GM3_,"<>"&"",SM3_,"=0")+COUNTIFS(V1_,P15,GV1_,"<>"&"",SV1_,"=0")+COUNTIFS(V2_,P15,GV2_,"<>"&"",SV2_,"=0")+COUNTIFS(V3_,P15,GV3_,"<>"&"",SV3_,"=0") -> 6 | T15: =COUNTIFS(M1_,P15,GM1_,"<>"&"",SM1_,"<0")+COUNTIFS(M2_,P15,GM2_,"<>"&"",SM2_,"<0")+COUNTIFS(M3_,P15,GM3_,"<>"&"",SM3_,"<0")+COUNTIFS(V1_,P15,GV1_,"<>"&"",SV1_,"<0")+COUNTIFS(V2_,P15,GV2_,"<>"&"",SV2_,"<0")+COUNTIFS(V3_,P15,GV3_,"<>"&"",SV3_,"<0") -> 8 | U15: =SUMIFS(GM1_,M1_,P15)+SUMIFS(GM2_,M2_,P15)+SUMIFS(GM3_,M3_,P15)+SUMIFS(GV1_,V1_,P15)+SUMIFS(GV2_,V2_,P15)+SUMIFS(GV3_,V3_,P15) -> 11 | V15: =SUMIFS(GV1_,M1_,P15)+SUMIFS(GV2_,M2_,P15)+SUMIFS(GV3_,M3_,P15)+SUMIFS(GM1_,V1_,P15)+SUMIFS(GM2_,V2_,P15)+SUMIFS(GM3_,V3_,P15) -> 17 | W15: =U15-V15 -> -6 | X15: =R15*3+S15 -> 18 | Y15: Deyvid
B16: 8 | C16: =INDEX(P$9:P$30,MATCH($B16,POS.,0)) -> Holanda | D16: =INDEX(Q$9:Q$30,MATCH($B16,POS.,0)) -> 18 | E16: =INDEX(R$9:R$30,MATCH($B16,POS.,0)) -> 7 | F16: =INDEX(S$9:S$30,MATCH($B16,POS.,0)) -> 6 | G16: =INDEX(T$9:T$30,MATCH($B16,POS.,0)) -> 5 | H16: =INDEX(U$9:U$30,MATCH($B16,POS.,0)) -> 19 | I16: =INDEX(V$9:V$30,MATCH($B16,POS.,0)) -> 15 | J16: =INDEX(W$9:W$30,MATCH($B16,POS.,0)) -> 4 | K16: =INDEX(X$9:X$30,MATCH($B16,POS.,0)) -> 27 | O16: 8 | P16: França | Q16: =SUM(R16:T16) -> 18 | R16: =COUNTIFS(M1_,P16,GM1_,"<>"&"",SM1_,">0")+COUNTIFS(M2_,P16,GM2_,"<>"&"",SM2_,">0")+COUNTIFS(M3_,P16,GM3_,"<>"&"",SM3_,">0")+COUNTIFS(V1_,P16,GV1_,"<>"&"",SV1_,">0")+COUNTIFS(V2_,P16,GV2_,"<>"&"",SV2_,">0")+COUNTIFS(V3_,P16,GV3_,"<>"&"",SV3_,">0") -> 3 | S16: =COUNTIFS(M1_,P16,GM1_,"<>"&"",SM1_,"=0")+COUNTIFS(M2_,P16,GM2_,"<>"&"",SM2_,"=0")+COUNTIFS(M3_,P16,GM3_,"<>"&"",SM3_,"=0")+COUNTIFS(V1_,P16,GV1_,"<>"&"",SV1_,"=0")+COUNTIFS(V2_,P16,GV2_,"<>"&"",SV2_,"=0")+COUNTIFS(V3_,P16,GV3_,"<>"&"",SV3_,"=0") -> 4 | T16: =COUNTIFS(M1_,P16,GM1_,"<>"&"",SM1_,"<0")+COUNTIFS(M2_,P16,GM2_,"<>"&"",SM2_,"<0")+COUNTIFS(M3_,P16,GM3_,"<>"&"",SM3_,"<0")+COUNTIFS(V1_,P16,GV1_,"<>"&"",SV1_,"<0")+COUNTIFS(V2_,P16,GV2_,"<>"&"",SV2_,"<0")+COUNTIFS(V3_,P16,GV3_,"<>"&"",SV3_,"<0") -> 11 | U16: =SUMIFS(GM1_,M1_,P16)+SUMIFS(GM2_,M2_,P16)+SUMIFS(GM3_,M3_,P16)+SUMIFS(GV1_,V1_,P16)+SUMIFS(GV2_,V2_,P16)+SUMIFS(GV3_,V3_,P16) -> 6 | V16: =SUMIFS(GV1_,M1_,P16)+SUMIFS(GV2_,M2_,P16)+SUMIFS(GV3_,M3_,P16)+SUMIFS(GM1_,V1_,P16)+SUMIFS(GM2_,V2_,P16)+SUMIFS(GM3_,V3_,P16) -> 18 | W16: =U16-V16 -> -12 | X16: =R16*3+S16 -> 13 | Y16: Shrek
B17: 9 | C17: =INDEX(P$9:P$30,MATCH($B17,POS.,0)) -> País de Gales | D17: =INDEX(Q$9:Q$30,MATCH($B17,POS.,0)) -> 18 | E17: =INDEX(R$9:R$30,MATCH($B17,POS.,0)) -> 7 | F17: =INDEX(S$9:S$30,MATCH($B17,POS.,0)) -> 5 | G17: =INDEX(T$9:T$30,MATCH($B17,POS.,0)) -> 6 | H17: =INDEX(U$9:U$30,MATCH($B17,POS.,0)) -> 16 | I17: =INDEX(V$9:V$30,MATCH($B17,POS.,0)) -> 14 | J17: =INDEX(W$9:W$30,MATCH($B17,POS.,0)) -> 2 | K17: =INDEX(X$9:X$30,MATCH($B17,POS.,0)) -> 26 | O17: 9 | P17: Holanda | Q17: =SUM(R17:T17) -> 18 | R17: =COUNTIFS(M1_,P17,GM1_,"<>"&"",SM1_,">0")+COUNTIFS(M2_,P17,GM2_,"<>"&"",SM2_,">0")+COUNTIFS(M3_,P17,GM3_,"<>"&"",SM3_,">0")+COUNTIFS(V1_,P17,GV1_,"<>"&"",SV1_,">0")+COUNTIFS(V2_,P17,GV2_,"<>"&"",SV2_,">0")+COUNTIFS(V3_,P17,GV3_,"<>"&"",SV3_,">0") -> 7 | S17: =COUNTIFS(M1_,P17,GM1_,"<>"&"",SM1_,"=0")+COUNTIFS(M2_,P17,GM2_,"<>"&"",SM2_,"=0")+COUNTIFS(M3_,P17,GM3_,"<>"&"",SM3_,"=0")+COUNTIFS(V1_,P17,GV1_,"<>"&"",SV1_,"=0")+COUNTIFS(V2_,P17,GV2_,"<>"&"",SV2_,"=0")+COUNTIFS(V3_,P17,GV3_,"<>"&"",SV3_,"=0") -> 6 | T17: =COUNTIFS(M1_,P17,GM1_,"<>"&"",SM1_,"<0")+COUNTIFS(M2_,P17,GM2_,"<>"&"",SM2_,"<0")+COUNTIFS(M3_,P17,GM3_,"<>"&"",SM3_,"<0")+COUNTIFS(V1_,P17,GV1_,"<>"&"",SV1_,"<0")+COUNTIFS(V2_,P17,GV2_,"<>"&"",SV2_,"<0")+COUNTIFS(V3_,P17,GV3_,"<>"&"",SV3_,"<0") -> 5 | U17: =SUMIFS(GM1_,M1_,P17)+SUMIFS(GM2_,M2_,P17)+SUMIFS(GM3_,M3_,P17)+SUMIFS(GV1_,V1_,P17)+SUMIFS(GV2_,V2_,P17)+SUMIFS(GV3_,V3_,P17) -> 19 | V17: =SUMIFS(GV1_,M1_,P17)+SUMIFS(GV2_,M2_,P17)+SUMIFS(GV3_,M3_,P17)+SUMIFS(GM1_,V1_,P17)+SUMIFS(GM2_,V2_,P17)+SUMIFS(GM3_,V3_,P17) -> 15 | W17: =U17-V17 -> 4 | X17: =R17*3+S17 -> 27 | Y17: Junior
B18: 10 | C18: =INDEX(P$9:P$30,MATCH($B18,POS.,0)) -> Áustria | D18: =INDEX(Q$9:Q$30,MATCH($B18,POS.,0)) -> 18 | E18: =INDEX(R$9:R$30,MATCH($B18,POS.,0)) -> 6 | F18: =INDEX(S$9:S$30,MATCH($B18,POS.,0)) -> 7 | G18: =INDEX(T$9:T$30,MATCH($B18,POS.,0)) -> 5 | H18: =INDEX(U$9:U$30,MATCH($B18,POS.,0)) -> 11 | I18: =INDEX(V$9:V$30,MATCH($B18,POS.,0)) -> 9 | J18: =INDEX(W$9:W$30,MATCH($B18,POS.,0)) -> 2 | K18: =INDEX(X$9:X$30,MATCH($B18,POS.,0)) -> 25 | O18: 10 | P18: Inglaterra | Q18: =SUM(R18:T18) -> 18 | R18: =COUNTIFS(M1_,P18,GM1_,"<>"&"",SM1_,">0")+COUNTIFS(M2_,P18,GM2_,"<>"&"",SM2_,">0")+COUNTIFS(M3_,P18,GM3_,"<>"&"",SM3_,">0")+COUNTIFS(V1_,P18,GV1_,"<>"&"",SV1_,">0")+COUNTIFS(V2_,P18,GV2_,"<>"&"",SV2_,">0")+COUNTIFS(V3_,P18,GV3_,"<>"&"",SV3_,">0") -> 12 | S18: =COUNTIFS(M1_,P18,GM1_,"<>"&"",SM1_,"=0")+COUNTIFS(M2_,P18,GM2_,"<>"&"",SM2_,"=0")+COUNTIFS(M3_,P18,GM3_,"<>"&"",SM3_,"=0")+COUNTIFS(V1_,P18,GV1_,"<>"&"",SV1_,"=0")+COUNTIFS(V2_,P18,GV2_,"<>"&"",SV2_,"=0")+COUNTIFS(V3_,P18,GV3_,"<>"&"",SV3_,"=0") -> 2 | T18: =COUNTIFS(M1_,P18,GM1_,"<>"&"",SM1_,"<0")+COUNTIFS(M2_,P18,GM2_,"<>"&"",SM2_,"<0")+COUNTIFS(M3_,P18,GM3_,"<>"&"",SM3_,"<0")+COUNTIFS(V1_,P18,GV1_,"<>"&"",SV1_,"<0")+COUNTIFS(V2_,P18,GV2_,"<>"&"",SV2_,"<0")+COUNTIFS(V3_,P18,GV3_,"<>"&"",SV3_,"<0") -> 4 | U18: =SUMIFS(GM1_,M1_,P18)+SUMIFS(GM2_,M2_,P18)+SUMIFS(GM3_,M3_,P18)+SUMIFS(GV1_,V1_,P18)+SUMIFS(GV2_,V2_,P18)+SUMIFS(GV3_,V3_,P18) -> 27 | V18: =SUMIFS(GV1_,M1_,P18)+SUMIFS(GV2_,M2_,P18)+SUMIFS(GV3_,M3_,P18)+SUMIFS(GM1_,V1_,P18)+SUMIFS(GM2_,V2_,P18)+SUMIFS(GM3_,V3_,P18) -> 12 | W18: =U18-V18 -> 15 | X18: =R18*3+S18 -> 38 | Y18: Tooty
B19: 11 | C19: =INDEX(P$9:P$30,MATCH($B19,POS.,0)) -> Itália | D19: =INDEX(Q$9:Q$30,MATCH($B19,POS.,0)) -> 18 | E19: =INDEX(R$9:R$30,MATCH($B19,POS.,0)) -> 5 | F19: =INDEX(S$9:S$30,MATCH($B19,POS.,0)) -> 8 | G19: =INDEX(T$9:T$30,MATCH($B19,POS.,0)) -> 5 | H19: =INDEX(U$9:U$30,MATCH($B19,POS.,0)) -> 11 | I19: =INDEX(V$9:V$30,MATCH($B19,POS.,0)) -> 13 | J19: =INDEX(W$9:W$30,MATCH($B19,POS.,0)) -> -2 | K19: =INDEX(X$9:X$30,MATCH($B19,POS.,0)) -> 23 | O19: 11 | P19: Irlanda | Q19: =SUM(R19:T19) -> 18 | R19: =COUNTIFS(M1_,P19,GM1_,"<>"&"",SM1_,">0")+COUNTIFS(M2_,P19,GM2_,"<>"&"",SM2_,">0")+COUNTIFS(M3_,P19,GM3_,"<>"&"",SM3_,">0")+COUNTIFS(V1_,P19,GV1_,"<>"&"",SV1_,">0")+COUNTIFS(V2_,P19,GV2_,"<>"&"",SV2_,">0")+COUNTIFS(V3_,P19,GV3_,"<>"&"",SV3_,">0") -> 2 | S19: =COUNTIFS(M1_,P19,GM1_,"<>"&"",SM1_,"=0")+COUNTIFS(M2_,P19,GM2_,"<>"&"",SM2_,"=0")+COUNTIFS(M3_,P19,GM3_,"<>"&"",SM3_,"=0")+COUNTIFS(V1_,P19,GV1_,"<>"&"",SV1_,"=0")+COUNTIFS(V2_,P19,GV2_,"<>"&"",SV2_,"=0")+COUNTIFS(V3_,P19,GV3_,"<>"&"",SV3_,"=0") -> 7 | T19: =COUNTIFS(M1_,P19,GM1_,"<>"&"",SM1_,"<0")+COUNTIFS(M2_,P19,GM2_,"<>"&"",SM2_,"<0")+COUNTIFS(M3_,P19,GM3_,"<>"&"",SM3_,"<0")+COUNTIFS(V1_,P19,GV1_,"<>"&"",SV1_,"<0")+COUNTIFS(V2_,P19,GV2_,"<>"&"",SV2_,"<0")+COUNTIFS(V3_,P19,GV3_,"<>"&"",SV3_,"<0") -> 9 | U19: =SUMIFS(GM1_,M1_,P19)+SUMIFS(GM2_,M2_,P19)+SUMIFS(GM3_,M3_,P19)+SUMIFS(GV1_,V1_,P19)+SUMIFS(GV2_,V2_,P19)+SUMIFS(GV3_,V3_,P19) -> 4 | V19: =SUMIFS(GV1_,M1_,P19)+SUMIFS(GV2_,M2_,P19)+SUMIFS(GV3_,M3_,P19)+SUMIFS(GM1_,V1_,P19)+SUMIFS(GM2_,V2_,P19)+SUMIFS(GM3_,V3_,P19) -> 15 | W19: =U19-V19 -> -11 | X19: =R19*3+S19 -> 13 | Y19: Gru
B20: 12 | C20: =INDEX(P$9:P$30,MATCH($B20,POS.,0)) -> Alemanha | D20: =INDEX(Q$9:Q$30,MATCH($B20,POS.,0)) -> 18 | E20: =INDEX(R$9:R$30,MATCH($B20,POS.,0)) -> 5 | F20: =INDEX(S$9:S$30,MATCH($B20,POS.,0)) -> 5 | G20: =INDEX(T$9:T$30,MATCH($B20,POS.,0)) -> 8 | H20: =INDEX(U$9:U$30,MATCH($B20,POS.,0)) -> 7 | I20: =INDEX(V$9:V$30,MATCH($B20,POS.,0)) -> 13 | J20: =INDEX(W$9:W$30,MATCH($B20,POS.,0)) -> -6 | K20: =INDEX(X$9:X$30,MATCH($B20,POS.,0)) -> 20 | O20: 12 | P20: Itália | Q20: =SUM(R20:T20) -> 18 | R20: =COUNTIFS(M1_,P20,GM1_,"<>"&"",SM1_,">0")+COUNTIFS(M2_,P20,GM2_,"<>"&"",SM2_,">0")+COUNTIFS(M3_,P20,GM3_,"<>"&"",SM3_,">0")+COUNTIFS(V1_,P20,GV1_,"<>"&"",SV1_,">0")+COUNTIFS(V2_,P20,GV2_,"<>"&"",SV2_,">0")+COUNTIFS(V3_,P20,GV3_,"<>"&"",SV3_,">0") -> 5 | S20: =COUNTIFS(M1_,P20,GM1_,"<>"&"",SM1_,"=0")+COUNTIFS(M2_,P20,GM2_,"<>"&"",SM2_,"=0")+COUNTIFS(M3_,P20,GM3_,"<>"&"",SM3_,"=0")+COUNTIFS(V1_,P20,GV1_,"<>"&"",SV1_,"=0")+COUNTIFS(V2_,P20,GV2_,"<>"&"",SV2_,"=0")+COUNTIFS(V3_,P20,GV3_,"<>"&"",SV3_,"=0") -> 8 | T20: =COUNTIFS(M1_,P20,GM1_,"<>"&"",SM1_,"<0")+COUNTIFS(M2_,P20,GM2_,"<>"&"",SM2_,"<0")+COUNTIFS(M3_,P20,GM3_,"<>"&"",SM3_,"<0")+COUNTIFS(V1_,P20,GV1_,"<>"&"",SV1_,"<0")+COUNTIFS(V2_,P20,GV2_,"<>"&"",SV2_,"<0")+COUNTIFS(V3_,P20,GV3_,"<>"&"",SV3_,"<0") -> 5 | U20: =SUMIFS(GM1_,M1_,P20)+SUMIFS(GM2_,M2_,P20)+SUMIFS(GM3_,M3_,P20)+SUMIFS(GV1_,V1_,P20)+SUMIFS(GV2_,V2_,P20)+SUMIFS(GV3_,V3_,P20) -> 11 | V20: =SUMIFS(GV1_,M1_,P20)+SUMIFS(GV2_,M2_,P20)+SUMIFS(GV3_,M3_,P20)+SUMIFS(GM1_,V1_,P20)+SUMIFS(GM2_,V2_,P20)+SUMIFS(GM3_,V3_,P20) -> 13 | W20: =U20-V20 -> -2 | X20: =R20*3+S20 -> 23 | Y20: Cayera
... B28: 20 | C28: =INDEX(P$9:P$30,MATCH($B28,POS.,0)) -> DESISTIU | D28: =INDEX(Q$9:Q$30,MATCH($B28,POS.,0)) -> 0 | E28: =INDEX(R$9:R$30,MATCH($B28,POS.,0)) -> 0 | F28: =INDEX(S$9:S$30,MATCH($B28,POS.,0)) -> 0 | G28: =INDEX(T$9:T$30,MATCH($B28,POS.,0)) -> 0 | H28: =INDEX(U$9:U$30,MATCH($B28,POS.,0)) -> 0 | I28: =INDEX(V$9:V$30,MATCH($B28,POS.,0)) -> 0 | J28: =INDEX(W$9:W$30,MATCH($B28,POS.,0)) -> 0 | K28: =INDEX(X$9:X$30,MATCH($B28,POS.,0)) -> 0 | O28: 20 | P28: Turquia | Q28: =SUM(R28:T28) -> 18 | R28: =COUNTIFS(M1_,P28,GM1_,"<>"&"",SM1_,">0")+COUNTIFS(M2_,P28,GM2_,"<>"&"",SM2_,">0")+COUNTIFS(M3_,P28,GM3_,"<>"&"",SM3_,">0")+COUNTIFS(V1_,P28,GV1_,"<>"&"",SV1_,">0")+COUNTIFS(V2_,P28,GV2_,"<>"&"",SV2_,">0")+COUNTIFS(V3_,P28,GV3_,"<>"&"",SV3_,">0") -> 8 | S28: =COUNTIFS(M1_,P28,GM1_,"<>"&"",SM1_,"=0")+COUNTIFS(M2_,P28,GM2_,"<>"&"",SM2_,"=0")+COUNTIFS(M3_,P28,GM3_,"<>"&"",SM3_,"=0")+COUNTIFS(V1_,P28,GV1_,"<>"&"",SV1_,"=0")+COUNTIFS(V2_,P28,GV2_,"<>"&"",SV2_,"=0")+COUNTIFS(V3_,P28,GV3_,"<>"&"",SV3_,"=0") -> 4 | T28: =COUNTIFS(M1_,P28,GM1_,"<>"&"",SM1_,"<0")+COUNTIFS(M2_,P28,GM2_,"<>"&"",SM2_,"<0")+COUNTIFS(M3_,P28,GM3_,"<>"&"",SM3_,"<0")+COUNTIFS(V1_,P28,GV1_,"<>"&"",SV1_,"<0")+COUNTIFS(V2_,P28,GV2_,"<>"&"",SV2_,"<0")+COUNTIFS(V3_,P28,GV3_,"<>"&"",SV3_,"<0") -> 6 | U28: =SUMIFS(GM1_,M1_,P28)+SUMIFS(GM2_,M2_,P28)+SUMIFS(GM3_,M3_,P28)+SUMIFS(GV1_,V1_,P28)+SUMIFS(GV2_,V2_,P28)+SUMIFS(GV3_,V3_,P28) -> 14 | V28: =SUMIFS(GV1_,M1_,P28)+SUMIFS(GV2_,M2_,P28)+SUMIFS(GV3_,M3_,P28)+SUMIFS(GM1_,V1_,P28)+SUMIFS(GM2_,V2_,P28)+SUMIFS(GM3_,V3_,P28) -> 12 | W28: =U28-V28 -> 2 | X28: =R28*3+S28 -> 28 | Y28: DieGo
B29: 21 | C29: =INDEX(P$9:P$30,MATCH($B29,POS.,0)) -> #N/A | D29: =INDEX(Q$9:Q$30,MATCH($B29,POS.,0)) -> #N/A | E29: =INDEX(R$9:R$30,MATCH($B29,POS.,0)) -> #N/A | F29: =INDEX(S$9:S$30,MATCH($B29,POS.,0)) -> #N/A | G29: =INDEX(T$9:T$30,MATCH($B29,POS.,0)) -> #N/A | H29: =INDEX(U$9:U$30,MATCH($B29,POS.,0)) -> #N/A | I29: =INDEX(V$9:V$30,MATCH($B29,POS.,0)) -> #N/A | J29: =INDEX(W$9:W$30,MATCH($B29,POS.,0)) -> #N/A | K29: =INDEX(X$9:X$30,MATCH($B29,POS.,0)) -> #N/A | O29: 21 | Q29: =SUM(R29:T29) -> 0 | R29: =COUNTIFS(M1_,P29,GM1_,"<>"&"",SM1_,">0")+COUNTIFS(M2_,P29,GM2_,"<>"&"",SM2_,">0")+COUNTIFS(M3_,P29,GM3_,"<>"&"",SM3_,">0")+COUNTIFS(V1_,P29,GV1_,"<>"&"",SV1_,">0")+COUNTIFS(V2_,P29,GV2_,"<>"&"",SV2_,">0")+COUNTIFS(V3_,P29,GV3_,"<>"&"",SV3_,">0") -> 0 | S29: =COUNTIFS(M1_,P29,GM1_,"<>"&"",SM1_,"=0")+COUNTIFS(M2_,P29,GM2_,"<>"&"",SM2_,"=0")+COUNTIFS(M3_,P29,GM3_,"<>"&"",SM3_,"=0")+COUNTIFS(V1_,P29,GV1_,"<>"&"",SV1_,"=0")+COUNTIFS(V2_,P29,GV2_,"<>"&"",SV2_,"=0")+COUNTIFS(V3_,P29,GV3_,"<>"&"",SV3_,"=0") -> 0 | T29: =COUNTIFS(M1_,P29,GM1_,"<>"&"",SM1_,"<0")+COUNTIFS(M2_,P29,GM2_,"<>"&"",SM2_,"<0")+COUNTIFS(M3_,P29,GM3_,"<>"&"",SM3_,"<0")+COUNTIFS(V1_,P29,GV1_,"<>"&"",SV1_,"<0")+COUNTIFS(V2_,P29,GV2_,"<>"&"",SV2_,"<0")+COUNTIFS(V3_,P29,GV3_,"<>"&"",SV3_,"<0") -> 0 | U29: =SUMIFS(GM1_,M1_,P29)+SUMIFS(GM2_,M2_,P29)+SUMIFS(GM3_,M3_,P29)+SUMIFS(GV1_,V1_,P29)+SUMIFS(GV2_,V2_,P29)+SUMIFS(GV3_,V3_,P29) -> 0 | V29: =SUMIFS(GV1_,M1_,P29)+SUMIFS(GV2_,M2_,P29)+SUMIFS(GV3_,M3_,P29)+SUMIFS(GM1_,V1_,P29)+SUMIFS(GM2_,V2_,P29)+SUMIFS(GM3_,V3_,P29) -> 0 | W29: =U29-V29 -> 0 | X29: =R29*3+S29 -> 0
B30: 22 | C30: =INDEX(P$9:P$30,MATCH($B30,POS.,0)) -> #N/A | D30: =INDEX(Q$9:Q$30,MATCH($B30,POS.,0)) -> #N/A | E30: =INDEX(R$9:R$30,MATCH($B30,POS.,0)) -> #N/A | F30: =INDEX(S$9:S$30,MATCH($B30,POS.,0)) -> #N/A | G30: =INDEX(T$9:T$30,MATCH($B30,POS.,0)) -> #N/A | H30: =INDEX(U$9:U$30,MATCH($B30,POS.,0)) -> #N/A | I30: =INDEX(V$9:V$30,MATCH($B30,POS.,0)) -> #N/A | J30: =INDEX(W$9:W$30,MATCH($B30,POS.,0)) -> #N/A | K30: =INDEX(X$9:X$30,MATCH($B30,POS.,0)) -> #N/A | O30: 22 | Q30: =SUM(R30:T30) -> 0 | R30: =COUNTIFS(M1_,P30,GM1_,"<>"&"",SM1_,">0")+COUNTIFS(M2_,P30,GM2_,"<>"&"",SM2_,">0")+COUNTIFS(M3_,P30,GM3_,"<>"&"",SM3_,">0")+COUNTIFS(V1_,P30,GV1_,"<>"&"",SV1_,">0")+COUNTIFS(V2_,P30,GV2_,"<>"&"",SV2_,">0")+COUNTIFS(V3_,P30,GV3_,"<>"&"",SV3_,">0") -> 0 | S30: =COUNTIFS(M1_,P30,GM1_,"<>"&"",SM1_,"=0")+COUNTIFS(M2_,P30,GM2_,"<>"&"",SM2_,"=0")+COUNTIFS(M3_,P30,GM3_,"<>"&"",SM3_,"=0")+COUNTIFS(V1_,P30,GV1_,"<>"&"",SV1_,"=0")+COUNTIFS(V2_,P30,GV2_,"<>"&"",SV2_,"=0")+COUNTIFS(V3_,P30,GV3_,"<>"&"",SV3_,"=0") -> 0 | T30: =COUNTIFS(M1_,P30,GM1_,"<>"&"",SM1_,"<0")+COUNTIFS(M2_,P30,GM2_,"<>"&"",SM2_,"<0")+COUNTIFS(M3_,P30,GM3_,"<>"&"",SM3_,"<0")+COUNTIFS(V1_,P30,GV1_,"<>"&"",SV1_,"<0")+COUNTIFS(V2_,P30,GV2_,"<>"&"",SV2_,"<0")+COUNTIFS(V3_,P30,GV3_,"<>"&"",SV3_,"<0") -> 0 | U30: =SUMIFS(GM1_,M1_,P30)+SUMIFS(GM2_,M2_,P30)+SUMIFS(GM3_,M3_,P30)+SUMIFS(GV1_,V1_,P30)+SUMIFS(GV2_,V2_,P30)+SUMIFS(GV3_,V3_,P30) -> 0 | V30: =SUMIFS(GV1_,M1_,P30)+SUMIFS(GV2_,M2_,P30)+SUMIFS(GV3_,M3_,P30)+SUMIFS(GM1_,V1_,P30)+SUMIFS(GM2_,V2_,P30)+SUMIFS(GM3_,V3_,P30) -> 0 | W30: =U30-V30 -> 0 | X30: =R30*3+S30 -> 0
P33: CRITÉRIOS | R33: 4 | U33: 2 | W33: 3 | X33: 5 | Y33: 1
O34: COD | P34: TIME | Q34: JOGOS | R34: V | S34: E | T34: D | U34: GP | V34: GC | W34: SALDO | X34: PONTOS | Y34: ALF | Z34: PT | AA34: POS.
O35: 1 | P35: =P9 -> DESISTIU | Z35: 10000000000 | AA35: =_xlfn.RANK.EQ(Z35,$Z$35:$Z$56,1) -> 20
B36: =P10 & " " &P11 & " " & P12 & " " & P13 & " " & P14 & " " & P15 & " " & P16 & " " & P17 -> Alemanha Áustria Bélgica Dinamarca Escócia Eslovênia França Holanda | O36: 2 | P36: =P10 -> Alemanha | Q36: =_xlfn.RANK.EQ(Q10,Q$9:Q$30,0) -> 1 | R36: =_xlfn.RANK.EQ(R10,R$9:R$30,0) -> 11 | S36: =_xlfn.RANK.EQ(S10,S$9:S$30,0) -> 11 | T36: =_xlfn.RANK.EQ(T10,T$9:T$30,0) -> 4 | U36: =_xlfn.RANK.EQ(U10,U$9:U$30,0) -> 15 | V36: =_xlfn.RANK.EQ(V10,V$9:V$30,0) -> 12 | W36: =_xlfn.RANK.EQ(W10,W$9:W$30,0) -> 16 | X36: =_xlfn.RANK.EQ(X10,X$9:X$30,0) -> 12 | Y36: 2 | Z36: =SUMPRODUCT(R36:Y36,POWER(10,$R$33:$Y$33)*$R$33:$Y$33) -> 6491020 | AA36: =_xlfn.RANK.EQ(Z36,$Z$35:$Z$56,1) -> 12
B37: =" "&"("&Y10&")"& " " &"("&Y11&")"& " " &"("&Y12&")"& " " &"("&Y13&")"& " " &"("&Y14&")"& " " &"("&Y15&")"& " " &"("&Y16&")"& " " &"("&Y17&")" -> (Roger) (Mário) (Gustavão) (Michael) (João) (Deyvid) (Shrek) (Junior) | O37: 3 | P37: =P11 -> Áustria | Q37: =_xlfn.RANK.EQ(Q11,Q$9:Q$30,0) -> 1 | R37: =_xlfn.RANK.EQ(R11,R$9:R$30,0) -> 10 | S37: =_xlfn.RANK.EQ(S11,S$9:S$30,0) -> 4 | T37: =_xlfn.RANK.EQ(T11,T$9:T$30,0) -> 11 | U37: =_xlfn.RANK.EQ(U11,U$9:U$30,0) -> 10 | V37: =_xlfn.RANK.EQ(V11,V$9:V$30,0) -> 16 | W37: =_xlfn.RANK.EQ(W11,W$9:W$30,0) -> 8 | X37: =_xlfn.RANK.EQ(X11,X$9:X$30,0) -> 10 | Y37: 3 | Z37: =SUMPRODUCT(R37:Y37,POWER(10,$R$33:$Y$33)*$R$33:$Y$33) -> 5426030 | AA37: =_xlfn.RANK.EQ(Z37,$Z$35:$Z$56,1) -> 10
O38: 4 | P38: =P12 -> Bélgica | Q38: =_xlfn.RANK.EQ(Q12,Q$9:Q$30,0) -> 1 | R38: =_xlfn.RANK.EQ(R12,R$9:R$30,0) -> 14 | S38: =_xlfn.RANK.EQ(S12,S$9:S$30,0) -> 4 | T38: =_xlfn.RANK.EQ(T12,T$9:T$30,0) -> 7 | U38: =_xlfn.RANK.EQ(U12,U$9:U$30,0) -> 13 | V38: =_xlfn.RANK.EQ(V12,V$9:V$30,0) -> 9 | W38: =_xlfn.RANK.EQ(W12,W$9:W$30,0) -> 15 | X38: =_xlfn.RANK.EQ(X12,X$9:X$30,0) -> 14 | Y38: 4 | Z38: =SUMPRODUCT(R38:Y38,POWER(10,$R$33:$Y$33)*$R$33:$Y$33) -> 7607640 | AA38: =_xlfn.RANK.EQ(Z38,$Z$35:$Z$56,1) -> 14
O39: 5 | P39: =P13 -> Dinamarca | Q39: =_xlfn.RANK.EQ(Q13,Q$9:Q$30,0) -> 1 | R39: =_xlfn.RANK.EQ(R13,R$9:R$30,0) -> 16 | S39: =_xlfn.RANK.EQ(S13,S$9:S$30,0) -> 1 | T39: =_xlfn.RANK.EQ(T13,T$9:T$30,0) -> 8 | U39: =_xlfn.RANK.EQ(U13,U$9:U$30,0) -> 13 | V39: =_xlfn.RANK.EQ(V13,V$9:V$30,0) -> 5 | W39: =_xlfn.RANK.EQ(W13,W$9:W$30,0) -> 18 | X39: =_xlfn.RANK.EQ(X13,X$9:X$30,0) -> 15 | Y39: 5 | Z39: =SUMPRODUCT(R39:Y39,POWER(10,$R$33:$Y$33)*$R$33:$Y$33) -> 8196650 | AA39: =_xlfn.RANK.EQ(Z39,$Z$35:$Z$56,1) -> 16
O40: 6 | P40: =P14 -> Escócia | Q40: =_xlfn.RANK.EQ(Q14,Q$9:Q$30,0) -> 1 | R40: =_xlfn.RANK.EQ(R14,R$9:R$30,0) -> 1 | S40: =_xlfn.RANK.EQ(S14,S$9:S$30,0) -> 11 | T40: =_xlfn.RANK.EQ(T14,T$9:T$30,0) -> 18 | U40: =_xlfn.RANK.EQ(U14,U$9:U$30,0) -> 1 | V40: =_xlfn.RANK.EQ(V14,V$9:V$30,0) -> 17 | W40: =_xlfn.RANK.EQ(W14,W$9:W$30,0) -> 1 | X40: =_xlfn.RANK.EQ(X14,X$9:X$30,0) -> 1 | Y40: 6 | Z40: =SUMPRODUCT(R40:Y40,POWER(10,$R$33:$Y$33)*$R$33:$Y$33) -> 543260 | AA40: =_xlfn.RANK.EQ(Z40,$Z$35:$Z$56,1) -> 1
O41: 7 | P41: =P15 -> Eslovênia | Q41: =_xlfn.RANK.EQ(Q15,Q$9:Q$30,0) -> 1 | R41: =_xlfn.RANK.EQ(R15,R$9:R$30,0) -> 14 | S41: =_xlfn.RANK.EQ(S15,S$9:S$30,0) -> 7 | T41: =_xlfn.RANK.EQ(T15,T$9:T$30,0) -> 4 | U41: =_xlfn.RANK.EQ(U15,U$9:U$30,0) -> 10 | V41: =_xlfn.RANK.EQ(V15,V$9:V$30,0) -> 4 | W41: =_xlfn.RANK.EQ(W15,W$9:W$30,0) -> 16 | X41: =_xlfn.RANK.EQ(X15,X$9:X$30,0) -> 15 | Y41: 7 | Z41: =SUMPRODUCT(R41:Y41,POWER(10,$R$33:$Y$33)*$R$33:$Y$33) -> 8110070 | AA41: =_xlfn.RANK.EQ(Z41,$Z$35:$Z$56,1) -> 15
B42: =P18 & " " &P19 & " " & P20 & " " & P21 & " " & P22 & " " & P23 & " " & P24 & " " & P25 -> Inglaterra Irlanda Itália Noruega País de Gales Polônia Rep. Tcheca Romênia | O42: 8 | P42: =P16 -> França | Q42: =_xlfn.RANK.EQ(Q16,Q$9:Q$30,0) -> 1 | R42: =_xlfn.RANK.EQ(R16,R$9:R$30,0) -> 16 | S42: =_xlfn.RANK.EQ(S16,S$9:S$30,0) -> 15 | T42: =_xlfn.RANK.EQ(T16,T$9:T$30,0) -> 2 | U42: =_xlfn.RANK.EQ(U16,U$9:U$30,0) -> 17 | V42: =_xlfn.RANK.EQ(V16,V$9:V$30,0) -> 3 | W42: =_xlfn.RANK.EQ(W16,W$9:W$30,0) -> 21 | X42: =_xlfn.RANK.EQ(X16,X$9:X$30,0) -> 17 | Y42: 8 | Z42: =SUMPRODUCT(R42:Y42,POWER(10,$R$33:$Y$33)*$R$33:$Y$33) -> 9206480 | AA42: =_xlfn.RANK.EQ(Z42,$Z$35:$Z$56,1) -> 17
B43: =" "&"("&Y18&")"& " " &"("&Y19&")"& " " &"("&Y20&")"& " " &"("&Y21&")"& " " &"("&Y22&")"& " " &"("&Y23&")"& " " &"("&Y24&")"& " " &"("&Y25&")" -> (Tooty) (Gru) (Cayera) (Hurrante) (Fred) (Deh) (Ricardinho) (Piu) | O43: 9 | P43: =P17 -> Holanda | Q43: =_xlfn.RANK.EQ(Q17,Q$9:Q$30,0) -> 1 | R43: =_xlfn.RANK.EQ(R17,R$9:R$30,0) -> 8 | S43: =_xlfn.RANK.EQ(S17,S$9:S$30,0) -> 7 | T43: =_xlfn.RANK.EQ(T17,T$9:T$30,0) -> 11 | U43: =_xlfn.RANK.EQ(U17,U$9:U$30,0) -> 5 | V43: =_xlfn.RANK.EQ(V17,V$9:V$30,0) -> 7 | W43: =_xlfn.RANK.EQ(W17,W$9:W$30,0) -> 6 | X43: =_xlfn.RANK.EQ(X17,X$9:X$30,0) -> 8 | Y43: 9 | Z43: =SUMPRODUCT(R43:Y43,POWER(10,$R$33:$Y$33)*$R$33:$Y$33) -> 4339090 | AA43: =_xlfn.RANK.EQ(Z43,$Z$35:$Z$56,1) -> 8
O44: 10 | P44: =P18 -> Inglaterra | Q44: =_xlfn.RANK.EQ(Q18,Q$9:Q$30,0) -> 1 | R44: =_xlfn.RANK.EQ(R18,R$9:R$30,0) -> 1 | S44: =_xlfn.RANK.EQ(S18,S$9:S$30,0) -> 19 | T44: =_xlfn.RANK.EQ(T18,T$9:T$30,0) -> 15 | U44: =_xlfn.RANK.EQ(U18,U$9:U$30,0) -> 3 | V44: =_xlfn.RANK.EQ(V18,V$9:V$30,0) -> 14 | W44: =_xlfn.RANK.EQ(W18,W$9:W$30,0) -> 2 | X44: =_xlfn.RANK.EQ(X18,X$9:X$30,0) -> 2 | Y44: 10 | Z44: =SUMPRODUCT(R44:Y44,POWER(10,$R$33:$Y$33)*$R$33:$Y$33) -> 1046700 | AA44: =_xlfn.RANK.EQ(Z44,$Z$35:$Z$56,1) -> 2
O45: 11 | P45: =P19 -> Irlanda | Q45: =_xlfn.RANK.EQ(Q19,Q$9:Q$30,0) -> 1 | R45: =_xlfn.RANK.EQ(R19,R$9:R$30,0) -> 18 | S45: =_xlfn.RANK.EQ(S19,S$9:S$30,0) -> 4 | T45: =_xlfn.RANK.EQ(T19,T$9:T$30,0) -> 3 | U45: =_xlfn.RANK.EQ(U19,U$9:U$30,0) -> 18 | V45: =_xlfn.RANK.EQ(V19,V$9:V$30,0) -> 7 | W45: =_xlfn.RANK.EQ(W19,W$9:W$30,0) -> 20 | X45: =_xlfn.RANK.EQ(X19,X$9:X$30,0) -> 17 | Y45: 11 | Z45: =SUMPRODUCT(R45:Y45,POWER(10,$R$33:$Y$33)*$R$33:$Y$33) -> 9283710 | AA45: =_xlfn.RANK.EQ(Z45,$Z$35:$Z$56,1) -> 18
O46: 12 | P46: =P20 -> Itália | Q46: =_xlfn.RANK.EQ(Q20,Q$9:Q$30,0) -> 1 | R46: =_xlfn.RANK.EQ(R20,R$9:R$30,0) -> 11 | S46: =_xlfn.RANK.EQ(S20,S$9:S$30,0) -> 2 | T46: =_xlfn.RANK.EQ(T20,T$9:T$30,0) -> 11 | U46: =_xlfn.RANK.EQ(U20,U$9:U$30,0) -> 10 | V46: =_xlfn.RANK.EQ(V20,V$9:V$30,0) -> 12 | W46: =_xlfn.RANK.EQ(W20,W$9:W$30,0) -> 14 | X46: =_xlfn.RANK.EQ(X20,X$9:X$30,0) -> 11 | Y46: 12 | Z46: =SUMPRODUCT(R46:Y46,POWER(10,$R$33:$Y$33)*$R$33:$Y$33) -> 5984120 | AA46: =_xlfn.RANK.EQ(Z46,$Z$35:$Z$56,1) -> 11
O47: 13 | P47: =P21 -> Noruega | Q47: =_xlfn.RANK.EQ(Q21,Q$9:Q$30,0) -> 1 | R47: =_xlfn.RANK.EQ(R21,R$9:R$30,0) -> 5 | S47: =_xlfn.RANK.EQ(S21,S$9:S$30,0) -> 7 | T47: =_xlfn.RANK.EQ(T21,T$9:T$30,0) -> 15 | U47: =_xlfn.RANK.EQ(U21,U$9:U$30,0) -> 7 | V47: =_xlfn.RANK.EQ(V21,V$9:V$30,0) -> 17 | W47: =_xlfn.RANK.EQ(W21,W$9:W$30,0) -> 4 | X47: =_xlfn.RANK.EQ(X21,X$9:X$30,0) -> 5 | Y47: 13 | Z47: =SUMPRODUCT(R47:Y47,POWER(10,$R$33:$Y$33)*$R$33:$Y$33) -> 2713530 | AA47: =_xlfn.RANK.EQ(Z47,$Z$35:$Z$56,1) -> 5
E48: =" "&P26&" "&P27&" "&P28&" " -> Suécia Suíça Turquia | O48: 14 | P48: =P22 -> País de Gales | Q48: =_xlfn.RANK.EQ(Q22,Q$9:Q$30,0) -> 1 | R48: =_xlfn.RANK.EQ(R22,R$9:R$30,0) -> 8 | S48: =_xlfn.RANK.EQ(S22,S$9:S$30,0) -> 11 | T48: =_xlfn.RANK.EQ(T22,T$9:T$30,0) -> 8 | U48: =_xlfn.RANK.EQ(U22,U$9:U$30,0) -> 7 | V48: =_xlfn.RANK.EQ(V22,V$9:V$30,0) -> 9 | W48: =_xlfn.RANK.EQ(W22,W$9:W$30,0) -> 8 | X48: =_xlfn.RANK.EQ(X22,X$9:X$30,0) -> 9 | Y48: 14 | Z48: =SUMPRODUCT(R48:Y48,POWER(10,$R$33:$Y$33)*$R$33:$Y$33) -> 4845540 | AA48: =_xlfn.RANK.EQ(Z48,$Z$35:$Z$56,1) -> 9
E49: =" "&"("&Y26&")"& " " &"("&Y27&")"& " " &"("&Y28&")" -> (Hugo) (Juninho) (DieGo) | O49: 15 | P49: =P23 -> Polônia | Q49: =_xlfn.RANK.EQ(Q23,Q$9:Q$30,0) -> 1 | R49: =_xlfn.RANK.EQ(R23,R$9:R$30,0) -> 3 | S49: =_xlfn.RANK.EQ(S23,S$9:S$30,0) -> 17 | T49: =_xlfn.RANK.EQ(T23,T$9:T$30,0) -> 11 | U49: =_xlfn.RANK.EQ(U23,U$9:U$30,0) -> 2 | V49: =_xlfn.RANK.EQ(V23,V$9:V$30,0) -> 1 | W49: =_xlfn.RANK.EQ(W23,W$9:W$30,0) -> 7 | X49: =_xlfn.RANK.EQ(X23,X$9:X$30,0) -> 4 | Y49: 15 | Z49: =SUMPRODUCT(R49:Y49,POWER(10,$R$33:$Y$33)*$R$33:$Y$33) -> 2141550 | AA49: =_xlfn.RANK.EQ(Z49,$Z$35:$Z$56,1) -> 4
O50: 16 | P50: =P24 -> Rep. Tcheca | Q50: =_xlfn.RANK.EQ(Q24,Q$9:Q$30,0) -> 1 | R50: =_xlfn.RANK.EQ(R24,R$9:R$30,0) -> 19 | S50: =_xlfn.RANK.EQ(S24,S$9:S$30,0) -> 17 | T50: =_xlfn.RANK.EQ(T24,T$9:T$30,0) -> 1 | U50: =_xlfn.RANK.EQ(U24,U$9:U$30,0) -> 19 | V50: =_xlfn.RANK.EQ(V24,V$9:V$30,0) -> 2 | W50: =_xlfn.RANK.EQ(W24,W$9:W$30,0) -> 22 | X50: =_xlfn.RANK.EQ(X24,X$9:X$30,0) -> 19 | Y50: 16 | Z50: =SUMPRODUCT(R50:Y50,POWER(10,$R$33:$Y$33)*$R$33:$Y$33) -> 10329960 | AA50: =_xlfn.RANK.EQ(Z50,$Z$35:$Z$56,1) -> 19
O51: 17 | P51: =P25 -> Romênia | Q51: =_xlfn.RANK.EQ(Q25,Q$9:Q$30,0) -> 1 | R51: =_xlfn.RANK.EQ(R25,R$9:R$30,0) -> 11 | S51: =_xlfn.RANK.EQ(S25,S$9:S$30,0) -> 11 | T51: =_xlfn.RANK.EQ(T25,T$9:T$30,0) -> 4 | U51: =_xlfn.RANK.EQ(U25,U$9:U$30,0) -> 15 | V51: =_xlfn.RANK.EQ(V25,V$9:V$30,0) -> 5 | W51: =_xlfn.RANK.EQ(W25,W$9:W$30,0) -> 19 | X51: =_xlfn.RANK.EQ(X25,X$9:X$30,0) -> 12 | Y51: 17 | Z51: =SUMPRODUCT(R51:Y51,POWER(10,$R$33:$Y$33)*$R$33:$Y$33) -> 6500170 | AA51: =_xlfn.RANK.EQ(Z51,$Z$35:$Z$56,1) -> 13
O52: 18 | P52: =P26 -> Suécia | Q52: =_xlfn.RANK.EQ(Q26,Q$9:Q$30,0) -> 1 | R52: =_xlfn.RANK.EQ(R26,R$9:R$30,0) -> 5 | S52: =_xlfn.RANK.EQ(S26,S$9:S$30,0) -> 7 | T52: =_xlfn.RANK.EQ(T26,T$9:T$30,0) -> 15 | U52: =_xlfn.RANK.EQ(U26,U$9:U$30,0) -> 4 | V52: =_xlfn.RANK.EQ(V26,V$9:V$30,0) -> 9 | W52: =_xlfn.RANK.EQ(W26,W$9:W$30,0) -> 5 | X52: =_xlfn.RANK.EQ(X26,X$9:X$30,0) -> 5 | Y52: 18 | Z52: =SUMPRODUCT(R52:Y52,POWER(10,$R$33:$Y$33)*$R$33:$Y$33) -> 2715980 | AA52: =_xlfn.RANK.EQ(Z52,$Z$35:$Z$56,1) -> 6
O53: 19 | P53: =P27 -> Suíça | Q53: =_xlfn.RANK.EQ(Q27,Q$9:Q$30,0) -> 1 | R53: =_xlfn.RANK.EQ(R27,R$9:R$30,0) -> 4 | S53: =_xlfn.RANK.EQ(S27,S$9:S$30,0) -> 2 | T53: =_xlfn.RANK.EQ(T27,T$9:T$30,0) -> 18 | U53: =_xlfn.RANK.EQ(U27,U$9:U$30,0) -> 5 | V53: =_xlfn.RANK.EQ(V27,V$9:V$30,0) -> 19 | W53: =_xlfn.RANK.EQ(W27,W$9:W$30,0) -> 3 | X53: =_xlfn.RANK.EQ(X27,X$9:X$30,0) -> 3 | Y53: 19 | Z53: =SUMPRODUCT(R53:Y53,POWER(10,$R$33:$Y$33)*$R$33:$Y$33) -> 1670190 | AA53: =_xlfn.RANK.EQ(Z53,$Z$35:$Z$56,1) -> 3
...

Sheet Jogos
L1: JOGOS
A3: 1 | B3: =A3&"ª Rodada" -> 1ª Rodada | I3: 2 | J3: =I3&"ª Rodada" -> 2ª Rodada | Q3: 3 | R3: =Q3&"ª Rodada" -> 3ª Rodada
B5: M1 | F5: V1 | G5: SM1 | H5: SV1 | J5: M2 | N5: V2 | O5: SM2 | P5: SV2 | R5: M3 | V5: V3 | W5: SM3 | X5: SV3
A6: j1 | B6: =IFERROR(VLOOKUP(IF(VLOOKUP(A3&$A6,$AD$336:$AL$566,6,FALSE)="C",VLOOKUP(A3&$A6,$AD$336:$AL$566,4,FALSE),VLOOKUP(A3&$A6,$AD$336:$AL$566,5,FALSE)),Tabelas!$O$9:$P$30,2,FALSE),"") -> DESISTIU | D6: X | F6: =IFERROR(VLOOKUP(IF(VLOOKUP(A3&$A6,$AD$336:$AL$566,6,FALSE)="F",VLOOKUP(A3&$A6,$AD$336:$AL$566,4,FALSE),VLOOKUP(A3&$A6,$AD$336:$AL$566,5,FALSE)),Tabelas!$O$9:$P$30,2,FALSE),"") -> Turquia | G6: =C6-E6 -> 0 | H6: =E6-C6 -> 0 | J6: =IFERROR(VLOOKUP(IF(VLOOKUP(I3&$A6,$AD$336:$AL$566,6,FALSE)="C",VLOOKUP(I3&$A6,$AD$336:$AL$566,4,FALSE),VLOOKUP(I3&$A6,$AD$336:$AL$566,5,FALSE)),Tabelas!$O$9:$P$30,2,FALSE),"") -> Suíça | L6: X | N6: =IFERROR(VLOOKUP(IF(VLOOKUP(I3&$A6,$AD$336:$AL$566,6,FALSE)="F",VLOOKUP(I3&$A6,$AD$336:$AL$566,4,FALSE),VLOOKUP(I3&$A6,$AD$336:$AL$566,5,FALSE)),Tabelas!$O$9:$P$30,2,FALSE),"") -> DESISTIU | O6: =K6-M6 -> 0 | P6: =M6-K6 -> 0 | R6: =IFERROR(VLOOKUP(IF(VLOOKUP(Q3&$A6,$AD$336:$AL$566,6,FALSE)="C",VLOOKUP(Q3&$A6,$AD$336:$AL$566,4,FALSE),VLOOKUP(Q3&$A6,$AD$336:$AL$566,5,FALSE)),Tabelas!$O$9:$P$30,2,FALSE),"") -> DESISTIU | T6: X | V6: =IFERROR(VLOOKUP(IF(VLOOKUP(Q3&$A6,$AD$336:$AL$566,6,FALSE)="F",VLOOKUP(Q3&$A6,$AD$336:$AL$566,4,FALSE),VLOOKUP(Q3&$A6,$AD$336:$AL$566,5,FALSE)),Tabelas!$O$9:$P$30,2,FALSE),"") -> Suécia | W6: =S6-U6 -> 0 | X6: =U6-S6 -> 0
A8: j2 | B8: =IFERROR(VLOOKUP(IF(VLOOKUP(A3&$A8,$AD$336:$AL$566,6,FALSE)="C",VLOOKUP(A3&$A8,$AD$336:$AL$566,4,FALSE),VLOOKUP(A3&$A8,$AD$336:$AL$566,5,FALSE)),Tabelas!$O$9:$P$30,2,FALSE),"") -> Alemanha | C8: 1 | D8: X | E8: 0 | F8: =IFERROR(VLOOKUP(IF(VLOOKUP(A3&$A8,$AD$336:$AL$566,6,FALSE)="F",VLOOKUP(A3&$A8,$AD$336:$AL$566,4,FALSE),VLOOKUP(A3&$A8,$AD$336:$AL$566,5,FALSE)),Tabelas!$O$9:$P$30,2,FALSE),"") -> Suíça | G8: =C8-E8 -> 1 | H8: =E8-C8 -> -1 | J8: =IFERROR(VLOOKUP(IF(VLOOKUP(I3&$A8,$AD$336:$AL$566,6,FALSE)="C",VLOOKUP(I3&$A8,$AD$336:$AL$566,4,FALSE),VLOOKUP(I3&$A8,$AD$336:$AL$566,5,FALSE)),Tabelas!$O$9:$P$30,2,FALSE),"") -> Alemanha | K8: 0 | L8: X | M8: 0 | N8: =IFERROR(VLOOKUP(IF(VLOOKUP(I3&$A8,$AD$336:$AL$566,6,FALSE)="F",VLOOKUP(I3&$A8,$AD$336:$AL$566,4,FALSE),VLOOKUP(I3&$A8,$AD$336:$AL$566,5,FALSE)),Tabelas!$O$9:$P$30,2,FALSE),"") -> Romênia | O8: =K8-M8 -> 0 | P8: =M8-K8 -> 0 | R8: =IFERROR(VLOOKUP(IF(VLOOKUP(Q3&$A8,$AD$336:$AL$566,6,FALSE)="C",VLOOKUP(Q3&$A8,$AD$336:$AL$566,4,FALSE),VLOOKUP(Q3&$A8,$AD$336:$AL$566,5,FALSE)),Tabelas!$O$9:$P$30,2,FALSE),"") -> Alemanha | S8: 0 | T8: X | U8: 1 | V8: =IFERROR(VLOOKUP(IF(VLOOKUP(Q3&$A8,$AD$336:$AL$566,6,FALSE)="F",VLOOKUP(Q3&$A8,$AD$336:$AL$566,4,FALSE),VLOOKUP(Q3&$A8,$AD$336:$AL$566,5,FALSE)),Tabelas!$O$9:$P$30,2,FALSE),"") -> Polônia | W8: =S8-U8 -> -1 | X8: =U8-S8 -> 1
A10: j3 | B10: =IFERROR(VLOOKUP(IF(VLOOKUP(A3&$A10,$AD$336:$AL$566,6,FALSE)="C",VLOOKUP(A3&$A10,$AD$336:$AL$566,4,FALSE),VLOOKUP(A3&$A10,$AD$336:$AL$566,5,FALSE)),Tabelas!$O$9:$P$30,2,FALSE),"") -> Suécia | C10: 0 | D10: X | E10: 0 | F10: =IFERROR(VLOOKUP(IF(VLOOKUP(A3&$A10,$AD$336:$AL$566,6,FALSE)="F",VLOOKUP(A3&$A10,$AD$336:$AL$566,4,FALSE),VLOOKUP(A3&$A10,$AD$336:$AL$566,5,FALSE)),Tabelas!$O$9:$P$30,2,FALSE),"") -> Áustria | G10: =C10-E10 -> 0 | H10: =E10-C10 -> 0 | J10: =IFERROR(VLOOKUP(IF(VLOOKUP(I3&$A10,$AD$336:$AL$566,6,FALSE)="C",VLOOKUP(I3&$A10,$AD$336:$AL$566,4,FALSE),VLOOKUP(I3&$A10,$AD$336:$AL$566,5,FALSE)),Tabelas!$O$9:$P$30,2,FALSE),"") -> Rep. Tcheca | K10: 0 | L10: X | M10: 3 | N10: =IFERROR(VLOOKUP(IF(VLOOKUP(I3&$A10,$AD$336:$AL$566,6,FALSE)="F",VLOOKUP(I3&$A10,$AD$336:$AL$566,4,FALSE),VLOOKUP(I3&$A10,$AD$336:$AL$566,5,FALSE)),Tabelas!$O$9:$P$30,2,FALSE),"") -> Áustria | O10: =K10-M10 -> -3 | P10: =M10-K10 -> 3 | R10: =IFERROR(VLOOKUP(IF(VLOOKUP(Q3&$A10,$AD$336:$AL$566,6,FALSE)="C",VLOOKUP(Q3&$A10,$AD$336:$AL$566,4,FALSE),VLOOKUP(Q3&$A10,$AD$336:$AL$566,5,FALSE)),Tabelas!$O$9:$P$30,2,FALSE),"") -> País de Gales | S10: 0 | T10: X | U10: 0 | V10: =IFERROR(VLOOKUP(IF(VLOOKUP(Q3&$A10,$AD$336:$AL$566,6,FALSE)="F",VLOOKUP(Q3&$A10,$AD$336:$AL$566,4,FALSE),VLOOKUP(Q3&$A10,$AD$336:$AL$566,5,FALSE)),Tabelas!$O$9:$P$30,2,FALSE),"") -> Áustria | W10: =S10-U10 -> 0 | X10: =U10-S10 -> 0
A12: j4 | B12: =IFERROR(VLOOKUP(IF(VLOOKUP(A3&$A12,$AD$336:$AL$566,6,FALSE)="C",VLOOKUP(A3&$A12,$AD$336:$AL$566,4,FALSE),VLOOKUP(A3&$A12,$AD$336:$AL$566,5,FALSE)),Tabelas!$O$9:$P$30,2,FALSE),"") -> Romênia | C12: 0 | D12: X | E12: 1 | F12: =IFERROR(VLOOKUP(IF(VLOOKUP(A3&$A12,$AD$336:$AL$566,6,FALSE)="F",VLOOKUP(A3&$A12,$AD$336:$AL$566,4,FALSE),VLOOKUP(A3&$A12,$AD$336:$AL$566,5,FALSE)),Tabelas!$O$9:$P$30,2,FALSE),"") -> Bélgica | G12: =C12-E12 -> -1 | H12: =E12-C12 -> 1 | J12: =IFERROR(VLOOKUP(IF(VLOOKUP(I3&$A12,$AD$336:$AL$566,6,FALSE)="C",VLOOKUP(I3&$A12,$AD$336:$AL$566,4,FALSE),VLOOKUP(I3&$A12,$AD$336:$AL$566,5,FALSE)),Tabelas!$O$9:$P$30,2,FALSE),"") -> Polônia | K12: 2 | L12: X | M12: 2 | N12: =IFERROR(VLOOKUP(IF(VLOOKUP(I3&$A12,$AD$336:$AL$566,6,FALSE)="F",VLOOKUP(I3&$A12,$AD$336:$AL$566,4,FALSE),VLOOKUP(I3&$A12,$AD$336:$AL$566,5,FALSE)),Tabelas!$O$9:$P$30,2,FALSE),"") -> Bélgica | O12: =K12-M12 -> 0 | P12: =M12-K12 -> 0 | R12: =IFERROR(VLOOKUP(IF(VLOOKUP(Q3&$A12,$AD$336:$AL$566,6,FALSE)="C",VLOOKUP(Q3&$A12,$AD$336:$AL$566,4,FALSE),VLOOKUP(Q3&$A12,$AD$336:$AL$566,5,FALSE)),Tabelas!$O$9:$P$30,2,FALSE),"") -> Noruega | S12: 2 | T12: X | U12: 0 | V12: =IFERROR(VLOOKUP(IF(VLOOKUP(Q3&$A12,$AD$336:$AL$566,6,FALSE)="F",VLOOKUP(Q3&$A12,$AD$336:$AL$566,4,FALSE),VLOOKUP(Q3&$A12,$AD$336:$AL$566,5,FALSE)),Tabelas!$O$9:$P$30,2,FALSE),"") -> Bélgica | W12: =S12-U12 -> 2 | X12: =U12-S12 -> -2
A14: j5 | B14: =IFERROR(VLOOKUP(IF(VLOOKUP(A3&$A14,$AD$336:$AL$566,6,FALSE)="C",VLOOKUP(A3&$A14,$AD$336:$AL$566,4,FALSE),VLOOKUP(A3&$A14,$AD$336:$AL$566,5,FALSE)),Tabelas!$O$9:$P$30,2,FALSE),"") -> Dinamarca | C14: 1 | D14: X | E14: 0 | F14: =IFERROR(VLOOKUP(IF(VLOOKUP(A3&$A14,$AD$336:$AL$566,6,FALSE)="F",VLOOKUP(A3&$A14,$AD$336:$AL$566,4,FALSE),VLOOKUP(A3&$A14,$AD$336:$AL$566,5,FALSE)),Tabelas!$O$9:$P$30,2,FALSE),"") -> Rep. Tcheca | G14: =C14-E14 -> 1 | H14: =E14-C14 -> -1 | J14: =IFERROR(VLOOKUP(IF(VLOOKUP(I3&$A14,$AD$336:$AL$566,6,FALSE)="C",VLOOKUP(I3&$A14,$AD$336:$AL$566,4,FALSE),VLOOKUP(I3&$A14,$AD$336:$AL$566,5,FALSE)),Tabelas!$O$9:$P$30,2,FALSE),"") -> Dinamarca | K14: 0 | L14: X | M14: 0 | N14: =IFERROR(VLOOKUP(IF(VLOOKUP(I3&$A14,$AD$336:$AL$566,6,FALSE)="F",VLOOKUP(I3&$A14,$AD$336:$AL$566,4,FALSE),VLOOKUP(I3&$A14,$AD$336:$AL$566,5,FALSE)),Tabelas!$O$9:$P$30,2,FALSE),"") -> País de Gales | O14: =K14-M14 -> 0 | P14: =M14-K14 -> 0 | R14: =IFERROR(VLOOKUP(IF(VLOOKUP(Q3&$A14,$AD$336:$AL$566,6,FALSE)="C",VLOOKUP(Q3&$A14,$AD$336:$AL$566,4,FALSE),VLOOKUP(Q3&$A14,$AD$336:$AL$566,5,FALSE)),Tabelas!$O$9:$P$30,2,FALSE),"") -> Dinamarca | S14: 1 | T14: X | U14: 1 | V14: =IFERROR(VLOOKUP(IF(VLOOKUP(Q3&$A14,$AD$336:$AL$566,6,FALSE)="F",VLOOKUP(Q3&$A14,$AD$336:$AL$566,4,FALSE),VLOOKUP(Q3&$A14,$AD$336:$AL$566,5,FALSE)),Tabelas!$O$9:$P$30,2,FALSE),"") -> Itália | W14: =S14-U14 -> 0 | X14: =U14-S14 -> 0
A16: j6 | B16: =IFERROR(VLOOKUP(IF(VLOOKUP(A3&$A16,$AD$336:$AL$566,6,FALSE)="C",VLOOKUP(A3&$A16,$AD$336:$AL$566,4,FALSE),VLOOKUP(A3&$A16,$AD$336:$AL$566,5,FALSE)),Tabelas!$O$9:$P$30,2,FALSE),"") -> Escócia | C16: 1 | D16: X | E16: 1 | F16: =IFERROR(VLOOKUP(IF(VLOOKUP(A3&$A16,$AD$336:$AL$566,6,FALSE)="F",VLOOKUP(A3&$A16,$AD$336:$AL$566,4,FALSE),VLOOKUP(A3&$A16,$AD$336:$AL$566,5,FALSE)),Tabelas!$O$9:$P$30,2,FALSE),"") -> Polônia | G16: =C16-E16 -> 0 | H16: =E16-C16 -> 0 | J16: =IFERROR(VLOOKUP(IF(VLOOKUP(I3&$A16,$AD$336:$AL$566,6,FALSE)="C",VLOOKUP(I3&$A16,$AD$336:$AL$566,4,FALSE),VLOOKUP(I3&$A16,$AD$336:$AL$566,5,FALSE)),Tabelas!$O$9:$P$30,2,FALSE),"") -> Escócia | K16: 1 | L16: X | M16: 0 | N16: =IFERROR(VLOOKUP(IF(VLOOKUP(I3&$A16,$AD$336:$AL$566,6,FALSE)="F",VLOOKUP(I3&$A16,$AD$336:$AL$566,4,FALSE),VLOOKUP(I3&$A16,$AD$336:$AL$566,5,FALSE)),Tabelas!$O$9:$P$30,2,FALSE),"") -> Noruega | O16: =K16-M16 -> 1 | P16: =M16-K16 -> -1 | R16: =IFERROR(VLOOKUP(IF(VLOOKUP(Q3&$A16,$AD$336:$AL$566,6,FALSE)="C",VLOOKUP(Q3&$A16,$AD$336:$AL$566,4,FALSE),VLOOKUP(Q3&$A16,$AD$336:$AL$566,5,FALSE)),Tabelas!$O$9:$P$30,2,FALSE),"") -> Escócia | S16: 4 | T16: X | U16: 0 | V16: =IFERROR(VLOOKUP(IF(VLOOKUP(Q3&$A16,$AD$336:$AL$566,6,FALSE)="F",VLOOKUP(Q3&$A16,$AD$336:$AL$566,4,FALSE),VLOOKUP(Q3&$A16,$AD$336:$AL$566,5,FALSE)),Tabelas!$O$9:$P$30,2,FALSE),"") -> Irlanda | W16: =S16-U16 -> 4 | X16: =U16-S16 -> -4
A18: j7 | B18: =IFERROR(VLOOKUP(IF(VLOOKUP(A3&$A18,$AD$336:$AL$566,6,FALSE)="C",VLOOKUP(A3&$A18,$AD$336:$AL$566,4,FALSE),VLOOKUP(A3&$A18,$AD$336:$AL$566,5,FALSE)),Tabelas!$O$9:$P$30,2,FALSE),"") -> País de Gales | C18: 1 | D18: X | E18: 2 | F18: =IFERROR(VLOOKUP(IF(VLOOKUP(A3&$A18,$AD$336:$AL$566,6,FALSE)="F",VLOOKUP(A3&$A18,$AD$336:$AL$566,4,FALSE),VLOOKUP(A3&$A18,$AD$336:$AL$566,5,FALSE)),Tabelas!$O$9:$P$30,2,FALSE),"") -> Eslovênia | G18: =C18-E18 -> -1 | H18: =E18-C18 -> 1 | J18: =IFERROR(VLOOKUP(IF(VLOOKUP(I3&$A18,$AD$336:$AL$566,6,FALSE)="C",VLOOKUP(I3&$A18,$AD$336:$AL$566,4,FALSE),VLOOKUP(I3&$A18,$AD$336:$AL$566,5,FALSE)),Tabelas!$O$9:$P$30,2,FALSE),"") -> Itália | K18: 1 | L18: X | M18: 1 | N18: =IFERROR(VLOOKUP(IF(VLOOKUP(I3&$A18,$AD$336:$AL$566,6,FALSE)="F",VLOOKUP(I3&$A18,$AD$336:$AL$566,4,FALSE),VLOOKUP(I3&$A18,$AD$336:$AL$566,5,FALSE)),Tabelas!$O$9:$P$30,2,FALSE),"") -> Eslovênia | O18: =K18-M18 -> 0 | P18: =M18-K18 -> 0 | R18: =IFERROR(VLOOKUP(IF(VLOOKUP(Q3&$A18,$AD$336:$AL$566,6,FALSE)="C",VLOOKUP(Q3&$A18,$AD$336:$AL$566,4,FALSE),VLOOKUP(Q3&$A18,$AD$336:$AL$566,5,FALSE)),Tabelas!$O$9:$P$30,2,FALSE),"") -> Inglaterra | S18: 2 | T18: X | U18: 1 | V18: =IFERROR(VLOOKUP(IF(VLOOKUP(Q3&$A18,$AD$336:$AL$566,6,FALSE)="F",VLOOKUP(Q3&$A18,$AD$336:$AL$566,4,FALSE),VLOOKUP(Q3&$A18,$AD$336:$AL$566,5,FALSE)),Tabelas!$O$9:$P$30,2,FALSE),"") -> Eslovênia | W18: =S18-U18 -> 1 | X18: =U18-S18 -> -1
A20: j8 | B20: =IFERROR(VLOOKUP(IF(VLOOKUP(A3&$A20,$AD$336:$AL$566,6,FALSE)="C",VLOOKUP(A3&$A20,$AD$336:$AL$566,4,FALSE),VLOOKUP(A3&$A20,$AD$336:$AL$566,5,FALSE)),Tabelas!$O$9:$P$30,2,FALSE),"") -> Noruega | C20: 1 | D20: X | E20: 0 | F20: =IFERROR(VLOOKUP(IF(VLOOKUP(A3&$A20,$AD$336:$AL$566,6,FALSE)="F",VLOOKUP(A3&$A20,$AD$336:$AL$566,4,FALSE),VLOOKUP(A3&$A20,$AD$336:$AL$566,5,FALSE)),Tabelas!$O$9:$P$30,2,FALSE),"") -> França | G20: =C20-E20 -> 1 | H20: =E20-C20 -> -1 | J20: =IFERROR(VLOOKUP(IF(VLOOKUP(I3&$A20,$AD$336:$AL$566,6,FALSE)="C",VLOOKUP(I3&$A20,$AD$336:$AL$566,4,FALSE),VLOOKUP(I3&$A20,$AD$336:$AL$566,5,FALSE)),Tabelas!$O$9:$P$30,2,FALSE),"") -> Irlanda | K20: 1 | L20: X | M20: 0 | N20: =IFERROR(VLOOKUP(IF(VLOOKUP(I3&$A20,$AD$336:$AL$566,6,FALSE)="F",VLOOKUP(I3&$A20,$AD$336:$AL$566,4,FALSE),VLOOKUP(I3&$A20,$AD$336:$AL$566,5,FALSE)),Tabelas!$O$9:$P$30,2,FALSE),"") -> França | O20: =K20-M20 -> 1 | P20: =M20-K20 -> -1 | R20: =IFERROR(VLOOKUP(IF(VLOOKUP(Q3&$A20,$AD$336:$AL$566,6,FALSE)="C",VLOOKUP(Q3&$A20,$AD$336:$AL$566,4,FALSE),VLOOKUP(Q3&$A20,$AD$336:$AL$566,5,FALSE)),Tabelas!$O$9:$P$30,2,FALSE),"") -> Holanda | S20: 0 | T20: X | U20: 1 | V20: =IFERROR(VLOOKUP(IF(VLOOKUP(Q3&$A20,$AD$336:$AL$566,6,FALSE)="F",VLOOKUP(Q3&$A20,$AD$336:$AL$566,4,FALSE),VLOOKUP(Q3&$A20,$AD$336:$AL$566,5,FALSE)),Tabelas!$O$9:$P$30,2,FALSE),"") -> França | W20: =S20-U20 -> -1 | X20: =U20-S20 -> 1
A22: j9 | B22: =IFERROR(VLOOKUP(IF(VLOOKUP(A3&$A22,$AD$336:$AL$566,6,FALSE)="C",VLOOKUP(A3&$A22,$AD$336:$AL$566,4,FALSE),VLOOKUP(A3&$A22,$AD$336:$AL$566,5,FALSE)),Tabelas!$O$9:$P$30,2,FALSE),"") -> Holanda | C22: 1 | D22: X | E22: 1 | F22: =IFERROR(VLOOKUP(IF(VLOOKUP(A3&$A22,$AD$336:$AL$566,6,FALSE)="F",VLOOKUP(A3&$A22,$AD$336:$AL$566,4,FALSE),VLOOKUP(A3&$A22,$AD$336:$AL$566,5,FALSE)),Tabelas!$O$9:$P$30,2,FALSE),"") -> Itália | G22: =C22-E22 -> 0 | H22: =E22-C22 -> 0 | J22: =IFERROR(VLOOKUP(IF(VLOOKUP(I3&$A22,$AD$336:$AL$566,6,FALSE)="C",VLOOKUP(I3&$A22,$AD$336:$AL$566,4,FALSE),VLOOKUP(I3&$A22,$AD$336:$AL$566,5,FALSE)),Tabelas!$O$9:$P$30,2,FALSE),"") -> Holanda | K22: 2 | L22: X | M22: 0 | N22: =IFERROR(VLOOKUP(IF(VLOOKUP(I3&$A22,$AD$336:$AL$566,6,FALSE)="F",VLOOKUP(I3&$A22,$AD$336:$AL$566,4,FALSE),VLOOKUP(I3&$A22,$AD$336:$AL$566,5,FALSE)),Tabelas!$O$9:$P$30,2,FALSE),"") -> Inglaterra | O22: =K22-M22 -> 2 | P22: =M22-K22 -> -2 | R22: =IFERROR(VLOOKUP(IF(VLOOKUP(Q3&$A22,$AD$336:$AL$566,6,FALSE)="C",VLOOKUP(Q3&$A22,$AD$336:$AL$566,4,FALSE),VLOOKUP(Q3&$A22,$AD$336:$AL$566,5,FALSE)),Tabelas!$O$9:$P$30,2,FALSE),"") -> Rep. Tcheca | S22: 0 | T22: X | U22: 1 | V22: =IFERROR(VLOOKUP(IF(VLOOKUP(Q3&$A22,$AD$336:$AL$566,6,FALSE)="F",VLOOKUP(Q3&$A22,$AD$336:$AL$566,4,FALSE),VLOOKUP(Q3&$A22,$AD$336:$AL$566,5,FALSE)),Tabelas!$O$9:$P$30,2,FALSE),"") -> Turquia | W22: =S22-U22 -> -1 | X22: =U22-S22 -> 1
A24: j10 | B24: =IFERROR(VLOOKUP(IF(VLOOKUP(A3&$A24,$AD$336:$AL$566,6,FALSE)="C",VLOOKUP(A3&$A24,$AD$336:$AL$566,4,FALSE),VLOOKUP(A3&$A24,$AD$336:$AL$566,5,FALSE)),Tabelas!$O$9:$P$30,2,FALSE),"") -> Inglaterra | C24: 2 | D24: X | E24: 0 | F24: =IFERROR(VLOOKUP(IF(VLOOKUP(A3&$A24,$AD$336:$AL$566,6,FALSE)="F",VLOOKUP(A3&$A24,$AD$336:$AL$566,4,FALSE),VLOOKUP(A3&$A24,$AD$336:$AL$566,5,FALSE)),Tabelas!$O$9:$P$30,2,FALSE),"") -> Irlanda | G24: =C24-E24 -> 2 | H24: =E24-C24 -> -2 | J24: =IFERROR(VLOOKUP(IF(VLOOKUP(I3&$A24,$AD$336:$AL$566,6,FALSE)="C",VLOOKUP(I3&$A24,$AD$336:$AL$566,4,FALSE),VLOOKUP(I3&$A24,$AD$336:$AL$566,5,FALSE)),Tabelas!$O$9:$P$30,2,FALSE),"") -> Turquia | K24: 2 | L24: X | M24: 1 | N24: =IFERROR(VLOOKUP(IF(VLOOKUP(I3&$A24,$AD$336:$AL$566,6,FALSE)="F",VLOOKUP(I3&$A24,$AD$336:$AL$566,4,FALSE),VLOOKUP(I3&$A24,$AD$336:$AL$566,5,FALSE)),Tabelas!$O$9:$P$30,2,FALSE),"") -> Suécia | O24: =K24-M24 -> 1 | P24: =M24-K24 -> -1 | R24: =IFERROR(VLOOKUP(IF(VLOOKUP(Q3&$A24,$AD$336:$AL$566,6,FALSE)="C",VLOOKUP(Q3&$A24,$AD$336:$AL$566,4,FALSE),VLOOKUP(Q3&$A24,$AD$336:$AL$566,5,FALSE)),Tabelas!$O$9:$P$30,2,FALSE),"") -> Suíça | S24: 1 | T24: X | U24: 0 | V24: =IFERROR(VLOOKUP(IF(VLOOKUP(Q3&$A24,$AD$336:$AL$566,6,FALSE)="F",VLOOKUP(Q3&$A24,$AD$336:$AL$566,4,FALSE),VLOOKUP(Q3&$A24,$AD$336:$AL$566,5,FALSE)),Tabelas!$O$9:$P$30,2,FALSE),"") -> Romênia | W24: =S24-U24 -> 1 | X24: =U24-S24 -> -1
A26: j11 | B26: =IFERROR(VLOOKUP(IF(VLOOKUP(A3&$A26,$AD$336:$AL$566,6,FALSE)="C",VLOOKUP(A3&$A26,$AD$336:$AL$566,4,FALSE),VLOOKUP(A3&$A26,$AD$336:$AL$566,5,FALSE)),Tabelas!$O$9:$P$30,2,FALSE),"") | D26: X | F26: =IFERROR(VLOOKUP(IF(VLOOKUP(A3&$A26,$AD$336:$AL$566,6,FALSE)="F",VLOOKUP(A3&$A26,$AD$336:$AL$566,4,FALSE),VLOOKUP(A3&$A26,$AD$336:$AL$566,5,FALSE)),Tabelas!$O$9:$P$30,2,FALSE),"") | G26: =C26-E26 -> 0 | H26: =E26-C26 -> 0 | J26: =IFERROR(VLOOKUP(IF(VLOOKUP(I3&$A26,$AD$336:$AL$566,6,FALSE)="C",VLOOKUP(I3&$A26,$AD$336:$AL$566,4,FALSE),VLOOKUP(I3&$A26,$AD$336:$AL$566,5,FALSE)),Tabelas!$O$9:$P$30,2,FALSE),"") | L26: X | N26: =IFERROR(VLOOKUP(IF(VLOOKUP(I3&$A26,$AD$336:$AL$566,6,FALSE)="F",VLOOKUP(I3&$A26,$AD$336:$AL$566,4,FALSE),VLOOKUP(I3&$A26,$AD$336:$AL$566,5,FALSE)),Tabelas!$O$9:$P$30,2,FALSE),"") | O26: =K26-M26 -> 0 | P26: =M26-K26 -> 0 | R26: =IFERROR(VLOOKUP(IF(VLOOKUP(Q3&$A26,$AD$336:$AL$566,6,FALSE)="C",VLOOKUP(Q3&$A26,$AD$336:$AL$566,4,FALSE),VLOOKUP(Q3&$A26,$AD$336:$AL$566,5,FALSE)),Tabelas!$O$9:$P$30,2,FALSE),"") | T26: X | V26: =IFERROR(VLOOKUP(IF(VLOOKUP(Q3&$A26,$AD$336:$AL$566,6,FALSE)="F",VLOOKUP(Q3&$A26,$AD$336:$AL$566,4,FALSE),VLOOKUP(Q3&$A26,$AD$336:$AL$566,5,FALSE)),Tabelas!$O$9:$P$30,2,FALSE),"") | W26: =S26-U26 -> 0 | X26: =U26-S26 -> 0
A29: 4 | B29: =A29&"ª Rodada" -> 4ª Rodada | I29: 5 | J29: =I29&"ª Rodada" -> 5ª Rodada | Q29: 6 | R29: =Q29&"ª Rodada" -> 6ª Rodada
A31: j1 | B31: =IFERROR(VLOOKUP(IF(VLOOKUP(A29&$A31,$AD$336:$AL$566,6,FALSE)="C",VLOOKUP(A29&$A31,$AD$336:$AL$566,4,FALSE),VLOOKUP(A29&$A31,$AD$336:$AL$566,5,FALSE)),Tabelas!$O$9:$P$30,2,FALSE),"") -> Romênia | D31: X | F31: =IFERROR(VLOOKUP(IF(VLOOKUP(A29&$A31,$AD$336:$AL$566,6,FALSE)="F",VLOOKUP(A29&$A31,$AD$336:$AL$566,4,FALSE),VLOOKUP(A29&$A31,$AD$336:$AL$566,5,FALSE)),Tabelas!$O$9:$P$30,2,FALSE),"") -> DESISTIU | G31: =C31-E31 -> 0 | H31: =E31-C31 -> 0 | J31: =IFERROR(VLOOKUP(IF(VLOOKUP(I29&$A31,$AD$336:$AL$566,6,FALSE)="C",VLOOKUP(I29&$A31,$AD$336:$AL$566,4,FALSE),VLOOKUP(I29&$A31,$AD$336:$AL$566,5,FALSE)),Tabelas!$O$9:$P$30,2,FALSE),"") -> DESISTIU | L31: X | N31: =IFERROR(VLOOKUP(IF(VLOOKUP(I29&$A31,$AD$336:$AL$566,6,FALSE)="F",VLOOKUP(I29&$A31,$AD$336:$AL$566,4,FALSE),VLOOKUP(I29&$A31,$AD$336:$AL$566,5,FALSE)),Tabelas!$O$9:$P$30,2,FALSE),"") -> Rep. Tcheca | O31: =K31-M31 -> 0 | P31: =M31-K31 -> 0 | R31: =IFERROR(VLOOKUP(IF(VLOOKUP(Q29&$A31,$AD$336:$AL$566,6,FALSE)="C",VLOOKUP(Q29&$A31,$AD$336:$AL$566,4,FALSE),VLOOKUP(Q29&$A31,$AD$336:$AL$566,5,FALSE)),Tabelas!$O$9:$P$30,2,FALSE),"") -> Polônia | T31: X | V31: =IFERROR(VLOOKUP(IF(VLOOKUP(Q29&$A31,$AD$336:$AL$566,6,FALSE)="F",VLOOKUP(Q29&$A31,$AD$336:$AL$566,4,FALSE),VLOOKUP(Q29&$A31,$AD$336:$AL$566,5,FALSE)),Tabelas!$O$9:$P$30,2,FALSE),"") -> DESISTIU | W31: =S31-U31 -> 0 | X31: =U31-S31 -> 0
A33: j2 | B33: =IFERROR(VLOOKUP(IF(VLOOKUP(A29&$A33,$AD$336:$AL$566,6,FALSE)="C",VLOOKUP(A29&$A33,$AD$336:$AL$566,4,FALSE),VLOOKUP(A29&$A33,$AD$336:$AL$566,5,FALSE)),Tabelas!$O$9:$P$30,2,FALSE),"") -> Alemanha | C33: 0 | D33: X | E33: 2 | F33: =IFERROR(VLOOKUP(IF(VLOOKUP(A29&$A33,$AD$336:$AL$566,6,FALSE)="F",VLOOKUP(A29&$A33,$AD$336:$AL$566,4,FALSE),VLOOKUP(A29&$A33,$AD$336:$AL$566,5,FALSE)),Tabelas!$O$9:$P$30,2,FALSE),"") -> Noruega | G33: =C33-E33 -> -2 | H33: =E33-C33 -> 2 | J33: =IFERROR(VLOOKUP(IF(VLOOKUP(I29&$A33,$AD$336:$AL$566,6,FALSE)="C",VLOOKUP(I29&$A33,$AD$336:$AL$566,4,FALSE),VLOOKUP(I29&$A33,$AD$336:$AL$566,5,FALSE)),Tabelas!$O$9:$P$30,2,FALSE),"") -> Alemanha | K33: 1 | L33: X | M33: 0 | N33: =IFERROR(VLOOKUP(IF(VLOOKUP(I29&$A33,$AD$336:$AL$566,6,FALSE)="F",VLOOKUP(I29&$A33,$AD$336:$AL$566,4,FALSE),VLOOKUP(I29&$A33,$AD$336:$AL$566,5,FALSE)),Tabelas!$O$9:$P$30,2,FALSE),"") -> Irlanda | O33: =K33-M33 -> 1 | P33: =M33-K33 -> -1 | R33: =IFERROR(VLOOKUP(IF(VLOOKUP(Q29&$A33,$AD$336:$AL$566,6,FALSE)="C",VLOOKUP(Q29&$A33,$AD$336:$AL$566,4,FALSE),VLOOKUP(Q29&$A33,$AD$336:$AL$566,5,FALSE)),Tabelas!$O$9:$P$30,2,FALSE),"") -> Alemanha | S33: 0 | T33: X | U33: 1 | V33: =IFERROR(VLOOKUP(IF(VLOOKUP(Q29&$A33,$AD$336:$AL$566,6,FALSE)="F",VLOOKUP(Q29&$A33,$AD$336:$AL$566,4,FALSE),VLOOKUP(Q29&$A33,$AD$336:$AL$566,5,FALSE)),Tabelas!$O$9:$P$30,2,FALSE),"") -> Holanda | W33: =S33-U33 -> -1 | X33: =U33-S33 -> 1
A35: j3 | B35: =IFERROR(VLOOKUP(IF(VLOOKUP(A29&$A35,$AD$336:$AL$566,6,FALSE)="C",VLOOKUP(A29&$A35,$AD$336:$AL$566,4,FALSE),VLOOKUP(A29&$A35,$AD$336:$AL$566,5,FALSE)),Tabelas!$O$9:$P$30,2,FALSE),"") -> Itália | C35: 0 | D35: X | E35: 0 | F35: =IFERROR(VLOOKUP(IF(VLOOKUP(A29&$A35,$AD$336:$AL$566,6,FALSE)="F",VLOOKUP(A29&$A35,$AD$336:$AL$566,4,FALSE),VLOOKUP(A29&$A35,$AD$336:$AL$566,5,FALSE)),Tabelas!$O$9:$P$30,2,FALSE),"") -> Áustria | G35: =C35-E35 -> 0 | H35: =E35-C35 -> 0 | J35: =IFERROR(VLOOKUP(IF(VLOOKUP(I29&$A35,$AD$336:$AL$566,6,FALSE)="C",VLOOKUP(I29&$A35,$AD$336:$AL$566,4,FALSE),VLOOKUP(I29&$A35,$AD$336:$AL$566,5,FALSE)),Tabelas!$O$9:$P$30,2,FALSE),"") -> Inglaterra | K35: 0 | L35: X | M35: 1 | N35: =IFERROR(VLOOKUP(IF(VLOOKUP(I29&$A35,$AD$336:$AL$566,6,FALSE)="F",VLOOKUP(I29&$A35,$AD$336:$AL$566,4,FALSE),VLOOKUP(I29&$A35,$AD$336:$AL$566,5,FALSE)),Tabelas!$O$9:$P$30,2,FALSE),"") -> Áustria | O35: =K35-M35 -> -1 | P35: =M35-K35 -> 1 | R35: =IFERROR(VLOOKUP(IF(VLOOKUP(Q29&$A35,$AD$336:$AL$566,6,FALSE)="C",VLOOKUP(Q29&$A35,$AD$336:$AL$566,4,FALSE),VLOOKUP(Q29&$A35,$AD$336:$AL$566,5,FALSE)),Tabelas!$O$9:$P$30,2,FALSE),"") -> França | S35: 0 | T35: X | U35: 1 | V35: =IFERROR(VLOOKUP(IF(VLOOKUP(Q29&$A35,$AD$336:$AL$566,6,FALSE)="F",VLOOKUP(Q29&$A35,$AD$336:$AL$566,4,FALSE),VLOOKUP(Q29&$A35,$AD$336:$AL$566,5,FALSE)),Tabelas!$O$9:$P$30,2,FALSE),"") -> Áustria | W35: =S35-U35 -> -1 | X35: =U35-S35 -> 1
A37: j4 | B37: =IFERROR(VLOOKUP(IF(VLOOKUP(A29&$A37,$AD$336:$AL$566,6,FALSE)="C",VLOOKUP(A29&$A37,$AD$336:$AL$566,4,FALSE),VLOOKUP(A29&$A37,$AD$336:$AL$566,5,FALSE)),Tabelas!$O$9:$P$30,2,FALSE),"") -> Irlanda | C37: 0 | D37: X | E37: 1 | F37: =IFERROR(VLOOKUP(IF(VLOOKUP(A29&$A37,$AD$336:$AL$566,6,FALSE)="F",VLOOKUP(A29&$A37,$AD$336:$AL$566,4,FALSE),VLOOKUP(A29&$A37,$AD$336:$AL$566,5,FALSE)),Tabelas!$O$9:$P$30,2,FALSE),"") -> Bélgica | G37: =C37-E37 -> -1 | H37: =E37-C37 -> 1 | J37: =IFERROR(VLOOKUP(IF(VLOOKUP(I29&$A37,$AD$336:$AL$566,6,FALSE)="C",VLOOKUP(I29&$A37,$AD$336:$AL$566,4,FALSE),VLOOKUP(I29&$A37,$AD$336:$AL$566,5,FALSE)),Tabelas!$O$9:$P$30,2,FALSE),"") -> Holanda | K37: 1 | L37: X | M37: 0 | N37: =IFERROR(VLOOKUP(IF(VLOOKUP(I29&$A37,$AD$336:$AL$566,6,FALSE)="F",VLOOKUP(I29&$A37,$AD$336:$AL$566,4,FALSE),VLOOKUP(I29&$A37,$AD$336:$AL$566,5,FALSE)),Tabelas!$O$9:$P$30,2,FALSE),"") -> Bélgica | O37: =K37-M37 -> 1 | P37: =M37-K37 -> -1 | R37: =IFERROR(VLOOKUP(IF(VLOOKUP(Q29&$A37,$AD$336:$AL$566,6,FALSE)="C",VLOOKUP(Q29&$A37,$AD$336:$AL$566,4,FALSE),VLOOKUP(Q29&$A37,$AD$336:$AL$566,5,FALSE)),Tabelas!$O$9:$P$30,2,FALSE),"") -> Eslovênia | S37: 2 | T37: X | U37: 0 | V37: =IFERROR(VLOOKUP(IF(VLOOKUP(Q29&$A37,$AD$336:$AL$566,6,FALSE)="F",VLOOKUP(Q29&$A37,$AD$336:$AL$566,4,FALSE),VLOOKUP(Q29&$A37,$AD$336:$AL$566,5,FALSE)),Tabelas!$O$9:$P$30,2,FALSE),"") -> Bélgica | W37: =S37-U37 -> 2 | X37: =U37-S37 -> -2
A39: j5 | B39: =IFERROR(VLOOKUP(IF(VLOOKUP(A29&$A39,$AD$336:$AL$566,6,FALSE)="C",VLOOKUP(A29&$A39,$AD$336:$AL$566,4,FALSE),VLOOKUP(A29&$A39,$AD$336:$AL$566,5,FALSE)),Tabelas!$O$9:$P$30,2,FALSE),"") -> Dinamarca | C39: 0 | D39: X | E39: 1 | F39: =IFERROR(VLOOKUP(IF(VLOOKUP(A29&$A39,$AD$336:$AL$566,6,FALSE)="F",VLOOKUP(A29&$A39,$AD$336:$AL$566,4,FALSE),VLOOKUP(A29&$A39,$AD$336:$AL$566,5,FALSE)),Tabelas!$O$9:$P$30,2,FALSE),"") -> Inglaterra | G39: =C39-E39 -> -1 | H39: =E39-C39 -> 1 | J39: =IFERROR(VLOOKUP(IF(VLOOKUP(I29&$A39,$AD$336:$AL$566,6,FALSE)="C",VLOOKUP(I29&$A39,$AD$336:$AL$566,4,FALSE),VLOOKUP(I29&$A39,$AD$336:$AL$566,5,FALSE)),Tabelas!$O$9:$P$30,2,FALSE),"") -> Dinamarca | K39: 1 | L39: X | M39: 0 | N39: =IFERROR(VLOOKUP(IF(VLOOKUP(I29&$A39,$AD$336:$AL$566,6,FALSE)="F",VLOOKUP(I29&$A39,$AD$336:$AL$566,4,FALSE),VLOOKUP(I29&$A39,$AD$336:$AL$566,5,FALSE)),Tabelas!$O$9:$P$30,2,FALSE),"") -> França | O39: =K39-M39 -> 1 | P39: =M39-K39 -> -1 | R39: =IFERROR(VLOOKUP(IF(VLOOKUP(Q29&$A39,$AD$336:$AL$566,6,FALSE)="C",VLOOKUP(Q29&$A39,$AD$336:$AL$566,4,FALSE),VLOOKUP(Q29&$A39,$AD$336:$AL$566,5,FALSE)),Tabelas!$O$9:$P$30,2,FALSE),"") -> Dinamarca | S39: 0 | T39: X | U39: 0 | V39: =IFERROR(VLOOKUP(IF(VLOOKUP(Q29&$A39,$AD$336:$AL$566,6,FALSE)="F",VLOOKUP(Q29&$A39,$AD$336:$AL$566,4,FALSE),VLOOKUP(Q29&$A39,$AD$336:$AL$566,5,FALSE)),Tabelas!$O$9:$P$30,2,FALSE),"") -> Escócia | W39: =S39-U39 -> 0 | X39: =U39-S39 -> 0
