Workbook
Name GM1_: Jogos!$C$5:$C$176
Name GM2_: Jogos!$K$5:$K$176
Name GM3_: Jogos!$S$5:$S$176
Name GM4_: Jogos!$C$181:$C$190
Name GM5_: Jogos!$K$181:$K$190
Name GM6_: Jogos!$C$195:$C$198
Name GM7_: Jogos!$C$195:$C$198
Name GM8_: Jogos!$C$204:$C$215
Name GM9_: Jogos!$K$204:$K$215
Name GV1_: Jogos!$E$5:$E$176
Name GV2_: Jogos!$M$5:$M$176
Name GV3_: Jogos!$U$5:$U$176
Name GV4_: Jogos!$E$181:$E$190
Name GV5_: Jogos!$M$181:$M$190
Name GV6_: Jogos!$E$195:$E$198
Name GV7_: Jogos!$M$195:$M$198
Name GV8_: Jogos!$E$204:$E$215
Name GV9_: Jogos!$M$204:$M$215
Name M1_: Jogos!$B$5:$B$176
Name M2_: Jogos!$J$5:$J$176
Name M3_: Jogos!$R$5:$R$176
Name M4_: Jogos!$B$181:$B$190
Name M5_: Jogos!$J$181:$J$190
Name M6_: Jogos!$B$195:$B$198
Name M7_: Jogos!$J$195:$J$198
Name M8_: Jogos!$B$204:$B$215
Name M9_: Jogos!$J$204:$J$215
Name POS.: Geral!$AA$35:$AA$56
Name POS.: 'Regras - Quartas'!$AA$35:$AA$56
Name POS.: 'Regras - Semi'!$AA$35:$AA$56
Name POS.: Tabelas!$AA$35:$AA$56
Name SM1_: Jogos!$G$5:$G$176
Name SM2_: Jogos!$O$5:$O$176
Name SM3_: Jogos!$W$5:$W$176
Name SM4_: Jogos!$G$181:$G$190
Name SM5_: Jogos!$O$181:$O$190
Name SM6_: Jogos!$G$195:$G$198
Name SM7_: Jogos!$O$195:$O$198
Name SM8_: Jogos!$G$204:$G$215
Name SM9_: Jogos!$O$204:$O$215
Name SV1_: Jogos!$H$5:$H$176
Name SV2_: Jogos!$P$5:$P$176
Name SV3_: Jogos!$X$5:$X$176
Name SV4_: Jogos!$H$181:$H$190
Name SV5_: Jogos!$P$181:$P$190
Name SV6_: Jogos!$H$195:$H$198
Name SV7_: Jogos!$P$195:$P$198
Name SV8_: Jogos!$H$204:$H$215
Name SV9_: Jogos!$P$204:$P$215
Name V1_: Jogos!$F$5:$F$176
Name V2_: Jogos!$N$5:$N$176
Name V3_: Jogos!$V$5:$V$176
Name V4_: Jogos!$F$181:$F$190
Name V5_: Jogos!$N$181:$N$190
Name V6_: Jogos!$F$195:$F$198
Name V7_: Jogos!$N$195:$N$198
Name V8_: Jogos!$F$204:$F$215
Name V9_: Jogos!$N$204:$N$215

Sheet Tabelas
B2: LXVI - CAMPEONATO
B3: EUROCOPA
B4: 42833
B7: pos. | C7: Time | D7: Jogos | E7: v | F7: e | G7: d | H7: gp | I7: gc | J7: Saldo | K7: Pontos | O7: COD | P7: TIME | Q7: JOGOS | R7: V | S7: E | T7: D | U7: GP | V7: GC | W7: SALDO | X7: PONTOS | Y7: Técnico
B9: 1 | C9: =INDEX(P$9:P$30,MATCH($B9,POS.,0)) -> Escócia | D9: =INDEX(Q$9:Q$30,MATCH($B9,POS.,0)) -> 18 | E9: =INDEX(R$9:R$30,MATCH($B9,POS.,0)) -> 12 | F9: =INDEX(S$9:S$30,MATCH($B9,POS.,0)) -> 5 | G9: =INDEX(T$9:T$30,MATCH($B9,POS.,0)) -> 1 | H9: =INDEX(U$9:U$30,MATCH($B9,POS.,0)) -> 34 | I9: =INDEX(V$9:V$30,MATCH($B9,POS.,0)) -> 8 | J9: =INDEX(W$9:W$30,MATCH($B9,POS.,0)) -> 26 | K9: =INDEX(X$9:X$30,MATCH($B9,POS.,0)) -> 41 | O9: 1 | P9: DESISTIU | Q9: =SUM(R9:T9) -> 0 | R9: =COUNTIFS(M1_,P9,GM1_,"<>"&"",SM1_,">0")+COUNTIFS(M2_,P9,GM2_,"<>"&"",SM2_,">0")+COUNTIFS(M3_,P9,GM3_,"<>"&"",SM3_,">0")+COUNTIFS(V1_,P9,GV1_,"<>"&"",SV1_,">0")+COUNTIFS(V2_,P9,GV2_,"<>"&"",SV2_,">0")+COUNTIFS(V3_,P9,GV3_,"<>"&"",SV3_,">0") -> 0 | S9: =COUNTIFS(M1_,P9,GM1_,"<>"&"",SM1_,"=0")+COUNTIFS(M2_,P9,GM2_,"<>"&"",SM2_,"=0")+COUNTIFS(M3_,P9,GM3_,"<>"&"",SM3_,"=0")+COUNTIFS(V1_,P9,GV1_,"<>"&"",SV1_,"=0")+COUNTIFS(V2_,P9,GV2_,"<>"&"",SV2_,"=0")+COUNTIFS(V3_,P9,GV3_,"<>"&"",SV3_,"=0") -> 0 | T9: =COUNTIFS(M1_,P9,GM1_,"<>"&"",SM1_,"<0")+COUNTIFS(M2_,P9,GM2_,"<>"&"",SM2_,"<0")+COUNTIFS(M3_,P9,GM3_,"<>"&"",SM3_,"<0")+COUNTIFS(V1_,P9,GV1_,"<>"&"",SV1_,"<0")+COUNTIFS(V2_,P9,GV2_,"<>"&"",SV2_,"<0")+COUNTIFS(V3_,P9,GV3_,"<>"&"",SV3_,"<0") -> 0 | U9: =SUMIFS(GM1_,M1_,P9)+SUMIFS(GM2_,M2_,P9)+SUMIFS(GM3_,M3_,P9)+SUMIFS(GV1_,V1_,P9)+SUMIFS(GV2_,V2_,P9)+SUMIFS(GV3_,V3_,P9) -> 0 | V9: =SUMIFS(GV1_,M1_,P9)+SUMIFS(GV2_,M2_,P9)+SUMIFS(GV3_,M3_,P9)+SUMIFS(GM1_,V1_,P9)+SUMIFS(GM2_,V2_,P9)+SUMIFS(GM3_,V3_,P9) -> 0 | W9: =U9-V9 -> 0 | X9: =R9*3+S9 -> 0 | Y9: DESISTIU
B10: 2 | C10: =INDEX(P$9:P$30,MATCH($B10,POS.,0)) -> Inglaterra | D10: =INDEX(Q$9:Q$30,MATCH($B10,POS.,0)) -> 18 | E10: =INDEX(R$9:R$30,MATCH($B10,POS.,0)) -> 12 | F10: =INDEX(S$9:S$30,MATCH($B10,POS.,0)) -> 2 | G10: =INDEX(T$9:T$30,MATCH($B10,POS.,0)) -> 4 | H10: =INDEX(U$9:U$30,MATCH($B10,POS.,0)) -> 27 | I10: =INDEX(V$9:V$30,MATCH($B10,POS.,0)) -> 12 | J10: =INDEX(W$9:W$30,MATCH($B10,POS.,0)) -> 15 | K10: =INDEX(X$9:X$30,MATCH($B10,POS.,0)) -> 38 | O10: 2 | P10: Alemanha | Q10: =SUM(R10:T10) -> 18 | R10: =COUNTIFS(M1_,P10,GM1_,"<>"&"",SM1_,">0")+COUNTIFS(M2_,P10,GM2_,"<>"&"",SM2_,">0")+COUNTIFS(M3_,P10,GM3_,"<>"&"",SM3_,">0")+COUNTIFS(V1_,P10,GV1_,"<>"&"",SV1_,">0")+COUNTIFS(V2_,P10,GV2_,"<>"&"",SV2_,">0")+COUNTIFS(V3_,P10,GV3_,"<>"&"",SV3_,">0") -> 5 | S10: =COUNTIFS(M1_,P10,GM1_,"<>"&"",SM1_,"=0")+COUNTIFS(M2_,P10,GM2_,"<>"&"",SM2_,"=0")+COUNTIFS(M3_,P10,GM3_,"<>"&"",SM3_,"=0")+COUNTIFS(V1_,P10,GV1_,"<>"&"",SV1_,"=0")+COUNTIFS(V2_,P10,GV2_,"<>"&"",SV2_,"=0")+COUNTIFS(V3_,P10,GV3_,"<>"&"",SV3_,"=0") -> 5 | T10: =COUNTIFS(M1_,P10,GM1_,"<>"&"",SM1_,"<0")+COUNTIFS(M2_,P10,GM2_,"<>"&"",SM2_,"<0")+COUNTIFS(M3_,P10,GM3_,"<>"&"",SM3_,"<0")+COUNTIFS(V1_,P10,GV1_,"<>"&"",SV1_,"<0")+COUNTIFS(V2_,P10,GV2_,"<>"&"",SV2_,"<0")+COUNTIFS(V3_,P10,GV3_,"<>"&"",SV3_,"<0") -> 8 | U10: =SUMIFS(GM1_,M1_,P10)+SUMIFS(GM2_,M2_,P10)+SUMIFS(GM3_,M3_,P10)+SUMIFS(GV1_,V1_,P10)+SUMIFS(GV2_,V2_,P10)+SUMIFS(GV3_,V3_,P10) -> 7 | V10: =SUMIFS(GV1_,M1_,P10)+SUMIFS(GV2_,M2_,P10)+SUMIFS(GV3_,M3_,P10)+SUMIFS(GM1_,V1_,P10)+SUMIFS(GM2_,V2_,P10)+SUMIFS(GM3_,V3_,P10) -> 13 | W10: =U10-V10 -> -6 | X10: =R10*3+S10 -> 20 | Y10: Roger
B11: 3 | C11: =INDEX(P$9:P$30,MATCH($B11,POS.,0)) -> Suíça | D11: =INDEX(Q$9:Q$30,MATCH($B11,POS.,0)) -> 18 | E11: =INDEX(R$9:R$30,MATCH($B11,POS.,0)) -> 9 | F11: =INDEX(S$9:S$30,MATCH($B11,POS.,0)) -> 8 | G11: =INDEX(T$9:T$30,MATCH($B11,POS.,0)) -> 1 | H11: =INDEX(U$9:U$30,MATCH($B11,POS.,0)) -> 19 | I11: =INDEX(V$9:V$30,MATCH($B11,POS.,0)) -> 6 | J11: =INDEX(W$9:W$30,MATCH($B11,POS.,0)) -> 13 | K11: =INDEX(X$9:X$30,MATCH($B11,POS.,0)) -> 35 | O11: 3 | P11: Áustria | Q11: =SUM(R11:T11) -> 18 | R11: =COUNTIFS(M1_,P11,GM1_,"<>"&"",SM1_,">0")+COUNTIFS(M2_,P11,GM2_,"<>"&"",SM2_,">0")+COUNTIFS(M3_,P11,GM3_,"<>"&"",SM3_,">0")+COUNTIFS(V1_,P11,GV1_,"<>"&"",SV1_,">0")+COUNTIFS(V2_,P11,GV2_,"<>"&"",SV2_,">0")+COUNTIFS(V3_,P11,GV3_,"<>"&"",SV3_,">0") -> 6 | S11: =COUNTIFS(M1_,P11,GM1_,"<>"&"",SM1_,"=0")+COUNTIFS(M2_,P11,GM2_,"<>"&"",SM2_,"=0")+COUNTIFS(M3_,P11,GM3_,"<>"&"",SM3_,"=0")+COUNTIFS(V1_,P11,GV1_,"<>"&"",SV1_,"=0")+COUNTIFS(V2_,P11,GV2_,"<>"&"",SV2_,"=0")+COUNTIFS(V3_,P11,GV3_,"<>"&"",SV3_,"=0") -> 7 | T11: =COUNTIFS(M1_,P11,GM1_,"<>"&"",SM1_,"<0")+COUNTIFS(M2_,P11,GM2_,"<>"&"",SM2_,"<0")+COUNTIFS(M3_,P11,GM3_,"<>"&"",SM3_,"<0")+COUNTIFS(V1_,P11,GV1_,"<>"&"",SV1_,"<0")+COUNTIFS(V2_,P11,GV2_,"<>"&"",SV2_,"<0")+COUNTIFS(V3_,P11,GV3_,"<>"&"",SV3_,"<0") -> 5 | U11: =SUMIFS(GM1_,M1_,P11)+SUMIFS(GM2_,M2_,P11)+SUMIFS(GM3_,M3_,P11)+SUMIFS(GV1_,V1_,P11)+SUMIFS(GV2_,V2_,P11)+SUMIFS(GV3_,V3_,P11) -> 11 | V11: =SUMIFS(GV1_,M1_,P11)+SUMIFS(GV2_,M2_,P11)+SUMIFS(GV3_,M3_,P11)+SUMIFS(GM1_,V1_,P11)+SUMIFS(GM2_,V2_,P11)+SUMIFS(GM3_,V3_,P11) -> 9 | W11: =U11-V11 -> 2 | X11: =R11*3+S11 -> 25 | Y11: Mário
B12: 4 | C12: =INDEX(P$9:P$30,MATCH($B12,POS.,0)) -> Polônia | D12: =INDEX(Q$9:Q$30,MATCH($B12,POS.,0)) -> 18 | E12: =INDEX(R$9:R$30,MATCH($B12,POS.,0)) -> 10 | F12: =INDEX(S$9:S$30,MATCH($B12,POS.,0)) -> 3 | G12: =INDEX(T$9:T$30,MATCH($B12,POS.,0)) -> 5 | H12: =INDEX(U$9:U$30,MATCH($B12,POS.,0)) -> 28 | I12: =INDEX(V$9:V$30,MATCH($B12,POS.,0)) -> 25 | J12: =INDEX(W$9:W$30,MATCH($B12,POS.,0)) -> 3 | K12: =INDEX(X$9:X$30,MATCH($B12,POS.,0)) -> 33 | O12: 4 | P12: Bélgica | Q12: =SUM(R12:T12) -> 18 | R12: =COUNTIFS(M1_,P12,GM1_,"<>"&"",SM1_,">0")+COUNTIFS(M2_,P12,GM2_,"<>"&"",SM2_,">0")+COUNTIFS(M3_,P12,GM3_,"<>"&"",SM3_,">0")+COUNTIFS(V1_,P12,GV1_,"<>"&"",SV1_,">0")+COUNTIFS(V2_,P12,GV2_,"<>"&"",SV2_,">0")+COUNTIFS(V3_,P12,GV3_,"<>"&"",SV3_,">0") -> 4 | S12: =COUNTIFS(M1_,P12,GM1_,"<>"&"",SM1_,"=0")+COUNTIFS(M2_,P12,GM2_,"<>"&"",SM2_,"=0")+COUNTIFS(M3_,P12,GM3_,"<>"&"",SM3_,"=0")+COUNTIFS(V1_,P12,GV1_,"<>"&"",SV1_,"=0")+COUNTIFS(V2_,P12,GV2_,"<>"&"",SV2_,"=0")+COUNTIFS(V3_,P12,GV3_,"<>"&"",SV3_,"=0") -> 7 | T12: =COUNTIFS(M1_,P12,GM1_,"<>"&"",SM1_,"<0")+COUNTIFS(M2_,P12,GM2_,"<>"&"",SM2_,"<0")+COUNTIFS(M3_,P12,GM3_,"<>"&"",SM3_,"<0")+COUNTIFS(V1_,P12,GV1_,"<>"&"",SV1_,"<0")+COUNTIFS(V2_,P12,GV2_,"<>"&"",SV2_,"<0")+COUNTIFS(V3_,P12,GV3_,"<>"&"",SV3_,"<0") -> 7 | U12: =SUMIFS(GM1_,M1_,P12)+SUMIFS(GM2_,M2_,P12)+SUMIFS(GM3_,M3_,P12)+SUMIFS(GV1_,V1_,P12)+SUMIFS(GV2_,V2_,P12)+SUMIFS(GV3_,V3_,P12) -> 9 | V12: =SUMIFS(GV1_,M1_,P12)+SUMIFS(GV2_,M2_,P12)+SUMIFS(GV3_,M3_,P12)+SUMIFS(GM1_,V1_,P12)+SUMIFS(GM2_,V2_,P12)+SUMIFS(GM3_,V3_,P12) -> 14 | W12: =U12-V12 -> -5 | X12: =R12*3+S12 -> 19 | Y12: Gustavão
B13: 5 | C13: =INDEX(P$9:P$30,MATCH($B13,POS.,0)) -> Noruega | D13: =INDEX(Q$9:Q$30,MATCH($B13,POS.,0)) -> 18 | E13: =INDEX(R$9:R$30,MATCH($B13,POS.,0)) -> 8 | F13: =INDEX(S$9:S$30,MATCH($B13,POS.,0)) -> 6 | G13: =INDEX(T$9:T$30,MATCH($B13,POS.,0)) -> 4 | H13: =INDEX(U$9:U$30,MATCH($B13,POS.,0)) -> 16 | I13: =INDEX(V$9:V$30,MATCH($B13,POS.,0)) -> 8 | J13: =INDEX(W$9:W$30,MATCH($B13,POS.,0)) -> 8 | K13: =INDEX(X$9:X$30,MATCH($B13,POS.,0)) -> 30 | O13: 5 | P13: Dinamarca | Q13: =SUM(R13:T13) -> 18 | R13: =COUNTIFS(M1_,P13,GM1_,"<>"&"",SM1_,">0")+COUNTIFS(M2_,P13,GM2_,"<>"&"",SM2_,">0")+COUNTIFS(M3_,P13,GM3_,"<>"&"",SM3_,">0")+COUNTIFS(V1_,P13,GV1_,"<>"&"",SV1_,">0")+COUNTIFS(V2_,P13,GV2_,"<>"&"",SV2_,">0")+COUNTIFS(V3_,P13,GV3_,"<>"&"",SV3_,">0") -> 3 | S13: =COUNTIFS(M1_,P13,GM1_,"<>"&"",SM1_,"=0")+COUNTIFS(M2_,P13,GM2_,"<>"&"",SM2_,"=0")+COUNTIFS(M3_,P13,GM3_,"<>"&"",SM3_,"=0")+COUNTIFS(V1_,P13,GV1_,"<>"&"",SV1_,"=0")+COUNTIFS(V2_,P13,GV2_,"<>"&"",SV2_,"=0")+COUNTIFS(V3_,P13,GV3_,"<>"&"",SV3_,"=0") -> 9 | T13: =COUNTIFS(M1_,P13,GM1_,"<>"&"",SM1_,"<0")+COUNTIFS(M2_,P13,GM2_,"<>"&"",SM2_,"<0")+COUNTIFS(M3_,P13,GM3_,"<>"&"",SM3_,"<0")+COUNTIFS(V1_,P13,GV1_,"<>"&"",SV1_,"<0")+COUNTIFS(V2_,P13,GV2_,"<>"&"",SV2_,"<0")+COUNTIFS(V3_,P13,GV3_,"<>"&"",SV3_,"<0") -> 6 | U13: =SUMIFS(GM1_,M1_,P13)+SUMIFS(GM2_,M2_,P13)+SUMIFS(GM3_,M3_,P13)+SUMIFS(GV1_,V1_,P13)+SUMIFS(GV2_,V2_,P13)+SUMIFS(GV3_,V3_,P13) -> 9 | V13: =SUMIFS(GV1_,M1_,P13)+SUMIFS(GV2_,M2_,P13)+SUMIFS(GV3_,M3_,P13)+SUMIFS(GM1_,V1_,P13)+SUMIFS(GM2_,V2_,P13)+SUMIFS(GM3_,V3_,P13) -> 16 | W13: =U13-V13 -> -7 | X13: =R13*3+S13 -> 18 | Y13: Michael
B14: 6 | C14: =INDEX(P$9:P$30,MATCH($B14,POS.,0)) -> Suécia | D14: =INDEX(Q$9:Q$30,MATCH($B14,POS.,0)) -> 18 | E14: =INDEX(R$9:R$30,MATCH($B14,POS.,0)) -> 8 | F14: =INDEX(S$9:S$30,MATCH($B14,POS.,0)) -> 6 | G14: =INDEX(T$9:T$30,MATCH($B14,POS.,0)) -> 4 | H14: =INDEX(U$9:U$30,MATCH($B14,POS.,0)) -> 20 | I14: =INDEX(V$9:V$30,MATCH($B14,POS.,0)) -> 14 | J14: =INDEX(W$9:W$30,MATCH($B14,POS.,0)) -> 6 | K14: =INDEX(X$9:X$30,MATCH($B14,POS.,0)) -> 30 | O14: 6 | P14: Escócia | Q14: =SUM(R14:T14) -> 18 | R14: =COUNTIFS(M1_,P14,GM1_,"<>"&"",SM1_,">0")+COUNTIFS(M2_,P14,GM2_,"<>"&"",SM2_,">0")+COUNTIFS(M3_,P14,GM3_,"<>"&"",SM3_,">0")+COUNTIFS(V1_,P14,GV1_,"<>"&"",SV1_,">0")+COUNTIFS(V2_,P14,GV2_,"<>"&"",SV2_,">0")+COUNTIFS(V3_,P14,GV3_,"<>"&"",SV3_,">0") -> 12 | S14: =COUNTIFS(M1_,P14,GM1_,"<>"&"",SM1_,"=0")+COUNTIFS(M2_,P14,GM2_,"<>"&"",SM2_,"=0")+COUNTIFS(M3_,P14,GM3_,"<>"&"",SM3_,"=0")+COUNTIFS(V1_,P14,GV1_,"<>"&"",SV1_,"=0")+COUNTIFS(V2_,P14,GV2_,"<>"&"",SV2_,"=0")+COUNTIFS(V3_,P14,GV3_,"<>"&"",SV3_,"=0") -> 5 | T14: =COUNTIFS(M1_,P14,GM1_,"<>"&"",SM1_,"<0")+COUNTIFS(M2_,P14,GM2_,"<>"&"",SM2_,"<0")+COUNTIFS(M3_,P14,GM3_,"<>"&"",SM3_,"<0")+COUNTIFS(V1_,P14,GV1_,"<>"&"",SV1_,"<0")+COUNTIFS(V2_,P14,GV2_,"<>"&"",SV2_,"<0")+COUNTIFS(V3_,P14,GV3_,"<>"&"",SV3_,"<0") -> 1 | U14: =SUMIFS(GM1_,M1_,P14)+SUMIFS(GM2_,M2_,P14)+SUMIFS(GM3_,M3_,P14)+SUMIFS(GV1_,V1_,P14)+SUMIFS(GV2_,V2_,P14)+SUMIFS(GV3_,V3_,P14) -> 34 | V14: =SUMIFS(GV1_,M1_,P14)+SUMIFS(GV2_,M2_,P14)+SUMIFS(GV3_,M3_,P14)+SUMIFS(GM1_,V1_,P14)+SUMIFS(GM2_,V2_,P14)+SUMIFS(GM3_,V3_,P14) -> 8 | W14: =U14-V14 -> 26 | X14: =R14*3+S14 -> 41 | Y14: João
B15: 7 | C15: =INDEX(P$9:P$30,MATCH($B15,POS.,0)) -> Turquia | D15: =INDEX(Q$9:Q$30,MATCH($B15,POS.,0)) -> 18 | E15: =INDEX(R$9:R$30,MATCH($B15,POS.,0)) -> 8 | F15: =INDEX(S$9:S$30,MATCH($B15,POS.,0)) -> 4 | G15: =INDEX(T$9:T$30,MATCH($B15,POS.,0)) -> 6 | H15: =INDEX(U$9:U$30,MATCH($B15,POS.,0)) -> 14 | I15: =INDEX(V$9:V$30,MATCH($B15,POS.,0)) -> 12 | J15: =INDEX(W$9:W$30,MATCH($B15,POS.,0)) -> 2 | K15: =INDEX(X$9:X$30,MATCH($B15,POS.,0)) -> 28 | O15: 7 | P15: Eslovênia | Q15: =SUM(R15:T15) -> 18 | R15: =COUNTIFS(M1_,P15,GM1_,"<>"&"",SM1_,">0")+COUNTIFS(M2_,P15,GM2_,"<>"&"",SM2_,">0")+COUNTIFS(M3_,P15,GM3_,"<>"&"",SM3_,">0")+COUNTIFS(V1_,P15,GV1_,"<>"&"",SV1_,">0")+COUNTIFS(V2_,P15,GV2_,"<>"&"",SV2_,">0")+COUNTIFS(V3_,P15,GV3_,"<>"&"",SV3_,">0") -> 4 | S15: =COUNTIFS(M1_,P15,GM1_,"<>"&"",SM1_,"=0")+COUNTIFS(M2_,P15,GM2_,"<>"&"",SM2_,"=0")+COUNTIFS(M3_,P15,GM3_,"<>"&"",SM3_,"=0")+COUNTIFS(V1_,P15,GV1_,"<>"&"",SV1_,"=0")+COUNTIFS(V2_,P15,GV2_,"<>"&"",SV2_,"=0")+COUNTIFS(V3_,P15,GV3_,"<>"&"",SV3_,"=0") -> 6 | T15: =COUNTIFS(M1_,P15,GM1_,"<>"&"",SM1_,"<0")+COUNTIFS(M2_,P15,GM2_,"<>"&"",SM2_,"<0")+COUNTIFS(M3_,P15,GM3_,"<>"&"",SM3_,"<0")+COUNTIFS(V1_,P15,GV1_,"<>"&"",SV1_,"<0")+COUNTIFS(V2_,P15,GV2_,"<>"&"",SV2_,"<0")+COUNTIFS(V3_,P15,GV3_,"<>"&"",SV3_,"<0") -> 8 | U15: =SUMIFS(GM1_,M1_,P15)+SUMIFS(GM2_,M2_,P15)+SUMIFS(GM3_,M3_,P15)+SUMIFS(GV1_,V1_,P15)+SUMIFS(GV2_,V2_,P15)+SUMIFS(GV3_,V3_,P15) -> 11 | V15: =SUMIFS(GV1_,M1_,P15)+SUMIFS(GV2_,M2_,P15)+SUMIFS(GV3_,M3_,P15)+SUMIFS(GM1_,V1_,P15)+SUMIFS(GM2_,V2_,P15)+SUMIFS(GM3_,V3_,P15) -> 17 | W15: =U15-V15 -> -6 | X15: =R15*3+S15 -> 18 | Y15: Deyvid
B16: 8 | C16: =INDEX(P$9:P$30,MATCH($B16,POS.,0)) -> Holanda | D16: =INDEX(Q$9:Q$30,MATCH($B16,POS.,0)) -> 18 | E16: =INDEX(R$9:R$30,MATCH($B16,POS.,0)) -> 7 | F16: =INDEX(S$9:S$30,MATCH($B16,POS.,0)) -> 6 | G16: =INDEX(T$9:T$30,MATCH($B16,POS.,0)) -> 5 | H16: =INDEX(U$9:U$30,MATCH($B16,POS.,0)) -> 19 | I16: =INDEX(V$9:V$30,MATCH($B16,POS.,0)) -> 15 | J16: =INDEX(W$9:W$30,MATCH($B16,POS.,0)) -> 4 | K16: =INDEX(X$9:X$30,MATCH($B16,POS.,0)) -> 27 | O16: 8 | P16: França | Q16: =SUM(R16:T16) -> 18 | R16: =COUNTIFS(M1_,P16,GM1_,"<>"&"",SM1_,">0")+COUNTIFS(M2_,P16,GM2_,"<>"&"",SM2_,">0")+COUNTIFS(M3_,P16,GM3_,"<>"&"",SM3_,">0")+COUNTIFS(V1_,P16,GV1_,"<>"&"",SV1_,">0")+COUNTIFS(V2_,P16,GV2_,"<>"&"",SV2_,">0")+COUNTIFS(V3_,P16,GV3_,"<>"&"",SV3_,">0") -> 3 | S16: =COUNTIFS(M1_,P16,GM1_,"<>"&"",SM1_,"=0")+COUNTIFS(M2_,P16,GM2_,"<>"&"",SM2_,"=0")+COUNTIFS(M3_,P16,GM3_,"<>"&"",SM3_,"=0")+COUNTIFS(V1_,P16,GV1_,"<>"&"",SV1_,"=0")+COUNTIFS(V2_,P16,GV2_,"<>"&"",SV2_,"=0")+COUNTIFS(V3_,P16,GV3_,"<>"&"",SV3_,"=0") -> 4 | T16: =COUNTIFS(M1_,P16,GM1_,"<>"&"",SM1_,"<0")+COUNTIFS(M2_,P16,GM2_,"<>"&"",SM2_,"<0")+COUNTIFS(M3_,P16,GM3_,"<>"&"",SM3_,"<0")+COUNTIFS(V1_,P16,GV1_,"<>"&"",SV1_,"<0")+COUNTIFS(V2_,P16,GV2_,"<>"&"",SV2_,"<0")+COUNTIFS(V3_,P16,GV3_,"<>"&"",SV3_,"<0") -> 11 | U16: =SUMIFS(GM1_,M1_,P16)+SUMIFS(GM2_,M2_,P16)+SUMIFS(GM3_,M3_,P16)+SUMIFS(GV1_,V1_,P16)+SUMIFS(GV2_,V2_,P16)+SUMIFS(GV3_,V3_,P16) -> 6 | V16: =SUMIFS(GV1_,M1_,P16)+SUMIFS(GV2_,M2_,P16)+SUMIFS(GV3_,M3_,P16)+SUMIFS(GM1_,V1_,P16)+SUMIFS(GM2_,V2_,P16)+SUMIFS(GM3_,V3_,P16) -> 18 | W16: =U16-V16 -> -12 | X16: =R16*3+S16 -> 13 | Y16: Shrek
B17: 9 | C17: =INDEX(P$9:P$30,MATCH($B17,POS.,0)) -> País de Gales | D17: =INDEX(Q$9:Q$30,MATCH($B17,POS.,0)) -> 18 | E17: =INDEX(R$9:R$30,MATCH($B17,POS.,0)) -> 7 | F17: =INDEX(S$9:S$30,MATCH($B17,POS.,0)) -> 5 | G17: =INDEX(T$9:T$30,MATCH($B17,POS.,0)) -> 6 | H17: =INDEX(U$9:U$30,MATCH($B17,POS.,0)) -> 16 | I17: =INDEX(V$9:V$30,MATCH($B17,POS.,0)) -> 14 | J17: =INDEX(W$9:W$30,MATCH($B17,POS.,0)) -> 2 | K17: =INDEX(X$9:X$30,MATCH($B17,POS.,0)) -> 26 | O17: 9 | P17: Holanda | Q17: =SUM(R17:T17) -> 18 | R17: =COUNTIFS(M1_,P17,GM1_,"<>"&"",SM1_,">0")+COUNTIFS(M2_,P17,GM2_,"<>"&"",SM2_,">0")+COUNTIFS(M3_,P17,GM3_,"<>"&"",SM3_,">0")+COUNTIFS(V1_,P17,GV1_,"<>"&"",SV1_,">0")+COUNTIFS(V2_,P17,GV2_,"<>"&"",SV2_,">0")+COUNTIFS(V3_,P17,GV3_,"<>"&"",SV3_,">0") -> 7 | S17: =COUNTIFS(M1_,P17,GM1_,"<>"&"",SM1_,"=0")+COUNTIFS(M2_,P17,GM2_,"<>"&"",SM2_,"=0")+COUNTIFS(M3_,P17,GM3_,"<>"&"",SM3_,"=0")+COUNTIFS(V1_,P17,GV1_,"<>"&"",SV1_,"=0")+COUNTIFS(V2_,P17,GV2_,"<>"&"",SV2_,"=0")+COUNTIFS(V3_,P17,GV3_,"<>"&"",SV3_,"=0") -> 6 | T17: =COUNTIFS(M1_,P17,GM1_,"<>"&"",SM1_,"<0")+COUNTIFS(M2_,P17,GM2_,"<>"&"",SM2_,"<0")+COUNTIFS(M3_,P17,GM3_,"<>"&"",SM3_,"<0")+COUNTIFS(V1_,P17,GV1_,"<>"&"",SV1_,"<0")+COUNTIFS(V2_,P17,GV2_,"<>"&"",SV2_,"<0")+COUNTIFS(V3_,P17,GV3_,"<>"&"",SV3_,"<0") -> 5 | U17: =SUMIFS(GM1_,M1_,P17)+SUMIFS(GM2_,M2_,P17)+SUMIFS(GM3_,M3_,P17)+SUMIFS(GV1_,V1_,P17)+SUMIFS(GV2_,V2_,P17)+SUMIFS(GV3_,V3_,P17) -> 19 | V17: =SUMIFS(GV1_,M1_,P17)+SUMIFS(GV2_,M2_,P17)+SUMIFS(GV3_,M3_,P17)+SUMIFS(GM1_,V1_,P17)+SUMIFS(GM2_,V2_,P17)+SUMIFS(GM3_,V3_,P17) -> 15 | W17: =U17-V17 -> 4 | X17: =R17*3+S17 -> 27 | Y17: Junior
B18: 10 | C18: =INDEX(P$9:P$30,MATCH($B18,POS.,0)) -> Áustria | D18: =INDEX(Q$9:Q$30,MATCH($B18,POS.,0)) -> 18 | E18: =INDEX(R$9:R$30,MATCH($B18,POS.,0)) -> 6 | F18: =INDEX(S$9:S$30,MATCH($B18,POS.,0)) -> 7 | G18: =INDEX(T$9:T$30,MATCH($B18,POS.,0)) -> 5 | H18: =INDEX(U$9:U$30,MATCH($B18,POS.,0)) -> 11 | I18: =INDEX(V$9:V$30,MATCH($B18,POS.,0)) -> 9 | J18: =INDEX(W$9:W$30,MATCH($B18,POS.,0)) -> 2 | K18: =INDEX(X$9:X$30,MATCH($B18,POS.,0)) -> 25 | O18: 10 | P18: Inglaterra | Q18: =SUM(R18:T18) -> 18 | R18: =COUNTIFS(M1_,P18,GM1_,"<>"&"",SM1_,">0")+COUNTIFS(M2_,P18,GM2_,"<>"&"",SM2_,">0")+COUNTIFS(M3_,P18,GM3_,"<>"&"",SM3_,">0")+COUNTIFS(V1_,P18,GV1_,"<>"&"",SV1_,">0")+COUNTIFS(V2_,P18,GV2_,"<>"&"",SV2_,">0")+COUNTIFS(V3_,P18,GV3_,"<>"&"",SV3_,">0") -> 12 | S18: =COUNTIFS(M1_,P18,GM1_,"<>"&"",SM1_,"=0")+COUNTIFS(M2_,P18,GM2_,"<>"&"",SM2_,"=0")+COUNTIFS(M3_,P18,GM3_,"<>"&"",SM3_,"=0")+COUNTIFS(V1_,P18,GV1_,"<>"&"",SV1_,"=0")+COUNTIFS(V2_,P18,GV2_,"<>"&"",SV2_,"=0")+COUNTIFS(V3_,P18,GV3_,"<>"&"",SV3_,"=0") -> 2 | T18: =COUNTIFS(M1_,P18,GM1_,"<>"&"",SM1_,"<0")+COUNTIFS(M2_,P18,GM2_,"<>"&"",SM2_,"<0")+COUNTIFS(M3_,P18,GM3_,"<>"&"",SM3_,"<0")+COUNTIFS(V1_,P18,GV1_,"<>"&"",SV1_,"<0")+COUNTIFS(V2_,P18,GV2_,"<>"&"",SV2_,"<0")+COUNTIFS(V3_,P18,GV3_,"<>"&"",SV3_,"<0") -> 4 | U18: =SUMIFS(GM1_,M1_,P18)+SUMIFS(GM2_,M2_,P18)+SUMIFS(GM3_,M3_,P18)+SUMIFS(GV1_,V1_,P18)+SUMIFS(GV2_,V2_,P18)+SUMIFS(GV3_,V3_,P18) -> 27 | V18: =SUMIFS(GV1_,M1_,P18)+SUMIFS(GV2_,M2_,P18)+SUMIFS(GV3_,M3_,P18)+SUMIFS(GM1_,V1_,P18)+SUMIFS(GM2_,V2_,P18)+SUMIFS(GM3_,V3_,P18) -> 12 | W18: =U18-V18 -> 15 | X18: =R18*3+S18 -> 38 | Y18: Tooty
B19: 11 | C19: =INDEX(P$9:P$30,MATCH($B19,POS.,0)) -> Itália | D19: =INDEX(Q$9:Q$30,MATCH($B19,POS.,0)) -> 18 | E19: =INDEX(R$9:R$30,MATCH($B19,POS.,0)) -> 5 | F19: =INDEX(S$9:S$30,MATCH($B19,POS.,0)) -> 8 | G19: =INDEX(T$9:T$30,MATCH($B19,POS.,0)) -> 5 | H19: =INDEX(U$9:U$30,MATCH($B19,POS.,0)) -> 11 | I19: =INDEX(V$9:V$30,MATCH($B19,POS.,0)) -> 13 | J19: =INDEX(W$9:W$30,MATCH($B19,POS.,0)) -> -2 | K19: =INDEX(X$9:X$30,MATCH($B19,POS.,0)) -> 23 | O19: 11 | P19: Irlanda | Q19: =SUM(R19:T19) -> 18 | R19: =COUNTIFS(M1_,P19,GM1_,"<>"&"",SM1_,">0")+COUNTIFS(M2_,P19,GM2_,"<>"&"",SM2_,">0")+COUNTIFS(M3_,P19,GM3_,"<>"&"",SM3_,">0")+COUNTIFS(V1_,P19,GV1_,"<>"&"",SV1_,">0")+COUNTIFS(V2_,P19,GV2_,"<>"&"",SV2_,">0")+COUNTIFS(V3_,P19,GV3_,"<>"&"",SV3_,">0") -> 2 | S19: =COUNTIFS(M1_,P19,GM1_,"<>"&"",SM1_,"=0")+COUNTIFS(M2_,P19,GM2_,"<>"&"",SM2_,"=0")+COUNTIFS(M3_,P19,GM3_,"<>"&"",SM3_,"=0")+COUNTIFS(V1_,P19,GV1_,"<>"&"",SV1_,"=0")+COUNTIFS(V2_,P19,GV2_,"<>"&"",SV2_,"=0")+COUNTIFS(V3_,P19,GV3_,"<>"&"",SV3_,"=0") -> 7 | T19: =COUNTIFS(M1_,P19,GM1_,"<>"&"",SM1_,"<0")+COUNTIFS(M2_,P19,GM2_,"<>"&"",SM2_,"<0")+COUNTIFS(M3_,P19,GM3_,"<>"&"",SM3_,"<0")+COUNTIFS(V1_,P19,GV1_,"<>"&"",SV1_,"<0")+COUNTIFS(V2_,P19,GV2_,"<>"&"",SV2_,"<0")+COUNTIFS(V3_,P19,GV3_,"<>"&"",SV3_,"<0") -> 9 | U19: =SUMIFS(GM1_,M1_,P19)+SUMIFS(GM2_,M2_,P19)+SUMIFS(GM3_,M3_,P19)+SUMIFS(GV1_,V1_,P19)+SUMIFS(GV2_,V2_,P19)+SUMIFS(GV3_,V3_,P19) -> 4 | V19: =SUMIFS(GV1_,M1_,P19)+SUMIFS(GV2_,M2_,P19)+SUMIFS(GV3_,M3_,P19)+SUMIFS(GM1_,V1_,P19)+SUMIFS(GM2_,V2_,P19)+SUMIFS(GM3_,V3_,P19) -> 15 | W19: =U19-V19 -> -11 | X19: =R19*3+S19 -> 13 | Y19: Gru
B20: 12 | C20: =INDEX(P$9:P$30,MATCH($B20,POS.,0)) -> Alemanha | D20: =INDEX(Q$9:Q$30,MATCH($B20,POS.,0)) -> 18 | E20: =INDEX(R$9:R$30,MATCH($B20,POS.,0)) -> 5 | F20: =INDEX(S$9:S$30,MATCH($B20,POS.,0)) -> 5 | G20: =INDEX(T$9:T$30,MATCH($B20,POS.,0)) -> 8 | H20: =INDEX(U$9:U$30,MATCH($B20,POS.,0)) -> 7 | I20: =INDEX(V$9:V$30,MATCH($B20,POS.,0)) -> 13 | J20: =INDEX(W$9:W$30,MATCH($B20,POS.,0)) -> -6 | K20: =INDEX(X$9:X$30,MATCH($B20,POS.,0)) -> 20 | O20: 12 | P20: Itália | Q20: =SUM(R20:T20) -> 18 | R20: =COUNTIFS(M1_,P20,GM1_,"<>"&"",SM1_,">0")+COUNTIFS(M2_,P20,GM2_,"<>"&"",SM2_,">0")+COUNTIFS(M3_,P20,GM3_,"<>"&"",SM3_,">0")+COUNTIFS(V1_,P20,GV1_,"<>"&"",SV1_,">0")+COUNTIFS(V2_,P20,GV2_,"<>"&"",SV2_,">0")+COUNTIFS(V3_,P20,GV3_,"<>"&"",SV3_,">0") -> 5 | S20: =COUNTIFS(M1_,P20,GM1_,"<>"&"",SM1_,"=0")+COUNTIFS(M2_,P20,GM2_,"<>"&"",SM2_,"=0")+COUNTIFS(M3_,P20,GM3_,"<>"&"",SM3_,"=0")+COUNTIFS(V1_,P20,GV1_,"<>"&"",SV1_,"=0")+COUNTIFS(V2_,P20,GV2_,"<>"&"",SV2_,"=0")+COUNTIFS(V3_,P20,GV3_,"<>"&"",SV3_,"=0") -> 8 | T20: =COUNTIFS(M1_,P20,GM1_,"<>"&"",SM1_,"<0")+COUNTIFS(M2_,P20,GM2_,"<>"&"",SM2_,"<0")+COUNTIFS(M3_,P20,GM3_,"<>"&"",SM3_,"<0")+COUNTIFS(V1_,P20,GV1_,"<>"&"",SV1_,"<0")+COUNTIFS(V2_,P20,GV2_,"<>"&"",SV2_,"<0")+COUNTIFS(V3_,P20,GV3_,"<>"&"",SV3_,"<0") -> 5 | U20: =SUMIFS(GM1_,M1_,P20)+SUMIFS(GM2_,M2_,P20)+SUMIFS(GM3_,M3_,P20)+SUMIFS(GV1_,V1_,P20)+SUMIFS(GV2_,V2_,P20)+SUMIFS(GV3_,V3_,P20) -> 11 | V20: =SUMIFS(GV1_,M1_,P20)+SUMIFS(GV2_,M2_,P20)+SUMIFS(GV3_,M3_,P20)+SUMIFS(GM1_,V1_,P20)+SUMIFS(GM2_,V2_,P20)+SUMIFS(GM3_,V3_,P20) -> 13 | W20: =U20-V20 -> -2 | X20: =R20*3+S20 -> 23 | Y20: Cayera
... B28: 20 | C28: =INDEX(P$9:P$30,MATCH($B28,POS.,0)) -> DESISTIU | D28: =INDEX(Q$9:Q$30,MATCH($B28,POS.,0)) -> 0 | E28: =INDEX(R$9:R$30,MATCH($B28,POS.,0)) -> 0 | F28: =INDEX(S$9:S$30,MATCH($B28,POS.,0)) -> 0 | G28: =INDEX(T$9:T$30,MATCH($B28,POS.,0)) -> 0 | H28: =INDEX(U$9:U$30,MATCH($B28,POS.,0)) -> 0 | I28: =INDEX(V$9:V$30,MATCH($B28,POS.,0)) -> 0 | J28: =INDEX(W$9:W$30,MATCH($B28,POS.,0)) -> 0 | K28: =INDEX(X$9:X$30,MATCH($B28,POS.,0)) -> 0 | O28: 20 | P28: Turquia | Q28: =SUM(R28:T28) -> 18 | R28: =COUNTIFS(M1_,P28,GM1_,"<>"&"",SM1_,">0")+COUNTIFS(M2_,P28,GM2_,"<>"&"",SM2_,">0")+COUNTIFS(M3_,P28,GM3_,"<>"&"",SM3_,">0")+COUNTIFS(V1_,P28,GV1_,"<>"&"",SV1_,">0")+COUNTIFS(V2_,P28,GV2_,"<>"&"",SV2_,">0")+COUNTIFS(V3_,P28,GV3_,"<>"&"",SV3_,">0") -> 8 | S28: =COUNTIFS(M1_,P28,GM1_,"<>"&"",SM1_,"=0")+COUNTIFS(M2_,P28,GM2_,"<>"&"",SM2_,"=0")+COUNTIFS(M3_,P28,GM3_,"<>"&"",SM3_,"=0")+COUNTIFS(V1_,P28,GV1_,"<>"&"",SV1_,"=0")+COUNTIFS(V2_,P28,GV2_,"<>"&"",SV2_,"=0")+COUNTIFS(V3_,P28,GV3_,"<>"&"",SV3_,"=0") -> 4 | T28: =COUNTIFS(M1_,P28,GM1_,"<>"&"",SM1_,"<0")+COUNTIFS(M2_,P28,GM2_,"<>"&"",SM2_,"<0")+COUNTIFS(M3_,P28,GM3_,"<>"&"",SM3_,"<0")+COUNTIFS(V1_,P28,GV1_,"<>"&"",SV1_,"<0")+COUNTIFS(V2_,P28,GV2_,"<>"&"",SV2_,"<0")+COUNTIFS(V3_,P28,GV3_,"<>"&"",SV3_,"<0") -> 6 | U28: =SUMIFS(GM1_,M1_,P28)+SUMIFS(GM2_,M2_,P28)+SUMIFS(GM3_,M3_,P28)+SUMIFS(GV1_,V1_,P28)+SUMIFS(GV2_,V2_,P28)+SUMIFS(GV3_,V3_,P28) -> 14 | V28: =SUMIFS(GV1_,M1_,P28)+SUMIFS(GV2_,M2_,P28)+SUMIFS(GV3_,M3_,P28)+SUMIFS(GM1_,V1_,P28)+SUMIFS(GM2_,V2_,P28)+SUMIFS(GM3_,V3_,P28) -> 12 | W28: =U28-V28 -> 2 | X28: =R28*3+S28 -> 28 | Y28: DieGo
B29: 21 | C29: =INDEX(P$9:P$30,MATCH($B29,POS.,0)) -> #N/A | D29: =INDEX(Q$9:Q$30,MATCH($B29,POS.,0)) -> #N/A | E29: =INDEX(R$9:R$30,MATCH($B29,POS.,0)) -> #N/A | F29: =INDEX(S$9:S$30,MATCH($B29,POS.,0)) -> #N/A | G29: =INDEX(T$9:T$30,MATCH($B29,POS.,0)) -> #N/A | H29: =INDEX(U$9:U$30,MATCH($B29,POS.,0)) -> #N/A | I29: =INDEX(V$9:V$30,MATCH($B29,POS.,0)) -> #N/A | J29: =INDEX(W$9:W$30,MATCH($B29,POS.,0)) -> #N/A | K29: =INDEX(X$9:X$30,MATCH($B29,POS.,0)) -> #N/A | O29: 21 | Q29: =SUM(R29:T29) -> 0 | R29: =COUNTIFS(M1_,P29,GM1_,"<>"&"",SM1_,">0")+COUNTIFS(M2_,P29,GM2_,"<>"&"",SM2_,">0")+COUNTIFS(M3_,P29,GM3_,"<>"&"",SM3_,">0")+COUNTIFS(V1_,P29,GV1_,"<>"&"",SV1_,">0")+COUNTIFS(V2_,P29,GV2_,"<>"&"",SV2_,">0")+COUNTIFS(V3_,P29,GV3_,"<>"&"",SV3_,">0") -> 0 | S29: =COUNTIFS(M1_,P29,GM1_,"<>"&"",SM1_,"=0")+COUNTIFS(M2_,P29,GM2_,"<>"&"",SM2_,"=0")+COUNTIFS(M3_,P29,GM3_,"<>"&"",SM3_,"=0")+COUNTIFS(V1_,P29,GV1_,"<>"&"",SV1_,"=0")+COUNTIFS(V2_,P29,GV2_,"<>"&"",SV2_,"=0")+COUNTIFS(V3_,P29,GV3_,"<>"&"",SV3_,"=0") -> 0 | T29: =COUNTIFS(M1_,P29,GM1_,"<>"&"",SM1_,"<0")+COUNTIFS(M2_,P29,GM2_,"<>"&"",SM2_,"<0")+COUNTIFS(M3_,P29,GM3_,"<>"&"",SM3_,"<0")+COUNTIFS(V1_,P29,GV1_,"<>"&"",SV1_,"<0")+COUNTIFS(V2_,P29,GV2_,"<>"&"",SV2_,"<0")+COUNTIFS(V3_,P29,GV3_,"<>"&"",SV3_,"<0") -> 0 | U29: =SUMIFS(GM1_,M1_,P29)+SUMIFS(GM2_,M2_,P29)+SUMIFS(GM3_,M3_,P29)+SUMIFS(GV1_,V1_,P29)+SUMIFS(GV2_,V2_,P29)+SUMIFS(GV3_,V3_,P29) -> 0 | V29: =SUMIFS(GV1_,M1_,P29)+SUMIFS(GV2_,M2_,P29)+SUMIFS(GV3_,M3_,P29)+SUMIFS(GM1_,V1_,P29)+SUMIFS(GM2_,V2_,P29)+SUMIFS(GM3_,V3_,P29) -> 0 | W29: =U29-V29 -> 0 | X29: =R29*3+S29 -> 0
B30: 22 | C30: =INDEX(P$9:P$30,MATCH($B30,POS.,0)) -> #N/A | D30: =INDEX(Q$9:Q$30,MATCH($B30,POS.,0)) -> #N/A | E30: =INDEX(R$9:R$30,MATCH($B30,POS.,0)) -> #N/A | F30: =INDEX(S$9:S$30,MATCH($B30,POS.,0)) -> #N/A | G30: =INDEX(T$9:T$30,MATCH($B30,POS.,0)) -> #N/A | H30: =INDEX(U$9:U$30,MATCH($B30,POS.,0)) -> #N/A | I30: =INDEX(V$9:V$30,MATCH($B30,POS.,0)) -> #N/A | J30: =INDEX(W$9:W$30,MATCH($B30,POS.,0)) -> #N/A | K30: =INDEX(X$9:X$30,MATCH($B30,POS.,0)) -> #N/A | O30: 22 | Q30: =SUM(R30:T30) -> 0 | R30: =COUNTIFS(M1_,P30,GM1_,"<>"&"",SM1_,">0")+COUNTIFS(M2_,P30,GM2_,"<>"&"",SM2_,">0")+COUNTIFS(M3_,P30,GM3_,"<>"&"",SM3_,">0")+COUNTIFS(V1_,P30,GV1_,"<>"&"",SV1_,">0")+COUNTIFS(V2_,P30,GV2_,"<>"&"",SV2_,">0")+COUNTIFS(V3_,P30,GV3_,"<>"&"",SV3_,">0") -> 0 | S30: =COUNTIFS(M1_,P30,GM1_,"<>"&"",SM1_,"=0")+COUNTIFS(M2_,P30,GM2_,"<>"&"",SM2_,"=0")+COUNTIFS(M3_,P30,GM3_,"<>"&"",SM3_,"=0")+COUNTIFS(V1_,P30,GV1_,"<>"&"",SV1_,"=0")+COUNTIFS(V2_,P30,GV2_,"<>"&"",SV2_,"=0")+COUNTIFS(V3_,P30,GV3_,"<>"&"",SV3_,"=0") -> 0 | T30: =COUNTIFS(M1_,P30,GM1_,"<>"&"",SM1_,"<0")+COUNTIFS(M2_,P30,GM2_,"<>"&"",SM2_,"<0")+COUNTIFS(M3_,P30,GM3_,"<>"&"",SM3_,"<0")+COUNTIFS(V1_,P30,GV1_,"<>"&"",SV1_,"<0")+COUNTIFS(V2_,P30,GV2_,"<>"&"",SV2_,"<0")+COUNTIFS(V3_,P30,GV3_,"<>"&"",SV3_,"<0") -> 0 | U30: =SUMIFS(GM1_,M1_,P30)+SUMIFS(GM2_,M2_,P30)+SUMIFS(GM3_,M3_,P30)+SUMIFS(GV1_,V1_,P30)+SUMIFS(GV2_,V2_,P30)+SUMIFS(GV3_,V3_,P30) -> 0 | V30: =SUMIFS(GV1_,M1_,P30)+SUMIFS(GV2_,M2_,P30)+SUMIFS(GV3_,M3_,P30)+SUMIFS(GM1_,V1_,P30)+SUMIFS(GM2_,V2_,P30)+SUMIFS(GM3_,V3_,P30) -> 0 | W30: =U30-V30 -> 0 | X30: =R30*3+S30 -> 0
P33: CRITÉRIOS | R33: 4 | U33: 2 | W33: 3 | X33: 5 | Y33: 1
O34: COD | P34: TIME | Q34: JOGOS | R34: V | S34: E | T34: D | U34: GP | V34: GC | W34: SALDO | X34: PONTOS | Y34: ALF | Z34: PT | AA34: POS.
O35: 1 | P35: =P9 -> DESISTIU | Z35: 10000000000 | AA35: =_xlfn.RANK.EQ(Z35,$Z$35:$Z$56,1) -> 20
B36: =P10 & " " &P11 & " " & P12 & " " & P13 & " " & P14 & " " & P15 & " " & P16 & " " & P17 -> Alemanha Áustria Bélgica Dinamarca Escócia Eslovênia França Holanda | O36: 2 | P36: =P10 -> Alemanha | Q36: =_xlfn.RANK.EQ(Q10,Q$9:Q$30,0) -> 1 | R36: =_xlfn.RANK.EQ(R10,R$9:R$30,0) -> 11 | S36: =_xlfn.RANK.EQ(S10,S$9:S$30,0) -> 11 | T36: =_xlfn.RANK.EQ(T10,T$9:T$30,0) -> 4 | U36: =_xlfn.RANK.EQ(U10,U$9:U$30,0) -> 15 | V36: =_xlfn.RANK.EQ(V10,V$9:V$30,0) -> 12 | W36: =_xlfn.RANK.EQ(W10,W$9:W$30,0) -> 16 | X36: =_xlfn.RANK.EQ(X10,X$9:X$30,0) -> 12 | Y36: 2 | Z36: =SUMPRODUCT(R36:Y36,POWER(10,$R$33:$Y$33)*$R$33:$Y$33) -> 6491020 | AA36: =_xlfn.RANK.EQ(Z36,$Z$35:$Z$56,1) -> 12
B37: =" "&"("&Y10&")"& " " &"("&Y11&")"& " " &"("&Y12&")"& " " &"("&Y13&")"& " " &"("&Y14&")"& " " &"("&Y15&")"& " " &"("&Y16&")"& " " &"("&Y17&")" -> (Roger) (Mário) (Gustavão) (Michael) (João) (Deyvid) (Shrek) (Junior) | O37: 3 | P37: =P11 -> Áustria | Q37: =_xlfn.RANK.EQ(Q11,Q$9:Q$30,0) -> 1 | R37: =_xlfn.RANK.EQ(R11,R$9:R$30,0) -> 10 | S37: =_xlfn.RANK.EQ(S11,S$9:S$30,0) -> 4 | T37: =_xlfn.RANK.EQ(T11,T$9:T$30,0) -> 11 | U37: =_xlfn.RANK.EQ(U11,U$9:U$30,0) -> 10 | V37: =_xlfn.RANK.EQ(V11,V$9:V$30,0) -> 16 | W37: =_xlfn.RANK.EQ(W11,W$9:W$30,0) -> 8 | X37: =_xlfn.RANK.EQ(X11,X$9:X$30,0) -> 10 | Y37: 3 | Z37: =SUMPRODUCT(R37:Y37,POWER(10,$R$33:$Y$33)*$R$33:$Y$33) -> 5426030 | AA37: =_xlfn.RANK.EQ(Z37,$Z$35:$Z$56,1) -> 10
O38: 4 | P38: =P12 -> Bélgica | Q38: =_xlfn.RANK.EQ(Q12,Q$9:Q$30,0) -> 1 | R38: =_xlfn.RANK.EQ(R12,R$9:R$30,0) -> 14 | S38: =_xlfn.RANK.EQ(S12,S$9:S$30,0) -> 4 | T38: =_xlfn.RANK.EQ(T12,T$9:T$30,0) -> 7 | U38: =_xlfn.RANK.EQ(U12,U$9:U$30,0) -> 13 | V38: =_xlfn.RANK.EQ(V12,V$9:V$30,0) -> 9 | W38: =_xlfn.RANK.EQ(W12,W$9:W$30,0) -> 15 | X38: =_xlfn.RANK.EQ(X12,X$9:X$30,0) -> 14 | Y38: 4 | Z38: =SUMPRODUCT(R38:Y38,POWER(10,$R$33:$Y$33)*$R$33:$Y$33) -> 7607640 | AA38: =_xlfn.RANK.EQ(Z38,$Z$35:$Z$56,1) -> 14
O39: 5 | P39: =P13 -> Dinamarca | Q39: =_xlfn.RANK.EQ(Q13,Q$9:Q$30,0) -> 1 | R39: =_xlfn.RANK.EQ(R13,R$9:R$30,0) -> 16 | S39: =_xlfn.RANK.EQ(S13,S$9:S$30,0) -> 1 | T39: =_xlfn.RANK.EQ(T13,T$9:T$30,0) -> 8 | U39: =_xlfn.RANK.EQ(U13,U$9:U$30,0) -> 13 | V39: =_xlfn.RANK.EQ(V13,V$9:V$30,0) -> 5 | W39: =_xlfn.RANK.EQ(W13,W$9:W$30,0) -> 18 | X39: =_xlfn.RANK.EQ(X13,X$9:X$30,0) -> 15 | Y39: 5 | Z39: =SUMPRODUCT(R39:Y39,POWER(10,$R$33:$Y$33)*$R$33:$Y$33) -> 8196650 | AA39: =_xlfn.RANK.EQ(Z39,$Z$35:$Z$56,1) -> 16
O40: 6 | P40: =P14 -> Escócia | Q40: =_xlfn.RANK.EQ(Q14,Q$9:Q$30,0) -> 1 | R40: =_xlfn.RANK.EQ(R14,R$9:R$30,0) -> 1 | S40: =_xlfn.RANK.EQ(S14,S$9:S$30,0) -> 11 | T40: =_xlfn.RANK.EQ(T14,T$9:T$30,0) -> 18 | U40: =_xlfn.RANK.EQ(U14,U$9:U$30,0) -> 1 | V40: =_xlfn.RANK.EQ(V14,V$9:V$30,0) -> 17 | W40: =_xlfn.RANK.EQ(W14,W$9:W$30,0) -> 1 | X40: =_xlfn.RANK.EQ(X14,X$9:X$30,0) -> 1 | Y40: 6 | Z40: =SUMPRODUCT(R40:Y40,POWER(10,$R$33:$Y$33)*$R$33:$Y$33) -> 543260 | AA40: =_xlfn.RANK.EQ(Z40,$Z$35:$Z$56,1) -> 1
O41: 7 | P41: =P15 -> Eslovênia | Q41: =_xlfn.RANK.EQ(Q15,Q$9:Q$30,0) -> 1 | R41: =_xlfn.RANK.EQ(R15,R$9:R$30,0) -> 14 | S41: =_xlfn.RANK.EQ(S15,S$9:S$30,0) -> 7 | T41: =_xlfn.RANK.EQ(T15,T$9:T$30,0) -> 4 | U41: =_xlfn.RANK.EQ(U15,U$9:U$30,0) -> 10 | V41: =_xlfn.RANK.EQ(V15,V$9:V$30,0) -> 4 | W41: =_xlfn.RANK.EQ(W15,W$9:W$30,0) -> 16 | X41: =_xlfn.RANK.EQ(X15,X$9:X$30,0) -> 15 | Y41: 7 | Z41: =SUMPRODUCT(R41:Y41,POWER(10,$R$33:$Y$33)*$R$33:$Y$33) -> 8110070 | AA41: =_xlfn.RANK.EQ(Z41,$Z$35:$Z$56,1) -> 15
B42: =P18 & " " &P19 & " " & P20 & " " & P21 & " " & P22 & " " & P23 & " " & P24 & " " & P25 -> Inglaterra Irlanda Itália Noruega País de Gales Polônia Rep. Tcheca Romênia | O42: 8 | P42: =P16 -> França | Q42: =_xlfn.RANK.EQ(Q16,Q$9:Q$30,0) -> 1 | R42: =_xlfn.RANK.EQ(R16,R$9:R$30,0) -> 16 | S42: =_xlfn.RANK.EQ(S16,S$9:S$30,0) -> 15 | T42: =_xlfn.RANK.EQ(T16,T$9:T$30,0) -> 2 | U42: =_xlfn.RANK.EQ(U16,U$9:U$30,0) -> 17 | V42: =_xlfn.RANK.EQ(V16,V$9:V$30,0) -> 3 | W42: =_xlfn.RANK.EQ(W16,W$9:W$30,0) -> 21 | X42: =_xlfn.RANK.EQ(X16,X$9:X$30,0) -> 17 | Y42: 8 | Z42: =SUMPRODUCT(R42:Y42,POWER(10,$R$33:$Y$33)*$R$33:$Y$33) -> 9206480 | AA42: =_xlfn.RANK.EQ(Z42,$Z$35:$Z$56,1) -> 17
B43: =" "&"("&Y18&")"& " " &"("&Y19&")"& " " &"("&Y20&")"& " " &"("&Y21&")"& " " &"("&Y22&")"& " " &"("&Y23&")"& " " &"("&Y24&")"& " " &"("&Y25&")" -> (Tooty) (Gru) (Cayera) (Hurrante) (Fred) (Deh) (Ricardinho) (Piu) | O43: 9 | P43: =P17 -> Holanda | Q43: =_xlfn.RANK.EQ(Q17,Q$9:Q$30,0) -> 1 | R43: =_xlfn.RANK.EQ(R17,R$9:R$30,0) -> 8 | S43: =_xlfn.RANK.EQ(S17,S$9:S$30,0) -> 7 | T43: =_xlfn.RANK.EQ(T17,T$9:T$30,0) -> 11 | U43: =_xlfn.RANK.EQ(U17,U$9:U$30,0) -> 5 | V43: =_xlfn.RANK.EQ(V17,V$9:V$30,0) -> 7 | W43: =_xlfn.RANK.EQ(W17,W$9:W$30,0) -> 6 | X43: =_xlfn.RANK.EQ(X17,X$9:X$30,0) -> 8 | Y43: 9 | Z43: =SUMPRODUCT(R43:Y43,POWER(10,$R$33:$Y$33)*$R$33:$Y$33) -> 4339090 | AA43: =_xlfn.RANK.EQ(Z43,$Z$35:$Z$56,1) -> 8
O44: 10 | P44: =P18 -> Inglaterra | Q44: =_xlfn.RANK.EQ(Q18,Q$9:Q$30,0) -> 1 | R44: =_xlfn.RANK.EQ(R18,R$9:R$30,0) -> 1 | S44: =_xlfn.RANK.EQ(S18,S$9:S$30,0) -> 19 | T44: =_xlfn.RANK.EQ(T18,T$9:T$30,0) -> 15 | U44: =_xlfn.RANK.EQ(U18,U$9:U$30,0) -> 3 | V44: =_xlfn.RANK.EQ(V18,V$9:V$30,0) -> 14 | W44: =_xlfn.RANK.EQ(W18,W$9:W$30,0) -> 2 | X44: =_xlfn.RANK.EQ(X18,X$9:X$30,0) -> 2 | Y44: 10 | Z44: =SUMPRODUCT(R44:Y44,POWER(10,$R$33:$Y$33)*$R$33:$Y$33) -> 1046700 | AA44: =_xlfn.RANK.EQ(Z44,$Z$35:$Z$56,1) -> 2
O45: 11 | P45: =P19 -> Irlanda | Q45: =_xlfn.RANK.EQ(Q19,Q$9:Q$30,0) -> 1 | R45: =_xlfn.RANK.EQ(R19,R$9:R$30,0) -> 18 | S45: =_xlfn.RANK.EQ(S19,S$9:S$30,0) -> 4 | T45: =_xlfn.RANK.EQ(T19,T$9:T$30,0) -> 3 | U45: =_xlfn.RANK.EQ(U19,U$9:U$30,0) -> 18 | V45: =_xlfn.RANK.EQ(V19,V$9:V$30,0) -> 7 | W45: =_xlfn.RANK.EQ(W19,W$9:W$30,0) -> 20 | X45: =_xlfn.RANK.EQ(X19,X$9:X$30,0) -> 17 | Y45: 11 | Z45: =SUMPRODUCT(R45:Y45,POWER(10,$R$33:$Y$33)*$R$33:$Y$33) -> 9283710 | AA45: =_xlfn.RANK.EQ(Z45,$Z$35:$Z$56,1) -> 18
O46: 12 | P46: =P20 -> Itália | Q46: =_xlfn.RANK.EQ(Q20,Q$9:Q$30,0) -> 1 | R46: =_xlfn.RANK.EQ(R20,R$9:R$30,0) -> 11 | S46: =_xlfn.RANK.EQ(S20,S$9:S$30,0) -> 2 | T46: =_xlfn.RANK.EQ(T20,T$9:T$30,0) -> 11 | U46: =_xlfn.RANK.EQ(U20,U$9:U$30,0) -> 10 | V46: =_xlfn.RANK.EQ(V20,V$9:V$30,0) -> 12 | W46: =_xlfn.RANK.EQ(W20,W$9:W$30,0) -> 14 | X46: =_xlfn.RANK.EQ(X20,X$9:X$30,0) -> 11 | Y46: 12 | Z46: =SUMPRODUCT(R46:Y46,POWER(10,$R$33:$Y$33)*$R$33:$Y$33) -> 5984120 | AA46: =_xlfn.RANK.EQ(Z46,$Z$35:$Z$56,1) -> 11
O47: 13 | P47: =P21 -> Noruega | Q47: =_xlfn.RANK.EQ(Q21,Q$9:Q$30,0) -> 1 | R47: =_xlfn.RANK.EQ(R21,R$9:R$30,0) -> 5 | S47: =_xlfn.RANK.EQ(S21,S$9:S$30,0) -> 7 | T47: =_xlfn.RANK.EQ(T21,T$9:T$30,0) -> 15 | U47: =_xlfn.RANK.EQ(U21,U$9:U$30,0) -> 7 | V47: =_xlfn.RANK.EQ(V21,V$9:V$30,0) -> 17 | W47: =_xlfn.RANK.EQ(W21,W$9:W$30,0) -> 4 | X47: =_xlfn.RANK.EQ(X21,X$9:X$30,0) -> 5 | Y47: 13 | Z47: =SUMPRODUCT(R47:Y47,POWER(10,$R$33:$Y$33)*$R$33:$Y$33) -> 2713530 | AA47: =_xlfn.RANK.EQ(Z47,$Z$35:$Z$56,1) -> 5
E48: =" "&P26&" "&P27&" "&P28&" " -> Suécia Suíça Turquia | O48: 14 | P48: =P22 -> País de Gales | Q48: =_xlfn.RANK.EQ(Q22,Q$9:Q$30,0) -> 1 | R48: =_xlfn.RANK.EQ(R22,R$9:R$30,0) -> 8 | S48: =_xlfn.RANK.EQ(S22,S$9:S$30,0) -> 11 | T48: =_xlfn.RANK.EQ(T22,T$9:T$30,0) -> 8 | U48: =_xlfn.RANK.EQ(U22,U$9:U$30,0) -> 7 | V48: =_xlfn.RANK.EQ(V22,V$9:V$30,0) -> 9 | W48: =_xlfn.RANK.EQ(W22,W$9:W$30,0) -> 8 | X48: =_xlfn.RANK.EQ(X22,X$9:X$30,0) -> 9 | Y48: 14 | Z48: =SUMPRODUCT(R48:Y48,POWER(10,$R$33:$Y$33)*$R$33:$Y$33) -> 4845540 | AA48: =_xlfn.RANK.EQ(Z48,$Z$35:$Z$56,1) -> 9
E49: =" "&"("&Y26&")"& " " &"("&Y27&")"& " " &"("&Y28&")" -> (Hugo) (Juninho) (DieGo) | O49: 15 | P49: =P23 -> Polônia | Q49: =_xlfn.RANK.EQ(Q23,Q$9:Q$30,0) -> 1 | R49: =_xlfn.RANK.EQ(R23,R$9:R$30,0) -> 3 | S49: =_xlfn.RANK.EQ(S23,S$9:S$30,0) -> 17 | T49: =_xlfn.RANK.EQ(T23,T$9:T$30,0) -> 11 | U49: =_xlfn.RANK.EQ(U23,U$9:U$30,0) -> 2 | V49: =_xlfn.RANK.EQ(V23,V$9:V$30,0) -> 1 | W49: =_xlfn.RANK.EQ(W23,W$9:W$30,0) -> 7 | X49: =_xlfn.RANK.EQ(X23,X$9:X$30,0) -> 4 | Y49: 15 | Z49: =SUMPRODUCT(R49:Y49,POWER(10,$R$33:$Y$33)*$R$33:$Y$33) -> 2141550 | AA49: =_xlfn.RANK.EQ(Z49,$Z$35:$Z$56,1) -> 4
O50: 16 | P50: =P24 -> Rep. Tcheca | Q50: =_xlfn.RANK.EQ(Q24,Q$9:Q$30,0) -> 1 | R50: =_xlfn.RANK.EQ(R24,R$9:R$30,0) -> 19 | S50: =_xlfn.RANK.EQ(S24,S$9:S$30,0) -> 17 | T50: =_xlfn.RANK.EQ(T24,T$9:T$30,0) -> 1 | U50: =_xlfn.RANK.EQ(U24,U$9:U$30,0) -> 19 | V50: =_xlfn.RANK.EQ(V24,V$9:V$30,0) -> 2 | W50: =_xlfn.RANK.EQ(W24,W$9:W$30,0) -> 22 | X50: =_xlfn.RANK.EQ(X24,X$9:X$30,0) -> 19 | Y50: 16 | Z50: =SUMPRODUCT(R50:Y50,POWER(10,$R$33:$Y$33)*$R$33:$Y$33) -> 10329960 | AA50: =_xlfn.RANK.EQ(Z50,$Z$35:$Z$56,1) -> 19
O51: 17 | P51: =P25 -> Romênia | Q51: =_xlfn.RANK.EQ(Q25,Q$9:Q$30,0) -> 1 | R51: =_xlfn.RANK.EQ(R25,R$9:R$30,0) -> 11 | S51: =_xlfn.RANK.EQ(S25,S$9:S$30,0) -> 11 | T51: =_xlfn.RANK.EQ(T25,T$9:T$30,0) -> 4 | U51: =_xlfn.RANK.EQ(U25,U$9:U$30,0) -> 15 | V51: =_xlfn.RANK.EQ(V25,V$9:V$30,0) -> 5 | W51: =_xlfn.RANK.EQ(W25,W$9:W$30,0) -> 19 | X51: =_xlfn.RANK.EQ(X25,X$9:X$30,0) -> 12 | Y51: 17 | Z51: =SUMPRODUCT(R51:Y51,POWER(10,$R$33:$Y$33)*$R$33:$Y$33) -> 6500170 | AA51: =_xlfn.RANK.EQ(Z51,$Z$35:$Z$56,1) -> 13
O52: 18 | P52: =P26 -> Suécia | Q52: =_xlfn.RANK.EQ(Q26,Q$9:Q$30,0) -> 1 | R52: =_xlfn.RANK.EQ(R26,R$9:R$30,0) -> 5 | S52: =_xlfn.RANK.EQ(S26,S$9:S$30,0) -> 7 | T52: =_xlfn.RANK.EQ(T26,T$9:T$30,0) -> 15 | U52: =_xlfn.RANK.EQ(U26,U$9:U$30,0) -> 4 | V52: =_xlfn.RANK.EQ(V26,V$9:V$30,0) -> 9 | W52: =_xlfn.RANK.EQ(W26,W$9:W$30,0) -> 5 | X52: =_xlfn.RANK.EQ(X26,X$9:X$30,0) -> 5 | Y52: 18 | Z52: =SUMPRODUCT(R52:Y52,POWER(10,$R$33:$Y$33)*$R$33:$Y$33) -> 2715980 | AA52: =_xlfn.RANK.EQ(Z52,$Z$35:$Z$56,1) -> 6
O53: 19 | P53: =P27 -> Suíça | Q53: =_xlfn.RANK.EQ(Q27,Q$9:Q$30,0) -> 1 | R53: =_xlfn.RANK.EQ(R27,R$9:R$30,0) -> 4 | S53: =_xlfn.RANK.EQ(S27,S$9:S$30,0) -> 2 | T53: =_xlfn.RANK.EQ(T27,T$9:T$30,0) -> 18 | U53: =_xlfn.RANK.EQ(U27,U$9:U$30,0) -> 5 | V53: =_xlfn.RANK.EQ(V27,V$9:V$30,0) -> 19 | W53: =_xlfn.RANK.EQ(W27,W$9:W$30,0) -> 3 | X53: =_xlfn.RANK.EQ(X27,X$9:X$30,0) -> 3 | Y53: 19 | Z53: =SUMPRODUCT(R53:Y53,POWER(10,$R$33:$Y$33)*$R$33:$Y$33) -> 1670190 | AA53: =_xlfn.RANK.EQ(Z53,$Z$35:$Z$56,1) -> 3
O54: 20 | P54: =P28 -> Turquia | Q54: =_xlfn.RANK.EQ(Q28,Q$9:Q$30,0) -> 1 | R54: =_xlfn.RANK.EQ(R28,R$9:R$30,0) -> 5 | S54: =_xlfn.RANK.EQ(S28,S$9:S$30,0) -> 15 | T54: =_xlfn.RANK.EQ(T28,T$9:T$30,0) -> 8 | U54: =_xlfn.RANK.EQ(U28,U$9:U$30,0) -> 9 | V54: =_xlfn.RANK.EQ(V28,V$9:V$30,0) -> 14 | W54: =_xlfn.RANK.EQ(W28,W$9:W$30,0) -> 8 | X54: =_xlfn.RANK.EQ(X28,X$9:X$30,0) -> 7 | Y54: 20 | Z54: =SUMPRODUCT(R54:Y54,POWER(10,$R$33:$Y$33)*$R$33:$Y$33) -> 3726000 | AA54: =_xlfn.RANK.EQ(Z54,$Z$35:$Z$56,1) -> 7
O55: 21 | P55: =P29 -> 0 | Z55: 10000000000 | AA55: =_xlfn.RANK.EQ(Z55,$Z$35:$Z$56,1) -> 20
O56: 22 | P56: =P30 -> 0 | Z56: 10000000000 | AA56: =_xlfn.RANK.EQ(Z56,$Z$35:$Z$56,1) -> 20

Sheet Jogos
L1: JOGOS
A3: 1 | B3: =A3&"ª Rodada" -> 1ª Rodada | I3: 2 | J3: =I3&"ª Rodada" -> 2ª Rodada | Q3: 3 | R3: =Q3&"ª Rodada" -> 3ª Rodada
B5: M1 | F5: V1 | G5: SM1 | H5: SV1 | J5: M2 | N5: V2 | O5: SM2 | P5: SV2 | R5: M3 | V5: V3 | W5: SM3 | X5: SV3
A6: j1 | B6: =IFERROR(VLOOKUP(IF(VLOOKUP(A3&$A6,$AD$336:$AL$566,6,FALSE)="C",VLOOKUP(A3&$A6,$AD$336:$AL$566,4,FALSE),VLOOKUP(A3&$A6,$AD$336:$AL$566,5,FALSE)),Tabelas!$O$9:$P$30,2,FALSE),"") -> DESISTIU | D6: X | F6: =IFERROR(VLOOKUP(IF(VLOOKUP(A3&$A6,$AD$336:$AL$566,6,FALSE)="F",VLOOKUP(A3&$A6,$AD$336:$AL$566,4,FALSE),VLOOKUP(A3&$A6,$AD$336:$AL$566,5,FALSE)),Tabelas!$O$9:$P$30,2,FALSE),"") -> Turquia | G6: =C6-E6 -> 0 | H6: =E6-C6 -> 0 | J6: =IFERROR(VLOOKUP(IF(VLOOKUP(I3&$A6,$AD$336:$AL$566,6,FALSE)="C",VLOOKUP(I3&$A6,$AD$336:$AL$566,4,FALSE),VLOOKUP(I3&$A6,$AD$336:$AL$566,5,FALSE)),Tabelas!$O$9:$P$30,2,FALSE),"") -> Suíça | L6: X | N6: =IFERROR(VLOOKUP(IF(VLOOKUP(I3&$A6,$AD$336:$AL$566,6,FALSE)="F",VLOOKUP(I3&$A6,$AD$336:$AL$566,4,FALSE),VLOOKUP(I3&$A6,$AD$336:$AL$566,5,FALSE)),Tabelas!$O$9:$P$30,2,FALSE),"") -> DESISTIU | O6: =K6-M6 -> 0 | P6: =M6-K6 -> 0 | R6: =IFERROR(VLOOKUP(IF(VLOOKUP(Q3&$A6,$AD$336:$AL$566,6,FALSE)="C",VLOOKUP(Q3&$A6,$AD$336:$AL$566,4,FALSE),VLOOKUP(Q3&$A6,$AD$336:$AL$566,5,FALSE)),Tabelas!$O$9:$P$30,2,FALSE),"") -> DESISTIU | T6: X | V6: =IFERROR(VLOOKUP(IF(VLOOKUP(Q3&$A6,$AD$336:$AL$566,6,FALSE)="F",VLOOKUP(Q3&$A6,$AD$336:$AL$566,4,FALSE),VLOOKUP(Q3&$A6,$AD$336:$AL$566,5,FALSE)),Tabelas!$O$9:$P$30,2,FALSE),"") -> Suécia | W6: =S6-U6 -> 0 | X6: =U6-S6 -> 0
A8: j2 | B8: =IFERROR(VLOOKUP(IF(VLOOKUP(A3&$A8,$AD$336:$AL$566,6,FALSE)="C",VLOOKUP(A3&$A8,$AD$336:$AL$566,4,FALSE),VLOOKUP(A3&$A8,$AD$336:$AL$566,5,FALSE)),Tabelas!$O$9:$P$30,2,FALSE),"") -> Alemanha | C8: 1 | D8: X | E8: 0 | F8: =IFERROR(VLOOKUP(IF(VLOOKUP(A3&$A8,$AD$336:$AL$566,6,FALSE)="F",VLOOKUP(A3&$A8,$AD$336:$AL$566,4,FALSE),VLOOKUP(A3&$A8,$AD$336:$AL$566,5,FALSE)),Tabelas!$O$9:$P$30,2,FALSE),"") -> Suíça | G8: =C8-E8 -> 1 | H8: =E8-C8 -> -1 | J8: =IFERROR(VLOOKUP(IF(VLOOKUP(I3&$A8,$AD$336:$AL$566,6,FALSE)="C",VLOOKUP(I3&$A8,$AD$336:$AL$566,4,FALSE),VLOOKUP(I3&$A8,$AD$336:$AL$566,5,FALSE)),Tabelas!$O$9:$P$30,2,FALSE),"") -> Alemanha | K8: 0 | L8: X | M8: 0 | N8: =IFERROR(VLOOKUP(IF(VLOOKUP(I3&$A8,$AD$336:$AL$566,6,FALSE)="F",VLOOKUP(I3&$A8,$AD$336:$AL$566,4,FALSE),VLOOKUP(I3&$A8,$AD$336:$AL$566,5,FALSE)),Tabelas!$O$9:$P$30,2,FALSE),"") -> Romênia | O8: =K8-M8 -> 0 | P8: =M8-K8 -> 0 | R8: =IFERROR(VLOOKUP(IF(VLOOKUP(Q3&$A8,$AD$336:$AL$566,6,FALSE)="C",VLOOKUP(Q3&$A8,$AD$336:$AL$566,4,FALSE),VLOOKUP(Q3&$A8,$AD$336:$AL$566,5,FALSE)),Tabelas!$O$9:$P$30,2,FALSE),"") -> Alemanha | S8: 0 | T8: X | U8: 1 | V8: =IFERROR(VLOOKUP(IF(VLOOKUP(Q3&$A8,$AD$336:$AL$566,6,FALSE)="F",VLOOKUP(Q3&$A8,$AD$336:$AL$566,4,FALSE),VLOOKUP(Q3&$A8,$AD$336:$AL$566,5,FALSE)),Tabelas!$O$9:$P$30,2,FALSE),"") -> Polônia | W8: =S8-U8 -> -1 | X8: =U8-S8 -> 1
A10: j3 | B10: =IFERROR(VLOOKUP(IF(VLOOKUP(A3&$A10,$AD$336:$AL$566,6,FALSE)="C",VLOOKUP(A3&$A10,$AD$336:$AL$566,4,FALSE),VLOOKUP(A3&$A10,$AD$336:$AL$566,5,FALSE)),Tabelas!$O$9:$P$30,2,FALSE),"") -> Suécia | C10: 0 | D10: X | E10: 0 | F10: =IFERROR(VLOOKUP(IF(VLOOKUP(A3&$A10,$AD$336:$AL$566,6,FALSE)="F",VLOOKUP(A3&$A10,$AD$336:$AL$566,4,FALSE),VLOOKUP(A3&$A10,$AD$336:$AL$566,5,FALSE)),Tabelas!$O$9:$P$30,2,FALSE),"") -> Áustria | G10: =C10-E10 -> 0 | H10: =E10-C10 -> 0 | J10: =IFERROR(VLOOKUP(IF(VLOOKUP(I3&$A10,$AD$336:$AL$566,6,FALSE)="C",VLOOKUP(I3&$A10,$AD$336:$AL$566,4,FALSE),VLOOKUP(I3&$A10,$AD$336:$AL$566,5,FALSE)),Tabelas!$O$9:$P$30,2,FALSE),"") -> Rep. Tcheca | K10: 0 | L10: X | M10: 3 | N10: =IFERROR(VLOOKUP(IF(VLOOKUP(I3&$A10,$AD$336:$AL$566,6,FALSE)="F",VLOOKUP(I3&$A10,$AD$336:$AL$566,4,FALSE),VLOOKUP(I3&$A10,$AD$336:$AL$566,5,FALSE)),Tabelas!$O$9:$P$30,2,FALSE),"") -> Áustria | O10: =K10-M10 -> -3 | P10: =M10-K10 -> 3 | R10: =IFERROR(VLOOKUP(IF(VLOOKUP(Q3&$A10,$AD$336:$AL$566,6,FALSE)="C",VLOOKUP(Q3&$A10,$AD$336:$AL$566,4,FALSE),VLOOKUP(Q3&$A10,$AD$336:$AL$566,5,FALSE)),Tabelas!$O$9:$P$30,2,FALSE),"") -> País de Gales | S10: 0 | T10: X | U10: 0 | V10: =IFERROR(VLOOKUP(IF(VLOOKUP(Q3&$A10,$AD$336:$AL$566,6,FALSE)="F",VLOOKUP(Q3&$A10,$AD$336:$AL$566,4,FALSE),VLOOKUP(Q3&$A10,$AD$336:$AL$566,5,FALSE)),Tabelas!$O$9:$P$30,2,FALSE),"") -> Áustria | W10: =S10-U10 -> 0 | X10: =U10-S10 -> 0
A12: j4 | B12: =IFERROR(VLOOKUP(IF(VLOOKUP(A3&$A12,$AD$336:$AL$566,6,FALSE)="C",VLOOKUP(A3&$A12,$AD$336:$AL$566,4,FALSE),VLOOKUP(A3&$A12,$AD$336:$AL$566,5,FALSE)),Tabelas!$O$9:$P$30,2,FALSE),"") -> Romênia | C12: 0 | D12: X | E12: 1 | F12: =IFERROR(VLOOKUP(IF(VLOOKUP(A3&$A12,$AD$336:$AL$566,6,FALSE)="F",VLOOKUP(A3&$A12,$AD$336:$AL$566,4,FALSE),VLOOKUP(A3&$A12,$AD$336:$AL$566,5,FALSE)),Tabelas!$O$9:$P$30,2,FALSE),"") -> Bélgica | G12: =C12-E12 -> -1 | H12: =E12-C12 -> 1 | J12: =IFERROR(VLOOKUP(IF(VLOOKUP(I3&$A12,$AD$336:$AL$566,6,FALSE)="C",VLOOKUP(I3&$A12,$AD$336:$AL$566,4,FALSE),VLOOKUP(I3&$A12,$AD$336:$AL$566,5,FALSE)),Tabelas!$O$9:$P$30,2,FALSE),"") -> Polônia | K12: 2 | L12: X | M12: 2 | N12: =IFERROR(VLOOKUP(IF(VLOOKUP(I3&$A12,$AD$336:$AL$566,6,FALSE)="F",VLOOKUP(I3&$A12,$AD$336:$AL$566,4,FALSE),VLOOKUP(I3&$A12,$AD$336:$AL$566,5,FALSE)),Tabelas!$O$9:$P$30,2,FALSE),"") -> Bélgica | O12: =K12-M12 -> 0 | P12: =M12-K12 -> 0 | R12: =IFERROR(VLOOKUP(IF(VLOOKUP(Q3&$A12,$AD$336:$AL$566,6,FALSE)="C",VLOOKUP(Q3&$A12,$AD$336:$AL$566,4,FALSE),VLOOKUP(Q3&$A12,$AD$336:$AL$566,5,FALSE)),Tabelas!$O$9:$P$30,2,FALSE),"") -> Noruega | S12: 2 | T12: X | U12: 0 | V12: =IFERROR(VLOOKUP(IF(VLOOKUP(Q3&$A12,$AD$336:$AL$566,6,FALSE)="F",VLOOKUP(Q3&$A12,$AD$336:$AL$566,4,FALSE),VLOOKUP(Q3&$A12,$AD$336:$AL$566,5,FALSE)),Tabelas!$O$9:$P$30,2,FALSE),"") -> Bélgica | W12: =S12-U12 -> 2 | X12: =U12-S12 -> -2
A14: j5 | B14: =IFERROR(VLOOKUP(IF(VLOOKUP(A3&$A14,$AD$336:$AL$566,6,FALSE)="C",VLOOKUP(A3&$A14,$AD$336:$AL$566,4,FALSE),VLOOKUP(A3&$A14,$AD$336:$AL$566,5,FALSE)),Tabelas!$O$9:$P$30,2,FALSE),"") -> Dinamarca | C14: 1 | D14: X | E14: 0 | F14: =IFERROR(VLOOKUP(IF(VLOOKUP(A3&$A14,$AD$336:$AL$566,6,FALSE)="F",VLOOKUP(A3&$A14,$AD$336:$AL$566,4,FALSE),VLOOKUP(A3&$A14,$AD$336:$AL$566,5,FALSE)),Tabelas!$O$9:$P$30,2,FALSE),"") -> Rep. Tcheca | G14: =C14-E14 -> 1 | H14: =E14-C14 -> -1 | J14: =IFERROR(VLOOKUP(IF(VLOOKUP(I3&$A14,$AD$336:$AL$566,6,FALSE)="C",VLOOKUP(I3&$A14,$AD$336:$AL$566,4,FALSE),VLOOKUP(I3&$A14,$AD$336:$AL$566,5,FALSE)),Tabelas!$O$9:$P$30,2,FALSE),"") -> Dinamarca | K14: 0 | L14: X | M14: 0 | N14: =IFERROR(VLOOKUP(IF(VLOOKUP(I3&$A14,$AD$336:$AL$566,6,FALSE)="F",VLOOKUP(I3&$A14,$AD$336:$AL$566,4,FALSE),VLOOKUP(I3&$A14,$AD$336:$AL$566,5,FALSE)),Tabelas!$O$9:$P$30,2,FALSE),"") -> País de Gales | O14: =K14-M14 -> 0 | P14: =M14-K14 -> 0 | R14: =IFERROR(VLOOKUP(IF(VLOOKUP(Q3&$A14,$AD$336:$AL$566,6,FALSE)="C",VLOOKUP(Q3&$A14,$AD$336:$AL$566,4,FALSE),VLOOKUP(Q3&$A14,$AD$336:$AL$566,5,FALSE)),Tabelas!$O$9:$P$30,2,FALSE),"") -> Dinamarca | S14: 1 | T14: X | U14: 1 | V14: =IFERROR(VLOOKUP(IF(VLOOKUP(Q3&$A14,$AD$336:$AL$566,6,FALSE)="F",VLOOKUP(Q3&$A14,$AD$336:$AL$566,4,FALSE),VLOOKUP(Q3&$A14,$AD$336:$AL$566,5,FALSE)),Tabelas!$O$9:$P$30,2,FALSE),"") -> Itália | W14: =S14-U14 -> 0 | X14: =U14-S14 -> 0
A16: j6 | B16: =IFERROR(VLOOKUP(IF(VLOOKUP(A3&$A16,$AD$336:$AL$566,6,FALSE)="C",VLOOKUP(A3&$A16,$AD$336:$AL$566,4,FALSE),VLOOKUP(A3&$A16,$AD$336:$AL$566,5,FALSE)),Tabelas!$O$9:$P$30,2,FALSE),"") -> Escócia | C16: 1 | D16: X | E16: 1 | F16: =IFERROR(VLOOKUP(IF(VLOOKUP(A3&$A16,$AD$336:$AL$566,6,FALSE)="F",VLOOKUP(A3&$A16,$AD$336:$AL$566,4,FALSE),VLOOKUP(A3&$A16,$AD$336:$AL$566,5,FALSE)),Tabelas!$O$9:$P$30,2,FALSE),"") -> Polônia | G16: =C16-E16 -> 0 | H16: =E16-C16 -> 0 | J16: =IFERROR(VLOOKUP(IF(VLOOKUP(I3&$A16,$AD$336:$AL$566,6,FALSE)="C",VLOOKUP(I3&$A16,$AD$336:$AL$566,4,FALSE),VLOOKUP(I3&$A16,$AD$336:$AL$566,5,FALSE)),Tabelas!$O$9:$P$30,2,FALSE),"") -> Escócia | K16: 1 | L16: X | M16: 0 | N16: =IFERROR(VLOOKUP(IF(VLOOKUP(I3&$A16,$AD$336:$AL$566,6,FALSE)="F",VLOOKUP(I3&$A16,$AD$336:$AL$566,4,FALSE),VLOOKUP(I3&$A16,$AD$336:$AL$566,5,FALSE)),Tabelas!$O$9:$P$30,2,FALSE),"") -> Noruega | O16: =K16-M16 -> 1 | P16: =M16-K16 -> -1 | R16: =IFERROR(VLOOKUP(IF(VLOOKUP(Q3&$A16,$AD$336:$AL$566,6,FALSE)="C",VLOOKUP(Q3&$A16,$AD$336:$AL$566,4,FALSE),VLOOKUP(Q3&$A16,$AD$336:$AL$566,5,FALSE)),Tabelas!$O$9:$P$30,2,FALSE),"") -> Escócia | S16: 4 | T16: X | U16: 0 | V16: =IFERROR(VLOOKUP(IF(VLOOKUP(Q3&$A16,$AD$336:$AL$566,6,FALSE)="F",VLOOKUP(Q3&$A16,$AD$336:$AL$566,4,FALSE),VLOOKUP(Q3&$A16,$AD$336:$AL$566,5,FALSE)),Tabelas!$O$9:$P$30,2,FALSE),"") -> Irlanda | W16: =S16-U16 -> 4 | X16: =U16-S16 -> -4
A18: j7 | B18: =IFERROR(VLOOKUP(IF(VLOOKUP(A3&$A18,$AD$336:$AL$566,6,FALSE)="C",VLOOKUP(A3&$A18,$AD$336:$AL$566,4,FALSE),VLOOKUP(A3&$A18,$AD$336:$AL$566,5,FALSE)),Tabelas!$O$9:$P$30,2,FALSE),"") -> País de Gales | C18: 1 | D18: X | E18: 2 | F18: =IFERROR(VLOOKUP(IF(VLOOKUP(A3&$A18,$AD$336:$AL$566,6,FALSE)="F",VLOOKUP(A3&$A18,$AD$336:$AL$566,4,FALSE),VLOOKUP(A3&$A18,$AD$336:$AL$566,5,FALSE)),Tabelas!$O$9:$P$30,2,FALSE),"") -> Eslovênia | G18: =C18-E18 -> -1 | H18: =E18-C18 -> 1 | J18: =IFERROR(VLOOKUP(IF(VLOOKUP(I3&$A18,$AD$336:$AL$566,6,FALSE)="C",VLOOKUP(I3&$A18,$AD$336:$AL$566,4,FALSE),VLOOKUP(I3&$A18,$AD$336:$AL$566,5,FALSE)),Tabelas!$O$9:$P$30,2,FALSE),"") -> Itália | K18: 1 | L18: X | M18: 1 | N18: =IFERROR(VLOOKUP(IF(VLOOKUP(I3&$A18,$AD$336:$AL$566,6,FALSE)="F",VLOOKUP(I3&$A18,$AD$336:$AL$566,4,FALSE),VLOOKUP(I3&$A18,$AD$336:$AL$566,5,FALSE)),Tabelas!$O$9:$P$30,2,FALSE),"") -> Eslovênia | O18: =K18-M18 -> 0 | P18: =M18-K18 -> 0 | R18: =IFERROR(VLOOKUP(IF(VLOOKUP(Q3&$A18,$AD$336:$AL$566,6,FALSE)="C",VLOOKUP(Q3&$A18,$AD$336:$AL$566,4,FALSE),VLOOKUP(Q3&$A18,$AD$336:$AL$566,5,FALSE)),Tabelas!$O$9:$P$30,2,FALSE),"") -> Inglaterra | S18: 2 | T18: X | U18: 1 | V18: =IFERROR(VLOOKUP(IF(VLOOKUP(Q3&$A18,$AD$336:$AL$566,6,FALSE)="F",VLOOKUP(Q3&$A18,$AD$336:$AL$566,4,FALSE),VLOOKUP(Q3&$A18,$AD$336:$AL$566,5,FALSE)),Tabelas!$O$9:$P$30,2,FALSE),"") -> Eslovênia | W18: =S18-U18 -> 1 | X18: =U18-S18 -> -1
A20: j8 | B20: =IFERROR(VLOOKUP(IF(VLOOKUP(A3&$A20,$AD$336:$AL$566,6,FALSE)="C",VLOOKUP(A3&$A20,$AD$336:$AL$566,4,FALSE),VLOOKUP(A3&$A20,$AD$336:$AL$566,5,FALSE)),Tabelas!$O$9:$P$30,2,FALSE),"") -> Noruega | C20: 1 | D20: X | E20: 0 | F20: =IFERROR(VLOOKUP(IF(VLOOKUP(A3&$A20,$AD$336:$AL$566,6,FALSE)="F",VLOOKUP(A3&$A20,$AD$336:$AL$566,4,FALSE),VLOOKUP(A3&$A20,$AD$336:$AL$566,5,FALSE)),Tabelas!$O$9:$P$30,2,FALSE),"") -> França | G20: =C20-E20 -> 1 | H20: =E20-C20 -> -1 | J20: =IFERROR(VLOOKUP(IF(VLOOKUP(I3&$A20,$AD$336:$AL$566,6,FALSE)="C",VLOOKUP(I3&$A20,$AD$336:$AL$566,4,FALSE),VLOOKUP(I3&$A20,$AD$336:$AL$566,5,FALSE)),Tabelas!$O$9:$P$30,2,FALSE),"") -> Irlanda | K20: 1 | L20: X | M20: 0 | N20: =IFERROR(VLOOKUP(IF(VLOOKUP(I3&$A20,$AD$336:$AL$566,6,FALSE)="F",VLOOKUP(I3&$A20,$AD$336:$AL$566,4,FALSE),VLOOKUP(I3&$A20,$AD$336:$AL$566,5,FALSE)),Tabelas!$O$9:$P$30,2,FALSE),"") -> França | O20: =K20-M20 -> 1 | P20: =M20-K20 -> -1 | R20: =IFERROR(VLOOKUP(IF(VLOOKUP(Q3&$A20,$AD$336:$AL$566,6,FALSE)="C",VLOOKUP(Q3&$A20,$AD$336:$AL$566,4,FALSE),VLOOKUP(Q3&$A20,$AD$336:$AL$566,5,FALSE)),Tabelas!$O$9:$P$30,2,FALSE),"") -> Holanda | S20: 0 | T20: X | U20: 1 | V20: =IFERROR(VLOOKUP(IF(VLOOKUP(Q3&$A20,$AD$336:$AL$566,6,FALSE)="F",VLOOKUP(Q3&$A20,$AD$336:$AL$566,4,FALSE),VLOOKUP(Q3&$A20,$AD$336:$AL$566,5,FALSE)),Tabelas!$O$9:$P$30,2,FALSE),"") -> França | W20: =S20-U20 -> -1 | X20: =U20-S20 -> 1
A22: j9 | B22: =IFERROR(VLOOKUP(IF(VLOOKUP(A3&$A22,$AD$336:$AL$566,6,FALSE)="C",VLOOKUP(A3&$A22,$AD$336:$AL$566,4,FALSE),VLOOKUP(A3&$A22,$AD$336:$AL$566,5,FALSE)),Tabelas!$O$9:$P$30,2,FALSE),"") -> Holanda | C22: 1 | D22: X | E22: 1 | F22: =IFERROR(VLOOKUP(IF(VLOOKUP(A3&$A22,$AD$336:$AL$566,6,FALSE)="F",VLOOKUP(A3&$A22,$AD$336:$AL$566,4,FALSE),VLOOKUP(A3&$A22,$AD$336:$AL$566,5,FALSE)),Tabelas!$O$9:$P$30,2,FALSE),"") -> Itália | G22: =C22-E22 -> 0 | H22: =E22-C22 -> 0 | J22: =IFERROR(VLOOKUP(IF(VLOOKUP(I3&$A22,$AD$336:$AL$566,6,FALSE)="C",VLOOKUP(I3&$A22,$AD$336:$AL$566,4,FALSE),VLOOKUP(I3&$A22,$AD$336:$AL$566,5,FALSE)),Tabelas!$O$9:$P$30,2,FALSE),"") -> Holanda | K22: 2 | L22: X | M22: 0 | N22: =IFERROR(VLOOKUP(IF(VLOOKUP(I3&$A22,$AD$336:$AL$566,6,FALSE)="F",VLOOKUP(I3&$A22,$AD$336:$AL$566,4,FALSE),VLOOKUP(I3&$A22,$AD$336:$AL$566,5,FALSE)),Tabelas!$O$9:$P$30,2,FALSE),"") -> Inglaterra | O22: =K22-M22 -> 2 | P22: =M22-K22 -> -2 | R22: =IFERROR(VLOOKUP(IF(VLOOKUP(Q3&$A22,$AD$336:$AL$566,6,FALSE)="C",VLOOKUP(Q3&$A22,$AD$336:$AL$566,4,FALSE),VLOOKUP(Q3&$A22,$AD$336:$AL$566,5,FALSE)),Tabelas!$O$9:$P$30,2,FALSE),"") -> Rep. Tcheca | S22: 0 | T22: X | U22: 1 | V22: =IFERROR(VLOOKUP(IF(VLOOKUP(Q3&$A22,$AD$336:$AL$566,6,FALSE)="F",VLOOKUP(Q3&$A22,$AD$336:$AL$566,4,FALSE),VLOOKUP(Q3&$A22,$AD$336:$AL$566,5,FALSE)),Tabelas!$O$9:$P$30,2,FALSE),"") -> Turquia | W22: =S22-U22 -> -1 | X22: =U22-S22 -> 1
A24: j10 | B24: =IFERROR(VLOOKUP(IF(VLOOKUP(A3&$A24,$AD$336:$AL$566,6,FALSE)="C",VLOOKUP(A3&$A24,$AD$336:$AL$566,4,FALSE),VLOOKUP(A3&$A24,$AD$336:$AL$566,5,FALSE)),Tabelas!$O$9:$P$30,2,FALSE),"") -> Inglaterra | C24: 2 | D24: X | E24: 0 | F24: =IFERROR(VLOOKUP(IF(VLOOKUP(A3&$A24,$AD$336:$AL$566,6,FALSE)="F",VLOOKUP(A3&$A24,$AD$336:$AL$566,4,FALSE),VLOOKUP(A3&$A24,$AD$336:$AL$566,5,FALSE)),Tabelas!$O$9:$P$30,2,FALSE),"") -> Irlanda | G24: =C24-E24 -> 2 | H24: =E24-C24 -> -2 | J24: =IFERROR(VLOOKUP(IF(VLOOKUP(I3&$A24,$AD$336:$AL$566,6,FALSE)="C",VLOOKUP(I3&$A24,$AD$336:$AL$566,4,FALSE),VLOOKUP(I3&$A24,$AD$336:$AL$566,5,FALSE)),Tabelas!$O$9:$P$30,2,FALSE),"") -> Turquia | K24: 2 | L24: X | M24: 1 | N24: =IFERROR(VLOOKUP(IF(VLOOKUP(I3&$A24,$AD$336:$AL$566,6,FALSE)="F",VLOOKUP(I3&$A24,$AD$336:$AL$566,4,FALSE),VLOOKUP(I3&$A24,$AD$336:$AL$566,5,FALSE)),Tabelas!$O$9:$P$30,2,FALSE),"") -> Suécia | O24: =K24-M24 -> 1 | P24: =M24-K24 -> -1 | R24: =IFERROR(VLOOKUP(IF(VLOOKUP(Q3&$A24,$AD$336:$AL$566,6,FALSE)="C",VLOOKUP(Q3&$A24,$AD$336:$AL$566,4,FALSE),VLOOKUP(Q3&$A24,$AD$336:$AL$566,5,FALSE)),Tabelas!$O$9:$P$30,2,FALSE),"") -> Suíça | S24: 1 | T24: X | U24: 0 | V24: =IFERROR(VLOOKUP(IF(VLOOKUP(Q3&$A24,$AD$336:$AL$566,6,FALSE)="F",VLOOKUP(Q3&$A24,$AD$336:$AL$566,4,FALSE),VLOOKUP(Q3&$A24,$AD$336:$AL$566,5,FALSE)),Tabelas!$O$9:$P$30,2,FALSE),"") -> Romênia | W24: =S24-U24 -> 1 | X24: =U24-S24 -> -1
A26: j11 | B26: =IFERROR(VLOOKUP(IF(VLOOKUP(A3&$A26,$AD$336:$AL$566,6,FALSE)="C",VLOOKUP(A3&$A26,$AD$336:$AL$566,4,FALSE),VLOOKUP(A3&$A26,$AD$336:$AL$566,5,FALSE)),Tabelas!$O$9:$P$30,2,FALSE),"") | D26: X | F26: =IFERROR(VLOOKUP(IF(VLOOKUP(A3&$A26,$AD$336:$AL$566,6,FALSE)="F",VLOOKUP(A3&$A26,$AD$336:$AL$566,4,FALSE),VLOOKUP(A3&$A26,$AD$336:$AL$566,5,FALSE)),Tabelas!$O$9:$P$30,2,FALSE),"") | G26: =C26-E26 -> 0 | H26: =E26-C26 -> 0 | J26: =IFERROR(VLOOKUP(IF(VLOOKUP(I3&$A26,$AD$336:$AL$566,6,FALSE)="C",VLOOKUP(I3&$A26,$AD$336:$AL$566,4,FALSE),VLOOKUP(I3&$A26,$AD$336:$AL$566,5,FALSE)),Tabelas!$O$9:$P$30,2,FALSE),"") | L26: X | N26: =IFERROR(VLOOKUP(IF(VLOOKUP(I3&$A26,$AD$336:$AL$566,6,FALSE)="F",VLOOKUP(I3&$A26,$AD$336:$AL$566,4,FALSE),VLOOKUP(I3&$A26,$AD$336:$AL$566,5,FALSE)),Tabelas!$O$9:$P$30,2,FALSE),"") | O26: =K26-M26 -> 0 | P26: =M26-K26 -> 0 | R26: =IFERROR(VLOOKUP(IF(VLOOKUP(Q3&$A26,$AD$336:$AL$566,6,FALSE)="C",VLOOKUP(Q3&$A26,$AD$336:$AL$566,4,FALSE),VLOOKUP(Q3&$A26,$AD$336:$AL$566,5,FALSE)),Tabelas!$O$9:$P$30,2,FALSE),"") | T26: X | V26: =IFERROR(VLOOKUP(IF(VLOOKUP(Q3&$A26,$AD$336:$AL$566,6,FALSE)="F",VLOOKUP(Q3&$A26,$AD$336:$AL$566,4,FALSE),VLOOKUP(Q3&$A26,$AD$336:$AL$566,5,FALSE)),Tabelas!$O$9:$P$30,2,FALSE),"") | W26: =S26-U26 -> 0 | X26: =U26-S26 -> 0
A29: 4 | B29: =A29&"ª Rodada" -> 4ª Rodada | I29: 5 | J29: =I29&"ª Rodada" -> 5ª Rodada | Q29: 6 | R29: =Q29&"ª Rodada" -> 6ª Rodada
A31: j1 | B31: =IFERROR(VLOOKUP(IF(VLOOKUP(A29&$A31,$AD$336:$AL$566,6,FALSE)="C",VLOOKUP(A29&$A31,$AD$336:$AL$566,4,FALSE),VLOOKUP(A29&$A31,$AD$336:$AL$566,5,FALSE)),Tabelas!$O$9:$P$30,2,FALSE),"") -> Romênia | D31: X | F31: =IFERROR(VLOOKUP(IF(VLOOKUP(A29&$A31,$AD$336:$AL$566,6,FALSE)="F",VLOOKUP(A29&$A31,$AD$336:$AL$566,4,FALSE),VLOOKUP(A29&$A31,$AD$336:$AL$566,5,FALSE)),Tabelas!$O$9:$P$30,2,FALSE),"") -> DESISTIU | G31: =C31-E31 -> 0 | H31: =E31-C31 -> 0 | J31: =IFERROR(VLOOKUP(IF(VLOOKUP(I29&$A31,$AD$336:$AL$566,6,FALSE)="C",VLOOKUP(I29&$A31,$AD$336:$AL$566,4,FALSE),VLOOKUP(I29&$A31,$AD$336:$AL$566,5,FALSE)),Tabelas!$O$9:$P$30,2,FALSE),"") -> DESISTIU | L31: X | N31: =IFERROR(VLOOKUP(IF(VLOOKUP(I29&$A31,$AD$336:$AL$566,6,FALSE)="F",VLOOKUP(I29&$A31,$AD$336:$AL$566,4,FALSE),VLOOKUP(I29&$A31,$AD$336:$AL$566,5,FALSE)),Tabelas!$O$9:$P$30,2,FALSE),"") -> Rep. Tcheca | O31: =K31-M31 -> 0 | P31: =M31-K31 -> 0 | R31: =IFERROR(VLOOKUP(IF(VLOOKUP(Q29&$A31,$AD$336:$AL$566,6,FALSE)="C",VLOOKUP(Q29&$A31,$AD$336:$AL$566,4,FALSE),VLOOKUP(Q29&$A31,$AD$336:$AL$566,5,FALSE)),Tabelas!$O$9:$P$30,2,FALSE),"") -> Polônia | T31: X | V31: =IFERROR(VLOOKUP(IF(VLOOKUP(Q29&$A31,$AD$336:$AL$566,6,FALSE)="F",VLOOKUP(Q29&$A31,$AD$336:$AL$566,4,FALSE),VLOOKUP(Q29&$A31,$AD$336:$AL$566,5,FALSE)),Tabelas!$O$9:$P$30,2,FALSE),"") -> DESISTIU | W31: =S31-U31 -> 0 | X31: =U31-S31 -> 0
A33: j2 | B33: =IFERROR(VLOOKUP(IF(VLOOKUP(A29&$A33,$AD$336:$AL$566,6,FALSE)="C",VLOOKUP(A29&$A33,$AD$336:$AL$566,4,FALSE),VLOOKUP(A29&$A33,$AD$336:$AL$566,5,FALSE)),Tabelas!$O$9:$P$30,2,FALSE),"") -> Alemanha | C33: 0 | D33: X | E33: 2 | F33: =IFERROR(VLOOKUP(IF(VLOOKUP(A29&$A33,$AD$336:$AL$566,6,FALSE)="F",VLOOKUP(A29&$A33,$AD$336:$AL$566,4,FALSE),VLOOKUP(A29&$A33,$AD$336:$AL$566,5,FALSE)),Tabelas!$O$9:$P$30,2,FALSE),"") -> Noruega | G33: =C33-E33 -> -2 | H33: =E33-C33 -> 2 | J33: =IFERROR(VLOOKUP(IF(VLOOKUP(I29&$A33,$AD$336:$AL$566,6,FALSE)="C",VLOOKUP(I29&$A33,$AD$336:$AL$566,4,FALSE),VLOOKUP(I29&$A33,$AD$336:$AL$566,5,FALSE)),Tabelas!$O$9:$P$30,2,FALSE),"") -> Alemanha | K33: 1 | L33: X | M33: 0 | N33: =IFERROR(VLOOKUP(IF(VLOOKUP(I29&$A33,$AD$336:$AL$566,6,FALSE)="F",VLOOKUP(I29&$A33,$AD$336:$AL$566,4,FALSE),VLOOKUP(I29&$A33,$AD$336:$AL$566,5,FALSE)),Tabelas!$O$9:$P$30,2,FALSE),"") -> Irlanda | O33: =K33-M33 -> 1 | P33: =M33-K33 -> -1 | R33: =IFERROR(VLOOKUP(IF(VLOOKUP(Q29&$A33,$AD$336:$AL$566,6,FALSE)="C",VLOOKUP(Q29&$A33,$AD$336:$AL$566,4,FALSE),VLOOKUP(Q29&$A33,$AD$336:$AL$566,5,FALSE)),Tabelas!$O$9:$P$30,2,FALSE),"") -> Alemanha | S33: 0 | T33: X | U33: 1 | V33: =IFERROR(VLOOKUP(IF(VLOOKUP(Q29&$A33,$AD$336:$AL$566,6,FALSE)="F",VLOOKUP(Q29&$A33,$AD$336:$AL$566,4,FALSE),VLOOKUP(Q29&$A33,$AD$336:$AL$566,5,FALSE)),Tabelas!$O$9:$P$30,2,FALSE),"") -> Holanda | W33: =S33-U33 -> -1 | X33: =U33-S33 -> 1
A35: j3 | B35: =IFERROR(VLOOKUP(IF(VLOOKUP(A29&$A35,$AD$336:$AL$566,6,FALSE)="C",VLOOKUP(A29&$A35,$AD$336:$AL$566,4,FALSE),VLOOKUP(A29&$A35,$AD$336:$AL$566,5,FALSE)),Tabelas!$O$9:$P$30,2,FALSE),"") -> Itália | C35: 0 | D35: X | E35: 0 | F35: =IFERROR(VLOOKUP(IF(VLOOKUP(A29&$A35,$AD$336:$AL$566,6,FALSE)="F",VLOOKUP(A29&$A35,$AD$336:$AL$566,4,FALSE),VLOOKUP(A29&$A35,$AD$336:$AL$566,5,FALSE)),Tabelas!$O$9:$P$30,2,FALSE),"") -> Áustria | G35: =C35-E35 -> 0 | H35: =E35-C35 -> 0 | J35: =IFERROR(VLOOKUP(IF(VLOOKUP(I29&$A35,$AD$336:$AL$566,6,FALSE)="C",VLOOKUP(I29&$A35,$AD$336:$AL$566,4,FALSE),VLOOKUP(I29&$A35,$AD$336:$AL$566,5,FALSE)),Tabelas!$O$9:$P$30,2,FALSE),"") -> Inglaterra | K35: 0 | L35: X | M35: 1 | N35: =IFERROR(VLOOKUP(IF(VLOOKUP(I29&$A35,$AD$336:$AL$566,6,FALSE)="F",VLOOKUP(I29&$A35,$AD$336:$AL$566,4,FALSE),VLOOKUP(I29&$A35,$AD$336:$AL$566,5,FALSE)),Tabelas!$O$9:$P$30,2,FALSE),"") -> Áustria | O35: =K35-M35 -> -1 | P35: =M35-K35 -> 1 | R35: =IFERROR(VLOOKUP(IF(VLOOKUP(Q29&$A35,$AD$336:$AL$566,6,FALSE)="C",VLOOKUP(Q29&$A35,$AD$336:$AL$566,4,FALSE),VLOOKUP(Q29&$A35,$AD$336:$AL$566,5,FALSE)),Tabelas!$O$9:$P$30,2,FALSE),"") -> França | S35: 0 | T35: X | U35: 1 | V35: =IFERROR(VLOOKUP(IF(VLOOKUP(Q29&$A35,$AD$336:$AL$566,6,FALSE)="F",VLOOKUP(Q29&$A35,$AD$336:$AL$566,4,FALSE),VLOOKUP(Q29&$A35,$AD$336:$AL$566,5,FALSE)),Tabelas!$O$9:$P$30,2,FALSE),"") -> Áustria | W35: =S35-U35 -> -1 | X35: =U35-S35 -> 1
A37: j4 | B37: =IFERROR(VLOOKUP(IF(VLOOKUP(A29&$A37,$AD$336:$AL$566,6,FALSE)="C",VLOOKUP(A29&$A37,$AD$336:$AL$566,4,FALSE),VLOOKUP(A29&$A37,$AD$336:$AL$566,5,FALSE)),Tabelas!$O$9:$P$30,2,FALSE),"") -> Irlanda | C37: 0 | D37: X | E37: 1 | F37: =IFERROR(VLOOKUP(IF(VLOOKUP(A29&$A37,$AD$336:$AL$566,6,FALSE)="F",VLOOKUP(A29&$A37,$AD$336:$AL$566,4,FALSE),VLOOKUP(A29&$A37,$AD$336:$AL$566,5,FALSE)),Tabelas!$O$9:$P$30,2,FALSE),"") -> Bélgica | G37: =C37-E37 -> -1 | H37: =E37-C37 -> 1 | J37: =IFERROR(VLOOKUP(IF(VLOOKUP(I29&$A37,$AD$336:$AL$566,6,FALSE)="C",VLOOKUP(I29&$A37,$AD$336:$AL$566,4,FALSE),VLOOKUP(I29&$A37,$AD$336:$AL$566,5,FALSE)),Tabelas!$O$9:$P$30,2,FALSE),"") -> Holanda | K37: 1 | L37: X | M37: 0 | N37: =IFERROR(VLOOKUP(IF(VLOOKUP(I29&$A37,$AD$336:$AL$566,6,FALSE)="F",VLOOKUP(I29&$A37,$AD$336:$AL$566,4,FALSE),VLOOKUP(I29&$A37,$AD$336:$AL$566,5,FALSE)),Tabelas!$O$9:$P$30,2,FALSE),"") -> Bélgica | O37: =K37-M37 -> 1 | P37: =M37-K37 -> -1 | R37: =IFERROR(VLOOKUP(IF(VLOOKUP(Q29&$A37,$AD$336:$AL$566,6,FALSE)="C",VLOOKUP(Q29&$A37,$AD$336:$AL$566,4,FALSE),VLOOKUP(Q29&$A37,$AD$336:$AL$566,5,FALSE)),Tabelas!$O$9:$P$30,2,FALSE),"") -> Eslovênia | S37: 2 | T37: X | U37: 0 | V37: =IFERROR(VLOOKUP(IF(VLOOKUP(Q29&$A37,$AD$336:$AL$566,6,FALSE)="F",VLOOKUP(Q29&$A37,$AD$336:$AL$566,4,FALSE),VLOOKUP(Q29&$A37,$AD$336:$AL$566,5,FALSE)),Tabelas!$O$9:$P$30,2,FALSE),"") -> Bélgica | W37: =S37-U37 -> 2 | X37: =U37-S37 -> -2
A39: j5 | B39: =IFERROR(VLOOKUP(IF(VLOOKUP(A29&$A39,$AD$336:$AL$566,6,FALSE)="C",VLOOKUP(A29&$A39,$AD$336:$AL$566,4,FALSE),VLOOKUP(A29&$A39,$AD$336:$AL$566,5,FALSE)),Tabelas!$O$9:$P$30,2,FALSE),"") -> Dinamarca | C39: 0 | D39: X | E39: 1 | F39: =IFERROR(VLOOKUP(IF(VLOOKUP(A29&$A39,$AD$336:$AL$566,6,FALSE)="F",VLOOKUP(A29&$A39,$AD$336:$AL$566,4,FALSE),VLOOKUP(A29&$A39,$AD$336:$AL$566,5,FALSE)),Tabelas!$O$9:$P$30,2,FALSE),"") -> Inglaterra | G39: =C39-E39 -> -1 | H39: =E39-C39 -> 1 | J39: =IFERROR(VLOOKUP(IF(VLOOKUP(I29&$A39,$AD$336:$AL$566,6,FALSE)="C",VLOOKUP(I29&$A39,$AD$336:$AL$566,4,FALSE),VLOOKUP(I29&$A39,$AD$336:$AL$566,5,FALSE)),Tabelas!$O$9:$P$30,2,FALSE),"") -> Dinamarca | K39: 1 | L39: X | M39: 0 | N39: =IFERROR(VLOOKUP(IF(VLOOKUP(I29&$A39,$AD$336:$AL$566,6,FALSE)="F",VLOOKUP(I29&$A39,$AD$336:$AL$566,4,FALSE),VLOOKUP(I29&$A39,$AD$336:$AL$566,5,FALSE)),Tabelas!$O$9:$P$30,2,FALSE),"") -> França | O39: =K39-M39 -> 1 | P39: =M39-K39 -> -1 | R39: =IFERROR(VLOOKUP(IF(VLOOKUP(Q29&$A39,$AD$336:$AL$566,6,FALSE)="C",VLOOKUP(Q29&$A39,$AD$336:$AL$566,4,FALSE),VLOOKUP(Q29&$A39,$AD$336:$AL$566,5,FALSE)),Tabelas!$O$9:$P$30,2,FALSE),"") -> Dinamarca | S39: 0 | T39: X | U39: 0 | V39: =IFERROR(VLOOKUP(IF(VLOOKUP(Q29&$A39,$AD$336:$AL$566,6,FALSE)="F",VLOOKUP(Q29&$A39,$AD$336:$AL$566,4,FALSE),VLOOKUP(Q29&$A39,$AD$336:$AL$566,5,FALSE)),Tabelas!$O$9:$P$30,2,FALSE),"") -> Escócia | W39: =S39-U39 -> 0 | X39: =U39-S39 -> 0
A41: j6 | B41: =IFERROR(VLOOKUP(IF(VLOOKUP(A29&$A41,$AD$336:$AL$566,6,FALSE)="C",VLOOKUP(A29&$A41,$AD$336:$AL$566,4,FALSE),VLOOKUP(A29&$A41,$AD$336:$AL$566,5,FALSE)),Tabelas!$O$9:$P$30,2,FALSE),"") -> Escócia | C41: 1 | D41: X | E41: 0 | F41: =IFERROR(VLOOKUP(IF(VLOOKUP(A29&$A41,$AD$336:$AL$566,6,FALSE)="F",VLOOKUP(A29&$A41,$AD$336:$AL$566,4,FALSE),VLOOKUP(A29&$A41,$AD$336:$AL$566,5,FALSE)),Tabelas!$O$9:$P$30,2,FALSE),"") -> Holanda | G41: =C41-E41 -> 1 | H41: =E41-C41 -> -1 | J41: =IFERROR(VLOOKUP(IF(VLOOKUP(I29&$A41,$AD$336:$AL$566,6,FALSE)="C",VLOOKUP(I29&$A41,$AD$336:$AL$566,4,FALSE),VLOOKUP(I29&$A41,$AD$336:$AL$566,5,FALSE)),Tabelas!$O$9:$P$30,2,FALSE),"") -> Escócia | K41: 1 | L41: X | M41: 1 | N41: =IFERROR(VLOOKUP(IF(VLOOKUP(I29&$A41,$AD$336:$AL$566,6,FALSE)="F",VLOOKUP(I29&$A41,$AD$336:$AL$566,4,FALSE),VLOOKUP(I29&$A41,$AD$336:$AL$566,5,FALSE)),Tabelas!$O$9:$P$30,2,FALSE),"") -> Eslovênia | O41: =K41-M41 -> 0 | P41: =M41-K41 -> 0 | R41: =IFERROR(VLOOKUP(IF(VLOOKUP(Q29&$A41,$AD$336:$AL$566,6,FALSE)="C",VLOOKUP(Q29&$A41,$AD$336:$AL$566,4,FALSE),VLOOKUP(Q29&$A41,$AD$336:$AL$566,5,FALSE)),Tabelas!$O$9:$P$30,2,FALSE),"") -> Turquia | S41: 0 | T41: X | U41: 1 | V41: =IFERROR(VLOOKUP(IF(VLOOKUP(Q29&$A41,$AD$336:$AL$566,6,FALSE)="F",VLOOKUP(Q29&$A41,$AD$336:$AL$566,4,FALSE),VLOOKUP(Q29&$A41,$AD$336:$AL$566,5,FALSE)),Tabelas!$O$9:$P$30,2,FALSE),"") -> Inglaterra | W41: =S41-U41 -> -1 | X41: =U41-S41 -> 1
A43: j7 | B43: =IFERROR(VLOOKUP(IF(VLOOKUP(A29&$A43,$AD$336:$AL$566,6,FALSE)="C",VLOOKUP(A29&$A43,$AD$336:$AL$566,4,FALSE),VLOOKUP(A29&$A43,$AD$336:$AL$566,5,FALSE)),Tabelas!$O$9:$P$30,2,FALSE),"") -> França | C43: 0 | D43: X | E43: 0 | F43: =IFERROR(VLOOKUP(IF(VLOOKUP(A29&$A43,$AD$336:$AL$566,6,FALSE)="F",VLOOKUP(A29&$A43,$AD$336:$AL$566,4,FALSE),VLOOKUP(A29&$A43,$AD$336:$AL$566,5,FALSE)),Tabelas!$O$9:$P$30,2,FALSE),"") -> Eslovênia | G43: =C43-E43 -> 0 | H43: =E43-C43 -> 0 | J43: =IFERROR(VLOOKUP(IF(VLOOKUP(I29&$A43,$AD$336:$AL$566,6,FALSE)="C",VLOOKUP(I29&$A43,$AD$336:$AL$566,4,FALSE),VLOOKUP(I29&$A43,$AD$336:$AL$566,5,FALSE)),Tabelas!$O$9:$P$30,2,FALSE),"") -> Itália | K43: 0 | L43: X | M43: 3 | N43: =IFERROR(VLOOKUP(IF(VLOOKUP(I29&$A43,$AD$336:$AL$566,6,FALSE)="F",VLOOKUP(I29&$A43,$AD$336:$AL$566,4,FALSE),VLOOKUP(I29&$A43,$AD$336:$AL$566,5,FALSE)),Tabelas!$O$9:$P$30,2,FALSE),"") -> Turquia | O43: =K43-M43 -> -3 | P43: =M43-K43 -> 3 | R43: =IFERROR(VLOOKUP(IF(VLOOKUP(Q29&$A43,$AD$336:$AL$566,6,FALSE)="C",VLOOKUP(Q29&$A43,$AD$336:$AL$566,4,FALSE),VLOOKUP(Q29&$A43,$AD$336:$AL$566,5,FALSE)),Tabelas!$O$9:$P$30,2,FALSE),"") -> Irlanda | S43: 0 | T43: X | U43: 1 | V43: =IFERROR(VLOOKUP(IF(VLOOKUP(Q29&$A43,$AD$336:$AL$566,6,FALSE)="F",VLOOKUP(Q29&$A43,$AD$336:$AL$566,4,FALSE),VLOOKUP(Q29&$A43,$AD$336:$AL$566,5,FALSE)),Tabelas!$O$9:$P$30,2,FALSE),"") -> Suíça | W43: =S43-U43 -> -1 | X43: =U43-S43 -> 1
A45: j8 | B45: =IFERROR(VLOOKUP(IF(VLOOKUP(A29&$A45,$AD$336:$AL$566,6,FALSE)="C",VLOOKUP(A29&$A45,$AD$336:$AL$566,4,FALSE),VLOOKUP(A29&$A45,$AD$336:$AL$566,5,FALSE)),Tabelas!$O$9:$P$30,2,FALSE),"") -> Turquia | C45: 0 | D45: X | E45: 1 | F45: =IFERROR(VLOOKUP(IF(VLOOKUP(A29&$A45,$AD$336:$AL$566,6,FALSE)="F",VLOOKUP(A29&$A45,$AD$336:$AL$566,4,FALSE),VLOOKUP(A29&$A45,$AD$336:$AL$566,5,FALSE)),Tabelas!$O$9:$P$30,2,FALSE),"") -> País de Gales | G45: =C45-E45 -> -1 | H45: =E45-C45 -> 1 | J45: =IFERROR(VLOOKUP(IF(VLOOKUP(I29&$A45,$AD$336:$AL$566,6,FALSE)="C",VLOOKUP(I29&$A45,$AD$336:$AL$566,4,FALSE),VLOOKUP(I29&$A45,$AD$336:$AL$566,5,FALSE)),Tabelas!$O$9:$P$30,2,FALSE),"") -> Suíça | K45: 0 | L45: X | M45: 0 | N45: =IFERROR(VLOOKUP(IF(VLOOKUP(I29&$A45,$AD$336:$AL$566,6,FALSE)="F",VLOOKUP(I29&$A45,$AD$336:$AL$566,4,FALSE),VLOOKUP(I29&$A45,$AD$336:$AL$566,5,FALSE)),Tabelas!$O$9:$P$30,2,FALSE),"") -> Noruega | O45: =K45-M45 -> 0 | P45: =M45-K45 -> 0 | R45: =IFERROR(VLOOKUP(IF(VLOOKUP(Q29&$A45,$AD$336:$AL$566,6,FALSE)="C",VLOOKUP(Q29&$A45,$AD$336:$AL$566,4,FALSE),VLOOKUP(Q29&$A45,$AD$336:$AL$566,5,FALSE)),Tabelas!$O$9:$P$30,2,FALSE),"") -> Itália | S45: 1 | T45: X | U45: 1 | V45: =IFERROR(VLOOKUP(IF(VLOOKUP(Q29&$A45,$AD$336:$AL$566,6,FALSE)="F",VLOOKUP(Q29&$A45,$AD$336:$AL$566,4,FALSE),VLOOKUP(Q29&$A45,$AD$336:$AL$566,5,FALSE)),Tabelas!$O$9:$P$30,2,FALSE),"") -> Suécia | W45: =S45-U45 -> 0 | X45: =U45-S45 -> 0
A47: j9 | B47: =IFERROR(VLOOKUP(IF(VLOOKUP(A29&$A47,$AD$336:$AL$566,6,FALSE)="C",VLOOKUP(A29&$A47,$AD$336:$AL$566,4,FALSE),VLOOKUP(A29&$A47,$AD$336:$AL$566,5,FALSE)),Tabelas!$O$9:$P$30,2,FALSE),"") -> Polônia | C47: 1 | D47: X | E47: 2 | F47: =IFERROR(VLOOKUP(IF(VLOOKUP(A29&$A47,$AD$336:$AL$566,6,FALSE)="F",VLOOKUP(A29&$A47,$AD$336:$AL$566,4,FALSE),VLOOKUP(A29&$A47,$AD$336:$AL$566,5,FALSE)),Tabelas!$O$9:$P$30,2,FALSE),"") -> Suíça | G47: =C47-E47 -> -1 | H47: =E47-C47 -> 1 | J47: =IFERROR(VLOOKUP(IF(VLOOKUP(I29&$A47,$AD$336:$AL$566,6,FALSE)="C",VLOOKUP(I29&$A47,$AD$336:$AL$566,4,FALSE),VLOOKUP(I29&$A47,$AD$336:$AL$566,5,FALSE)),Tabelas!$O$9:$P$30,2,FALSE),"") -> Suécia | K47: 0 | L47: X | M47: 0 | N47: =IFERROR(VLOOKUP(IF(VLOOKUP(I29&$A47,$AD$336:$AL$566,6,FALSE)="F",VLOOKUP(I29&$A47,$AD$336:$AL$566,4,FALSE),VLOOKUP(I29&$A47,$AD$336:$AL$566,5,FALSE)),Tabelas!$O$9:$P$30,2,FALSE),"") -> País de Gales | O47: =K47-M47 -> 0 | P47: =M47-K47 -> 0 | R47: =IFERROR(VLOOKUP(IF(VLOOKUP(Q29&$A47,$AD$336:$AL$566,6,FALSE)="C",VLOOKUP(Q29&$A47,$AD$336:$AL$566,4,FALSE),VLOOKUP(Q29&$A47,$AD$336:$AL$566,5,FALSE)),Tabelas!$O$9:$P$30,2,FALSE),"") -> Romênia | S47: 0 | T47: X | U47: 2 | V47: =IFERROR(VLOOKUP(IF(VLOOKUP(Q29&$A47,$AD$336:$AL$566,6,FALSE)="F",VLOOKUP(Q29&$A47,$AD$336:$AL$566,4,FALSE),VLOOKUP(Q29&$A47,$AD$336:$AL$566,5,FALSE)),Tabelas!$O$9:$P$30,2,FALSE),"") -> Noruega | W47: =S47-U47 -> -2 | X47: =U47-S47 -> 2
A49: j10 | B49: =IFERROR(VLOOKUP(IF(VLOOKUP(A29&$A49,$AD$336:$AL$566,6,FALSE)="C",VLOOKUP(A29&$A49,$AD$336:$AL$566,4,FALSE),VLOOKUP(A29&$A49,$AD$336:$AL$566,5,FALSE)),Tabelas!$O$9:$P$30,2,FALSE),"") -> Rep. Tcheca | C49: 1 | D49: X | E49: 4 | F49: =IFERROR(VLOOKUP(IF(VLOOKUP(A29&$A49,$AD$336:$AL$566,6,FALSE)="F",VLOOKUP(A29&$A49,$AD$336:$AL$566,4,FALSE),VLOOKUP(A29&$A49,$AD$336:$AL$566,5,FALSE)),Tabelas!$O$9:$P$30,2,FALSE),"") -> Suécia | G49: =C49-E49 -> -3 | H49: =E49-C49 -> 3 | J49: =IFERROR(VLOOKUP(IF(VLOOKUP(I29&$A49,$AD$336:$AL$566,6,FALSE)="C",VLOOKUP(I29&$A49,$AD$336:$AL$566,4,FALSE),VLOOKUP(I29&$A49,$AD$336:$AL$566,5,FALSE)),Tabelas!$O$9:$P$30,2,FALSE),"") -> Polônia | K49: 3 | L49: X | M49: 0 | N49: =IFERROR(VLOOKUP(IF(VLOOKUP(I29&$A49,$AD$336:$AL$566,6,FALSE)="F",VLOOKUP(I29&$A49,$AD$336:$AL$566,4,FALSE),VLOOKUP(I29&$A49,$AD$336:$AL$566,5,FALSE)),Tabelas!$O$9:$P$30,2,FALSE),"") -> Romênia | O49: =K49-M49 -> 3 | P49: =M49-K49 -> -3 | R49: =IFERROR(VLOOKUP(IF(VLOOKUP(Q29&$A49,$AD$336:$AL$566,6,FALSE)="C",VLOOKUP(Q29&$A49,$AD$336:$AL$566,4,FALSE),VLOOKUP(Q29&$A49,$AD$336:$AL$566,5,FALSE)),Tabelas!$O$9:$P$30,2,FALSE),"") -> Rep. Tcheca | S49: 0 | T49: X | U49: 1 | V49: =IFERROR(VLOOKUP(IF(VLOOKUP(Q29&$A49,$AD$336:$AL$566,6,FALSE)="F",VLOOKUP(Q29&$A49,$AD$336:$AL$566,4,FALSE),VLOOKUP(Q29&$A49,$AD$336:$AL$566,5,FALSE)),Tabelas!$O$9:$P$30,2,FALSE),"") -> País de Gales | W49: =S49-U49 -> -1 | X49: =U49-S49 -> 1
A51: j11 | B51: =IFERROR(VLOOKUP(IF(VLOOKUP(A29&$A51,$AD$336:$AL$566,6,FALSE)="C",VLOOKUP(A29&$A51,$AD$336:$AL$566,4,FALSE),VLOOKUP(A29&$A51,$AD$336:$AL$566,5,FALSE)),Tabelas!$O$9:$P$30,2,FALSE),"") | D51: X | F51: =IFERROR(VLOOKUP(IF(VLOOKUP(A29&$A51,$AD$336:$AL$566,6,FALSE)="F",VLOOKUP(A29&$A51,$AD$336:$AL$566,4,FALSE),VLOOKUP(A29&$A51,$AD$336:$AL$566,5,FALSE)),Tabelas!$O$9:$P$30,2,FALSE),"") | G51: =C51-E51 -> 0 | H51: =E51-C51 -> 0 | J51: =IFERROR(VLOOKUP(IF(VLOOKUP(I29&$A51,$AD$336:$AL$566,6,FALSE)="C",VLOOKUP(I29&$A51,$AD$336:$AL$566,4,FALSE),VLOOKUP(I29&$A51,$AD$336:$AL$566,5,FALSE)),Tabelas!$O$9:$P$30,2,FALSE),"") | L51: X | N51: =IFERROR(VLOOKUP(IF(VLOOKUP(I29&$A51,$AD$336:$AL$566,6,FALSE)="F",VLOOKUP(I29&$A51,$AD$336:$AL$566,4,FALSE),VLOOKUP(I29&$A51,$AD$336:$AL$566,5,FALSE)),Tabelas!$O$9:$P$30,2,FALSE),"") | O51: =K51-M51 -> 0 | P51: =M51-K51 -> 0 | R51: =IFERROR(VLOOKUP(IF(VLOOKUP(Q29&$A51,$AD$336:$AL$566,6,FALSE)="C",VLOOKUP(Q29&$A51,$AD$336:$AL$566,4,FALSE),VLOOKUP(Q29&$A51,$AD$336:$AL$566,5,FALSE)),Tabelas!$O$9:$P$30,2,FALSE),"") | T51: X | V51: =IFERROR(VLOOKUP(IF(VLOOKUP(Q29&$A51,$AD$336:$AL$566,6,FALSE)="F",VLOOKUP(Q29&$A51,$AD$336:$AL$566,4,FALSE),VLOOKUP(Q29&$A51,$AD$336:$AL$566,5,FALSE)),Tabelas!$O$9:$P$30,2,FALSE),"") | W51: =S51-U51 -> 0 | X51: =U51-S51 -> 0
A54: 7 | B54: =A54&"ª Rodada" -> 7ª Rodada | I54: 8 | J54: =I54&"ª Rodada" -> 8ª Rodada | Q54: 9 | R54: =Q54&"ª Rodada" -> 9ª Rodada
A56: j1 | B56: =IFERROR(VLOOKUP(IF(VLOOKUP(A54&$A56,$AD$336:$AL$566,6,FALSE)="C",VLOOKUP(A54&$A56,$AD$336:$AL$566,4,FALSE),VLOOKUP(A54&$A56,$AD$336:$AL$566,5,FALSE)),Tabelas!$O$9:$P$30,2,FALSE),"") -> DESISTIU | D56: X | F56: =IFERROR(VLOOKUP(IF(VLOOKUP(A54&$A56,$AD$336:$AL$566,6,FALSE)="F",VLOOKUP(A54&$A56,$AD$336:$AL$566,4,FALSE),VLOOKUP(A54&$A56,$AD$336:$AL$566,5,FALSE)),Tabelas!$O$9:$P$30,2,FALSE),"") -> País de Gales | G56: =C56-E56 -> 0 | H56: =E56-C56 -> 0 | J56: =IFERROR(VLOOKUP(IF(VLOOKUP(I54&$A56,$AD$336:$AL$566,6,FALSE)="C",VLOOKUP(I54&$A56,$AD$336:$AL$566,4,FALSE),VLOOKUP(I54&$A56,$AD$336:$AL$566,5,FALSE)),Tabelas!$O$9:$P$30,2,FALSE),"") -> Noruega | L56: X | N56: =IFERROR(VLOOKUP(IF(VLOOKUP(I54&$A56,$AD$336:$AL$566,6,FALSE)="F",VLOOKUP(I54&$A56,$AD$336:$AL$566,4,FALSE),VLOOKUP(I54&$A56,$AD$336:$AL$566,5,FALSE)),Tabelas!$O$9:$P$30,2,FALSE),"") -> DESISTIU | O56: =K56-M56 -> 0 | P56: =M56-K56 -> 0 | R56: =IFERROR(VLOOKUP(IF(VLOOKUP(Q54&$A56,$AD$336:$AL$566,6,FALSE)="C",VLOOKUP(Q54&$A56,$AD$336:$AL$566,4,FALSE),VLOOKUP(Q54&$A56,$AD$336:$AL$566,5,FALSE)),Tabelas!$O$9:$P$30,2,FALSE),"") -> DESISTIU | T56: X | V56: =IFERROR(VLOOKUP(IF(VLOOKUP(Q54&$A56,$AD$336:$AL$566,6,FALSE)="F",VLOOKUP(Q54&$A56,$AD$336:$AL$566,4,FALSE),VLOOKUP(Q54&$A56,$AD$336:$AL$566,5,FALSE)),Tabelas!$O$9:$P$30,2,FALSE),"") -> Itália | W56: =S56-U56 -> 0 | X56: =U56-S56 -> 0
A58: j2 | B58: =IFERROR(VLOOKUP(IF(VLOOKUP(A54&$A58,$AD$336:$AL$566,6,FALSE)="C",VLOOKUP(A54&$A58,$AD$336:$AL$566,4,FALSE),VLOOKUP(A54&$A58,$AD$336:$AL$566,5,FALSE)),Tabelas!$O$9:$P$30,2,FALSE),"") -> Alemanha | C58: 0 | D58: X | E58: 0 | F58: =IFERROR(VLOOKUP(IF(VLOOKUP(A54&$A58,$AD$336:$AL$566,6,FALSE)="F",VLOOKUP(A54&$A58,$AD$336:$AL$566,4,FALSE),VLOOKUP(A54&$A58,$AD$336:$AL$566,5,FALSE)),Tabelas!$O$9:$P$30,2,FALSE),"") -> Eslovênia | G58: =C58-E58 -> 0 | H58: =E58-C58 -> 0 | J58: =IFERROR(VLOOKUP(IF(VLOOKUP(I54&$A58,$AD$336:$AL$566,6,FALSE)="C",VLOOKUP(I54&$A58,$AD$336:$AL$566,4,FALSE),VLOOKUP(I54&$A58,$AD$336:$AL$566,5,FALSE)),Tabelas!$O$9:$P$30,2,FALSE),"") -> Alemanha | K58: 2 | L58: X | M58: 2 | N58: =IFERROR(VLOOKUP(IF(VLOOKUP(I54&$A58,$AD$336:$AL$566,6,FALSE)="F",VLOOKUP(I54&$A58,$AD$336:$AL$566,4,FALSE),VLOOKUP(I54&$A58,$AD$336:$AL$566,5,FALSE)),Tabelas!$O$9:$P$30,2,FALSE),"") -> Dinamarca | O58: =K58-M58 -> 0 | P58: =M58-K58 -> 0 | R58: =IFERROR(VLOOKUP(IF(VLOOKUP(Q54&$A58,$AD$336:$AL$566,6,FALSE)="C",VLOOKUP(Q54&$A58,$AD$336:$AL$566,4,FALSE),VLOOKUP(Q54&$A58,$AD$336:$AL$566,5,FALSE)),Tabelas!$O$9:$P$30,2,FALSE),"") -> Alemanha | S58: 0 | T58: X | U58: 0 | V58: =IFERROR(VLOOKUP(IF(VLOOKUP(Q54&$A58,$AD$336:$AL$566,6,FALSE)="F",VLOOKUP(Q54&$A58,$AD$336:$AL$566,4,FALSE),VLOOKUP(Q54&$A58,$AD$336:$AL$566,5,FALSE)),Tabelas!$O$9:$P$30,2,FALSE),"") -> Áustria | W58: =S58-U58 -> 0 | X58: =U58-S58 -> 0
A60: j3 | B60: =IFERROR(VLOOKUP(IF(VLOOKUP(A54&$A60,$AD$336:$AL$566,6,FALSE)="C",VLOOKUP(A54&$A60,$AD$336:$AL$566,4,FALSE),VLOOKUP(A54&$A60,$AD$336:$AL$566,5,FALSE)),Tabelas!$O$9:$P$30,2,FALSE),"") -> Escócia | C60: 4 | D60: X | E60: 1 | F60: =IFERROR(VLOOKUP(IF(VLOOKUP(A54&$A60,$AD$336:$AL$566,6,FALSE)="F",VLOOKUP(A54&$A60,$AD$336:$AL$566,4,FALSE),VLOOKUP(A54&$A60,$AD$336:$AL$566,5,FALSE)),Tabelas!$O$9:$P$30,2,FALSE),"") -> Áustria | G60: =C60-E60 -> 3 | H60: =E60-C60 -> -3 | J60: =IFERROR(VLOOKUP(IF(VLOOKUP(I54&$A60,$AD$336:$AL$566,6,FALSE)="C",VLOOKUP(I54&$A60,$AD$336:$AL$566,4,FALSE),VLOOKUP(I54&$A60,$AD$336:$AL$566,5,FALSE)),Tabelas!$O$9:$P$30,2,FALSE),"") -> Bélgica | K60: 0 | L60: X | M60: 0 | N60: =IFERROR(VLOOKUP(IF(VLOOKUP(I54&$A60,$AD$336:$AL$566,6,FALSE)="F",VLOOKUP(I54&$A60,$AD$336:$AL$566,4,FALSE),VLOOKUP(I54&$A60,$AD$336:$AL$566,5,FALSE)),Tabelas!$O$9:$P$30,2,FALSE),"") -> Áustria | O60: =K60-M60 -> 0 | P60: =M60-K60 -> 0 | R60: =IFERROR(VLOOKUP(IF(VLOOKUP(Q54&$A60,$AD$336:$AL$566,6,FALSE)="C",VLOOKUP(Q54&$A60,$AD$336:$AL$566,4,FALSE),VLOOKUP(Q54&$A60,$AD$336:$AL$566,5,FALSE)),Tabelas!$O$9:$P$30,2,FALSE),"") -> Bélgica | S60: 0 | T60: X | U60: 1 | V60: =IFERROR(VLOOKUP(IF(VLOOKUP(Q54&$A60,$AD$336:$AL$566,6,FALSE)="F",VLOOKUP(Q54&$A60,$AD$336:$AL$566,4,FALSE),VLOOKUP(Q54&$A60,$AD$336:$AL$566,5,FALSE)),Tabelas!$O$9:$P$30,2,FALSE),"") -> Turquia | W60: =S60-U60 -> -1 | X60: =U60-S60 -> 1
A62: j4 | B62: =IFERROR(VLOOKUP(IF(VLOOKUP(A54&$A62,$AD$336:$AL$566,6,FALSE)="C",VLOOKUP(A54&$A62,$AD$336:$AL$566,4,FALSE),VLOOKUP(A54&$A62,$AD$336:$AL$566,5,FALSE)),Tabelas!$O$9:$P$30,2,FALSE),"") -> Dinamarca | C62: 0 | D62: X | E62: 0 | F62: =IFERROR(VLOOKUP(IF(VLOOKUP(A54&$A62,$AD$336:$AL$566,6,FALSE)="F",VLOOKUP(A54&$A62,$AD$336:$AL$566,4,FALSE),VLOOKUP(A54&$A62,$AD$336:$AL$566,5,FALSE)),Tabelas!$O$9:$P$30,2,FALSE),"") -> Bélgica | G62: =C62-E62 -> 0 | H62: =E62-C62 -> 0 | J62: =IFERROR(VLOOKUP(IF(VLOOKUP(I54&$A62,$AD$336:$AL$566,6,FALSE)="C",VLOOKUP(I54&$A62,$AD$336:$AL$566,4,FALSE),VLOOKUP(I54&$A62,$AD$336:$AL$566,5,FALSE)),Tabelas!$O$9:$P$30,2,FALSE),"") -> Turquia | K62: 0 | L62: X | M62: 2 | N62: =IFERROR(VLOOKUP(IF(VLOOKUP(I54&$A62,$AD$336:$AL$566,6,FALSE)="F",VLOOKUP(I54&$A62,$AD$336:$AL$566,4,FALSE),VLOOKUP(I54&$A62,$AD$336:$AL$566,5,FALSE)),Tabelas!$O$9:$P$30,2,FALSE),"") -> Escócia | O62: =K62-M62 -> -2 | P62: =M62-K62 -> 2 | R62: =IFERROR(VLOOKUP(IF(VLOOKUP(Q54&$A62,$AD$336:$AL$566,6,FALSE)="C",VLOOKUP(Q54&$A62,$AD$336:$AL$566,4,FALSE),VLOOKUP(Q54&$A62,$AD$336:$AL$566,5,FALSE)),Tabelas!$O$9:$P$30,2,FALSE),"") -> Suíça | S62: 4 | T62: X | U62: 0 | V62: =IFERROR(VLOOKUP(IF(VLOOKUP(Q54&$A62,$AD$336:$AL$566,6,FALSE)="F",VLOOKUP(Q54&$A62,$AD$336:$AL$566,4,FALSE),VLOOKUP(Q54&$A62,$AD$336:$AL$566,5,FALSE)),Tabelas!$O$9:$P$30,2,FALSE),"") -> Dinamarca | W62: =S62-U62 -> 4 | X62: =U62-S62 -> -4
A64: j5 | B64: =IFERROR(VLOOKUP(IF(VLOOKUP(A54&$A64,$AD$336:$AL$566,6,FALSE)="C",VLOOKUP(A54&$A64,$AD$336:$AL$566,4,FALSE),VLOOKUP(A54&$A64,$AD$336:$AL$566,5,FALSE)),Tabelas!$O$9:$P$30,2,FALSE),"") -> França | C64: 1 | D64: X | E64: 1 | F64: =IFERROR(VLOOKUP(IF(VLOOKUP(A54&$A64,$AD$336:$AL$566,6,FALSE)="F",VLOOKUP(A54&$A64,$AD$336:$AL$566,4,FALSE),VLOOKUP(A54&$A64,$AD$336:$AL$566,5,FALSE)),Tabelas!$O$9:$P$30,2,FALSE),"") -> Turquia | G64: =C64-E64 -> 0 | H64: =E64-C64 -> 0 | J64: =IFERROR(VLOOKUP(IF(VLOOKUP(I54&$A64,$AD$336:$AL$566,6,FALSE)="C",VLOOKUP(I54&$A64,$AD$336:$AL$566,4,FALSE),VLOOKUP(I54&$A64,$AD$336:$AL$566,5,FALSE)),Tabelas!$O$9:$P$30,2,FALSE),"") -> Eslovênia | K64: 0 | L64: X | M64: 1 | N64: =IFERROR(VLOOKUP(IF(VLOOKUP(I54&$A64,$AD$336:$AL$566,6,FALSE)="F",VLOOKUP(I54&$A64,$AD$336:$AL$566,4,FALSE),VLOOKUP(I54&$A64,$AD$336:$AL$566,5,FALSE)),Tabelas!$O$9:$P$30,2,FALSE),"") -> Suíça | O64: =K64-M64 -> -1 | P64: =M64-K64 -> 1 | R64: =IFERROR(VLOOKUP(IF(VLOOKUP(Q54&$A64,$AD$336:$AL$566,6,FALSE)="C",VLOOKUP(Q54&$A64,$AD$336:$AL$566,4,FALSE),VLOOKUP(Q54&$A64,$AD$336:$AL$566,5,FALSE)),Tabelas!$O$9:$P$30,2,FALSE),"") -> Suécia | S64: 0 | T64: X | U64: 5 | V64: =IFERROR(VLOOKUP(IF(VLOOKUP(Q54&$A64,$AD$336:$AL$566,6,FALSE)="F",VLOOKUP(Q54&$A64,$AD$336:$AL$566,4,FALSE),VLOOKUP(Q54&$A64,$AD$336:$AL$566,5,FALSE)),Tabelas!$O$9:$P$30,2,FALSE),"") -> Escócia | W64: =S64-U64 -> -5 | X64: =U64-S64 -> 5
A66: j6 | B66: =IFERROR(VLOOKUP(IF(VLOOKUP(A54&$A66,$AD$336:$AL$566,6,FALSE)="C",VLOOKUP(A54&$A66,$AD$336:$AL$566,4,FALSE),VLOOKUP(A54&$A66,$AD$336:$AL$566,5,FALSE)),Tabelas!$O$9:$P$30,2,FALSE),"") -> Suíça | C66: 0 | D66: X | E66: 0 | F66: =IFERROR(VLOOKUP(IF(VLOOKUP(A54&$A66,$AD$336:$AL$566,6,FALSE)="F",VLOOKUP(A54&$A66,$AD$336:$AL$566,4,FALSE),VLOOKUP(A54&$A66,$AD$336:$AL$566,5,FALSE)),Tabelas!$O$9:$P$30,2,FALSE),"") -> Holanda | G66: =C66-E66 -> 0 | H66: =E66-C66 -> 0 | J66: =IFERROR(VLOOKUP(IF(VLOOKUP(I54&$A66,$AD$336:$AL$566,6,FALSE)="C",VLOOKUP(I54&$A66,$AD$336:$AL$566,4,FALSE),VLOOKUP(I54&$A66,$AD$336:$AL$566,5,FALSE)),Tabelas!$O$9:$P$30,2,FALSE),"") -> França | K66: 0 | L66: X | M66: 1 | N66: =IFERROR(VLOOKUP(IF(VLOOKUP(I54&$A66,$AD$336:$AL$566,6,FALSE)="F",VLOOKUP(I54&$A66,$AD$336:$AL$566,4,FALSE),VLOOKUP(I54&$A66,$AD$336:$AL$566,5,FALSE)),Tabelas!$O$9:$P$30,2,FALSE),"") -> Suécia | O66: =K66-M66 -> -1 | P66: =M66-K66 -> 1 | R66: =IFERROR(VLOOKUP(IF(VLOOKUP(Q54&$A66,$AD$336:$AL$566,6,FALSE)="C",VLOOKUP(Q54&$A66,$AD$336:$AL$566,4,FALSE),VLOOKUP(Q54&$A66,$AD$336:$AL$566,5,FALSE)),Tabelas!$O$9:$P$30,2,FALSE),"") -> Eslovênia | S66: 0 | T66: X | U66: 1 | V66: =IFERROR(VLOOKUP(IF(VLOOKUP(Q54&$A66,$AD$336:$AL$566,6,FALSE)="F",VLOOKUP(Q54&$A66,$AD$336:$AL$566,4,FALSE),VLOOKUP(Q54&$A66,$AD$336:$AL$566,5,FALSE)),Tabelas!$O$9:$P$30,2,FALSE),"") -> Romênia | W66: =S66-U66 -> -1 | X66: =U66-S66 -> 1
A68: j7 | B68: =IFERROR(VLOOKUP(IF(VLOOKUP(A54&$A68,$AD$336:$AL$566,6,FALSE)="C",VLOOKUP(A54&$A68,$AD$336:$AL$566,4,FALSE),VLOOKUP(A54&$A68,$AD$336:$AL$566,5,FALSE)),Tabelas!$O$9:$P$30,2,FALSE),"") -> Suécia | C68: 2 | D68: X | E68: 1 | F68: =IFERROR(VLOOKUP(IF(VLOOKUP(A54&$A68,$AD$336:$AL$566,6,FALSE)="F",VLOOKUP(A54&$A68,$AD$336:$AL$566,4,FALSE),VLOOKUP(A54&$A68,$AD$336:$AL$566,5,FALSE)),Tabelas!$O$9:$P$30,2,FALSE),"") -> Inglaterra | G68: =C68-E68 -> 1 | H68: =E68-C68 -> -1 | J68: =IFERROR(VLOOKUP(IF(VLOOKUP(I54&$A68,$AD$336:$AL$566,6,FALSE)="C",VLOOKUP(I54&$A68,$AD$336:$AL$566,4,FALSE),VLOOKUP(I54&$A68,$AD$336:$AL$566,5,FALSE)),Tabelas!$O$9:$P$30,2,FALSE),"") -> Romênia | K68: 0 | L68: X | M68: 0 | N68: =IFERROR(VLOOKUP(IF(VLOOKUP(I54&$A68,$AD$336:$AL$566,6,FALSE)="F",VLOOKUP(I54&$A68,$AD$336:$AL$566,4,FALSE),VLOOKUP(I54&$A68,$AD$336:$AL$566,5,FALSE)),Tabelas!$O$9:$P$30,2,FALSE),"") -> Holanda | O68: =K68-M68 -> 0 | P68: =M68-K68 -> 0 | R68: =IFERROR(VLOOKUP(IF(VLOOKUP(Q54&$A68,$AD$336:$AL$566,6,FALSE)="C",VLOOKUP(Q54&$A68,$AD$336:$AL$566,4,FALSE),VLOOKUP(Q54&$A68,$AD$336:$AL$566,5,FALSE)),Tabelas!$O$9:$P$30,2,FALSE),"") -> França | S68: 1 | T68: X | U68: 0 | V68: =IFERROR(VLOOKUP(IF(VLOOKUP(Q54&$A68,$AD$336:$AL$566,6,FALSE)="F",VLOOKUP(Q54&$A68,$AD$336:$AL$566,4,FALSE),VLOOKUP(Q54&$A68,$AD$336:$AL$566,5,FALSE)),Tabelas!$O$9:$P$30,2,FALSE),"") -> Rep. Tcheca | W68: =S68-U68 -> 1 | X68: =U68-S68 -> -1
A70: j8 | B70: =IFERROR(VLOOKUP(IF(VLOOKUP(A54&$A70,$AD$336:$AL$566,6,FALSE)="C",VLOOKUP(A54&$A70,$AD$336:$AL$566,4,FALSE),VLOOKUP(A54&$A70,$AD$336:$AL$566,5,FALSE)),Tabelas!$O$9:$P$30,2,FALSE),"") -> Irlanda | C70: 0 | D70: X | E70: 0 | F70: =IFERROR(VLOOKUP(IF(VLOOKUP(A54&$A70,$AD$336:$AL$566,6,FALSE)="F",VLOOKUP(A54&$A70,$AD$336:$AL$566,4,FALSE),VLOOKUP(A54&$A70,$AD$336:$AL$566,5,FALSE)),Tabelas!$O$9:$P$30,2,FALSE),"") -> Romênia | G70: =C70-E70 -> 0 | H70: =E70-C70 -> 0 | J70: =IFERROR(VLOOKUP(IF(VLOOKUP(I54&$A70,$AD$336:$AL$566,6,FALSE)="C",VLOOKUP(I54&$A70,$AD$336:$AL$566,4,FALSE),VLOOKUP(I54&$A70,$AD$336:$AL$566,5,FALSE)),Tabelas!$O$9:$P$30,2,FALSE),"") -> Rep. Tcheca | K70: 0 | L70: X | M70: 2 | N70: =IFERROR(VLOOKUP(IF(VLOOKUP(I54&$A70,$AD$336:$AL$566,6,FALSE)="F",VLOOKUP(I54&$A70,$AD$336:$AL$566,4,FALSE),VLOOKUP(I54&$A70,$AD$336:$AL$566,5,FALSE)),Tabelas!$O$9:$P$30,2,FALSE),"") -> Inglaterra | O70: =K70-M70 -> -2 | P70: =M70-K70 -> 2 | R70: =IFERROR(VLOOKUP(IF(VLOOKUP(Q54&$A70,$AD$336:$AL$566,6,FALSE)="C",VLOOKUP(Q54&$A70,$AD$336:$AL$566,4,FALSE),VLOOKUP(Q54&$A70,$AD$336:$AL$566,5,FALSE)),Tabelas!$O$9:$P$30,2,FALSE),"") -> Polônia | S70: 2 | T70: X | U70: 4 | V70: =IFERROR(VLOOKUP(IF(VLOOKUP(Q54&$A70,$AD$336:$AL$566,6,FALSE)="F",VLOOKUP(Q54&$A70,$AD$336:$AL$566,4,FALSE),VLOOKUP(Q54&$A70,$AD$336:$AL$566,5,FALSE)),Tabelas!$O$9:$P$30,2,FALSE),"") -> Holanda | W70: =S70-U70 -> -2 | X70: =U70-S70 -> 2
A72: j9 | B72: =IFERROR(VLOOKUP(IF(VLOOKUP(A54&$A72,$AD$336:$AL$566,6,FALSE)="C",VLOOKUP(A54&$A72,$AD$336:$AL$566,4,FALSE),VLOOKUP(A54&$A72,$AD$336:$AL$566,5,FALSE)),Tabelas!$O$9:$P$30,2,FALSE),"") -> Itália | C72: 0 | D72: X | E72: 0 | F72: =IFERROR(VLOOKUP(IF(VLOOKUP(A54&$A72,$AD$336:$AL$566,6,FALSE)="F",VLOOKUP(A54&$A72,$AD$336:$AL$566,4,FALSE),VLOOKUP(A54&$A72,$AD$336:$AL$566,5,FALSE)),Tabelas!$O$9:$P$30,2,FALSE),"") -> Rep. Tcheca | G72: =C72-E72 -> 0 | H72: =E72-C72 -> 0 | J72: =IFERROR(VLOOKUP(IF(VLOOKUP(I54&$A72,$AD$336:$AL$566,6,FALSE)="C",VLOOKUP(I54&$A72,$AD$336:$AL$566,4,FALSE),VLOOKUP(I54&$A72,$AD$336:$AL$566,5,FALSE)),Tabelas!$O$9:$P$30,2,FALSE),"") -> Irlanda | K72: 0 | L72: X | M72: 1 | N72: =IFERROR(VLOOKUP(IF(VLOOKUP(I54&$A72,$AD$336:$AL$566,6,FALSE)="F",VLOOKUP(I54&$A72,$AD$336:$AL$566,4,FALSE),VLOOKUP(I54&$A72,$AD$336:$AL$566,5,FALSE)),Tabelas!$O$9:$P$30,2,FALSE),"") -> Polônia | O72: =K72-M72 -> -1 | P72: =M72-K72 -> 1 | R72: =IFERROR(VLOOKUP(IF(VLOOKUP(Q54&$A72,$AD$336:$AL$566,6,FALSE)="C",VLOOKUP(Q54&$A72,$AD$336:$AL$566,4,FALSE),VLOOKUP(Q54&$A72,$AD$336:$AL$566,5,FALSE)),Tabelas!$O$9:$P$30,2,FALSE),"") -> País de Gales | S72: 1 | T72: X | U72: 1 | V72: =IFERROR(VLOOKUP(IF(VLOOKUP(Q54&$A72,$AD$336:$AL$566,6,FALSE)="F",VLOOKUP(Q54&$A72,$AD$336:$AL$566,4,FALSE),VLOOKUP(Q54&$A72,$AD$336:$AL$566,5,FALSE)),Tabelas!$O$9:$P$30,2,FALSE),"") -> Inglaterra | W72: =S72-U72 -> 0 | X72: =U72-S72 -> 0
A74: j10 | B74: =IFERROR(VLOOKUP(IF(VLOOKUP(A54&$A74,$AD$336:$AL$566,6,FALSE)="C",VLOOKUP(A54&$A74,$AD$336:$AL$566,4,FALSE),VLOOKUP(A54&$A74,$AD$336:$AL$566,5,FALSE)),Tabelas!$O$9:$P$30,2,FALSE),"") -> Polônia | C74: 1 | D74: X | E74: 0 | F74: =IFERROR(VLOOKUP(IF(VLOOKUP(A54&$A74,$AD$336:$AL$566,6,FALSE)="F",VLOOKUP(A54&$A74,$AD$336:$AL$566,4,FALSE),VLOOKUP(A54&$A74,$AD$336:$AL$566,5,FALSE)),Tabelas!$O$9:$P$30,2,FALSE),"") -> Noruega | G74: =C74-E74 -> 1 | H74: =E74-C74 -> -1 | J74: =IFERROR(VLOOKUP(IF(VLOOKUP(I54&$A74,$AD$336:$AL$566,6,FALSE)="C",VLOOKUP(I54&$A74,$AD$336:$AL$566,4,FALSE),VLOOKUP(I54&$A74,$AD$336:$AL$566,5,FALSE)),Tabelas!$O$9:$P$30,2,FALSE),"") -> Itália | K74: 1 | L74: X | M74: 0 | N74: =IFERROR(VLOOKUP(IF(VLOOKUP(I54&$A74,$AD$336:$AL$566,6,FALSE)="F",VLOOKUP(I54&$A74,$AD$336:$AL$566,4,FALSE),VLOOKUP(I54&$A74,$AD$336:$AL$566,5,FALSE)),Tabelas!$O$9:$P$30,2,FALSE),"") -> País de Gales | O74: =K74-M74 -> 1 | P74: =M74-K74 -> -1 | R74: =IFERROR(VLOOKUP(IF(VLOOKUP(Q54&$A74,$AD$336:$AL$566,6,FALSE)="C",VLOOKUP(Q54&$A74,$AD$336:$AL$566,4,FALSE),VLOOKUP(Q54&$A74,$AD$336:$AL$566,5,FALSE)),Tabelas!$O$9:$P$30,2,FALSE),"") -> Irlanda | S74: 0 | T74: X | U74: 1 | V74: =IFERROR(VLOOKUP(IF(VLOOKUP(Q54&$A74,$AD$336:$AL$566,6,FALSE)="F",VLOOKUP(Q54&$A74,$AD$336:$AL$566,4,FALSE),VLOOKUP(Q54&$A74,$AD$336:$AL$566,5,FALSE)),Tabelas!$O$9:$P$30,2,FALSE),"") -> Noruega | W74: =S74-U74 -> -1 | X74: =U74-S74 -> 1
A76: j11 | B76: =IFERROR(VLOOKUP(IF(VLOOKUP(A54&$A76,$AD$336:$AL$566,6,FALSE)="C",VLOOKUP(A54&$A76,$AD$336:$AL$566,4,FALSE),VLOOKUP(A54&$A76,$AD$336:$AL$566,5,FALSE)),Tabelas!$O$9:$P$30,2,FALSE),"") | D76: X | F76: =IFERROR(VLOOKUP(IF(VLOOKUP(A54&$A76,$AD$336:$AL$566,6,FALSE)="F",VLOOKUP(A54&$A76,$AD$336:$AL$566,4,FALSE),VLOOKUP(A54&$A76,$AD$336:$AL$566,5,FALSE)),Tabelas!$O$9:$P$30,2,FALSE),"") | G76: =C76-E76 -> 0 | H76: =E76-C76 -> 0 | J76: =IFERROR(VLOOKUP(IF(VLOOKUP(I54&$A76,$AD$336:$AL$566,6,FALSE)="C",VLOOKUP(I54&$A76,$AD$336:$AL$566,4,FALSE),VLOOKUP(I54&$A76,$AD$336:$AL$566,5,FALSE)),Tabelas!$O$9:$P$30,2,FALSE),"") | L76: X | N76: =IFERROR(VLOOKUP(IF(VLOOKUP(I54&$A76,$AD$336:$AL$566,6,FALSE)="F",VLOOKUP(I54&$A76,$AD$336:$AL$566,4,FALSE),VLOOKUP(I54&$A76,$AD$336:$AL$566,5,FALSE)),Tabelas!$O$9:$P$30,2,FALSE),"") | O76: =K76-M76 -> 0 | P76: =M76-K76 -> 0 | R76: =IFERROR(VLOOKUP(IF(VLOOKUP(Q54&$A76,$AD$336:$AL$566,6,FALSE)="C",VLOOKUP(Q54&$A76,$AD$336:$AL$566,4,FALSE),VLOOKUP(Q54&$A76,$AD$336:$AL$566,5,FALSE)),Tabelas!$O$9:$P$30,2,FALSE),"") | T76: X | V76: =IFERROR(VLOOKUP(IF(VLOOKUP(Q54&$A76,$AD$336:$AL$566,6,FALSE)="F",VLOOKUP(Q54&$A76,$AD$336:$AL$566,4,FALSE),VLOOKUP(Q54&$A76,$AD$336:$AL$566,5,FALSE)),Tabelas!$O$9:$P$30,2,FALSE),"") | W76: =S76-U76 -> 0 | X76: =U76-S76 -> 0
A79: 10 | B79: =A79&"ª Rodada" -> 10ª Rodada | I79: 11 | J79: =I79&"ª Rodada" -> 11ª Rodada | Q79: 12 | R79: =Q79&"ª Rodada" -> 12ª Rodada
A81: j1 | B81: =IFERROR(VLOOKUP(IF(VLOOKUP(A79&$A81,$AD$336:$AL$566,6,FALSE)="C",VLOOKUP(A79&$A81,$AD$336:$AL$566,4,FALSE),VLOOKUP(A79&$A81,$AD$336:$AL$566,5,FALSE)),Tabelas!$O$9:$P$30,2,FALSE),"") -> Irlanda | D81: X | F81: =IFERROR(VLOOKUP(IF(VLOOKUP(A79&$A81,$AD$336:$AL$566,6,FALSE)="F",VLOOKUP(A79&$A81,$AD$336:$AL$566,4,FALSE),VLOOKUP(A79&$A81,$AD$336:$AL$566,5,FALSE)),Tabelas!$O$9:$P$30,2,FALSE),"") -> DESISTIU | G81: =C81-E81 -> 0 | H81: =E81-C81 -> 0 | J81: =IFERROR(VLOOKUP(IF(VLOOKUP(I79&$A81,$AD$336:$AL$566,6,FALSE)="C",VLOOKUP(I79&$A81,$AD$336:$AL$566,4,FALSE),VLOOKUP(I79&$A81,$AD$336:$AL$566,5,FALSE)),Tabelas!$O$9:$P$30,2,FALSE),"") -> DESISTIU | L81: X | N81: =IFERROR(VLOOKUP(IF(VLOOKUP(I79&$A81,$AD$336:$AL$566,6,FALSE)="F",VLOOKUP(I79&$A81,$AD$336:$AL$566,4,FALSE),VLOOKUP(I79&$A81,$AD$336:$AL$566,5,FALSE)),Tabelas!$O$9:$P$30,2,FALSE),"") -> Inglaterra | O81: =K81-M81 -> 0 | P81: =M81-K81 -> 0 | R81: =IFERROR(VLOOKUP(IF(VLOOKUP(Q79&$A81,$AD$336:$AL$566,6,FALSE)="C",VLOOKUP(Q79&$A81,$AD$336:$AL$566,4,FALSE),VLOOKUP(Q79&$A81,$AD$336:$AL$566,5,FALSE)),Tabelas!$O$9:$P$30,2,FALSE),"") -> Holanda | T81: X | V81: =IFERROR(VLOOKUP(IF(VLOOKUP(Q79&$A81,$AD$336:$AL$566,6,FALSE)="F",VLOOKUP(Q79&$A81,$AD$336:$AL$566,4,FALSE),VLOOKUP(Q79&$A81,$AD$336:$AL$566,5,FALSE)),Tabelas!$O$9:$P$30,2,FALSE),"") -> DESISTIU | W81: =S81-U81 -> 0 | X81: =U81-S81 -> 0
A83: j2 | B83: =IFERROR(VLOOKUP(IF(VLOOKUP(A79&$A83,$AD$336:$AL$566,6,FALSE)="C",VLOOKUP(A79&$A83,$AD$336:$AL$566,4,FALSE),VLOOKUP(A79&$A83,$AD$336:$AL$566,5,FALSE)),Tabelas!$O$9:$P$30,2,FALSE),"") -> Turquia | C83: 1 | D83: X | E83: 0 | F83: =IFERROR(VLOOKUP(IF(VLOOKUP(A79&$A83,$AD$336:$AL$566,6,FALSE)="F",VLOOKUP(A79&$A83,$AD$336:$AL$566,4,FALSE),VLOOKUP(A79&$A83,$AD$336:$AL$566,5,FALSE)),Tabelas!$O$9:$P$30,2,FALSE),"") -> Alemanha | G83: =C83-E83 -> 1 | H83: =E83-C83 -> -1 | J83: =IFERROR(VLOOKUP(IF(VLOOKUP(I79&$A83,$AD$336:$AL$566,6,FALSE)="C",VLOOKUP(I79&$A83,$AD$336:$AL$566,4,FALSE),VLOOKUP(I79&$A83,$AD$336:$AL$566,5,FALSE)),Tabelas!$O$9:$P$30,2,FALSE),"") -> Suécia | K83: 1 | L83: X | M83: 0 | N83: =IFERROR(VLOOKUP(IF(VLOOKUP(I79&$A83,$AD$336:$AL$566,6,FALSE)="F",VLOOKUP(I79&$A83,$AD$336:$AL$566,4,FALSE),VLOOKUP(I79&$A83,$AD$336:$AL$566,5,FALSE)),Tabelas!$O$9:$P$30,2,FALSE),"") -> Alemanha | O83: =K83-M83 -> 1 | P83: =M83-K83 -> -1 | R83: =IFERROR(VLOOKUP(IF(VLOOKUP(Q79&$A83,$AD$336:$AL$566,6,FALSE)="C",VLOOKUP(Q79&$A83,$AD$336:$AL$566,4,FALSE),VLOOKUP(Q79&$A83,$AD$336:$AL$566,5,FALSE)),Tabelas!$O$9:$P$30,2,FALSE),"") -> Rep. Tcheca | S83: 0 | T83: X | U83: 1 | V83: =IFERROR(VLOOKUP(IF(VLOOKUP(Q79&$A83,$AD$336:$AL$566,6,FALSE)="F",VLOOKUP(Q79&$A83,$AD$336:$AL$566,4,FALSE),VLOOKUP(Q79&$A83,$AD$336:$AL$566,5,FALSE)),Tabelas!$O$9:$P$30,2,FALSE),"") -> Alemanha | W83: =S83-U83 -> -1 | X83: =U83-S83 -> 1
A85: j3 | B85: =IFERROR(VLOOKUP(IF(VLOOKUP(A79&$A85,$AD$336:$AL$566,6,FALSE)="C",VLOOKUP(A79&$A85,$AD$336:$AL$566,4,FALSE),VLOOKUP(A79&$A85,$AD$336:$AL$566,5,FALSE)),Tabelas!$O$9:$P$30,2,FALSE),"") -> Áustria | C85: 0 | D85: X | E85: 1 | F85: =IFERROR(VLOOKUP(IF(VLOOKUP(A79&$A85,$AD$336:$AL$566,6,FALSE)="F",VLOOKUP(A79&$A85,$AD$336:$AL$566,4,FALSE),VLOOKUP(A79&$A85,$AD$336:$AL$566,5,FALSE)),Tabelas!$O$9:$P$30,2,FALSE),"") -> Suíça | G85: =C85-E85 -> -1 | H85: =E85-C85 -> 1 | J85: =IFERROR(VLOOKUP(IF(VLOOKUP(I79&$A85,$AD$336:$AL$566,6,FALSE)="C",VLOOKUP(I79&$A85,$AD$336:$AL$566,4,FALSE),VLOOKUP(I79&$A85,$AD$336:$AL$566,5,FALSE)),Tabelas!$O$9:$P$30,2,FALSE),"") -> Áustria | K85: 0 | L85: X | M85: 1 | N85: =IFERROR(VLOOKUP(IF(VLOOKUP(I79&$A85,$AD$336:$AL$566,6,FALSE)="F",VLOOKUP(I79&$A85,$AD$336:$AL$566,4,FALSE),VLOOKUP(I79&$A85,$AD$336:$AL$566,5,FALSE)),Tabelas!$O$9:$P$30,2,FALSE),"") -> Romênia | O85: =K85-M85 -> -1 | P85: =M85-K85 -> 1 | R85: =IFERROR(VLOOKUP(IF(VLOOKUP(Q79&$A85,$AD$336:$AL$566,6,FALSE)="C",VLOOKUP(Q79&$A85,$AD$336:$AL$566,4,FALSE),VLOOKUP(Q79&$A85,$AD$336:$AL$566,5,FALSE)),Tabelas!$O$9:$P$30,2,FALSE),"") -> Áustria | S85: 1 | T85: X | U85: 2 | V85: =IFERROR(VLOOKUP(IF(VLOOKUP(Q79&$A85,$AD$336:$AL$566,6,FALSE)="F",VLOOKUP(Q79&$A85,$AD$336:$AL$566,4,FALSE),VLOOKUP(Q79&$A85,$AD$336:$AL$566,5,FALSE)),Tabelas!$O$9:$P$30,2,FALSE),"") -> Polônia | W85: =S85-U85 -> -1 | X85: =U85-S85 -> 1
A87: j4 | B87: =IFERROR(VLOOKUP(IF(VLOOKUP(A79&$A87,$AD$336:$AL$566,6,FALSE)="C",VLOOKUP(A79&$A87,$AD$336:$AL$566,4,FALSE),VLOOKUP(A79&$A87,$AD$336:$AL$566,5,FALSE)),Tabelas!$O$9:$P$30,2,FALSE),"") -> Bélgica | C87: 1 | D87: X | E87: 2 | F87: =IFERROR(VLOOKUP(IF(VLOOKUP(A79&$A87,$AD$336:$AL$566,6,FALSE)="F",VLOOKUP(A79&$A87,$AD$336:$AL$566,4,FALSE),VLOOKUP(A79&$A87,$AD$336:$AL$566,5,FALSE)),Tabelas!$O$9:$P$30,2,FALSE),"") -> Suécia | G87: =C87-E87 -> -1 | H87: =E87-C87 -> 1 | J87: =IFERROR(VLOOKUP(IF(VLOOKUP(I79&$A87,$AD$336:$AL$566,6,FALSE)="C",VLOOKUP(I79&$A87,$AD$336:$AL$566,4,FALSE),VLOOKUP(I79&$A87,$AD$336:$AL$566,5,FALSE)),Tabelas!$O$9:$P$30,2,FALSE),"") -> Bélgica | K87: 0 | L87: X | M87: 0 | N87: =IFERROR(VLOOKUP(IF(VLOOKUP(I79&$A87,$AD$336:$AL$566,6,FALSE)="F",VLOOKUP(I79&$A87,$AD$336:$AL$566,4,FALSE),VLOOKUP(I79&$A87,$AD$336:$AL$566,5,FALSE)),Tabelas!$O$9:$P$30,2,FALSE),"") -> Rep. Tcheca | O87: =K87-M87 -> 0 | P87: =M87-K87 -> 0 | R87: =IFERROR(VLOOKUP(IF(VLOOKUP(Q79&$A87,$AD$336:$AL$566,6,FALSE)="C",VLOOKUP(Q79&$A87,$AD$336:$AL$566,4,FALSE),VLOOKUP(Q79&$A87,$AD$336:$AL$566,5,FALSE)),Tabelas!$O$9:$P$30,2,FALSE),"") -> Bélgica | S87: 1 | T87: X | U87: 0 | V87: =IFERROR(VLOOKUP(IF(VLOOKUP(Q79&$A87,$AD$336:$AL$566,6,FALSE)="F",VLOOKUP(Q79&$A87,$AD$336:$AL$566,4,FALSE),VLOOKUP(Q79&$A87,$AD$336:$AL$566,5,FALSE)),Tabelas!$O$9:$P$30,2,FALSE),"") -> País de Gales | W87: =S87-U87 -> 1 | X87: =U87-S87 -> -1
A89: j5 | B89: =IFERROR(VLOOKUP(IF(VLOOKUP(A79&$A89,$AD$336:$AL$566,6,FALSE)="C",VLOOKUP(A79&$A89,$AD$336:$AL$566,4,FALSE),VLOOKUP(A79&$A89,$AD$336:$AL$566,5,FALSE)),Tabelas!$O$9:$P$30,2,FALSE),"") -> Romênia | C89: 0 | D89: X | E89: 0 | F89: =IFERROR(VLOOKUP(IF(VLOOKUP(A79&$A89,$AD$336:$AL$566,6,FALSE)="F",VLOOKUP(A79&$A89,$AD$336:$AL$566,4,FALSE),VLOOKUP(A79&$A89,$AD$336:$AL$566,5,FALSE)),Tabelas!$O$9:$P$30,2,FALSE),"") -> Dinamarca | G89: =C89-E89 -> 0 | H89: =E89-C89 -> 0 | J89: =IFERROR(VLOOKUP(IF(VLOOKUP(I79&$A89,$AD$336:$AL$566,6,FALSE)="C",VLOOKUP(I79&$A89,$AD$336:$AL$566,4,FALSE),VLOOKUP(I79&$A89,$AD$336:$AL$566,5,FALSE)),Tabelas!$O$9:$P$30,2,FALSE),"") -> Polônia | K89: 3 | L89: X | M89: 1 | N89: =IFERROR(VLOOKUP(IF(VLOOKUP(I79&$A89,$AD$336:$AL$566,6,FALSE)="F",VLOOKUP(I79&$A89,$AD$336:$AL$566,4,FALSE),VLOOKUP(I79&$A89,$AD$336:$AL$566,5,FALSE)),Tabelas!$O$9:$P$30,2,FALSE),"") -> Dinamarca | O89: =K89-M89 -> 2 | P89: =M89-K89 -> -2 | R89: =IFERROR(VLOOKUP(IF(VLOOKUP(Q79&$A89,$AD$336:$AL$566,6,FALSE)="C",VLOOKUP(Q79&$A89,$AD$336:$AL$566,4,FALSE),VLOOKUP(Q79&$A89,$AD$336:$AL$566,5,FALSE)),Tabelas!$O$9:$P$30,2,FALSE),"") -> Noruega | S89: 1 | T89: X | U89: 1 | V89: =IFERROR(VLOOKUP(IF(VLOOKUP(Q79&$A89,$AD$336:$AL$566,6,FALSE)="F",VLOOKUP(Q79&$A89,$AD$336:$AL$566,4,FALSE),VLOOKUP(Q79&$A89,$AD$336:$AL$566,5,FALSE)),Tabelas!$O$9:$P$30,2,FALSE),"") -> Dinamarca | W89: =S89-U89 -> 0 | X89: =U89-S89 -> 0
A91: j6 | B91: =IFERROR(VLOOKUP(IF(VLOOKUP(A79&$A91,$AD$336:$AL$566,6,FALSE)="C",VLOOKUP(A79&$A91,$AD$336:$AL$566,4,FALSE),VLOOKUP(A79&$A91,$AD$336:$AL$566,5,FALSE)),Tabelas!$O$9:$P$30,2,FALSE),"") -> Rep. Tcheca | C91: 0 | D91: X | E91: 2 | F91: =IFERROR(VLOOKUP(IF(VLOOKUP(A79&$A91,$AD$336:$AL$566,6,FALSE)="F",VLOOKUP(A79&$A91,$AD$336:$AL$566,4,FALSE),VLOOKUP(A79&$A91,$AD$336:$AL$566,5,FALSE)),Tabelas!$O$9:$P$30,2,FALSE),"") -> Escócia | G91: =C91-E91 -> -2 | H91: =E91-C91 -> 2 | J91: =IFERROR(VLOOKUP(IF(VLOOKUP(I79&$A91,$AD$336:$AL$566,6,FALSE)="C",VLOOKUP(I79&$A91,$AD$336:$AL$566,4,FALSE),VLOOKUP(I79&$A91,$AD$336:$AL$566,5,FALSE)),Tabelas!$O$9:$P$30,2,FALSE),"") -> País de Gales | K91: 0 | L91: X | M91: 1 | N91: =IFERROR(VLOOKUP(IF(VLOOKUP(I79&$A91,$AD$336:$AL$566,6,FALSE)="F",VLOOKUP(I79&$A91,$AD$336:$AL$566,4,FALSE),VLOOKUP(I79&$A91,$AD$336:$AL$566,5,FALSE)),Tabelas!$O$9:$P$30,2,FALSE),"") -> Escócia | O91: =K91-M91 -> -1 | P91: =M91-K91 -> 1 | R91: =IFERROR(VLOOKUP(IF(VLOOKUP(Q79&$A91,$AD$336:$AL$566,6,FALSE)="C",VLOOKUP(Q79&$A91,$AD$336:$AL$566,4,FALSE),VLOOKUP(Q79&$A91,$AD$336:$AL$566,5,FALSE)),Tabelas!$O$9:$P$30,2,FALSE),"") -> Itália | S91: 0 | T91: X | U91: 1 | V91: =IFERROR(VLOOKUP(IF(VLOOKUP(Q79&$A91,$AD$336:$AL$566,6,FALSE)="F",VLOOKUP(Q79&$A91,$AD$336:$AL$566,4,FALSE),VLOOKUP(Q79&$A91,$AD$336:$AL$566,5,FALSE)),Tabelas!$O$9:$P$30,2,FALSE),"") -> Escócia | W91: =S91-U91 -> -1 | X91: =U91-S91 -> 1
A93: j7 | B93: =IFERROR(VLOOKUP(IF(VLOOKUP(A79&$A93,$AD$336:$AL$566,6,FALSE)="C",VLOOKUP(A79&$A93,$AD$336:$AL$566,4,FALSE),VLOOKUP(A79&$A93,$AD$336:$AL$566,5,FALSE)),Tabelas!$O$9:$P$30,2,FALSE),"") -> Eslovênia | C93: 1 | D93: X | E93: 2 | F93: =IFERROR(VLOOKUP(IF(VLOOKUP(A79&$A93,$AD$336:$AL$566,6,FALSE)="F",VLOOKUP(A79&$A93,$AD$336:$AL$566,4,FALSE),VLOOKUP(A79&$A93,$AD$336:$AL$566,5,FALSE)),Tabelas!$O$9:$P$30,2,FALSE),"") -> Polônia | G93: =C93-E93 -> -1 | H93: =E93-C93 -> 1 | J93: =IFERROR(VLOOKUP(IF(VLOOKUP(I79&$A93,$AD$336:$AL$566,6,FALSE)="C",VLOOKUP(I79&$A93,$AD$336:$AL$566,4,FALSE),VLOOKUP(I79&$A93,$AD$336:$AL$566,5,FALSE)),Tabelas!$O$9:$P$30,2,FALSE),"") -> Eslovênia | K93: 0 | L93: X | M93: 0 | N93: =IFERROR(VLOOKUP(IF(VLOOKUP(I79&$A93,$AD$336:$AL$566,6,FALSE)="F",VLOOKUP(I79&$A93,$AD$336:$AL$566,4,FALSE),VLOOKUP(I79&$A93,$AD$336:$AL$566,5,FALSE)),Tabelas!$O$9:$P$30,2,FALSE),"") -> Noruega | O93: =K93-M93 -> 0 | P93: =M93-K93 -> 0 | R93: =IFERROR(VLOOKUP(IF(VLOOKUP(Q79&$A93,$AD$336:$AL$566,6,FALSE)="C",VLOOKUP(Q79&$A93,$AD$336:$AL$566,4,FALSE),VLOOKUP(Q79&$A93,$AD$336:$AL$566,5,FALSE)),Tabelas!$O$9:$P$30,2,FALSE),"") -> Eslovênia | S93: 0 | T93: X | U93: 2 | V93: =IFERROR(VLOOKUP(IF(VLOOKUP(Q79&$A93,$AD$336:$AL$566,6,FALSE)="F",VLOOKUP(Q79&$A93,$AD$336:$AL$566,4,FALSE),VLOOKUP(Q79&$A93,$AD$336:$AL$566,5,FALSE)),Tabelas!$O$9:$P$30,2,FALSE),"") -> Irlanda | W93: =S93-U93 -> -2 | X93: =U93-S93 -> 2
A95: j8 | B95: =IFERROR(VLOOKUP(IF(VLOOKUP(A79&$A95,$AD$336:$AL$566,6,FALSE)="C",VLOOKUP(A79&$A95,$AD$336:$AL$566,4,FALSE),VLOOKUP(A79&$A95,$AD$336:$AL$566,5,FALSE)),Tabelas!$O$9:$P$30,2,FALSE),"") -> França | C95: 0 | D95: X | E95: 1 | F95: =IFERROR(VLOOKUP(IF(VLOOKUP(A79&$A95,$AD$336:$AL$566,6,FALSE)="F",VLOOKUP(A79&$A95,$AD$336:$AL$566,4,FALSE),VLOOKUP(A79&$A95,$AD$336:$AL$566,5,FALSE)),Tabelas!$O$9:$P$30,2,FALSE),"") -> País de Gales | G95: =C95-E95 -> -1 | H95: =E95-C95 -> 1 | J95: =IFERROR(VLOOKUP(IF(VLOOKUP(I79&$A95,$AD$336:$AL$566,6,FALSE)="C",VLOOKUP(I79&$A95,$AD$336:$AL$566,4,FALSE),VLOOKUP(I79&$A95,$AD$336:$AL$566,5,FALSE)),Tabelas!$O$9:$P$30,2,FALSE),"") -> França | K95: 0 | L95: X | M95: 1 | N95: =IFERROR(VLOOKUP(IF(VLOOKUP(I79&$A95,$AD$336:$AL$566,6,FALSE)="F",VLOOKUP(I79&$A95,$AD$336:$AL$566,4,FALSE),VLOOKUP(I79&$A95,$AD$336:$AL$566,5,FALSE)),Tabelas!$O$9:$P$30,2,FALSE),"") -> Itália | O95: =K95-M95 -> -1 | P95: =M95-K95 -> 1 | R95: =IFERROR(VLOOKUP(IF(VLOOKUP(Q79&$A95,$AD$336:$AL$566,6,FALSE)="C",VLOOKUP(Q79&$A95,$AD$336:$AL$566,4,FALSE),VLOOKUP(Q79&$A95,$AD$336:$AL$566,5,FALSE)),Tabelas!$O$9:$P$30,2,FALSE),"") -> França | S95: 0 | T95: X | U95: 2 | V95: =IFERROR(VLOOKUP(IF(VLOOKUP(Q79&$A95,$AD$336:$AL$566,6,FALSE)="F",VLOOKUP(Q79&$A95,$AD$336:$AL$566,4,FALSE),VLOOKUP(Q79&$A95,$AD$336:$AL$566,5,FALSE)),Tabelas!$O$9:$P$30,2,FALSE),"") -> Inglaterra | W95: =S95-U95 -> -2 | X95: =U95-S95 -> 2
A97: j9 | B97: =IFERROR(VLOOKUP(IF(VLOOKUP(A79&$A97,$AD$336:$AL$566,6,FALSE)="C",VLOOKUP(A79&$A97,$AD$336:$AL$566,4,FALSE),VLOOKUP(A79&$A97,$AD$336:$AL$566,5,FALSE)),Tabelas!$O$9:$P$30,2,FALSE),"") -> Noruega | C97: 2 | D97: X | E97: 1 | F97: =IFERROR(VLOOKUP(IF(VLOOKUP(A79&$A97,$AD$336:$AL$566,6,FALSE)="F",VLOOKUP(A79&$A97,$AD$336:$AL$566,4,FALSE),VLOOKUP(A79&$A97,$AD$336:$AL$566,5,FALSE)),Tabelas!$O$9:$P$30,2,FALSE),"") -> Holanda | G97: =C97-E97 -> 1 | H97: =E97-C97 -> -1 | J97: =IFERROR(VLOOKUP(IF(VLOOKUP(I79&$A97,$AD$336:$AL$566,6,FALSE)="C",VLOOKUP(I79&$A97,$AD$336:$AL$566,4,FALSE),VLOOKUP(I79&$A97,$AD$336:$AL$566,5,FALSE)),Tabelas!$O$9:$P$30,2,FALSE),"") -> Irlanda | K97: 0 | L97: X | M97: 0 | N97: =IFERROR(VLOOKUP(IF(VLOOKUP(I79&$A97,$AD$336:$AL$566,6,FALSE)="F",VLOOKUP(I79&$A97,$AD$336:$AL$566,4,FALSE),VLOOKUP(I79&$A97,$AD$336:$AL$566,5,FALSE)),Tabelas!$O$9:$P$30,2,FALSE),"") -> Holanda | O97: =K97-M97 -> 0 | P97: =M97-K97 -> 0 | R97: =IFERROR(VLOOKUP(IF(VLOOKUP(Q79&$A97,$AD$336:$AL$566,6,FALSE)="C",VLOOKUP(Q79&$A97,$AD$336:$AL$566,4,FALSE),VLOOKUP(Q79&$A97,$AD$336:$AL$566,5,FALSE)),Tabelas!$O$9:$P$30,2,FALSE),"") -> Romênia | S97: 0 | T97: X | U97: 0 | V97: =IFERROR(VLOOKUP(IF(VLOOKUP(Q79&$A97,$AD$336:$AL$566,6,FALSE)="F",VLOOKUP(Q79&$A97,$AD$336:$AL$566,4,FALSE),VLOOKUP(Q79&$A97,$AD$336:$AL$566,5,FALSE)),Tabelas!$O$9:$P$30,2,FALSE),"") -> Turquia | W97: =S97-U97 -> 0 | X97: =U97-S97 -> 0
A99: j10 | B99: =IFERROR(VLOOKUP(IF(VLOOKUP(A79&$A99,$AD$336:$AL$566,6,FALSE)="C",VLOOKUP(A79&$A99,$AD$336:$AL$566,4,FALSE),VLOOKUP(A79&$A99,$AD$336:$AL$566,5,FALSE)),Tabelas!$O$9:$P$30,2,FALSE),"") -> Itália | C99: 0 | D99: X | E99: 1 | F99: =IFERROR(VLOOKUP(IF(VLOOKUP(A79&$A99,$AD$336:$AL$566,6,FALSE)="F",VLOOKUP(A79&$A99,$AD$336:$AL$566,4,FALSE),VLOOKUP(A79&$A99,$AD$336:$AL$566,5,FALSE)),Tabelas!$O$9:$P$30,2,FALSE),"") -> Inglaterra | G99: =C99-E99 -> -1 | H99: =E99-C99 -> 1 | J99: =IFERROR(VLOOKUP(IF(VLOOKUP(I79&$A99,$AD$336:$AL$566,6,FALSE)="C",VLOOKUP(I79&$A99,$AD$336:$AL$566,4,FALSE),VLOOKUP(I79&$A99,$AD$336:$AL$566,5,FALSE)),Tabelas!$O$9:$P$30,2,FALSE),"") -> Turquia | K99: 0 | L99: X | M99: 1 | N99: =IFERROR(VLOOKUP(IF(VLOOKUP(I79&$A99,$AD$336:$AL$566,6,FALSE)="F",VLOOKUP(I79&$A99,$AD$336:$AL$566,4,FALSE),VLOOKUP(I79&$A99,$AD$336:$AL$566,5,FALSE)),Tabelas!$O$9:$P$30,2,FALSE),"") -> Suíça | O99: =K99-M99 -> -1 | P99: =M99-K99 -> 1 | R99: =IFERROR(VLOOKUP(IF(VLOOKUP(Q79&$A99,$AD$336:$AL$566,6,FALSE)="C",VLOOKUP(Q79&$A99,$AD$336:$AL$566,4,FALSE),VLOOKUP(Q79&$A99,$AD$336:$AL$566,5,FALSE)),Tabelas!$O$9:$P$30,2,FALSE),"") -> Suécia | S99: 0 | T99: X | U99: 1 | V99: =IFERROR(VLOOKUP(IF(VLOOKUP(Q79&$A99,$AD$336:$AL$566,6,FALSE)="F",VLOOKUP(Q79&$A99,$AD$336:$AL$566,4,FALSE),VLOOKUP(Q79&$A99,$AD$336:$AL$566,5,FALSE)),Tabelas!$O$9:$P$30,2,FALSE),"") -> Suíça | W99: =S99-U99 -> -1 | X99: =U99-S99 -> 1
A101: j11 | B101: =IFERROR(VLOOKUP(IF(VLOOKUP(A79&$A101,$AD$336:$AL$566,6,FALSE)="C",VLOOKUP(A79&$A101,$AD$336:$AL$566,4,FALSE),VLOOKUP(A79&$A101,$AD$336:$AL$566,5,FALSE)),Tabelas!$O$9:$P$30,2,FALSE),"") | D101: X | F101: =IFERROR(VLOOKUP(IF(VLOOKUP(A79&$A101,$AD$336:$AL$566,6,FALSE)="F",VLOOKUP(A79&$A101,$AD$336:$AL$566,4,FALSE),VLOOKUP(A79&$A101,$AD$336:$AL$566,5,FALSE)),Tabelas!$O$9:$P$30,2,FALSE),"") | G101: =C101-E101 -> 0 | H101: =E101-C101 -> 0 | J101: =IFERROR(VLOOKUP(IF(VLOOKUP(I79&$A101,$AD$336:$AL$566,6,FALSE)="C",VLOOKUP(I79&$A101,$AD$336:$AL$566,4,FALSE),VLOOKUP(I79&$A101,$AD$336:$AL$566,5,FALSE)),Tabelas!$O$9:$P$30,2,FALSE),"") | L101: X | N101: =IFERROR(VLOOKUP(IF(VLOOKUP(I79&$A101,$AD$336:$AL$566,6,FALSE)="F",VLOOKUP(I79&$A101,$AD$336:$AL$566,4,FALSE),VLOOKUP(I79&$A101,$AD$336:$AL$566,5,FALSE)),Tabelas!$O$9:$P$30,2,FALSE),"") | O101: =K101-M101 -> 0 | P101: =M101-K101 -> 0 | R101: =IFERROR(VLOOKUP(IF(VLOOKUP(Q79&$A101,$AD$336:$AL$566,6,FALSE)="C",VLOOKUP(Q79&$A101,$AD$336:$AL$566,4,FALSE),VLOOKUP(Q79&$A101,$AD$336:$AL$566,5,FALSE)),Tabelas!$O$9:$P$30,2,FALSE),"") | T101: X | V101: =IFERROR(VLOOKUP(IF(VLOOKUP(Q79&$A101,$AD$336:$AL$566,6,FALSE)="F",VLOOKUP(Q79&$A101,$AD$336:$AL$566,4,FALSE),VLOOKUP(Q79&$A101,$AD$336:$AL$566,5,FALSE)),Tabelas!$O$9:$P$30,2,FALSE),"") | W101: =S101-U101 -> 0 | X101: =U101-S101 -> 0
A104: 13 | B104: =A104&"ª Rodada" -> 13ª Rodada | I104: 14 | J104: =I104&"ª Rodada" -> 14ª Rodada | Q104: 15 | R104: =Q104&"ª Rodada" -> 15ª Rodada
A106: j1 | B106: =IFERROR(VLOOKUP(IF(VLOOKUP(A104&$A106,$AD$336:$AL$566,6,FALSE)="C",VLOOKUP(A104&$A106,$AD$336:$AL$566,4,FALSE),VLOOKUP(A104&$A106,$AD$336:$AL$566,5,FALSE)),Tabelas!$O$9:$P$30,2,FALSE),"") -> DESISTIU | D106: X | F106: =IFERROR(VLOOKUP(IF(VLOOKUP(A104&$A106,$AD$336:$AL$566,6,FALSE)="F",VLOOKUP(A104&$A106,$AD$336:$AL$566,4,FALSE),VLOOKUP(A104&$A106,$AD$336:$AL$566,5,FALSE)),Tabelas!$O$9:$P$30,2,FALSE),"") -> França | G106: =C106-E106 -> 0 | H106: =E106-C106 -> 0 | J106: =IFERROR(VLOOKUP(IF(VLOOKUP(I104&$A106,$AD$336:$AL$566,6,FALSE)="C",VLOOKUP(I104&$A106,$AD$336:$AL$566,4,FALSE),VLOOKUP(I104&$A106,$AD$336:$AL$566,5,FALSE)),Tabelas!$O$9:$P$30,2,FALSE),"") -> Eslovênia | L106: X | N106: =IFERROR(VLOOKUP(IF(VLOOKUP(I104&$A106,$AD$336:$AL$566,6,FALSE)="F",VLOOKUP(I104&$A106,$AD$336:$AL$566,4,FALSE),VLOOKUP(I104&$A106,$AD$336:$AL$566,5,FALSE)),Tabelas!$O$9:$P$30,2,FALSE),"") -> DESISTIU | O106: =K106-M106 -> 0 | P106: =M106-K106 -> 0 | R106: =IFERROR(VLOOKUP(IF(VLOOKUP(Q104&$A106,$AD$336:$AL$566,6,FALSE)="C",VLOOKUP(Q104&$A106,$AD$336:$AL$566,4,FALSE),VLOOKUP(Q104&$A106,$AD$336:$AL$566,5,FALSE)),Tabelas!$O$9:$P$30,2,FALSE),"") -> DESISTIU | T106: X | V106: =IFERROR(VLOOKUP(IF(VLOOKUP(Q104&$A106,$AD$336:$AL$566,6,FALSE)="F",VLOOKUP(Q104&$A106,$AD$336:$AL$566,4,FALSE),VLOOKUP(Q104&$A106,$AD$336:$AL$566,5,FALSE)),Tabelas!$O$9:$P$30,2,FALSE),"") -> Escócia | W106: =S106-U106 -> 0 | X106: =U106-S106 -> 0
A108: j2 | B108: =IFERROR(VLOOKUP(IF(VLOOKUP(A104&$A108,$AD$336:$AL$566,6,FALSE)="C",VLOOKUP(A104&$A108,$AD$336:$AL$566,4,FALSE),VLOOKUP(A104&$A108,$AD$336:$AL$566,5,FALSE)),Tabelas!$O$9:$P$30,2,FALSE),"") -> País de Gales | C108: 1 | D108: X | E108: 0 | F108: =IFERROR(VLOOKUP(IF(VLOOKUP(A104&$A108,$AD$336:$AL$566,6,FALSE)="F",VLOOKUP(A104&$A108,$AD$336:$AL$566,4,FALSE),VLOOKUP(A104&$A108,$AD$336:$AL$566,5,FALSE)),Tabelas!$O$9:$P$30,2,FALSE),"") -> Alemanha | G108: =C108-E108 -> 1 | H108: =E108-C108 -> -1 | J108: =IFERROR(VLOOKUP(IF(VLOOKUP(I104&$A108,$AD$336:$AL$566,6,FALSE)="C",VLOOKUP(I104&$A108,$AD$336:$AL$566,4,FALSE),VLOOKUP(I104&$A108,$AD$336:$AL$566,5,FALSE)),Tabelas!$O$9:$P$30,2,FALSE),"") -> Itália | K108: 0 | L108: X | M108: 1 | N108: =IFERROR(VLOOKUP(IF(VLOOKUP(I104&$A108,$AD$336:$AL$566,6,FALSE)="F",VLOOKUP(I104&$A108,$AD$336:$AL$566,4,FALSE),VLOOKUP(I104&$A108,$AD$336:$AL$566,5,FALSE)),Tabelas!$O$9:$P$30,2,FALSE),"") -> Alemanha | O108: =K108-M108 -> -1 | P108: =M108-K108 -> 1 | R108: =IFERROR(VLOOKUP(IF(VLOOKUP(Q104&$A108,$AD$336:$AL$566,6,FALSE)="C",VLOOKUP(Q104&$A108,$AD$336:$AL$566,4,FALSE),VLOOKUP(Q104&$A108,$AD$336:$AL$566,5,FALSE)),Tabelas!$O$9:$P$30,2,FALSE),"") -> Inglaterra | S108: 2 | T108: X | U108: 0 | V108: =IFERROR(VLOOKUP(IF(VLOOKUP(Q104&$A108,$AD$336:$AL$566,6,FALSE)="F",VLOOKUP(Q104&$A108,$AD$336:$AL$566,4,FALSE),VLOOKUP(Q104&$A108,$AD$336:$AL$566,5,FALSE)),Tabelas!$O$9:$P$30,2,FALSE),"") -> Alemanha | W108: =S108-U108 -> 2 | X108: =U108-S108 -> -2
A110: j3 | B110: =IFERROR(VLOOKUP(IF(VLOOKUP(A104&$A110,$AD$336:$AL$566,6,FALSE)="C",VLOOKUP(A104&$A110,$AD$336:$AL$566,4,FALSE),VLOOKUP(A104&$A110,$AD$336:$AL$566,5,FALSE)),Tabelas!$O$9:$P$30,2,FALSE),"") -> Áustria | C110: 0 | D110: X | E110: 0 | F110: =IFERROR(VLOOKUP(IF(VLOOKUP(A104&$A110,$AD$336:$AL$566,6,FALSE)="F",VLOOKUP(A104&$A110,$AD$336:$AL$566,4,FALSE),VLOOKUP(A104&$A110,$AD$336:$AL$566,5,FALSE)),Tabelas!$O$9:$P$30,2,FALSE),"") -> Noruega | G110: =C110-E110 -> 0 | H110: =E110-C110 -> 0 | J110: =IFERROR(VLOOKUP(IF(VLOOKUP(I104&$A110,$AD$336:$AL$566,6,FALSE)="C",VLOOKUP(I104&$A110,$AD$336:$AL$566,4,FALSE),VLOOKUP(I104&$A110,$AD$336:$AL$566,5,FALSE)),Tabelas!$O$9:$P$30,2,FALSE),"") -> Áustria | K110: 0 | L110: X | M110: 0 | N110: =IFERROR(VLOOKUP(IF(VLOOKUP(I104&$A110,$AD$336:$AL$566,6,FALSE)="F",VLOOKUP(I104&$A110,$AD$336:$AL$566,4,FALSE),VLOOKUP(I104&$A110,$AD$336:$AL$566,5,FALSE)),Tabelas!$O$9:$P$30,2,FALSE),"") -> Irlanda | O110: =K110-M110 -> 0 | P110: =M110-K110 -> 0 | R110: =IFERROR(VLOOKUP(IF(VLOOKUP(Q104&$A110,$AD$336:$AL$566,6,FALSE)="C",VLOOKUP(Q104&$A110,$AD$336:$AL$566,4,FALSE),VLOOKUP(Q104&$A110,$AD$336:$AL$566,5,FALSE)),Tabelas!$O$9:$P$30,2,FALSE),"") -> Áustria | S110: 2 | T110: X | U110: 0 | V110: =IFERROR(VLOOKUP(IF(VLOOKUP(Q104&$A110,$AD$336:$AL$566,6,FALSE)="F",VLOOKUP(Q104&$A110,$AD$336:$AL$566,4,FALSE),VLOOKUP(Q104&$A110,$AD$336:$AL$566,5,FALSE)),Tabelas!$O$9:$P$30,2,FALSE),"") -> Holanda | W110: =S110-U110 -> 2 | X110: =U110-S110 -> -2
A112: j4 | B112: =IFERROR(VLOOKUP(IF(VLOOKUP(A104&$A112,$AD$336:$AL$566,6,FALSE)="C",VLOOKUP(A104&$A112,$AD$336:$AL$566,4,FALSE),VLOOKUP(A104&$A112,$AD$336:$AL$566,5,FALSE)),Tabelas!$O$9:$P$30,2,FALSE),"") -> Bélgica | C112: 0 | D112: X | E112: 1 | F112: =IFERROR(VLOOKUP(IF(VLOOKUP(A104&$A112,$AD$336:$AL$566,6,FALSE)="F",VLOOKUP(A104&$A112,$AD$336:$AL$566,4,FALSE),VLOOKUP(A104&$A112,$AD$336:$AL$566,5,FALSE)),Tabelas!$O$9:$P$30,2,FALSE),"") -> Itália | G112: =C112-E112 -> -1 | H112: =E112-C112 -> 1 | J112: =IFERROR(VLOOKUP(IF(VLOOKUP(I104&$A112,$AD$336:$AL$566,6,FALSE)="C",VLOOKUP(I104&$A112,$AD$336:$AL$566,4,FALSE),VLOOKUP(I104&$A112,$AD$336:$AL$566,5,FALSE)),Tabelas!$O$9:$P$30,2,FALSE),"") -> Bélgica | K112: 1 | L112: X | M112: 0 | N112: =IFERROR(VLOOKUP(IF(VLOOKUP(I104&$A112,$AD$336:$AL$566,6,FALSE)="F",VLOOKUP(I104&$A112,$AD$336:$AL$566,4,FALSE),VLOOKUP(I104&$A112,$AD$336:$AL$566,5,FALSE)),Tabelas!$O$9:$P$30,2,FALSE),"") -> Inglaterra | O112: =K112-M112 -> 1 | P112: =M112-K112 -> -1 | R112: =IFERROR(VLOOKUP(IF(VLOOKUP(Q104&$A112,$AD$336:$AL$566,6,FALSE)="C",VLOOKUP(Q104&$A112,$AD$336:$AL$566,4,FALSE),VLOOKUP(Q104&$A112,$AD$336:$AL$566,5,FALSE)),Tabelas!$O$9:$P$30,2,FALSE),"") -> Bélgica | S112: 0 | T112: X | U112: 1 | V112: =IFERROR(VLOOKUP(IF(VLOOKUP(Q104&$A112,$AD$336:$AL$566,6,FALSE)="F",VLOOKUP(Q104&$A112,$AD$336:$AL$566,4,FALSE),VLOOKUP(Q104&$A112,$AD$336:$AL$566,5,FALSE)),Tabelas!$O$9:$P$30,2,FALSE),"") -> França | W112: =S112-U112 -> -1 | X112: =U112-S112 -> 1
A114: j5 | B114: =IFERROR(VLOOKUP(IF(VLOOKUP(A104&$A114,$AD$336:$AL$566,6,FALSE)="C",VLOOKUP(A104&$A114,$AD$336:$AL$566,4,FALSE),VLOOKUP(A104&$A114,$AD$336:$AL$566,5,FALSE)),Tabelas!$O$9:$P$30,2,FALSE),"") -> Irlanda | C114: 0 | D114: X | E114: 0 | F114: =IFERROR(VLOOKUP(IF(VLOOKUP(A104&$A114,$AD$336:$AL$566,6,FALSE)="F",VLOOKUP(A104&$A114,$AD$336:$AL$566,4,FALSE),VLOOKUP(A104&$A114,$AD$336:$AL$566,5,FALSE)),Tabelas!$O$9:$P$30,2,FALSE),"") -> Dinamarca | G114: =C114-E114 -> 0 | H114: =E114-C114 -> 0 | J114: =IFERROR(VLOOKUP(IF(VLOOKUP(I104&$A114,$AD$336:$AL$566,6,FALSE)="C",VLOOKUP(I104&$A114,$AD$336:$AL$566,4,FALSE),VLOOKUP(I104&$A114,$AD$336:$AL$566,5,FALSE)),Tabelas!$O$9:$P$30,2,FALSE),"") -> Holanda | K114: 1 | L114: X | M114: 1 | N114: =IFERROR(VLOOKUP(IF(VLOOKUP(I104&$A114,$AD$336:$AL$566,6,FALSE)="F",VLOOKUP(I104&$A114,$AD$336:$AL$566,4,FALSE),VLOOKUP(I104&$A114,$AD$336:$AL$566,5,FALSE)),Tabelas!$O$9:$P$30,2,FALSE),"") -> Dinamarca | O114: =K114-M114 -> 0 | P114: =M114-K114 -> 0 | R114: =IFERROR(VLOOKUP(IF(VLOOKUP(Q104&$A114,$AD$336:$AL$566,6,FALSE)="C",VLOOKUP(Q104&$A114,$AD$336:$AL$566,4,FALSE),VLOOKUP(Q104&$A114,$AD$336:$AL$566,5,FALSE)),Tabelas!$O$9:$P$30,2,FALSE),"") -> Eslovênia | S114: 1 | T114: X | U114: 0 | V114: =IFERROR(VLOOKUP(IF(VLOOKUP(Q104&$A114,$AD$336:$AL$566,6,FALSE)="F",VLOOKUP(Q104&$A114,$AD$336:$AL$566,4,FALSE),VLOOKUP(Q104&$A114,$AD$336:$AL$566,5,FALSE)),Tabelas!$O$9:$P$30,2,FALSE),"") -> Dinamarca | W114: =S114-U114 -> 1 | X114: =U114-S114 -> -1
A116: j6 | B116: =IFERROR(VLOOKUP(IF(VLOOKUP(A104&$A116,$AD$336:$AL$566,6,FALSE)="C",VLOOKUP(A104&$A116,$AD$336:$AL$566,4,FALSE),VLOOKUP(A104&$A116,$AD$336:$AL$566,5,FALSE)),Tabelas!$O$9:$P$30,2,FALSE),"") -> Inglaterra | C116: 2 | D116: X | E116: 1 | F116: =IFERROR(VLOOKUP(IF(VLOOKUP(A104&$A116,$AD$336:$AL$566,6,FALSE)="F",VLOOKUP(A104&$A116,$AD$336:$AL$566,4,FALSE),VLOOKUP(A104&$A116,$AD$336:$AL$566,5,FALSE)),Tabelas!$O$9:$P$30,2,FALSE),"") -> Escócia | G116: =C116-E116 -> 1 | H116: =E116-C116 -> -1 | J116: =IFERROR(VLOOKUP(IF(VLOOKUP(I104&$A116,$AD$336:$AL$566,6,FALSE)="C",VLOOKUP(I104&$A116,$AD$336:$AL$566,4,FALSE),VLOOKUP(I104&$A116,$AD$336:$AL$566,5,FALSE)),Tabelas!$O$9:$P$30,2,FALSE),"") -> França | K116: 0 | L116: X | M116: 4 | N116: =IFERROR(VLOOKUP(IF(VLOOKUP(I104&$A116,$AD$336:$AL$566,6,FALSE)="F",VLOOKUP(I104&$A116,$AD$336:$AL$566,4,FALSE),VLOOKUP(I104&$A116,$AD$336:$AL$566,5,FALSE)),Tabelas!$O$9:$P$30,2,FALSE),"") -> Escócia | O116: =K116-M116 -> -4 | P116: =M116-K116 -> 4 | R116: =IFERROR(VLOOKUP(IF(VLOOKUP(Q104&$A116,$AD$336:$AL$566,6,FALSE)="C",VLOOKUP(Q104&$A116,$AD$336:$AL$566,4,FALSE),VLOOKUP(Q104&$A116,$AD$336:$AL$566,5,FALSE)),Tabelas!$O$9:$P$30,2,FALSE),"") -> Turquia | S116: 2 | T116: X | U116: 1 | V116: =IFERROR(VLOOKUP(IF(VLOOKUP(Q104&$A116,$AD$336:$AL$566,6,FALSE)="F",VLOOKUP(Q104&$A116,$AD$336:$AL$566,4,FALSE),VLOOKUP(Q104&$A116,$AD$336:$AL$566,5,FALSE)),Tabelas!$O$9:$P$30,2,FALSE),"") -> Irlanda | W116: =S116-U116 -> 1 | X116: =U116-S116 -> -1
A118: j7 | B118: =IFERROR(VLOOKUP(IF(VLOOKUP(A104&$A118,$AD$336:$AL$566,6,FALSE)="C",VLOOKUP(A104&$A118,$AD$336:$AL$566,4,FALSE),VLOOKUP(A104&$A118,$AD$336:$AL$566,5,FALSE)),Tabelas!$O$9:$P$30,2,FALSE),"") -> Eslovênia | C118: 1 | D118: X | E118: 4 | F118: =IFERROR(VLOOKUP(IF(VLOOKUP(A104&$A118,$AD$336:$AL$566,6,FALSE)="F",VLOOKUP(A104&$A118,$AD$336:$AL$566,4,FALSE),VLOOKUP(A104&$A118,$AD$336:$AL$566,5,FALSE)),Tabelas!$O$9:$P$30,2,FALSE),"") -> Holanda | G118: =C118-E118 -> -3 | H118: =E118-C118 -> 3 | J118: =IFERROR(VLOOKUP(IF(VLOOKUP(I104&$A118,$AD$336:$AL$566,6,FALSE)="C",VLOOKUP(I104&$A118,$AD$336:$AL$566,4,FALSE),VLOOKUP(I104&$A118,$AD$336:$AL$566,5,FALSE)),Tabelas!$O$9:$P$30,2,FALSE),"") -> Noruega | K118: 0 | L118: X | M118: 0 | N118: =IFERROR(VLOOKUP(IF(VLOOKUP(I104&$A118,$AD$336:$AL$566,6,FALSE)="F",VLOOKUP(I104&$A118,$AD$336:$AL$566,4,FALSE),VLOOKUP(I104&$A118,$AD$336:$AL$566,5,FALSE)),Tabelas!$O$9:$P$30,2,FALSE),"") -> Turquia | O118: =K118-M118 -> 0 | P118: =M118-K118 -> 0 | R118: =IFERROR(VLOOKUP(IF(VLOOKUP(Q104&$A118,$AD$336:$AL$566,6,FALSE)="C",VLOOKUP(Q104&$A118,$AD$336:$AL$566,4,FALSE),VLOOKUP(Q104&$A118,$AD$336:$AL$566,5,FALSE)),Tabelas!$O$9:$P$30,2,FALSE),"") -> Suíça | S118: 0 | T118: X | U118: 0 | V118: =IFERROR(VLOOKUP(IF(VLOOKUP(Q104&$A118,$AD$336:$AL$566,6,FALSE)="F",VLOOKUP(Q104&$A118,$AD$336:$AL$566,4,FALSE),VLOOKUP(Q104&$A118,$AD$336:$AL$566,5,FALSE)),Tabelas!$O$9:$P$30,2,FALSE),"") -> Itália | W118: =S118-U118 -> 0 | X118: =U118-S118 -> 0
A120: j8 | B120: =IFERROR(VLOOKUP(IF(VLOOKUP(A104&$A120,$AD$336:$AL$566,6,FALSE)="C",VLOOKUP(A104&$A120,$AD$336:$AL$566,4,FALSE),VLOOKUP(A104&$A120,$AD$336:$AL$566,5,FALSE)),Tabelas!$O$9:$P$30,2,FALSE),"") -> Turquia | C120: 0 | D120: X | E120: 2 | F120: =IFERROR(VLOOKUP(IF(VLOOKUP(A104&$A120,$AD$336:$AL$566,6,FALSE)="F",VLOOKUP(A104&$A120,$AD$336:$AL$566,4,FALSE),VLOOKUP(A104&$A120,$AD$336:$AL$566,5,FALSE)),Tabelas!$O$9:$P$30,2,FALSE),"") -> Polônia | G120: =C120-E120 -> -2 | H120: =E120-C120 -> 2 | J120: =IFERROR(VLOOKUP(IF(VLOOKUP(I104&$A120,$AD$336:$AL$566,6,FALSE)="C",VLOOKUP(I104&$A120,$AD$336:$AL$566,4,FALSE),VLOOKUP(I104&$A120,$AD$336:$AL$566,5,FALSE)),Tabelas!$O$9:$P$30,2,FALSE),"") -> País de Gales | K120: 2 | L120: X | M120: 2 | N120: =IFERROR(VLOOKUP(IF(VLOOKUP(I104&$A120,$AD$336:$AL$566,6,FALSE)="F",VLOOKUP(I104&$A120,$AD$336:$AL$566,4,FALSE),VLOOKUP(I104&$A120,$AD$336:$AL$566,5,FALSE)),Tabelas!$O$9:$P$30,2,FALSE),"") -> Suíça | O120: =K120-M120 -> 0 | P120: =M120-K120 -> 0 | R120: =IFERROR(VLOOKUP(IF(VLOOKUP(Q104&$A120,$AD$336:$AL$566,6,FALSE)="C",VLOOKUP(Q104&$A120,$AD$336:$AL$566,4,FALSE),VLOOKUP(Q104&$A120,$AD$336:$AL$566,5,FALSE)),Tabelas!$O$9:$P$30,2,FALSE),"") -> Noruega | S120: 0 | T120: X | U120: 0 | V120: =IFERROR(VLOOKUP(IF(VLOOKUP(Q104&$A120,$AD$336:$AL$566,6,FALSE)="F",VLOOKUP(Q104&$A120,$AD$336:$AL$566,4,FALSE),VLOOKUP(Q104&$A120,$AD$336:$AL$566,5,FALSE)),Tabelas!$O$9:$P$30,2,FALSE),"") -> Suécia | W120: =S120-U120 -> 0 | X120: =U120-S120 -> 0
A122: j9 | B122: =IFERROR(VLOOKUP(IF(VLOOKUP(A104&$A122,$AD$336:$AL$566,6,FALSE)="C",VLOOKUP(A104&$A122,$AD$336:$AL$566,4,FALSE),VLOOKUP(A104&$A122,$AD$336:$AL$566,5,FALSE)),Tabelas!$O$9:$P$30,2,FALSE),"") -> Suíça | C122: 3 | D122: X | E122: 0 | F122: =IFERROR(VLOOKUP(IF(VLOOKUP(A104&$A122,$AD$336:$AL$566,6,FALSE)="F",VLOOKUP(A104&$A122,$AD$336:$AL$566,4,FALSE),VLOOKUP(A104&$A122,$AD$336:$AL$566,5,FALSE)),Tabelas!$O$9:$P$30,2,FALSE),"") -> Rep. Tcheca | G122: =C122-E122 -> 3 | H122: =E122-C122 -> -3 | J122: =IFERROR(VLOOKUP(IF(VLOOKUP(I104&$A122,$AD$336:$AL$566,6,FALSE)="C",VLOOKUP(I104&$A122,$AD$336:$AL$566,4,FALSE),VLOOKUP(I104&$A122,$AD$336:$AL$566,5,FALSE)),Tabelas!$O$9:$P$30,2,FALSE),"") -> Suécia | K122: 1 | L122: X | M122: 2 | N122: =IFERROR(VLOOKUP(IF(VLOOKUP(I104&$A122,$AD$336:$AL$566,6,FALSE)="F",VLOOKUP(I104&$A122,$AD$336:$AL$566,4,FALSE),VLOOKUP(I104&$A122,$AD$336:$AL$566,5,FALSE)),Tabelas!$O$9:$P$30,2,FALSE),"") -> Polônia | O122: =K122-M122 -> -1 | P122: =M122-K122 -> 1 | R122: =IFERROR(VLOOKUP(IF(VLOOKUP(Q104&$A122,$AD$336:$AL$566,6,FALSE)="C",VLOOKUP(Q104&$A122,$AD$336:$AL$566,4,FALSE),VLOOKUP(Q104&$A122,$AD$336:$AL$566,5,FALSE)),Tabelas!$O$9:$P$30,2,FALSE),"") -> País de Gales | S122: 1 | T122: X | U122: 0 | V122: =IFERROR(VLOOKUP(IF(VLOOKUP(Q104&$A122,$AD$336:$AL$566,6,FALSE)="F",VLOOKUP(Q104&$A122,$AD$336:$AL$566,4,FALSE),VLOOKUP(Q104&$A122,$AD$336:$AL$566,5,FALSE)),Tabelas!$O$9:$P$30,2,FALSE),"") -> Romênia | W122: =S122-U122 -> 1 | X122: =U122-S122 -> -1
A124: j10 | B124: =IFERROR(VLOOKUP(IF(VLOOKUP(A104&$A124,$AD$336:$AL$566,6,FALSE)="C",VLOOKUP(A104&$A124,$AD$336:$AL$566,4,FALSE),VLOOKUP(A104&$A124,$AD$336:$AL$566,5,FALSE)),Tabelas!$O$9:$P$30,2,FALSE),"") -> Romênia | C124: 0 | D124: X | E124: 3 | F124: =IFERROR(VLOOKUP(IF(VLOOKUP(A104&$A124,$AD$336:$AL$566,6,FALSE)="F",VLOOKUP(A104&$A124,$AD$336:$AL$566,4,FALSE),VLOOKUP(A104&$A124,$AD$336:$AL$566,5,FALSE)),Tabelas!$O$9:$P$30,2,FALSE),"") -> Suécia | G124: =C124-E124 -> -3 | H124: =E124-C124 -> 3 | J124: =IFERROR(VLOOKUP(IF(VLOOKUP(I104&$A124,$AD$336:$AL$566,6,FALSE)="C",VLOOKUP(I104&$A124,$AD$336:$AL$566,4,FALSE),VLOOKUP(I104&$A124,$AD$336:$AL$566,5,FALSE)),Tabelas!$O$9:$P$30,2,FALSE),"") -> Romênia | K124: 1 | L124: X | M124: 0 | N124: =IFERROR(VLOOKUP(IF(VLOOKUP(I104&$A124,$AD$336:$AL$566,6,FALSE)="F",VLOOKUP(I104&$A124,$AD$336:$AL$566,4,FALSE),VLOOKUP(I104&$A124,$AD$336:$AL$566,5,FALSE)),Tabelas!$O$9:$P$30,2,FALSE),"") -> Rep. Tcheca | O124: =K124-M124 -> 1 | P124: =M124-K124 -> -1 | R124: =IFERROR(VLOOKUP(IF(VLOOKUP(Q104&$A124,$AD$336:$AL$566,6,FALSE)="C",VLOOKUP(Q104&$A124,$AD$336:$AL$566,4,FALSE),VLOOKUP(Q104&$A124,$AD$336:$AL$566,5,FALSE)),Tabelas!$O$9:$P$30,2,FALSE),"") -> Rep. Tcheca | S124: 0 | T124: X | U124: 1 | V124: =IFERROR(VLOOKUP(IF(VLOOKUP(Q104&$A124,$AD$336:$AL$566,6,FALSE)="F",VLOOKUP(Q104&$A124,$AD$336:$AL$566,4,FALSE),VLOOKUP(Q104&$A124,$AD$336:$AL$566,5,FALSE)),Tabelas!$O$9:$P$30,2,FALSE),"") -> Polônia | W124: =S124-U124 -> -1 | X124: =U124-S124 -> 1
A126: j11 | B126: =IFERROR(VLOOKUP(IF(VLOOKUP(A104&$A126,$AD$336:$AL$566,6,FALSE)="C",VLOOKUP(A104&$A126,$AD$336:$AL$566,4,FALSE),VLOOKUP(A104&$A126,$AD$336:$AL$566,5,FALSE)),Tabelas!$O$9:$P$30,2,FALSE),"") | D126: X | F126: =IFERROR(VLOOKUP(IF(VLOOKUP(A104&$A126,$AD$336:$AL$566,6,FALSE)="F",VLOOKUP(A104&$A126,$AD$336:$AL$566,4,FALSE),VLOOKUP(A104&$A126,$AD$336:$AL$566,5,FALSE)),Tabelas!$O$9:$P$30,2,FALSE),"") | G126: =C126-E126 -> 0 | H126: =E126-C126 -> 0 | J126: =IFERROR(VLOOKUP(IF(VLOOKUP(I104&$A126,$AD$336:$AL$566,6,FALSE)="C",VLOOKUP(I104&$A126,$AD$336:$AL$566,4,FALSE),VLOOKUP(I104&$A126,$AD$336:$AL$566,5,FALSE)),Tabelas!$O$9:$P$30,2,FALSE),"") | L126: X | N126: =IFERROR(VLOOKUP(IF(VLOOKUP(I104&$A126,$AD$336:$AL$566,6,FALSE)="F",VLOOKUP(I104&$A126,$AD$336:$AL$566,4,FALSE),VLOOKUP(I104&$A126,$AD$336:$AL$566,5,FALSE)),Tabelas!$O$9:$P$30,2,FALSE),"") | O126: =K126-M126 -> 0 | P126: =M126-K126 -> 0 | R126: =IFERROR(VLOOKUP(IF(VLOOKUP(Q104&$A126,$AD$336:$AL$566,6,FALSE)="C",VLOOKUP(Q104&$A126,$AD$336:$AL$566,4,FALSE),VLOOKUP(Q104&$A126,$AD$336:$AL$566,5,FALSE)),Tabelas!$O$9:$P$30,2,FALSE),"") | T126: X | V126: =IFERROR(VLOOKUP(IF(VLOOKUP(Q104&$A126,$AD$336:$AL$566,6,FALSE)="F",VLOOKUP(Q104&$A126,$AD$336:$AL$566,4,FALSE),VLOOKUP(Q104&$A126,$AD$336:$AL$566,5,FALSE)),Tabelas!$O$9:$P$30,2,FALSE),"") | W126: =S126-U126 -> 0 | X126: =U126-S126 -> 0
A129: 16 | B129: =A129&"ª Rodada" -> 16ª Rodada | I129: 17 | J129: =I129&"ª Rodada" -> 17ª Rodada | Q129: 18 | R129: =Q129&"ª Rodada" -> 18ª Rodada
A131: j1 | B131: =IFERROR(VLOOKUP(IF(VLOOKUP(A129&$A131,$AD$336:$AL$566,6,FALSE)="C",VLOOKUP(A129&$A131,$AD$336:$AL$566,4,FALSE),VLOOKUP(A129&$A131,$AD$336:$AL$566,5,FALSE)),Tabelas!$O$9:$P$30,2,FALSE),"") -> Dinamarca | D131: X | F131: =IFERROR(VLOOKUP(IF(VLOOKUP(A129&$A131,$AD$336:$AL$566,6,FALSE)="F",VLOOKUP(A129&$A131,$AD$336:$AL$566,4,FALSE),VLOOKUP(A129&$A131,$AD$336:$AL$566,5,FALSE)),Tabelas!$O$9:$P$30,2,FALSE),"") -> DESISTIU | G131: =C131-E131 -> 0 | H131: =E131-C131 -> 0 | J131: =IFERROR(VLOOKUP(IF(VLOOKUP(I129&$A131,$AD$336:$AL$566,6,FALSE)="C",VLOOKUP(I129&$A131,$AD$336:$AL$566,4,FALSE),VLOOKUP(I129&$A131,$AD$336:$AL$566,5,FALSE)),Tabelas!$O$9:$P$30,2,FALSE),"") -> DESISTIU | L131: X | N131: =IFERROR(VLOOKUP(IF(VLOOKUP(I129&$A131,$AD$336:$AL$566,6,FALSE)="F",VLOOKUP(I129&$A131,$AD$336:$AL$566,4,FALSE),VLOOKUP(I129&$A131,$AD$336:$AL$566,5,FALSE)),Tabelas!$O$9:$P$30,2,FALSE),"") -> Bélgica | O131: =K131-M131 -> 0 | P131: =M131-K131 -> 0 | R131: =IFERROR(VLOOKUP(IF(VLOOKUP(Q129&$A131,$AD$336:$AL$566,6,FALSE)="C",VLOOKUP(Q129&$A131,$AD$336:$AL$566,4,FALSE),VLOOKUP(Q129&$A131,$AD$336:$AL$566,5,FALSE)),Tabelas!$O$9:$P$30,2,FALSE),"") -> Áustria | T131: X | V131: =IFERROR(VLOOKUP(IF(VLOOKUP(Q129&$A131,$AD$336:$AL$566,6,FALSE)="F",VLOOKUP(Q129&$A131,$AD$336:$AL$566,4,FALSE),VLOOKUP(Q129&$A131,$AD$336:$AL$566,5,FALSE)),Tabelas!$O$9:$P$30,2,FALSE),"") -> DESISTIU | W131: =S131-U131 -> 0 | X131: =U131-S131 -> 0
A133: j2 | B133: =IFERROR(VLOOKUP(IF(VLOOKUP(A129&$A133,$AD$336:$AL$566,6,FALSE)="C",VLOOKUP(A129&$A133,$AD$336:$AL$566,4,FALSE),VLOOKUP(A129&$A133,$AD$336:$AL$566,5,FALSE)),Tabelas!$O$9:$P$30,2,FALSE),"") -> França | C133: 0 | D133: X | E133: 1 | F133: =IFERROR(VLOOKUP(IF(VLOOKUP(A129&$A133,$AD$336:$AL$566,6,FALSE)="F",VLOOKUP(A129&$A133,$AD$336:$AL$566,4,FALSE),VLOOKUP(A129&$A133,$AD$336:$AL$566,5,FALSE)),Tabelas!$O$9:$P$30,2,FALSE),"") -> Alemanha | G133: =C133-E133 -> -1 | H133: =E133-C133 -> 1 | J133: =IFERROR(VLOOKUP(IF(VLOOKUP(I129&$A133,$AD$336:$AL$566,6,FALSE)="C",VLOOKUP(I129&$A133,$AD$336:$AL$566,4,FALSE),VLOOKUP(I129&$A133,$AD$336:$AL$566,5,FALSE)),Tabelas!$O$9:$P$30,2,FALSE),"") -> Escócia | K133: 2 | L133: X | M133: 0 | N133: =IFERROR(VLOOKUP(IF(VLOOKUP(I129&$A133,$AD$336:$AL$566,6,FALSE)="F",VLOOKUP(I129&$A133,$AD$336:$AL$566,4,FALSE),VLOOKUP(I129&$A133,$AD$336:$AL$566,5,FALSE)),Tabelas!$O$9:$P$30,2,FALSE),"") -> Alemanha | O133: =K133-M133 -> 2 | P133: =M133-K133 -> -2 | R133: =IFERROR(VLOOKUP(IF(VLOOKUP(Q129&$A133,$AD$336:$AL$566,6,FALSE)="C",VLOOKUP(Q129&$A133,$AD$336:$AL$566,4,FALSE),VLOOKUP(Q129&$A133,$AD$336:$AL$566,5,FALSE)),Tabelas!$O$9:$P$30,2,FALSE),"") -> Bélgica | S133: 0 | T133: X | U133: 0 | V133: =IFERROR(VLOOKUP(IF(VLOOKUP(Q129&$A133,$AD$336:$AL$566,6,FALSE)="F",VLOOKUP(Q129&$A133,$AD$336:$AL$566,4,FALSE),VLOOKUP(Q129&$A133,$AD$336:$AL$566,5,FALSE)),Tabelas!$O$9:$P$30,2,FALSE),"") -> Alemanha | W133: =S133-U133 -> 0 | X133: =U133-S133 -> 0
A135: j3 | B135: =IFERROR(VLOOKUP(IF(VLOOKUP(A129&$A135,$AD$336:$AL$566,6,FALSE)="C",VLOOKUP(A129&$A135,$AD$336:$AL$566,4,FALSE),VLOOKUP(A129&$A135,$AD$336:$AL$566,5,FALSE)),Tabelas!$O$9:$P$30,2,FALSE),"") -> Áustria | C135: 1 | D135: X | E135: 0 | F135: =IFERROR(VLOOKUP(IF(VLOOKUP(A129&$A135,$AD$336:$AL$566,6,FALSE)="F",VLOOKUP(A129&$A135,$AD$336:$AL$566,4,FALSE),VLOOKUP(A129&$A135,$AD$336:$AL$566,5,FALSE)),Tabelas!$O$9:$P$30,2,FALSE),"") -> Eslovênia | G135: =C135-E135 -> 1 | H135: =E135-C135 -> -1 | J135: =IFERROR(VLOOKUP(IF(VLOOKUP(I129&$A135,$AD$336:$AL$566,6,FALSE)="C",VLOOKUP(I129&$A135,$AD$336:$AL$566,4,FALSE),VLOOKUP(I129&$A135,$AD$336:$AL$566,5,FALSE)),Tabelas!$O$9:$P$30,2,FALSE),"") -> Áustria | K135: 1 | L135: X | M135: 0 | N135: =IFERROR(VLOOKUP(IF(VLOOKUP(I129&$A135,$AD$336:$AL$566,6,FALSE)="F",VLOOKUP(I129&$A135,$AD$336:$AL$566,4,FALSE),VLOOKUP(I129&$A135,$AD$336:$AL$566,5,FALSE)),Tabelas!$O$9:$P$30,2,FALSE),"") -> Dinamarca | O135: =K135-M135 -> 1 | P135: =M135-K135 -> -1 | R135: =IFERROR(VLOOKUP(IF(VLOOKUP(Q129&$A135,$AD$336:$AL$566,6,FALSE)="C",VLOOKUP(Q129&$A135,$AD$336:$AL$566,4,FALSE),VLOOKUP(Q129&$A135,$AD$336:$AL$566,5,FALSE)),Tabelas!$O$9:$P$30,2,FALSE),"") -> Dinamarca | S135: 1 | T135: X | U135: 0 | V135: =IFERROR(VLOOKUP(IF(VLOOKUP(Q129&$A135,$AD$336:$AL$566,6,FALSE)="F",VLOOKUP(Q129&$A135,$AD$336:$AL$566,4,FALSE),VLOOKUP(Q129&$A135,$AD$336:$AL$566,5,FALSE)),Tabelas!$O$9:$P$30,2,FALSE),"") -> Turquia | W135: =S135-U135 -> 1 | X135: =U135-S135 -> -1
A137: j4 | B137: =IFERROR(VLOOKUP(IF(VLOOKUP(A129&$A137,$AD$336:$AL$566,6,FALSE)="C",VLOOKUP(A129&$A137,$AD$336:$AL$566,4,FALSE),VLOOKUP(A129&$A137,$AD$336:$AL$566,5,FALSE)),Tabelas!$O$9:$P$30,2,FALSE),"") -> Bélgica | C137: 2 | D137: X | E137: 2 | F137: =IFERROR(VLOOKUP(IF(VLOOKUP(A129&$A137,$AD$336:$AL$566,6,FALSE)="F",VLOOKUP(A129&$A137,$AD$336:$AL$566,4,FALSE),VLOOKUP(A129&$A137,$AD$336:$AL$566,5,FALSE)),Tabelas!$O$9:$P$30,2,FALSE),"") -> Escócia | G137: =C137-E137 -> 0 | H137: =E137-C137 -> 0 | J137: =IFERROR(VLOOKUP(IF(VLOOKUP(I129&$A137,$AD$336:$AL$566,6,FALSE)="C",VLOOKUP(I129&$A137,$AD$336:$AL$566,4,FALSE),VLOOKUP(I129&$A137,$AD$336:$AL$566,5,FALSE)),Tabelas!$O$9:$P$30,2,FALSE),"") -> Turquia | K137: 1 | L137: X | M137: 0 | N137: =IFERROR(VLOOKUP(IF(VLOOKUP(I129&$A137,$AD$336:$AL$566,6,FALSE)="F",VLOOKUP(I129&$A137,$AD$336:$AL$566,4,FALSE),VLOOKUP(I129&$A137,$AD$336:$AL$566,5,FALSE)),Tabelas!$O$9:$P$30,2,FALSE),"") -> Eslovênia | O137: =K137-M137 -> 1 | P137: =M137-K137 -> -1 | R137: =IFERROR(VLOOKUP(IF(VLOOKUP(Q129&$A137,$AD$336:$AL$566,6,FALSE)="C",VLOOKUP(Q129&$A137,$AD$336:$AL$566,4,FALSE),VLOOKUP(Q129&$A137,$AD$336:$AL$566,5,FALSE)),Tabelas!$O$9:$P$30,2,FALSE),"") -> Escócia | S137: 1 | T137: X | U137: 1 | V137: =IFERROR(VLOOKUP(IF(VLOOKUP(Q129&$A137,$AD$336:$AL$566,6,FALSE)="F",VLOOKUP(Q129&$A137,$AD$336:$AL$566,4,FALSE),VLOOKUP(Q129&$A137,$AD$336:$AL$566,5,FALSE)),Tabelas!$O$9:$P$30,2,FALSE),"") -> Suíça | W137: =S137-U137 -> 0 | X137: =U137-S137 -> 0
A139: j5 | B139: =IFERROR(VLOOKUP(IF(VLOOKUP(A129&$A139,$AD$336:$AL$566,6,FALSE)="C",VLOOKUP(A129&$A139,$AD$336:$AL$566,4,FALSE),VLOOKUP(A129&$A139,$AD$336:$AL$566,5,FALSE)),Tabelas!$O$9:$P$30,2,FALSE),"") -> Holanda | C139: 1 | D139: X | E139: 1 | F139: =IFERROR(VLOOKUP(IF(VLOOKUP(A129&$A139,$AD$336:$AL$566,6,FALSE)="F",VLOOKUP(A129&$A139,$AD$336:$AL$566,4,FALSE),VLOOKUP(A129&$A139,$AD$336:$AL$566,5,FALSE)),Tabelas!$O$9:$P$30,2,FALSE),"") -> Turquia | G139: =C139-E139 -> 0 | H139: =E139-C139 -> 0 | J139: =IFERROR(VLOOKUP(IF(VLOOKUP(I129&$A139,$AD$336:$AL$566,6,FALSE)="C",VLOOKUP(I129&$A139,$AD$336:$AL$566,4,FALSE),VLOOKUP(I129&$A139,$AD$336:$AL$566,5,FALSE)),Tabelas!$O$9:$P$30,2,FALSE),"") -> Suíça | K139: 0 | L139: X | M139: 0 | N139: =IFERROR(VLOOKUP(IF(VLOOKUP(I129&$A139,$AD$336:$AL$566,6,FALSE)="F",VLOOKUP(I129&$A139,$AD$336:$AL$566,4,FALSE),VLOOKUP(I129&$A139,$AD$336:$AL$566,5,FALSE)),Tabelas!$O$9:$P$30,2,FALSE),"") -> França | O139: =K139-M139 -> 0 | P139: =M139-K139 -> 0 | R139: =IFERROR(VLOOKUP(IF(VLOOKUP(Q129&$A139,$AD$336:$AL$566,6,FALSE)="C",VLOOKUP(Q129&$A139,$AD$336:$AL$566,4,FALSE),VLOOKUP(Q129&$A139,$AD$336:$AL$566,5,FALSE)),Tabelas!$O$9:$P$30,2,FALSE),"") -> Suécia | S139: 0 | T139: X | U139: 0 | V139: =IFERROR(VLOOKUP(IF(VLOOKUP(Q129&$A139,$AD$336:$AL$566,6,FALSE)="F",VLOOKUP(Q129&$A139,$AD$336:$AL$566,4,FALSE),VLOOKUP(Q129&$A139,$AD$336:$AL$566,5,FALSE)),Tabelas!$O$9:$P$30,2,FALSE),"") -> Eslovênia | W139: =S139-U139 -> 0 | X139: =U139-S139 -> 0
A141: j6 | B141: =IFERROR(VLOOKUP(IF(VLOOKUP(A129&$A141,$AD$336:$AL$566,6,FALSE)="C",VLOOKUP(A129&$A141,$AD$336:$AL$566,4,FALSE),VLOOKUP(A129&$A141,$AD$336:$AL$566,5,FALSE)),Tabelas!$O$9:$P$30,2,FALSE),"") -> Inglaterra | C141: 1 | D141: X | E141: 1 | F141: =IFERROR(VLOOKUP(IF(VLOOKUP(A129&$A141,$AD$336:$AL$566,6,FALSE)="F",VLOOKUP(A129&$A141,$AD$336:$AL$566,4,FALSE),VLOOKUP(A129&$A141,$AD$336:$AL$566,5,FALSE)),Tabelas!$O$9:$P$30,2,FALSE),"") -> Suíça | G141: =C141-E141 -> 0 | H141: =E141-C141 -> 0 | J141: =IFERROR(VLOOKUP(IF(VLOOKUP(I129&$A141,$AD$336:$AL$566,6,FALSE)="C",VLOOKUP(I129&$A141,$AD$336:$AL$566,4,FALSE),VLOOKUP(I129&$A141,$AD$336:$AL$566,5,FALSE)),Tabelas!$O$9:$P$30,2,FALSE),"") -> Holanda | K141: 0 | L141: X | M141: 3 | N141: =IFERROR(VLOOKUP(IF(VLOOKUP(I129&$A141,$AD$336:$AL$566,6,FALSE)="F",VLOOKUP(I129&$A141,$AD$336:$AL$566,4,FALSE),VLOOKUP(I129&$A141,$AD$336:$AL$566,5,FALSE)),Tabelas!$O$9:$P$30,2,FALSE),"") -> Suécia | O141: =K141-M141 -> -3 | P141: =M141-K141 -> 3 | R141: =IFERROR(VLOOKUP(IF(VLOOKUP(Q129&$A141,$AD$336:$AL$566,6,FALSE)="C",VLOOKUP(Q129&$A141,$AD$336:$AL$566,4,FALSE),VLOOKUP(Q129&$A141,$AD$336:$AL$566,5,FALSE)),Tabelas!$O$9:$P$30,2,FALSE),"") -> Romênia | S141: 2 | T141: X | U141: 1 | V141: =IFERROR(VLOOKUP(IF(VLOOKUP(Q129&$A141,$AD$336:$AL$566,6,FALSE)="F",VLOOKUP(Q129&$A141,$AD$336:$AL$566,4,FALSE),VLOOKUP(Q129&$A141,$AD$336:$AL$566,5,FALSE)),Tabelas!$O$9:$P$30,2,FALSE),"") -> França | W141: =S141-U141 -> 1 | X141: =U141-S141 -> -1
A143: j7 | B143: =IFERROR(VLOOKUP(IF(VLOOKUP(A129&$A143,$AD$336:$AL$566,6,FALSE)="C",VLOOKUP(A129&$A143,$AD$336:$AL$566,4,FALSE),VLOOKUP(A129&$A143,$AD$336:$AL$566,5,FALSE)),Tabelas!$O$9:$P$30,2,FALSE),"") -> Suécia | C143: 0 | D143: X | E143: 0 | F143: =IFERROR(VLOOKUP(IF(VLOOKUP(A129&$A143,$AD$336:$AL$566,6,FALSE)="F",VLOOKUP(A129&$A143,$AD$336:$AL$566,4,FALSE),VLOOKUP(A129&$A143,$AD$336:$AL$566,5,FALSE)),Tabelas!$O$9:$P$30,2,FALSE),"") -> Irlanda | G143: =C143-E143 -> 0 | H143: =E143-C143 -> 0 | J143: =IFERROR(VLOOKUP(IF(VLOOKUP(I129&$A143,$AD$336:$AL$566,6,FALSE)="C",VLOOKUP(I129&$A143,$AD$336:$AL$566,4,FALSE),VLOOKUP(I129&$A143,$AD$336:$AL$566,5,FALSE)),Tabelas!$O$9:$P$30,2,FALSE),"") -> Inglaterra | K143: 2 | L143: X | M143: 0 | N143: =IFERROR(VLOOKUP(IF(VLOOKUP(I129&$A143,$AD$336:$AL$566,6,FALSE)="F",VLOOKUP(I129&$A143,$AD$336:$AL$566,4,FALSE),VLOOKUP(I129&$A143,$AD$336:$AL$566,5,FALSE)),Tabelas!$O$9:$P$30,2,FALSE),"") -> Romênia | O143: =K143-M143 -> 2 | P143: =M143-K143 -> -2 | R143: =IFERROR(VLOOKUP(IF(VLOOKUP(Q129&$A143,$AD$336:$AL$566,6,FALSE)="C",VLOOKUP(Q129&$A143,$AD$336:$AL$566,4,FALSE),VLOOKUP(Q129&$A143,$AD$336:$AL$566,5,FALSE)),Tabelas!$O$9:$P$30,2,FALSE),"") -> Holanda | S143: 1 | T143: X | U143: 0 | V143: =IFERROR(VLOOKUP(IF(VLOOKUP(Q129&$A143,$AD$336:$AL$566,6,FALSE)="F",VLOOKUP(Q129&$A143,$AD$336:$AL$566,4,FALSE),VLOOKUP(Q129&$A143,$AD$336:$AL$566,5,FALSE)),Tabelas!$O$9:$P$30,2,FALSE),"") -> Rep. Tcheca | W143: =S143-U143 -> 1 | X143: =U143-S143 -> -1
A145: j8 | B145: =IFERROR(VLOOKUP(IF(VLOOKUP(A129&$A145,$AD$336:$AL$566,6,FALSE)="C",VLOOKUP(A129&$A145,$AD$336:$AL$566,4,FALSE),VLOOKUP(A129&$A145,$AD$336:$AL$566,5,FALSE)),Tabelas!$O$9:$P$30,2,FALSE),"") -> Romênia | C145: 2 | D145: X | E145: 1 | F145: =IFERROR(VLOOKUP(IF(VLOOKUP(A129&$A145,$AD$336:$AL$566,6,FALSE)="F",VLOOKUP(A129&$A145,$AD$336:$AL$566,4,FALSE),VLOOKUP(A129&$A145,$AD$336:$AL$566,5,FALSE)),Tabelas!$O$9:$P$30,2,FALSE),"") -> Itália | G145: =C145-E145 -> 1 | H145: =E145-C145 -> -1 | J145: =IFERROR(VLOOKUP(IF(VLOOKUP(I129&$A145,$AD$336:$AL$566,6,FALSE)="C",VLOOKUP(I129&$A145,$AD$336:$AL$566,4,FALSE),VLOOKUP(I129&$A145,$AD$336:$AL$566,5,FALSE)),Tabelas!$O$9:$P$30,2,FALSE),"") -> Rep. Tcheca | K145: 0 | L145: X | M145: 0 | N145: =IFERROR(VLOOKUP(IF(VLOOKUP(I129&$A145,$AD$336:$AL$566,6,FALSE)="F",VLOOKUP(I129&$A145,$AD$336:$AL$566,4,FALSE),VLOOKUP(I129&$A145,$AD$336:$AL$566,5,FALSE)),Tabelas!$O$9:$P$30,2,FALSE),"") -> Irlanda | O145: =K145-M145 -> 0 | P145: =M145-K145 -> 0 | R145: =IFERROR(VLOOKUP(IF(VLOOKUP(Q129&$A145,$AD$336:$AL$566,6,FALSE)="C",VLOOKUP(Q129&$A145,$AD$336:$AL$566,4,FALSE),VLOOKUP(Q129&$A145,$AD$336:$AL$566,5,FALSE)),Tabelas!$O$9:$P$30,2,FALSE),"") -> Inglaterra | S145: 5 | T145: X | U145: 1 | V145: =IFERROR(VLOOKUP(IF(VLOOKUP(Q129&$A145,$AD$336:$AL$566,6,FALSE)="F",VLOOKUP(Q129&$A145,$AD$336:$AL$566,4,FALSE),VLOOKUP(Q129&$A145,$AD$336:$AL$566,5,FALSE)),Tabelas!$O$9:$P$30,2,FALSE),"") -> Polônia | W145: =S145-U145 -> 4 | X145: =U145-S145 -> -4
A147: j9 | B147: =IFERROR(VLOOKUP(IF(VLOOKUP(A129&$A147,$AD$336:$AL$566,6,FALSE)="C",VLOOKUP(A129&$A147,$AD$336:$AL$566,4,FALSE),VLOOKUP(A129&$A147,$AD$336:$AL$566,5,FALSE)),Tabelas!$O$9:$P$30,2,FALSE),"") -> Noruega | C147: 1 | D147: X | E147: 0 | F147: =IFERROR(VLOOKUP(IF(VLOOKUP(A129&$A147,$AD$336:$AL$566,6,FALSE)="F",VLOOKUP(A129&$A147,$AD$336:$AL$566,4,FALSE),VLOOKUP(A129&$A147,$AD$336:$AL$566,5,FALSE)),Tabelas!$O$9:$P$30,2,FALSE),"") -> Rep. Tcheca | G147: =C147-E147 -> 1 | H147: =E147-C147 -> -1 | J147: =IFERROR(VLOOKUP(IF(VLOOKUP(I129&$A147,$AD$336:$AL$566,6,FALSE)="C",VLOOKUP(I129&$A147,$AD$336:$AL$566,4,FALSE),VLOOKUP(I129&$A147,$AD$336:$AL$566,5,FALSE)),Tabelas!$O$9:$P$30,2,FALSE),"") -> Polônia | K147: 1 | L147: X | M147: 2 | N147: =IFERROR(VLOOKUP(IF(VLOOKUP(I129&$A147,$AD$336:$AL$566,6,FALSE)="F",VLOOKUP(I129&$A147,$AD$336:$AL$566,4,FALSE),VLOOKUP(I129&$A147,$AD$336:$AL$566,5,FALSE)),Tabelas!$O$9:$P$30,2,FALSE),"") -> Itália | O147: =K147-M147 -> -1 | P147: =M147-K147 -> 1 | R147: =IFERROR(VLOOKUP(IF(VLOOKUP(Q129&$A147,$AD$336:$AL$566,6,FALSE)="C",VLOOKUP(Q129&$A147,$AD$336:$AL$566,4,FALSE),VLOOKUP(Q129&$A147,$AD$336:$AL$566,5,FALSE)),Tabelas!$O$9:$P$30,2,FALSE),"") -> País de Gales | S147: 2 | T147: X | U147: 0 | V147: =IFERROR(VLOOKUP(IF(VLOOKUP(Q129&$A147,$AD$336:$AL$566,6,FALSE)="F",VLOOKUP(Q129&$A147,$AD$336:$AL$566,4,FALSE),VLOOKUP(Q129&$A147,$AD$336:$AL$566,5,FALSE)),Tabelas!$O$9:$P$30,2,FALSE),"") -> Irlanda | W147: =S147-U147 -> 2 | X147: =U147-S147 -> -2
A149: j10 | B149: =IFERROR(VLOOKUP(IF(VLOOKUP(A129&$A149,$AD$336:$AL$566,6,FALSE)="C",VLOOKUP(A129&$A149,$AD$336:$AL$566,4,FALSE),VLOOKUP(A129&$A149,$AD$336:$AL$566,5,FALSE)),Tabelas!$O$9:$P$30,2,FALSE),"") -> País de Gales | C149: 4 | D149: X | E149: 1 | F149: =IFERROR(VLOOKUP(IF(VLOOKUP(A129&$A149,$AD$336:$AL$566,6,FALSE)="F",VLOOKUP(A129&$A149,$AD$336:$AL$566,4,FALSE),VLOOKUP(A129&$A149,$AD$336:$AL$566,5,FALSE)),Tabelas!$O$9:$P$30,2,FALSE),"") -> Polônia | G149: =C149-E149 -> 3 | H149: =E149-C149 -> -3 | J149: =IFERROR(VLOOKUP(IF(VLOOKUP(I129&$A149,$AD$336:$AL$566,6,FALSE)="C",VLOOKUP(I129&$A149,$AD$336:$AL$566,4,FALSE),VLOOKUP(I129&$A149,$AD$336:$AL$566,5,FALSE)),Tabelas!$O$9:$P$30,2,FALSE),"") -> Noruega | K149: 3 | L149: X | M149: 1 | N149: =IFERROR(VLOOKUP(IF(VLOOKUP(I129&$A149,$AD$336:$AL$566,6,FALSE)="F",VLOOKUP(I129&$A149,$AD$336:$AL$566,4,FALSE),VLOOKUP(I129&$A149,$AD$336:$AL$566,5,FALSE)),Tabelas!$O$9:$P$30,2,FALSE),"") -> País de Gales | O149: =K149-M149 -> 2 | P149: =M149-K149 -> -2 | R149: =IFERROR(VLOOKUP(IF(VLOOKUP(Q129&$A149,$AD$336:$AL$566,6,FALSE)="C",VLOOKUP(Q129&$A149,$AD$336:$AL$566,4,FALSE),VLOOKUP(Q129&$A149,$AD$336:$AL$566,5,FALSE)),Tabelas!$O$9:$P$30,2,FALSE),"") -> Noruega | S149: 0 | T149: X | U149: 1 | V149: =IFERROR(VLOOKUP(IF(VLOOKUP(Q129&$A149,$AD$336:$AL$566,6,FALSE)="F",VLOOKUP(Q129&$A149,$AD$336:$AL$566,4,FALSE),VLOOKUP(Q129&$A149,$AD$336:$AL$566,5,FALSE)),Tabelas!$O$9:$P$30,2,FALSE),"") -> Itália | W149: =S149-U149 -> -1 | X149: =U149-S149 -> 1
A151: j11 | B151: =IFERROR(VLOOKUP(IF(VLOOKUP(A129&$A151,$AD$336:$AL$566,6,FALSE)="C",VLOOKUP(A129&$A151,$AD$336:$AL$566,4,FALSE),VLOOKUP(A129&$A151,$AD$336:$AL$566,5,FALSE)),Tabelas!$O$9:$P$30,2,FALSE),"") | D151: X | F151: =IFERROR(VLOOKUP(IF(VLOOKUP(A129&$A151,$AD$336:$AL$566,6,FALSE)="F",VLOOKUP(A129&$A151,$AD$336:$AL$566,4,FALSE),VLOOKUP(A129&$A151,$AD$336:$AL$566,5,FALSE)),Tabelas!$O$9:$P$30,2,FALSE),"") | G151: =C151-E151 -> 0 | H151: =E151-C151 -> 0 | J151: =IFERROR(VLOOKUP(IF(VLOOKUP(I129&$A151,$AD$336:$AL$566,6,FALSE)="C",VLOOKUP(I129&$A151,$AD$336:$AL$566,4,FALSE),VLOOKUP(I129&$A151,$AD$336:$AL$566,5,FALSE)),Tabelas!$O$9:$P$30,2,FALSE),"") | L151: X | N151: =IFERROR(VLOOKUP(IF(VLOOKUP(I129&$A151,$AD$336:$AL$566,6,FALSE)="F",VLOOKUP(I129&$A151,$AD$336:$AL$566,4,FALSE),VLOOKUP(I129&$A151,$AD$336:$AL$566,5,FALSE)),Tabelas!$O$9:$P$30,2,FALSE),"") | O151: =K151-M151 -> 0 | P151: =M151-K151 -> 0 | R151: =IFERROR(VLOOKUP(IF(VLOOKUP(Q129&$A151,$AD$336:$AL$566,6,FALSE)="C",VLOOKUP(Q129&$A151,$AD$336:$AL$566,4,FALSE),VLOOKUP(Q129&$A151,$AD$336:$AL$566,5,FALSE)),Tabelas!$O$9:$P$30,2,FALSE),"") | T151: X | V151: =IFERROR(VLOOKUP(IF(VLOOKUP(Q129&$A151,$AD$336:$AL$566,6,FALSE)="F",VLOOKUP(Q129&$A151,$AD$336:$AL$566,4,FALSE),VLOOKUP(Q129&$A151,$AD$336:$AL$566,5,FALSE)),Tabelas!$O$9:$P$30,2,FALSE),"") | W151: =S151-U151 -> 0 | X151: =U151-S151 -> 0
A154: 19 | B154: =A154&"ª Rodada" -> 19ª Rodada | I154: 20 | J154: =I154&"ª Rodada" -> 20ª Rodada | Q154: 21 | R154: =Q154&"ª Rodada" -> 21ª Rodada
A156: j1 | B156: =IFERROR(VLOOKUP(IF(VLOOKUP(A154&$A156,$AD$336:$AL$566,6,FALSE)="C",VLOOKUP(A154&$A156,$AD$336:$AL$566,4,FALSE),VLOOKUP(A154&$A156,$AD$336:$AL$566,5,FALSE)),Tabelas!$O$9:$P$30,2,FALSE),"") -> DESISTIU | D156: X | F156: =IFERROR(VLOOKUP(IF(VLOOKUP(A154&$A156,$AD$336:$AL$566,6,FALSE)="F",VLOOKUP(A154&$A156,$AD$336:$AL$566,4,FALSE),VLOOKUP(A154&$A156,$AD$336:$AL$566,5,FALSE)),Tabelas!$O$9:$P$30,2,FALSE),"") -> Alemanha | G156: =C156-E156 -> 0 | H156: =E156-C156 -> 0 | J156: =IFERROR(VLOOKUP(IF(VLOOKUP(I154&$A156,$AD$336:$AL$566,6,FALSE)="C",VLOOKUP(I154&$A156,$AD$336:$AL$566,4,FALSE),VLOOKUP(I154&$A156,$AD$336:$AL$566,5,FALSE)),Tabelas!$O$9:$P$30,2,FALSE),"") | L156: X | N156: =IFERROR(VLOOKUP(IF(VLOOKUP(I154&$A156,$AD$336:$AL$566,6,FALSE)="F",VLOOKUP(I154&$A156,$AD$336:$AL$566,4,FALSE),VLOOKUP(I154&$A156,$AD$336:$AL$566,5,FALSE)),Tabelas!$O$9:$P$30,2,FALSE),"") | O156: =K156-M156 -> 0 | P156: =M156-K156 -> 0 | R156: =IFERROR(VLOOKUP(IF(VLOOKUP(Q154&$A156,$AD$336:$AL$566,6,FALSE)="C",VLOOKUP(Q154&$A156,$AD$336:$AL$566,4,FALSE),VLOOKUP(Q154&$A156,$AD$336:$AL$566,5,FALSE)),Tabelas!$O$9:$P$30,2,FALSE),"") | T156: X | V156: =IFERROR(VLOOKUP(IF(VLOOKUP(Q154&$A156,$AD$336:$AL$566,6,FALSE)="F",VLOOKUP(Q154&$A156,$AD$336:$AL$566,4,FALSE),VLOOKUP(Q154&$A156,$AD$336:$AL$566,5,FALSE)),Tabelas!$O$9:$P$30,2,FALSE),"") | W156: =S156-U156 -> 0 | X156: =U156-S156 -> 0
A158: j2 | B158: =IFERROR(VLOOKUP(IF(VLOOKUP(A154&$A158,$AD$336:$AL$566,6,FALSE)="C",VLOOKUP(A154&$A158,$AD$336:$AL$566,4,FALSE),VLOOKUP(A154&$A158,$AD$336:$AL$566,5,FALSE)),Tabelas!$O$9:$P$30,2,FALSE),"") -> Turquia | C158: 1 | D158: X | E158: 0 | F158: =IFERROR(VLOOKUP(IF(VLOOKUP(A154&$A158,$AD$336:$AL$566,6,FALSE)="F",VLOOKUP(A154&$A158,$AD$336:$AL$566,4,FALSE),VLOOKUP(A154&$A158,$AD$336:$AL$566,5,FALSE)),Tabelas!$O$9:$P$30,2,FALSE),"") -> Áustria | G158: =C158-E158 -> 1 | H158: =E158-C158 -> -1 | J158: =IFERROR(VLOOKUP(IF(VLOOKUP(I154&$A158,$AD$336:$AL$566,6,FALSE)="C",VLOOKUP(I154&$A158,$AD$336:$AL$566,4,FALSE),VLOOKUP(I154&$A158,$AD$336:$AL$566,5,FALSE)),Tabelas!$O$9:$P$30,2,FALSE),"") | L158: X | N158: =IFERROR(VLOOKUP(IF(VLOOKUP(I154&$A158,$AD$336:$AL$566,6,FALSE)="F",VLOOKUP(I154&$A158,$AD$336:$AL$566,4,FALSE),VLOOKUP(I154&$A158,$AD$336:$AL$566,5,FALSE)),Tabelas!$O$9:$P$30,2,FALSE),"") | O158: =K158-M158 -> 0 | P158: =M158-K158 -> 0 | R158: =IFERROR(VLOOKUP(IF(VLOOKUP(Q154&$A158,$AD$336:$AL$566,6,FALSE)="C",VLOOKUP(Q154&$A158,$AD$336:$AL$566,4,FALSE),VLOOKUP(Q154&$A158,$AD$336:$AL$566,5,FALSE)),Tabelas!$O$9:$P$30,2,FALSE),"") | T158: X | V158: =IFERROR(VLOOKUP(IF(VLOOKUP(Q154&$A158,$AD$336:$AL$566,6,FALSE)="F",VLOOKUP(Q154&$A158,$AD$336:$AL$566,4,FALSE),VLOOKUP(Q154&$A158,$AD$336:$AL$566,5,FALSE)),Tabelas!$O$9:$P$30,2,FALSE),"") | W158: =S158-U158 -> 0 | X158: =U158-S158 -> 0
A160: j3 | B160: =IFERROR(VLOOKUP(IF(VLOOKUP(A154&$A160,$AD$336:$AL$566,6,FALSE)="C",VLOOKUP(A154&$A160,$AD$336:$AL$566,4,FALSE),VLOOKUP(A154&$A160,$AD$336:$AL$566,5,FALSE)),Tabelas!$O$9:$P$30,2,FALSE),"") -> Suíça | C160: 0 | D160: X | E160: 0 | F160: =IFERROR(VLOOKUP(IF(VLOOKUP(A154&$A160,$AD$336:$AL$566,6,FALSE)="F",VLOOKUP(A154&$A160,$AD$336:$AL$566,4,FALSE),VLOOKUP(A154&$A160,$AD$336:$AL$566,5,FALSE)),Tabelas!$O$9:$P$30,2,FALSE),"") -> Bélgica | G160: =C160-E160 -> 0 | H160: =E160-C160 -> 0 | J160: =IFERROR(VLOOKUP(IF(VLOOKUP(I154&$A160,$AD$336:$AL$566,6,FALSE)="C",VLOOKUP(I154&$A160,$AD$336:$AL$566,4,FALSE),VLOOKUP(I154&$A160,$AD$336:$AL$566,5,FALSE)),Tabelas!$O$9:$P$30,2,FALSE),"") | L160: X | N160: =IFERROR(VLOOKUP(IF(VLOOKUP(I154&$A160,$AD$336:$AL$566,6,FALSE)="F",VLOOKUP(I154&$A160,$AD$336:$AL$566,4,FALSE),VLOOKUP(I154&$A160,$AD$336:$AL$566,5,FALSE)),Tabelas!$O$9:$P$30,2,FALSE),"") | O160: =K160-M160 -> 0 | P160: =M160-K160 -> 0 | R160: =IFERROR(VLOOKUP(IF(VLOOKUP(Q154&$A160,$AD$336:$AL$566,6,FALSE)="C",VLOOKUP(Q154&$A160,$AD$336:$AL$566,4,FALSE),VLOOKUP(Q154&$A160,$AD$336:$AL$566,5,FALSE)),Tabelas!$O$9:$P$30,2,FALSE),"") | T160: X | V160: =IFERROR(VLOOKUP(IF(VLOOKUP(Q154&$A160,$AD$336:$AL$566,6,FALSE)="F",VLOOKUP(Q154&$A160,$AD$336:$AL$566,4,FALSE),VLOOKUP(Q154&$A160,$AD$336:$AL$566,5,FALSE)),Tabelas!$O$9:$P$30,2,FALSE),"") | W160: =S160-U160 -> 0 | X160: =U160-S160 -> 0
A162: j4 | B162: =IFERROR(VLOOKUP(IF(VLOOKUP(A154&$A162,$AD$336:$AL$566,6,FALSE)="C",VLOOKUP(A154&$A162,$AD$336:$AL$566,4,FALSE),VLOOKUP(A154&$A162,$AD$336:$AL$566,5,FALSE)),Tabelas!$O$9:$P$30,2,FALSE),"") -> Dinamarca | C162: 0 | D162: X | E162: 1 | F162: =IFERROR(VLOOKUP(IF(VLOOKUP(A154&$A162,$AD$336:$AL$566,6,FALSE)="F",VLOOKUP(A154&$A162,$AD$336:$AL$566,4,FALSE),VLOOKUP(A154&$A162,$AD$336:$AL$566,5,FALSE)),Tabelas!$O$9:$P$30,2,FALSE),"") -> Suécia | G162: =C162-E162 -> -1 | H162: =E162-C162 -> 1 | J162: =IFERROR(VLOOKUP(IF(VLOOKUP(I154&$A162,$AD$336:$AL$566,6,FALSE)="C",VLOOKUP(I154&$A162,$AD$336:$AL$566,4,FALSE),VLOOKUP(I154&$A162,$AD$336:$AL$566,5,FALSE)),Tabelas!$O$9:$P$30,2,FALSE),"") | L162: X | N162: =IFERROR(VLOOKUP(IF(VLOOKUP(I154&$A162,$AD$336:$AL$566,6,FALSE)="F",VLOOKUP(I154&$A162,$AD$336:$AL$566,4,FALSE),VLOOKUP(I154&$A162,$AD$336:$AL$566,5,FALSE)),Tabelas!$O$9:$P$30,2,FALSE),"") | O162: =K162-M162 -> 0 | P162: =M162-K162 -> 0 | R162: =IFERROR(VLOOKUP(IF(VLOOKUP(Q154&$A162,$AD$336:$AL$566,6,FALSE)="C",VLOOKUP(Q154&$A162,$AD$336:$AL$566,4,FALSE),VLOOKUP(Q154&$A162,$AD$336:$AL$566,5,FALSE)),Tabelas!$O$9:$P$30,2,FALSE),"") | T162: X | V162: =IFERROR(VLOOKUP(IF(VLOOKUP(Q154&$A162,$AD$336:$AL$566,6,FALSE)="F",VLOOKUP(Q154&$A162,$AD$336:$AL$566,4,FALSE),VLOOKUP(Q154&$A162,$AD$336:$AL$566,5,FALSE)),Tabelas!$O$9:$P$30,2,FALSE),"") | W162: =S162-U162 -> 0 | X162: =U162-S162 -> 0
A164: j5 | B164: =IFERROR(VLOOKUP(IF(VLOOKUP(A154&$A164,$AD$336:$AL$566,6,FALSE)="C",VLOOKUP(A154&$A164,$AD$336:$AL$566,4,FALSE),VLOOKUP(A154&$A164,$AD$336:$AL$566,5,FALSE)),Tabelas!$O$9:$P$30,2,FALSE),"") -> Escócia | C164: 1 | D164: X | E164: 0 | F164: =IFERROR(VLOOKUP(IF(VLOOKUP(A154&$A164,$AD$336:$AL$566,6,FALSE)="F",VLOOKUP(A154&$A164,$AD$336:$AL$566,4,FALSE),VLOOKUP(A154&$A164,$AD$336:$AL$566,5,FALSE)),Tabelas!$O$9:$P$30,2,FALSE),"") -> Romênia | G164: =C164-E164 -> 1 | H164: =E164-C164 -> -1 | J164: =IFERROR(VLOOKUP(IF(VLOOKUP(I154&$A164,$AD$336:$AL$566,6,FALSE)="C",VLOOKUP(I154&$A164,$AD$336:$AL$566,4,FALSE),VLOOKUP(I154&$A164,$AD$336:$AL$566,5,FALSE)),Tabelas!$O$9:$P$30,2,FALSE),"") | L164: X | N164: =IFERROR(VLOOKUP(IF(VLOOKUP(I154&$A164,$AD$336:$AL$566,6,FALSE)="F",VLOOKUP(I154&$A164,$AD$336:$AL$566,4,FALSE),VLOOKUP(I154&$A164,$AD$336:$AL$566,5,FALSE)),Tabelas!$O$9:$P$30,2,FALSE),"") | O164: =K164-M164 -> 0 | P164: =M164-K164 -> 0 | R164: =IFERROR(VLOOKUP(IF(VLOOKUP(Q154&$A164,$AD$336:$AL$566,6,FALSE)="C",VLOOKUP(Q154&$A164,$AD$336:$AL$566,4,FALSE),VLOOKUP(Q154&$A164,$AD$336:$AL$566,5,FALSE)),Tabelas!$O$9:$P$30,2,FALSE),"") | T164: X | V164: =IFERROR(VLOOKUP(IF(VLOOKUP(Q154&$A164,$AD$336:$AL$566,6,FALSE)="F",VLOOKUP(Q154&$A164,$AD$336:$AL$566,4,FALSE),VLOOKUP(Q154&$A164,$AD$336:$AL$566,5,FALSE)),Tabelas!$O$9:$P$30,2,FALSE),"") | W164: =S164-U164 -> 0 | X164: =U164-S164 -> 0
A166: j6 | B166: =IFERROR(VLOOKUP(IF(VLOOKUP(A154&$A166,$AD$336:$AL$566,6,FALSE)="C",VLOOKUP(A154&$A166,$AD$336:$AL$566,4,FALSE),VLOOKUP(A154&$A166,$AD$336:$AL$566,5,FALSE)),Tabelas!$O$9:$P$30,2,FALSE),"") -> Rep. Tcheca | C166: 0 | D166: X | E166: 1 | F166: =IFERROR(VLOOKUP(IF(VLOOKUP(A154&$A166,$AD$336:$AL$566,6,FALSE)="F",VLOOKUP(A154&$A166,$AD$336:$AL$566,4,FALSE),VLOOKUP(A154&$A166,$AD$336:$AL$566,5,FALSE)),Tabelas!$O$9:$P$30,2,FALSE),"") -> Eslovênia | G166: =C166-E166 -> -1 | H166: =E166-C166 -> 1 | J166: =IFERROR(VLOOKUP(IF(VLOOKUP(I154&$A166,$AD$336:$AL$566,6,FALSE)="C",VLOOKUP(I154&$A166,$AD$336:$AL$566,4,FALSE),VLOOKUP(I154&$A166,$AD$336:$AL$566,5,FALSE)),Tabelas!$O$9:$P$30,2,FALSE),"") | L166: X | N166: =IFERROR(VLOOKUP(IF(VLOOKUP(I154&$A166,$AD$336:$AL$566,6,FALSE)="F",VLOOKUP(I154&$A166,$AD$336:$AL$566,4,FALSE),VLOOKUP(I154&$A166,$AD$336:$AL$566,5,FALSE)),Tabelas!$O$9:$P$30,2,FALSE),"") | O166: =K166-M166 -> 0 | P166: =M166-K166 -> 0 | R166: =IFERROR(VLOOKUP(IF(VLOOKUP(Q154&$A166,$AD$336:$AL$566,6,FALSE)="C",VLOOKUP(Q154&$A166,$AD$336:$AL$566,4,FALSE),VLOOKUP(Q154&$A166,$AD$336:$AL$566,5,FALSE)),Tabelas!$O$9:$P$30,2,FALSE),"") | T166: X | V166: =IFERROR(VLOOKUP(IF(VLOOKUP(Q154&$A166,$AD$336:$AL$566,6,FALSE)="F",VLOOKUP(Q154&$A166,$AD$336:$AL$566,4,FALSE),VLOOKUP(Q154&$A166,$AD$336:$AL$566,5,FALSE)),Tabelas!$O$9:$P$30,2,FALSE),"") | W166: =S166-U166 -> 0 | X166: =U166-S166 -> 0
A168: j7 | B168: =IFERROR(VLOOKUP(IF(VLOOKUP(A154&$A168,$AD$336:$AL$566,6,FALSE)="C",VLOOKUP(A154&$A168,$AD$336:$AL$566,4,FALSE),VLOOKUP(A154&$A168,$AD$336:$AL$566,5,FALSE)),Tabelas!$O$9:$P$30,2,FALSE),"") -> Polônia | C168: 1 | D168: X | E168: 1 | F168: =IFERROR(VLOOKUP(IF(VLOOKUP(A154&$A168,$AD$336:$AL$566,6,FALSE)="F",VLOOKUP(A154&$A168,$AD$336:$AL$566,4,FALSE),VLOOKUP(A154&$A168,$AD$336:$AL$566,5,FALSE)),Tabelas!$O$9:$P$30,2,FALSE),"") -> França | G168: =C168-E168 -> 0 | H168: =E168-C168 -> 0 | J168: =IFERROR(VLOOKUP(IF(VLOOKUP(I154&$A168,$AD$336:$AL$566,6,FALSE)="C",VLOOKUP(I154&$A168,$AD$336:$AL$566,4,FALSE),VLOOKUP(I154&$A168,$AD$336:$AL$566,5,FALSE)),Tabelas!$O$9:$P$30,2,FALSE),"") | L168: X | N168: =IFERROR(VLOOKUP(IF(VLOOKUP(I154&$A168,$AD$336:$AL$566,6,FALSE)="F",VLOOKUP(I154&$A168,$AD$336:$AL$566,4,FALSE),VLOOKUP(I154&$A168,$AD$336:$AL$566,5,FALSE)),Tabelas!$O$9:$P$30,2,FALSE),"") | O168: =K168-M168 -> 0 | P168: =M168-K168 -> 0 | R168: =IFERROR(VLOOKUP(IF(VLOOKUP(Q154&$A168,$AD$336:$AL$566,6,FALSE)="C",VLOOKUP(Q154&$A168,$AD$336:$AL$566,4,FALSE),VLOOKUP(Q154&$A168,$AD$336:$AL$566,5,FALSE)),Tabelas!$O$9:$P$30,2,FALSE),"") | T168: X | V168: =IFERROR(VLOOKUP(IF(VLOOKUP(Q154&$A168,$AD$336:$AL$566,6,FALSE)="F",VLOOKUP(Q154&$A168,$AD$336:$AL$566,4,FALSE),VLOOKUP(Q154&$A168,$AD$336:$AL$566,5,FALSE)),Tabelas!$O$9:$P$30,2,FALSE),"") | W168: =S168-U168 -> 0 | X168: =U168-S168 -> 0
A170: j8 | B170: =IFERROR(VLOOKUP(IF(VLOOKUP(A154&$A170,$AD$336:$AL$566,6,FALSE)="C",VLOOKUP(A154&$A170,$AD$336:$AL$566,4,FALSE),VLOOKUP(A154&$A170,$AD$336:$AL$566,5,FALSE)),Tabelas!$O$9:$P$30,2,FALSE),"") -> Holanda | C170: 2 | D170: X | E170: 0 | F170: =IFERROR(VLOOKUP(IF(VLOOKUP(A154&$A170,$AD$336:$AL$566,6,FALSE)="F",VLOOKUP(A154&$A170,$AD$336:$AL$566,4,FALSE),VLOOKUP(A154&$A170,$AD$336:$AL$566,5,FALSE)),Tabelas!$O$9:$P$30,2,FALSE),"") -> País de Gales | G170: =C170-E170 -> 2 | H170: =E170-C170 -> -2 | J170: =IFERROR(VLOOKUP(IF(VLOOKUP(I154&$A170,$AD$336:$AL$566,6,FALSE)="C",VLOOKUP(I154&$A170,$AD$336:$AL$566,4,FALSE),VLOOKUP(I154&$A170,$AD$336:$AL$566,5,FALSE)),Tabelas!$O$9:$P$30,2,FALSE),"") | L170: X | N170: =IFERROR(VLOOKUP(IF(VLOOKUP(I154&$A170,$AD$336:$AL$566,6,FALSE)="F",VLOOKUP(I154&$A170,$AD$336:$AL$566,4,FALSE),VLOOKUP(I154&$A170,$AD$336:$AL$566,5,FALSE)),Tabelas!$O$9:$P$30,2,FALSE),"") | O170: =K170-M170 -> 0 | P170: =M170-K170 -> 0 | R170: =IFERROR(VLOOKUP(IF(VLOOKUP(Q154&$A170,$AD$336:$AL$566,6,FALSE)="C",VLOOKUP(Q154&$A170,$AD$336:$AL$566,4,FALSE),VLOOKUP(Q154&$A170,$AD$336:$AL$566,5,FALSE)),Tabelas!$O$9:$P$30,2,FALSE),"") | T170: X | V170: =IFERROR(VLOOKUP(IF(VLOOKUP(Q154&$A170,$AD$336:$AL$566,6,FALSE)="F",VLOOKUP(Q154&$A170,$AD$336:$AL$566,4,FALSE),VLOOKUP(Q154&$A170,$AD$336:$AL$566,5,FALSE)),Tabelas!$O$9:$P$30,2,FALSE),"") | W170: =S170-U170 -> 0 | X170: =U170-S170 -> 0
A172: j9 | B172: =IFERROR(VLOOKUP(IF(VLOOKUP(A154&$A172,$AD$336:$AL$566,6,FALSE)="C",VLOOKUP(A154&$A172,$AD$336:$AL$566,4,FALSE),VLOOKUP(A154&$A172,$AD$336:$AL$566,5,FALSE)),Tabelas!$O$9:$P$30,2,FALSE),"") -> Inglaterra | C172: 2 | D172: X | E172: 1 | F172: =IFERROR(VLOOKUP(IF(VLOOKUP(A154&$A172,$AD$336:$AL$566,6,FALSE)="F",VLOOKUP(A154&$A172,$AD$336:$AL$566,4,FALSE),VLOOKUP(A154&$A172,$AD$336:$AL$566,5,FALSE)),Tabelas!$O$9:$P$30,2,FALSE),"") -> Noruega | G172: =C172-E172 -> 1 | H172: =E172-C172 -> -1 | J172: =IFERROR(VLOOKUP(IF(VLOOKUP(I154&$A172,$AD$336:$AL$566,6,FALSE)="C",VLOOKUP(I154&$A172,$AD$336:$AL$566,4,FALSE),VLOOKUP(I154&$A172,$AD$336:$AL$566,5,FALSE)),Tabelas!$O$9:$P$30,2,FALSE),"") | L172: X | N172: =IFERROR(VLOOKUP(IF(VLOOKUP(I154&$A172,$AD$336:$AL$566,6,FALSE)="F",VLOOKUP(I154&$A172,$AD$336:$AL$566,4,FALSE),VLOOKUP(I154&$A172,$AD$336:$AL$566,5,FALSE)),Tabelas!$O$9:$P$30,2,FALSE),"") | O172: =K172-M172 -> 0 | P172: =M172-K172 -> 0 | R172: =IFERROR(VLOOKUP(IF(VLOOKUP(Q154&$A172,$AD$336:$AL$566,6,FALSE)="C",VLOOKUP(Q154&$A172,$AD$336:$AL$566,4,FALSE),VLOOKUP(Q154&$A172,$AD$336:$AL$566,5,FALSE)),Tabelas!$O$9:$P$30,2,FALSE),"") | T172: X | V172: =IFERROR(VLOOKUP(IF(VLOOKUP(Q154&$A172,$AD$336:$AL$566,6,FALSE)="F",VLOOKUP(Q154&$A172,$AD$336:$AL$566,4,FALSE),VLOOKUP(Q154&$A172,$AD$336:$AL$566,5,FALSE)),Tabelas!$O$9:$P$30,2,FALSE),"") | W172: =S172-U172 -> 0 | X172: =U172-S172 -> 0
A174: j10 | B174: =IFERROR(VLOOKUP(IF(VLOOKUP(A154&$A174,$AD$336:$AL$566,6,FALSE)="C",VLOOKUP(A154&$A174,$AD$336:$AL$566,4,FALSE),VLOOKUP(A154&$A174,$AD$336:$AL$566,5,FALSE)),Tabelas!$O$9:$P$30,2,FALSE),"") -> Itália | C174: 0 | D174: X | E174: 0 | F174: =IFERROR(VLOOKUP(IF(VLOOKUP(A154&$A174,$AD$336:$AL$566,6,FALSE)="F",VLOOKUP(A154&$A174,$AD$336:$AL$566,4,FALSE),VLOOKUP(A154&$A174,$AD$336:$AL$566,5,FALSE)),Tabelas!$O$9:$P$30,2,FALSE),"") -> Irlanda | G174: =C174-E174 -> 0 | H174: =E174-C174 -> 0 | J174: =IFERROR(VLOOKUP(IF(VLOOKUP(I154&$A174,$AD$336:$AL$566,6,FALSE)="C",VLOOKUP(I154&$A174,$AD$336:$AL$566,4,FALSE),VLOOKUP(I154&$A174,$AD$336:$AL$566,5,FALSE)),Tabelas!$O$9:$P$30,2,FALSE),"") | L174: X | N174: =IFERROR(VLOOKUP(IF(VLOOKUP(I154&$A174,$AD$336:$AL$566,6,FALSE)="F",VLOOKUP(I154&$A174,$AD$336:$AL$566,4,FALSE),VLOOKUP(I154&$A174,$AD$336:$AL$566,5,FALSE)),Tabelas!$O$9:$P$30,2,FALSE),"") | O174: =K174-M174 -> 0 | P174: =M174-K174 -> 0 | R174: =IFERROR(VLOOKUP(IF(VLOOKUP(Q154&$A174,$AD$336:$AL$566,6,FALSE)="C",VLOOKUP(Q154&$A174,$AD$336:$AL$566,4,FALSE),VLOOKUP(Q154&$A174,$AD$336:$AL$566,5,FALSE)),Tabelas!$O$9:$P$30,2,FALSE),"") | T174: X | V174: =IFERROR(VLOOKUP(IF(VLOOKUP(Q154&$A174,$AD$336:$AL$566,6,FALSE)="F",VLOOKUP(Q154&$A174,$AD$336:$AL$566,4,FALSE),VLOOKUP(Q154&$A174,$AD$336:$AL$566,5,FALSE)),Tabelas!$O$9:$P$30,2,FALSE),"") | W174: =S174-U174 -> 0 | X174: =U174-S174 -> 0
A176: j11 | B176: =IFERROR(VLOOKUP(IF(VLOOKUP(A154&$A176,$AD$336:$AL$566,6,FALSE)="C",VLOOKUP(A154&$A176,$AD$336:$AL$566,4,FALSE),VLOOKUP(A154&$A176,$AD$336:$AL$566,5,FALSE)),Tabelas!$O$9:$P$30,2,FALSE),"") | D176: X | F176: =IFERROR(VLOOKUP(IF(VLOOKUP(A154&$A176,$AD$336:$AL$566,6,FALSE)="F",VLOOKUP(A154&$A176,$AD$336:$AL$566,4,FALSE),VLOOKUP(A154&$A176,$AD$336:$AL$566,5,FALSE)),Tabelas!$O$9:$P$30,2,FALSE),"") | G176: =C176-E176 -> 0 | H176: =E176-C176 -> 0 | J176: =IFERROR(VLOOKUP(IF(VLOOKUP(I154&$A176,$AD$336:$AL$566,6,FALSE)="C",VLOOKUP(I154&$A176,$AD$336:$AL$566,4,FALSE),VLOOKUP(I154&$A176,$AD$336:$AL$566,5,FALSE)),Tabelas!$O$9:$P$30,2,FALSE),"") | L176: X | N176: =IFERROR(VLOOKUP(IF(VLOOKUP(I154&$A176,$AD$336:$AL$566,6,FALSE)="F",VLOOKUP(I154&$A176,$AD$336:$AL$566,4,FALSE),VLOOKUP(I154&$A176,$AD$336:$AL$566,5,FALSE)),Tabelas!$O$9:$P$30,2,FALSE),"") | O176: =K176-M176 -> 0 | P176: =M176-K176 -> 0 | R176: =IFERROR(VLOOKUP(IF(VLOOKUP(Q154&$A176,$AD$336:$AL$566,6,FALSE)="C",VLOOKUP(Q154&$A176,$AD$336:$AL$566,4,FALSE),VLOOKUP(Q154&$A176,$AD$336:$AL$566,5,FALSE)),Tabelas!$O$9:$P$30,2,FALSE),"") | T176: X | V176: =IFERROR(VLOOKUP(IF(VLOOKUP(Q154&$A176,$AD$336:$AL$566,6,FALSE)="F",VLOOKUP(Q154&$A176,$AD$336:$AL$566,4,FALSE),VLOOKUP(Q154&$A176,$AD$336:$AL$566,5,FALSE)),Tabelas!$O$9:$P$30,2,FALSE),"") | W176: =S176-U176 -> 0 | X176: =U176-S176 -> 0
A179: REPESCAGEM | I179: =IF(A179="REPESCAGEM","REPESCAGEM",IF(A179="REPESCAGEM C/ PÊNALTI","REPESCAGEM",IF(A179="OITAVAS-DE-FINAL","OITAVAS-DE-FINAL",IF(A179="OITAVAS-DE-FINAL C/ PÊNALTI","OITAVAS-DE-FINAL","")))) -> REPESCAGEM
B180: =IF(E174="","","OK") -> OK
A181: =IF(A179="REPESCAGEM","REPESCAGEM",IF(A179="REPESCAGEM C/ PÊNALTI","REPESCAGEM",IF(A179="OITAVAS-DE-FINAL","OITAVAS-DE-FINAL",IF(A179="OITAVAS-DE-FINAL C/ PÊNALTI","OITAVAS-DE-FINAL","")))) -> REPESCAGEM | B181: =IF(B180="OK",IF(A181="REPESCAGEM",Tabelas!C13,Tabelas!C9),IF(A181="OITAVAS-DE-FINAL","1º Colocado","5º Colocado")) -> Noruega | C181: 1 | D181: X | E181: 0 | F181: =IF(B180="OK",IF(A181="REPESCAGEM",Tabelas!C20,Tabelas!C24),IF(A181="OITAVAS-DE-FINAL","16º Colocado","12º Colocado")) -> Alemanha | G181: =C181-E181 -> 1 | H181: =E181-C181 -> -1 | J181: =IF(B180="OK",IF(A181="REPESCAGEM",Tabelas!C14,Tabelas!C10),IF(A181="OITAVAS-DE-FINAL","2º Colocado","6º Colocado")) -> Suécia | K181: 3 | L181: X | M181: 2 | N181: =IF(B180="OK",IF(A181="REPESCAGEM",Tabelas!C19,Tabelas!C23),IF(A181="OITAVAS-DE-FINAL","15º Colocado","11º Colocado")) -> Itália | O181: =K181-M181 -> 1 | P181: =M181-K181 -> -1
D182: =IF((E181)="","",IF(C181>E181,1,IF(E181>C181,2,IF($A$179="OITAVAS-DE-FINAL C/ PÊNALTI",3,IF($A$179="REPESCAGEM C/ PÊNALTI",3,1))))) -> 1 | L182: =IF((M181)="","",IF(K181>M181,1,IF(M181>K181,2,IF($A$179="OITAVAS-DE-FINAL C/ PÊNALTI",3,IF($A$179="REPESCAGEM C/ PÊNALTI",3,1))))) -> 1 | AB182: =D182 -> 1
A184: =IF(A179="REPESCAGEM","REPESCAGEM",IF(A179="REPESCAGEM C/ PÊNALTI","REPESCAGEM",IF(A179="OITAVAS-DE-FINAL","OITAVAS-DE-FINAL",IF(A179="OITAVAS-DE-FINAL C/ PÊNALTI","OITAVAS-DE-FINAL","")))) -> REPESCAGEM | B184: =IF(B180="OK",IF(A184="REPESCAGEM",Tabelas!C15,Tabelas!C11),IF(A184="OITAVAS-DE-FINAL","3º Colocado","7º Colocado")) -> Turquia | C184: 0 | D184: X | E184: 0 | F184: =IF(B180="OK",IF(A184="REPESCAGEM",Tabelas!C18,Tabelas!C22),IF(A184="OITAVAS-DE-FINAL","14º Colocado","10º Colocado")) -> Áustria | G184: =C184-E184 -> 0 | H184: =E184-C184 -> 0 | J184: =IF(B180="OK",IF(A184="REPESCAGEM",Tabelas!C16,Tabelas!C12),IF(A184="OITAVAS-DE-FINAL","4º Colocado","8º Colocado")) -> Holanda | K184: 2 | L184: X | M184: 1 | N184: =IF(B180="OK",IF(A184="REPESCAGEM",Tabelas!C17,Tabelas!C21),IF(A184="OITAVAS-DE-FINAL","13º Colocado","9º Colocado")) -> País de Gales | O184: =K184-M184 -> 1 | P184: =M184-K184 -> -1
D185: =IF((E184)="","",IF(C184>E184,1,IF(E184>C184,2,IF($A$179="OITAVAS-DE-FINAL C/ PÊNALTI",3,IF($A$179="REPESCAGEM C/ PÊNALTI",3,1))))) -> 1 | L185: =IF((M184)="","",IF(K184>M184,1,IF(M184>K184,2,IF($A$179="OITAVAS-DE-FINAL C/ PÊNALTI",3,IF($A$179="REPESCAGEM C/ PÊNALTI",3,1))))) -> 1
A187: =IF(A179="REPESCAGEM","",IF(A179="REPESCAGEM C/ PÊNALTI","",IF(A179="OITAVAS-DE-FINAL","OITAVAS-DE-FINAL",IF(A179="OITAVAS-DE-FINAL C/ PÊNALTI","OITAVAS-DE-FINAL","")))) | B187: =IF(B180="OK",IF(A187="OITAVAS-DE-FINAL",Tabelas!C13,""),"5º Colocado") | D187: X | F187: =IF(B180="OK",IF(A187="OITAVAS-DE-FINAL",Tabelas!C20,""),"12º Colocado") | G187: =C187-E187 -> 0 | H187: =E187-C187 -> 0 | J187: =IF(B180="OK",IF(A187="OITAVAS-DE-FINAL",Tabelas!C14,""),"6º Colocado") | L187: X | N187: =IF(B180="OK",IF(A187="OITAVAS-DE-FINAL",Tabelas!C19,""),"11º Colocado") | O187: =K187-M187 -> 0 | P187: =M187-K187 -> 0
D188: =IF((E187)="","",IF(C187>E187,1,IF(E187>C187,2,IF($A$179="OITAVAS-DE-FINAL C/ PÊNALTI",3,IF($A$179="REPESCAGEM C/ PÊNALTI",3,1))))) | L188: =IF((M187)="","",IF(K187>M187,1,IF(M187>K187,2,IF($A$179="OITAVAS-DE-FINAL C/ PÊNALTI",3,IF($A$179="REPESCAGEM C/ PÊNALTI",3,1)))))
A190: =IF(A179="REPESCAGEM","",IF(A179="REPESCAGEM C/ PÊNALTI","",IF(A179="OITAVAS-DE-FINAL","OITAVAS-DE-FINAL",IF(A179="OITAVAS-DE-FINAL C/ PÊNALTI","OITAVAS-DE-FINAL","")))) | B190: =IF(B180="OK",IF(A190="OITAVAS-DE-FINAL",Tabelas!C15,""),"7º Colocado") | D190: X | F190: =IF(B180="OK",IF(A190="OITAVAS-DE-FINAL",Tabelas!C18,""),"10º Colocado") | G190: =C190-E190 -> 0 | H190: =E190-C190 -> 0 | J190: =IF(B180="OK",IF(A190="OITAVAS-DE-FINAL",Tabelas!C16,""),"8º Colocado") | L190: X | N190: =IF(B180="OK",IF(A190="OITAVAS-DE-FINAL",Tabelas!C17,""),"9º Colocado") | O190: =K190-M190 -> 0 | P190: =M190-K190 -> 0
D191: =IF((E190)="","",IF(C190>E190,1,IF(E190>C190,2,IF($A$179="OITAVAS-DE-FINAL C/ PÊNALTI",3,IF($A$179="REPESCAGEM C/ PÊNALTI",3,1))))) | L191: =IF((M190)="","",IF(K190>M190,1,IF(M190>K190,2,IF($A$179="OITAVAS-DE-FINAL C/ PÊNALTI",3,IF($A$179="REPESCAGEM C/ PÊNALTI",3,1)))))
A193: QUARTAS-DE-FINAL C/ PÊNALTI | I193: =IF(A193="REPESCAGEM","REPESCAGEM",IF(A193="REPESCAGEM C/ PÊNALTI","REPESCAGEM",IF(A193="QUARTAS-DE-FINAL","QUARTAS-DE-FINAL",IF(A193="QUARTAS-DE-FINAL C/ PÊNALTI","QUARTAS-DE-FINAL","")))) -> QUARTAS-DE-FINAL
B194: =IF(I179="oitavas-de-final",IF(M190="","","OK"),IF(I179="repescagem",IF(M184="","","OK"))) -> OK
A195: =IF(A193="QUARTAS-DE-FINAL","QUARTAS-DE-FINAL",IF(A193="QUARTAS-DE-FINAL C/ PÊNALTI","QUARTAS-DE-FINAL","")) -> QUARTAS-DE-FINAL | B195: =IF($B$194="OK",IF($I$179="REPESCAGEM",Tabelas!$C$9,IF($I$179="OITAVAS-DE-FINAL",'Regras - Quartas'!C36)),"1º Colocado") -> Escócia | C195: 3 | D195: X | E195: 0 | F195: =IF($B$194="OK",IF($I$179="REPESCAGEM",'Regras - Quartas'!$C$39,IF($I$179="OITAVAS-DE-FINAL",'Regras - Quartas'!C43))," ") -> Holanda | G195: =C195-E195 -> 3 | H195: =E195-C195 -> -3 | J195: =IF($B$194="OK",IF($I$179="REPESCAGEM",Tabelas!$C$10,IF($I$179="OITAVAS-DE-FINAL",'Regras - Quartas'!C37)),"2º Colocado") -> Inglaterra | K195: 0 | L195: X | M195: 1 | N195: =IF($B$194="OK",IF($I$179="REPESCAGEM",'Regras - Quartas'!$C$38,IF($I$179="OITAVAS-DE-FINAL",'Regras - Quartas'!C42))," ") -> Turquia | O195: =K195-M195 -> -1 | P195: =M195-K195 -> 1
D196: =IF((E195)="","",IF(C195>E195,1,IF(E195>C195,2,IF($A$193="QUARTAS-DE-FINAL C/ PÊNALTI",3,IF($A$193="REPESCAGEM C/ PÊNALTI",3,1))))) -> 1 | I196: SEM PENALTI | L196: =IF((M195)="","",IF(K195>M195,1,IF(M195>K195,2,IF($A$193="QUARTAS-DE-FINAL C/ PÊNALTI",3,IF($A$193="REPESCAGEM C/ PÊNALTI",3,1))))) -> 2
...

Sheet Geral
B2: =Tabelas!B2 -> LXVI - CAMPEONATO
B3: =Tabelas!B3 -> EUROCOPA
B4: =Tabelas!B4 -> 42833
AC6: 1ª FASE | AN6: =Jogos!I179 -> REPESCAGEM | AY6: =Jogos!I193 -> QUARTAS-DE-FINAL | BJ6: SEMI FINAL + FINAL + 3º E 4º
B7: pos. | C7: Time | D7: Jogos | E7: v | F7: e | G7: d | H7: gp | I7: gc | J7: Saldo | K7: Pontos | O7: COD | P7: TIME | Q7: JOGOS | R7: V | S7: E | T7: D | U7: GP | V7: GC | W7: SALDO | X7: PONTOS | AC7: COD | AD7: TIME | AE7: JOGOS | AF7: V | AG7: E | AH7: D | AI7: GP | AJ7: GC | AK7: SALDO | AL7: PONTOS | AN7: COD | AO7: TIME | AP7: JOGOS | AQ7: V | AR7: E | AS7: D | AT7: GP | AU7: GC | AV7: SALDO | AW7: PONTOS | AY7: COD | AZ7: TIME | BA7: JOGOS | BB7: V | BC7: E | BD7: D | BE7: GP | BF7: GC | BG7: SALDO | BH7: PONTOS | BJ7: COD | BK7: TIME | BL7: JOGOS | BM7: V | BN7: E | BO7: D | BP7: GP | BQ7: GC | BR7: SALDO | BS7: PONTOS
B9: 1 | C9: =INDEX(P$9:P$30,MATCH($B9,POS.,0)) -> Escócia | D9: =INDEX(Q$9:Q$30,MATCH($B9,POS.,0)) -> 21 | E9: =INDEX(R$9:R$30,MATCH($B9,POS.,0)) -> 13 | F9: =INDEX(S$9:S$30,MATCH($B9,POS.,0)) -> 6 | G9: =INDEX(T$9:T$30,MATCH($B9,POS.,0)) -> 2 | H9: =INDEX(U$9:U$30,MATCH($B9,POS.,0)) -> 38 | I9: =INDEX(V$9:V$30,MATCH($B9,POS.,0)) -> 10 | J9: =INDEX(W$9:W$30,MATCH($B9,POS.,0)) -> 28 | K9: =INDEX(X$9:X$30,MATCH($B9,POS.,0)) -> 45 | O9: 1 | P9: =Tabelas!P9 -> DESISTIU | Q9: =IF($AN$6="OITAVAS-DE-FINAL",(AE9+AP9+BA9+BL9),(AE9+BA9+BL9)) -> 0 | R9: =IF($AN$6="OITAVAS-DE-FINAL",(AF9+AQ9+BB9+BM9),(AF9+BB9+BM9)) -> 0 | S9: =IF($AN$6="OITAVAS-DE-FINAL",(AG9+AR9+BC9+BN9),(AG9+BC9+BN9)) -> 0 | T9: =IF($AN$6="OITAVAS-DE-FINAL",(AH9+AS9+BD9+BO9),(AH9+BD9+BO9)) -> 0 | U9: =IF($AN$6="OITAVAS-DE-FINAL",(AI9+AT9+BE9+BP9),(AI9+BE9+BP9)) -> 0 | V9: =IF($AN$6="OITAVAS-DE-FINAL",(AJ9+AU9+BF9+BQ9),(AJ9+BF9+BQ9)) -> 0 | W9: =IF($AN$6="OITAVAS-DE-FINAL",(AK9+AV9+BG9+BR9),(AK9+BG9+BR9)) -> 0 | X9: =IF($AN$6="OITAVAS-DE-FINAL",(AL9+AW9+BH9+BS9),(AL9+BH9+BS9)) -> 0 | AC9: 1 | AD9: =P9 -> DESISTIU | AE9: =SUM(AF9:AH9) -> 0 | AF9: =COUNTIFS(M1_,AD9,GM1_,"<>"&"",SM1_,">0")+COUNTIFS(M2_,AD9,GM2_,"<>"&"",SM2_,">0")+COUNTIFS(M3_,AD9,GM3_,"<>"&"",SM3_,">0")+COUNTIFS(V1_,AD9,GV1_,"<>"&"",SV1_,">0")+COUNTIFS(V2_,AD9,GV2_,"<>"&"",SV2_,">0")+COUNTIFS(V3_,AD9,GV3_,"<>"&"",SV3_,">0") -> 0 | AG9: =COUNTIFS(M1_,AD9,GM1_,"<>"&"",SM1_,"=0")+COUNTIFS(M2_,AD9,GM2_,"<>"&"",SM2_,"=0")+COUNTIFS(M3_,AD9,GM3_,"<>"&"",SM3_,"=0")+COUNTIFS(V1_,AD9,GV1_,"<>"&"",SV1_,"=0")+COUNTIFS(V2_,AD9,GV2_,"<>"&"",SV2_,"=0")+COUNTIFS(V3_,AD9,GV3_,"<>"&"",SV3_,"=0") -> 0 | AH9: =COUNTIFS(M1_,AD9,GM1_,"<>"&"",SM1_,"<0")+COUNTIFS(M2_,AD9,GM2_,"<>"&"",SM2_,"<0")+COUNTIFS(M3_,AD9,GM3_,"<>"&"",SM3_,"<0")+COUNTIFS(V1_,AD9,GV1_,"<>"&"",SV1_,"<0")+COUNTIFS(V2_,AD9,GV2_,"<>"&"",SV2_,"<0")+COUNTIFS(V3_,AD9,GV3_,"<>"&"",SV3_,"<0") -> 0 | AI9: =SUMIFS(GM1_,M1_,AD9)+SUMIFS(GM2_,M2_,AD9)+SUMIFS(GM3_,M3_,AD9)+SUMIFS(GV1_,V1_,AD9)+SUMIFS(GV2_,V2_,AD9)+SUMIFS(GV3_,V3_,AD9) -> 0 | AJ9: =SUMIFS(GV1_,M1_,AD9)+SUMIFS(GV2_,M2_,AD9)+SUMIFS(GV3_,M3_,AD9)+SUMIFS(GM1_,V1_,AD9)+SUMIFS(GM2_,V2_,AD9)+SUMIFS(GM3_,V3_,AD9) -> 0 | AK9: =AI9-AJ9 -> 0 | AL9: =AF9*3+AG9 -> 0 | AN9: 1 | AO9: =AD9 -> DESISTIU | AP9: =SUM(AQ9:AS9) -> 0 | AQ9: =COUNTIFS(M4_,AO9,GM4_,"<>"&"",SM4_,">0")+COUNTIFS(M5_,AO9,GM5_,"<>"&"",SM5_,">0")+COUNTIFS(V4_,AO9,GV4_,"<>"&"",SV4_,">0")+COUNTIFS(V5_,AO9,GV5_,"<>"&"",SV5_,">0") -> 0 | AR9: =COUNTIFS(M4_,AO9,GM4_,"<>"&"",SM4_,"=0")+COUNTIFS(M5_,AO9,GM5_,"<>"&"",SM5_,"=0")+COUNTIFS(V4_,AO9,GV4_,"<>"&"",SV4_,"=0")+COUNTIFS(V5_,AO9,GV5_,"<>"&"",SV5_,"=0") -> 0 | AS9: =COUNTIFS(M4_,AO9,GM4_,"<>"&"",SM4_,"<0")+COUNTIFS(M5_,AO9,GM5_,"<>"&"",SM5_,"<0")+COUNTIFS(V4_,AO9,GV4_,"<>"&"",SV4_,"<0")+COUNTIFS(V5_,AO9,GV5_,"<>"&"",SV5_,"<0") -> 0 | AT9: =SUMIFS(GM4_,M4_,AO9)+SUMIFS(GM5_,M5_,AO9)+SUMIFS(GV4_,V4_,AO9)+SUMIFS(GV5_,V5_,AO9) -> 0 | AU9: =SUMIFS(GV4_,M4_,AO9)+SUMIFS(GV5_,M5_,AO9)+SUMIFS(GM4_,V4_,AO9)+SUMIFS(GM5_,V5_,AO9) -> 0 | AV9: =AT9-AU9 -> 0 | AW9: =AQ9*3+AR9 -> 0 | AY9: 1 | AZ9: =AO9 -> DESISTIU | BA9: =SUM(BB9:BD9) -> 0 | BB9: =COUNTIFS(M6_,AZ9,GM6_,"<>"&"",SM6_,">0")+COUNTIFS(M7_,AZ9,GM7_,"<>"&"",SM7_,">0")+COUNTIFS(V6_,AZ9,GV6_,"<>"&"",SV6_,">0")+COUNTIFS(V7_,AZ9,GV7_,"<>"&"",SV7_,">0") -> 0 | BC9: =COUNTIFS(M6_,AZ9,GM6_,"<>"&"",SM6_,"=0")+COUNTIFS(M7_,AZ9,GM7_,"<>"&"",SM7_,"=0")+COUNTIFS(V6_,AZ9,GV6_,"<>"&"",SV6_,"=0")+COUNTIFS(V7_,AZ9,GV7_,"<>"&"",SV7_,"=0") -> 0 | BD9: =COUNTIFS(M6_,AZ9,GM6_,"<>"&"",SM6_,"<0")+COUNTIFS(M7_,AZ9,GM7_,"<>"&"",SM7_,"<0")+COUNTIFS(V6_,AZ9,GV6_,"<>"&"",SV6_,"<0")+COUNTIFS(V7_,AZ9,GV7_,"<>"&"",SV7_,"<0") -> 0 | BE9: =SUMIFS(GM6_,M6_,AZ9)+SUMIFS(GM7_,M7_,AZ9)+SUMIFS(GV6_,V6_,AZ9)+SUMIFS(GV7_,V7_,AZ9) -> 0 | BF9: =SUMIFS(GV6_,M6_,AZ9)+SUMIFS(GV7_,M7_,AZ9)+SUMIFS(GM6_,V6_,AZ9)+SUMIFS(GM7_,V7_,AZ9) -> 0 | BG9: =BE9-BF9 -> 0 | BH9: =BB9*3+BC9 -> 0 | BJ9: 1 | BK9: =AZ9 -> DESISTIU | BL9: =SUM(BM9:BO9) -> 0 | BM9: =COUNTIFS(M8_,BK9,GM8_,"<>"&"",SM8_,">0")+COUNTIFS(M9_,BK9,GM9_,"<>"&"",SM9_,">0")+COUNTIFS(V8_,BK9,GV8_,"<>"&"",SV8_,">0")+COUNTIFS(V9_,BK9,GV9_,"<>"&"",SV9_,">0") -> 0 | BN9: =COUNTIFS(M8_,BK9,GM8_,"<>"&"",SM8_,"=0")+COUNTIFS(M9_,BK9,GM9_,"<>"&"",SM9_,"=0")+COUNTIFS(V8_,BK9,GV8_,"<>"&"",SV8_,"=0")+COUNTIFS(V9_,BK9,GV9_,"<>"&"",SV9_,"=0") -> 0 | BO9: =COUNTIFS(M8_,BK9,GM8_,"<>"&"",SM8_,"<0")+COUNTIFS(M9_,BK9,GM9_,"<>"&"",SM9_,"<0")+COUNTIFS(V8_,BK9,GV8_,"<>"&"",SV8_,"<0")+COUNTIFS(V9_,BK9,GV9_,"<>"&"",SV9_,"<0") -> 0 | BP9: =SUMIFS(GM8_,M8_,BK9)+SUMIFS(GM9_,M9_,BK9)+SUMIFS(GV8_,V8_,BK9)+SUMIFS(GV9_,V9_,BK9) -> 0 | BQ9: =SUMIFS(GV8_,M8_,BK9)+SUMIFS(GV9_,M9_,BK9)+SUMIFS(GM8_,V8_,BK9)+SUMIFS(GM9_,V9_,BK9) -> 0 | BR9: =BP9-BQ9 -> 0 | BS9: =BM9*3+BN9 -> 0
B10: 2 | C10: =INDEX(P$9:P$30,MATCH($B10,POS.,0)) -> Suíça | D10: =INDEX(Q$9:Q$30,MATCH($B10,POS.,0)) -> 21 | E10: =INDEX(R$9:R$30,MATCH($B10,POS.,0)) -> 11 | F10: =INDEX(S$9:S$30,MATCH($B10,POS.,0)) -> 9 | G10: =INDEX(T$9:T$30,MATCH($B10,POS.,0)) -> 1 | H10: =INDEX(U$9:U$30,MATCH($B10,POS.,0)) -> 23 | I10: =INDEX(V$9:V$30,MATCH($B10,POS.,0)) -> 7 | J10: =INDEX(W$9:W$30,MATCH($B10,POS.,0)) -> 16 | K10: =INDEX(X$9:X$30,MATCH($B10,POS.,0)) -> 42 | O10: 2 | P10: =Tabelas!P10 -> Alemanha | Q10: =IF($AN$6="OITAVAS-DE-FINAL",(AE10+AP10+BA10+BL10),(AE10+BA10+BL10)) -> 18 | R10: =IF($AN$6="OITAVAS-DE-FINAL",(AF10+AQ10+BB10+BM10),(AF10+BB10+BM10)) -> 5 | S10: =IF($AN$6="OITAVAS-DE-FINAL",(AG10+AR10+BC10+BN10),(AG10+BC10+BN10)) -> 5 | T10: =IF($AN$6="OITAVAS-DE-FINAL",(AH10+AS10+BD10+BO10),(AH10+BD10+BO10)) -> 8 | U10: =IF($AN$6="OITAVAS-DE-FINAL",(AI10+AT10+BE10+BP10),(AI10+BE10+BP10)) -> 7 | V10: =IF($AN$6="OITAVAS-DE-FINAL",(AJ10+AU10+BF10+BQ10),(AJ10+BF10+BQ10)) -> 13 | W10: =IF($AN$6="OITAVAS-DE-FINAL",(AK10+AV10+BG10+BR10),(AK10+BG10+BR10)) -> -6 | X10: =IF($AN$6="OITAVAS-DE-FINAL",(AL10+AW10+BH10+BS10),(AL10+BH10+BS10)) -> 20 | AC10: 2 | AD10: =P10 -> Alemanha | AE10: =SUM(AF10:AH10) -> 18 | AF10: =COUNTIFS(M1_,AD10,GM1_,"<>"&"",SM1_,">0")+COUNTIFS(M2_,AD10,GM2_,"<>"&"",SM2_,">0")+COUNTIFS(M3_,AD10,GM3_,"<>"&"",SM3_,">0")+COUNTIFS(V1_,AD10,GV1_,"<>"&"",SV1_,">0")+COUNTIFS(V2_,AD10,GV2_,"<>"&"",SV2_,">0")+COUNTIFS(V3_,AD10,GV3_,"<>"&"",SV3_,">0") -> 5 | AG10: =COUNTIFS(M1_,AD10,GM1_,"<>"&"",SM1_,"=0")+COUNTIFS(M2_,AD10,GM2_,"<>"&"",SM2_,"=0")+COUNTIFS(M3_,AD10,GM3_,"<>"&"",SM3_,"=0")+COUNTIFS(V1_,AD10,GV1_,"<>"&"",SV1_,"=0")+COUNTIFS(V2_,AD10,GV2_,"<>"&"",SV2_,"=0")+COUNTIFS(V3_,AD10,GV3_,"<>"&"",SV3_,"=0") -> 5 | AH10: =COUNTIFS(M1_,AD10,GM1_,"<>"&"",SM1_,"<0")+COUNTIFS(M2_,AD10,GM2_,"<>"&"",SM2_,"<0")+COUNTIFS(M3_,AD10,GM3_,"<>"&"",SM3_,"<0")+COUNTIFS(V1_,AD10,GV1_,"<>"&"",SV1_,"<0")+COUNTIFS(V2_,AD10,GV2_,"<>"&"",SV2_,"<0")+COUNTIFS(V3_,AD10,GV3_,"<>"&"",SV3_,"<0") -> 8 | AI10: =SUMIFS(GM1_,M1_,AD10)+SUMIFS(GM2_,M2_,AD10)+SUMIFS(GM3_,M3_,AD10)+SUMIFS(GV1_,V1_,AD10)+SUMIFS(GV2_,V2_,AD10)+SUMIFS(GV3_,V3_,AD10) -> 7 | AJ10: =SUMIFS(GV1_,M1_,AD10)+SUMIFS(GV2_,M2_,AD10)+SUMIFS(GV3_,M3_,AD10)+SUMIFS(GM1_,V1_,AD10)+SUMIFS(GM2_,V2_,AD10)+SUMIFS(GM3_,V3_,AD10) -> 13 | AK10: =AI10-AJ10 -> -6 | AL10: =AF10*3+AG10 -> 20 | AN10: 2 | AO10: =AD10 -> Alemanha | AP10: =SUM(AQ10:AS10) -> 1 | AQ10: =COUNTIFS(M4_,AO10,GM4_,"<>"&"",SM4_,">0")+COUNTIFS(M5_,AO10,GM5_,"<>"&"",SM5_,">0")+COUNTIFS(V4_,AO10,GV4_,"<>"&"",SV4_,">0")+COUNTIFS(V5_,AO10,GV5_,"<>"&"",SV5_,">0") -> 0 | AR10: =COUNTIFS(M4_,AO10,GM4_,"<>"&"",SM4_,"=0")+COUNTIFS(M5_,AO10,GM5_,"<>"&"",SM5_,"=0")+COUNTIFS(V4_,AO10,GV4_,"<>"&"",SV4_,"=0")+COUNTIFS(V5_,AO10,GV5_,"<>"&"",SV5_,"=0") -> 0 | AS10: =COUNTIFS(M4_,AO10,GM4_,"<>"&"",SM4_,"<0")+COUNTIFS(M5_,AO10,GM5_,"<>"&"",SM5_,"<0")+COUNTIFS(V4_,AO10,GV4_,"<>"&"",SV4_,"<0")+COUNTIFS(V5_,AO10,GV5_,"<>"&"",SV5_,"<0") -> 1 | AT10: =SUMIFS(GM4_,M4_,AO10)+SUMIFS(GM5_,M5_,AO10)+SUMIFS(GV4_,V4_,AO10)+SUMIFS(GV5_,V5_,AO10) -> 0 | AU10: =SUMIFS(GV4_,M4_,AO10)+SUMIFS(GV5_,M5_,AO10)+SUMIFS(GM4_,V4_,AO10)+SUMIFS(GM5_,V5_,AO10) -> 1 | AV10: =AT10-AU10 -> -1 | AW10: =AQ10*3+AR10 -> 0 | AY10: 2 | AZ10: =AO10 -> Alemanha | BA10: =SUM(BB10:BD10) -> 0 | BB10: =COUNTIFS(M6_,AZ10,GM6_,"<>"&"",SM6_,">0")+COUNTIFS(M7_,AZ10,GM7_,"<>"&"",SM7_,">0")+COUNTIFS(V6_,AZ10,GV6_,"<>"&"",SV6_,">0")+COUNTIFS(V7_,AZ10,GV7_,"<>"&"",SV7_,">0") -> 0 | BC10: =COUNTIFS(M6_,AZ10,GM6_,"<>"&"",SM6_,"=0")+COUNTIFS(M7_,AZ10,GM7_,"<>"&"",SM7_,"=0")+COUNTIFS(V6_,AZ10,GV6_,"<>"&"",SV6_,"=0")+COUNTIFS(V7_,AZ10,GV7_,"<>"&"",SV7_,"=0") -> 0 | BD10: =COUNTIFS(M6_,AZ10,GM6_,"<>"&"",SM6_,"<0")+COUNTIFS(M7_,AZ10,GM7_,"<>"&"",SM7_,"<0")+COUNTIFS(V6_,AZ10,GV6_,"<>"&"",SV6_,"<0")+COUNTIFS(V7_,AZ10,GV7_,"<>"&"",SV7_,"<0") -> 0 | BE10: =SUMIFS(GM6_,M6_,AZ10)+SUMIFS(GM7_,M7_,AZ10)+SUMIFS(GV6_,V6_,AZ10)+SUMIFS(GV7_,V7_,AZ10) -> 0 | BF10: =SUMIFS(GV6_,M6_,AZ10)+SUMIFS(GV7_,M7_,AZ10)+SUMIFS(GM6_,V6_,AZ10)+SUMIFS(GM7_,V7_,AZ10) -> 0 | BG10: =BE10-BF10 -> 0 | BH10: =BB10*3+BC10 -> 0 | BJ10: 2 | BK10: =AZ10 -> Alemanha | BL10: =SUM(BM10:BO10) -> 0 | BM10: =COUNTIFS(M8_,BK10,GM8_,"<>"&"",SM8_,">0")+COUNTIFS(M9_,BK10,GM9_,"<>"&"",SM9_,">0")+COUNTIFS(V8_,BK10,GV8_,"<>"&"",SV8_,">0")+COUNTIFS(V9_,BK10,GV9_,"<>"&"",SV9_,">0") -> 0 | BN10: =COUNTIFS(M8_,BK10,GM8_,"<>"&"",SM8_,"=0")+COUNTIFS(M9_,BK10,GM9_,"<>"&"",SM9_,"=0")+COUNTIFS(V8_,BK10,GV8_,"<>"&"",SV8_,"=0")+COUNTIFS(V9_,BK10,GV9_,"<>"&"",SV9_,"=0") -> 0 | BO10: =COUNTIFS(M8_,BK10,GM8_,"<>"&"",SM8_,"<0")+COUNTIFS(M9_,BK10,GM9_,"<>"&"",SM9_,"<0")+COUNTIFS(V8_,BK10,GV8_,"<>"&"",SV8_,"<0")+COUNTIFS(V9_,BK10,GV9_,"<>"&"",SV9_,"<0") -> 0 | BP10: =SUMIFS(GM8_,M8_,BK10)+SUMIFS(GM9_,M9_,BK10)+SUMIFS(GV8_,V8_,BK10)+SUMIFS(GV9_,V9_,BK10) -> 0 | BQ10: =SUMIFS(GV8_,M8_,BK10)+SUMIFS(GV9_,M9_,BK10)+SUMIFS(GM8_,V8_,BK10)+SUMIFS(GM9_,V9_,BK10) -> 0 | BR10: =BP10-BQ10 -> 0 | BS10: =BM10*3+BN10 -> 0
B11: 3 | C11: =INDEX(P$9:P$30,MATCH($B11,POS.,0)) -> Inglaterra | D11: =INDEX(Q$9:Q$30,MATCH($B11,POS.,0)) -> 19 | E11: =INDEX(R$9:R$30,MATCH($B11,POS.,0)) -> 12 | F11: =INDEX(S$9:S$30,MATCH($B11,POS.,0)) -> 2 | G11: =INDEX(T$9:T$30,MATCH($B11,POS.,0)) -> 5 | H11: =INDEX(U$9:U$30,MATCH($B11,POS.,0)) -> 30 | I11: =INDEX(V$9:V$30,MATCH($B11,POS.,0)) -> 13 | J11: =INDEX(W$9:W$30,MATCH($B11,POS.,0)) -> 17 | K11: =INDEX(X$9:X$30,MATCH($B11,POS.,0)) -> 38 | O11: 3 | P11: =Tabelas!P11 -> Áustria | Q11: =IF($AN$6="OITAVAS-DE-FINAL",(AE11+AP11+BA11+BL11),(AE11+BA11+BL11)) -> 18 | R11: =IF($AN$6="OITAVAS-DE-FINAL",(AF11+AQ11+BB11+BM11),(AF11+BB11+BM11)) -> 6 | S11: =IF($AN$6="OITAVAS-DE-FINAL",(AG11+AR11+BC11+BN11),(AG11+BC11+BN11)) -> 7 | T11: =IF($AN$6="OITAVAS-DE-FINAL",(AH11+AS11+BD11+BO11),(AH11+BD11+BO11)) -> 5 | U11: =IF($AN$6="OITAVAS-DE-FINAL",(AI11+AT11+BE11+BP11),(AI11+BE11+BP11)) -> 11 | V11: =IF($AN$6="OITAVAS-DE-FINAL",(AJ11+AU11+BF11+BQ11),(AJ11+BF11+BQ11)) -> 9 | W11: =IF($AN$6="OITAVAS-DE-FINAL",(AK11+AV11+BG11+BR11),(AK11+BG11+BR11)) -> 2 | X11: =IF($AN$6="OITAVAS-DE-FINAL",(AL11+AW11+BH11+BS11),(AL11+BH11+BS11)) -> 25 | AC11: 3 | AD11: =P11 -> Áustria | AE11: =SUM(AF11:AH11) -> 18 | AF11: =COUNTIFS(M1_,AD11,GM1_,"<>"&"",SM1_,">0")+COUNTIFS(M2_,AD11,GM2_,"<>"&"",SM2_,">0")+COUNTIFS(M3_,AD11,GM3_,"<>"&"",SM3_,">0")+COUNTIFS(V1_,AD11,GV1_,"<>"&"",SV1_,">0")+COUNTIFS(V2_,AD11,GV2_,"<>"&"",SV2_,">0")+COUNTIFS(V3_,AD11,GV3_,"<>"&"",SV3_,">0") -> 6 | AG11: =COUNTIFS(M1_,AD11,GM1_,"<>"&"",SM1_,"=0")+COUNTIFS(M2_,AD11,GM2_,"<>"&"",SM2_,"=0")+COUNTIFS(M3_,AD11,GM3_,"<>"&"",SM3_,"=0")+COUNTIFS(V1_,AD11,GV1_,"<>"&"",SV1_,"=0")+COUNTIFS(V2_,AD11,GV2_,"<>"&"",SV2_,"=0")+COUNTIFS(V3_,AD11,GV3_,"<>"&"",SV3_,"=0") -> 7 | AH11: =COUNTIFS(M1_,AD11,GM1_,"<>"&"",SM1_,"<0")+COUNTIFS(M2_,AD11,GM2_,"<>"&"",SM2_,"<0")+COUNTIFS(M3_,AD11,GM3_,"<>"&"",SM3_,"<0")+COUNTIFS(V1_,AD11,GV1_,"<>"&"",SV1_,"<0")+COUNTIFS(V2_,AD11,GV2_,"<>"&"",SV2_,"<0")+COUNTIFS(V3_,AD11,GV3_,"<>"&"",SV3_,"<0") -> 5 | AI11: =SUMIFS(GM1_,M1_,AD11)+SUMIFS(GM2_,M2_,AD11)+SUMIFS(GM3_,M3_,AD11)+SUMIFS(GV1_,V1_,AD11)+SUMIFS(GV2_,V2_,AD11)+SUMIFS(GV3_,V3_,AD11) -> 11 | AJ11: =SUMIFS(GV1_,M1_,AD11)+SUMIFS(GV2_,M2_,AD11)+SUMIFS(GV3_,M3_,AD11)+SUMIFS(GM1_,V1_,AD11)+SUMIFS(GM2_,V2_,AD11)+SUMIFS(GM3_,V3_,AD11) -> 9 | AK11: =AI11-AJ11 -> 2 | AL11: =AF11*3+AG11 -> 25 | AN11: 3 | AO11: =AD11 -> Áustria | AP11: =SUM(AQ11:AS11) -> 1 | AQ11: =COUNTIFS(M4_,AO11,GM4_,"<>"&"",SM4_,">0")+COUNTIFS(M5_,AO11,GM5_,"<>"&"",SM5_,">0")+COUNTIFS(V4_,AO11,GV4_,"<>"&"",SV4_,">0")+COUNTIFS(V5_,AO11,GV5_,"<>"&"",SV5_,">0") -> 0 | AR11: =COUNTIFS(M4_,AO11,GM4_,"<>"&"",SM4_,"=0")+COUNTIFS(M5_,AO11,GM5_,"<>"&"",SM5_,"=0")+COUNTIFS(V4_,AO11,GV4_,"<>"&"",SV4_,"=0")+COUNTIFS(V5_,AO11,GV5_,"<>"&"",SV5_,"=0") -> 1 | AS11: =COUNTIFS(M4_,AO11,GM4_,"<>"&"",SM4_,"<0")+COUNTIFS(M5_,AO11,GM5_,"<>"&"",SM5_,"<0")+COUNTIFS(V4_,AO11,GV4_,"<>"&"",SV4_,"<0")+COUNTIFS(V5_,AO11,GV5_,"<>"&"",SV5_,"<0") -> 0 | AT11: =SUMIFS(GM4_,M4_,AO11)+SUMIFS(GM5_,M5_,AO11)+SUMIFS(GV4_,V4_,AO11)+SUMIFS(GV5_,V5_,AO11) -> 0 | AU11: =SUMIFS(GV4_,M4_,AO11)+SUMIFS(GV5_,M5_,AO11)+SUMIFS(GM4_,V4_,AO11)+SUMIFS(GM5_,V5_,AO11) -> 0 | AV11: =AT11-AU11 -> 0 | AW11: =AQ11*3+AR11 -> 1 | AY11: 3 | AZ11: =AO11 -> Áustria | BA11: =SUM(BB11:BD11) -> 0 | BB11: =COUNTIFS(M6_,AZ11,GM6_,"<>"&"",SM6_,">0")+COUNTIFS(M7_,AZ11,GM7_,"<>"&"",SM7_,">0")+COUNTIFS(V6_,AZ11,GV6_,"<>"&"",SV6_,">0")+COUNTIFS(V7_,AZ11,GV7_,"<>"&"",SV7_,">0") -> 0 | BC11: =COUNTIFS(M6_,AZ11,GM6_,"<>"&"",SM6_,"=0")+COUNTIFS(M7_,AZ11,GM7_,"<>"&"",SM7_,"=0")+COUNTIFS(V6_,AZ11,GV6_,"<>"&"",SV6_,"=0")+COUNTIFS(V7_,AZ11,GV7_,"<>"&"",SV7_,"=0") -> 0 | BD11: =COUNTIFS(M6_,AZ11,GM6_,"<>"&"",SM6_,"<0")+COUNTIFS(M7_,AZ11,GM7_,"<>"&"",SM7_,"<0")+COUNTIFS(V6_,AZ11,GV6_,"<>"&"",SV6_,"<0")+COUNTIFS(V7_,AZ11,GV7_,"<>"&"",SV7_,"<0") -> 0 | BE11: =SUMIFS(GM6_,M6_,AZ11)+SUMIFS(GM7_,M7_,AZ11)+SUMIFS(GV6_,V6_,AZ11)+SUMIFS(GV7_,V7_,AZ11) -> 0 | BF11: =SUMIFS(GV6_,M6_,AZ11)+SUMIFS(GV7_,M7_,AZ11)+SUMIFS(GM6_,V6_,AZ11)+SUMIFS(GM7_,V7_,AZ11) -> 0 | BG11: =BE11-BF11 -> 0 | BH11: =BB11*3+BC11 -> 0 | BJ11: 3 | BK11: =AZ11 -> Áustria | BL11: =SUM(BM11:BO11) -> 0 | BM11: =COUNTIFS(M8_,BK11,GM8_,"<>"&"",SM8_,">0")+COUNTIFS(M9_,BK11,GM9_,"<>"&"",SM9_,">0")+COUNTIFS(V8_,BK11,GV8_,"<>"&"",SV8_,">0")+COUNTIFS(V9_,BK11,GV9_,"<>"&"",SV9_,">0") -> 0 | BN11: =COUNTIFS(M8_,BK11,GM8_,"<>"&"",SM8_,"=0")+COUNTIFS(M9_,BK11,GM9_,"<>"&"",SM9_,"=0")+COUNTIFS(V8_,BK11,GV8_,"<>"&"",SV8_,"=0")+COUNTIFS(V9_,BK11,GV9_,"<>"&"",SV9_,"=0") -> 0 | BO11: =COUNTIFS(M8_,BK11,GM8_,"<>"&"",SM8_,"<0")+COUNTIFS(M9_,BK11,GM9_,"<>"&"",SM9_,"<0")+COUNTIFS(V8_,BK11,GV8_,"<>"&"",SV8_,"<0")+COUNTIFS(V9_,BK11,GV9_,"<>"&"",SV9_,"<0") -> 0 | BP11: =SUMIFS(GM8_,M8_,BK11)+SUMIFS(GM9_,M9_,BK11)+SUMIFS(GV8_,V8_,BK11)+SUMIFS(GV9_,V9_,BK11) -> 0 | BQ11: =SUMIFS(GV8_,M8_,BK11)+SUMIFS(GV9_,M9_,BK11)+SUMIFS(GM8_,V8_,BK11)+SUMIFS(GM9_,V9_,BK11) -> 0 | BR11: =BP11-BQ11 -> 0 | BS11: =BM11*3+BN11 -> 0
B12: 4 | C12: =INDEX(P$9:P$30,MATCH($B12,POS.,0)) -> Polônia | D12: =INDEX(Q$9:Q$30,MATCH($B12,POS.,0)) -> 21 | E12: =INDEX(R$9:R$30,MATCH($B12,POS.,0)) -> 11 | F12: =INDEX(S$9:S$30,MATCH($B12,POS.,0)) -> 4 | G12: =INDEX(T$9:T$30,MATCH($B12,POS.,0)) -> 6 | H12: =INDEX(U$9:U$30,MATCH($B12,POS.,0)) -> 30 | I12: =INDEX(V$9:V$30,MATCH($B12,POS.,0)) -> 30 | J12: =INDEX(W$9:W$30,MATCH($B12,POS.,0)) -> 0 | K12: =INDEX(X$9:X$30,MATCH($B12,POS.,0)) -> 37 | O12: 4 | P12: =Tabelas!P12 -> Bélgica | Q12: =IF($AN$6="OITAVAS-DE-FINAL",(AE12+AP12+BA12+BL12),(AE12+BA12+BL12)) -> 18 | R12: =IF($AN$6="OITAVAS-DE-FINAL",(AF12+AQ12+BB12+BM12),(AF12+BB12+BM12)) -> 4 | S12: =IF($AN$6="OITAVAS-DE-FINAL",(AG12+AR12+BC12+BN12),(AG12+BC12+BN12)) -> 7 | T12: =IF($AN$6="OITAVAS-DE-FINAL",(AH12+AS12+BD12+BO12),(AH12+BD12+BO12)) -> 7 | U12: =IF($AN$6="OITAVAS-DE-FINAL",(AI12+AT12+BE12+BP12),(AI12+BE12+BP12)) -> 9 | V12: =IF($AN$6="OITAVAS-DE-FINAL",(AJ12+AU12+BF12+BQ12),(AJ12+BF12+BQ12)) -> 14 | W12: =IF($AN$6="OITAVAS-DE-FINAL",(AK12+AV12+BG12+BR12),(AK12+BG12+BR12)) -> -5 | X12: =IF($AN$6="OITAVAS-DE-FINAL",(AL12+AW12+BH12+BS12),(AL12+BH12+BS12)) -> 19 | AC12: 4 | AD12: =P12 -> Bélgica | AE12: =SUM(AF12:AH12) -> 18 | AF12: =COUNTIFS(M1_,AD12,GM1_,"<>"&"",SM1_,">0")+COUNTIFS(M2_,AD12,GM2_,"<>"&"",SM2_,">0")+COUNTIFS(M3_,AD12,GM3_,"<>"&"",SM3_,">0")+COUNTIFS(V1_,AD12,GV1_,"<>"&"",SV1_,">0")+COUNTIFS(V2_,AD12,GV2_,"<>"&"",SV2_,">0")+COUNTIFS(V3_,AD12,GV3_,"<>"&"",SV3_,">0") -> 4 | AG12: =COUNTIFS(M1_,AD12,GM1_,"<>"&"",SM1_,"=0")+COUNTIFS(M2_,AD12,GM2_,"<>"&"",SM2_,"=0")+COUNTIFS(M3_,AD12,GM3_,"<>"&"",SM3_,"=0")+COUNTIFS(V1_,AD12,GV1_,"<>"&"",SV1_,"=0")+COUNTIFS(V2_,AD12,GV2_,"<>"&"",SV2_,"=0")+COUNTIFS(V3_,AD12,GV3_,"<>"&"",SV3_,"=0") -> 7 | AH12: =COUNTIFS(M1_,AD12,GM1_,"<>"&"",SM1_,"<0")+COUNTIFS(M2_,AD12,GM2_,"<>"&"",SM2_,"<0")+COUNTIFS(M3_,AD12,GM3_,"<>"&"",SM3_,"<0")+COUNTIFS(V1_,AD12,GV1_,"<>"&"",SV1_,"<0")+COUNTIFS(V2_,AD12,GV2_,"<>"&"",SV2_,"<0")+COUNTIFS(V3_,AD12,GV3_,"<>"&"",SV3_,"<0") -> 7 | AI12: =SUMIFS(GM1_,M1_,AD12)+SUMIFS(GM2_,M2_,AD12)+SUMIFS(GM3_,M3_,AD12)+SUMIFS(GV1_,V1_,AD12)+SUMIFS(GV2_,V2_,AD12)+SUMIFS(GV3_,V3_,AD12) -> 9 | AJ12: =SUMIFS(GV1_,M1_,AD12)+SUMIFS(GV2_,M2_,AD12)+SUMIFS(GV3_,M3_,AD12)+SUMIFS(GM1_,V1_,AD12)+SUMIFS(GM2_,V2_,AD12)+SUMIFS(GM3_,V3_,AD12) -> 14 | AK12: =AI12-AJ12 -> -5 | AL12: =AF12*3+AG12 -> 19 | AN12: 4 | AO12: =AD12 -> Bélgica | AP12: =SUM(AQ12:AS12) -> 0 | AQ12: =COUNTIFS(M4_,AO12,GM4_,"<>"&"",SM4_,">0")+COUNTIFS(M5_,AO12,GM5_,"<>"&"",SM5_,">0")+COUNTIFS(V4_,AO12,GV4_,"<>"&"",SV4_,">0")+COUNTIFS(V5_,AO12,GV5_,"<>"&"",SV5_,">0") -> 0 | AR12: =COUNTIFS(M4_,AO12,GM4_,"<>"&"",SM4_,"=0")+COUNTIFS(M5_,AO12,GM5_,"<>"&"",SM5_,"=0")+COUNTIFS(V4_,AO12,GV4_,"<>"&"",SV4_,"=0")+COUNTIFS(V5_,AO12,GV5_,"<>"&"",SV5_,"=0") -> 0 | AS12: =COUNTIFS(M4_,AO12,GM4_,"<>"&"",SM4_,"<0")+COUNTIFS(M5_,AO12,GM5_,"<>"&"",SM5_,"<0")+COUNTIFS(V4_,AO12,GV4_,"<>"&"",SV4_,"<0")+COUNTIFS(V5_,AO12,GV5_,"<>"&"",SV5_,"<0") -> 0 | AT12: =SUMIFS(GM4_,M4_,AO12)+SUMIFS(GM5_,M5_,AO12)+SUMIFS(GV4_,V4_,AO12)+SUMIFS(GV5_,V5_,AO12) -> 0 | AU12: =SUMIFS(GV4_,M4_,AO12)+SUMIFS(GV5_,M5_,AO12)+SUMIFS(GM4_,V4_,AO12)+SUMIFS(GM5_,V5_,AO12) -> 0 | AV12: =AT12-AU12 -> 0 | AW12: =AQ12*3+AR12 -> 0 | AY12: 4 | AZ12: =AO12 -> Bélgica | BA12: =SUM(BB12:BD12) -> 0 | BB12: =COUNTIFS(M6_,AZ12,GM6_,"<>"&"",SM6_,">0")+COUNTIFS(M7_,AZ12,GM7_,"<>"&"",SM7_,">0")+COUNTIFS(V6_,AZ12,GV6_,"<>"&"",SV6_,">0")+COUNTIFS(V7_,AZ12,GV7_,"<>"&"",SV7_,">0") -> 0 | BC12: =COUNTIFS(M6_,AZ12,GM6_,"<>"&"",SM6_,"=0")+COUNTIFS(M7_,AZ12,GM7_,"<>"&"",SM7_,"=0")+COUNTIFS(V6_,AZ12,GV6_,"<>"&"",SV6_,"=0")+COUNTIFS(V7_,AZ12,GV7_,"<>"&"",SV7_,"=0") -> 0 | BD12: =COUNTIFS(M6_,AZ12,GM6_,"<>"&"",SM6_,"<0")+COUNTIFS(M7_,AZ12,GM7_,"<>"&"",SM7_,"<0")+COUNTIFS(V6_,AZ12,GV6_,"<>"&"",SV6_,"<0")+COUNTIFS(V7_,AZ12,GV7_,"<>"&"",SV7_,"<0") -> 0 | BE12: =SUMIFS(GM6_,M6_,AZ12)+SUMIFS(GM7_,M7_,AZ12)+SUMIFS(GV6_,V6_,AZ12)+SUMIFS(GV7_,V7_,AZ12) -> 0 | BF12: =SUMIFS(GV6_,M6_,AZ12)+SUMIFS(GV7_,M7_,AZ12)+SUMIFS(GM6_,V6_,AZ12)+SUMIFS(GM7_,V7_,AZ12) -> 0 | BG12: =BE12-BF12 -> 0 | BH12: =BB12*3+BC12 -> 0 | BJ12: 4 | BK12: =AZ12 -> Bélgica | BL12: =SUM(BM12:BO12) -> 0 | BM12: =COUNTIFS(M8_,BK12,GM8_,"<>"&"",SM8_,">0")+COUNTIFS(M9_,BK12,GM9_,"<>"&"",SM9_,">0")+COUNTIFS(V8_,BK12,GV8_,"<>"&"",SV8_,">0")+COUNTIFS(V9_,BK12,GV9_,"<>"&"",SV9_,">0") -> 0 | BN12: =COUNTIFS(M8_,BK12,GM8_,"<>"&"",SM8_,"=0")+COUNTIFS(M9_,BK12,GM9_,"<>"&"",SM9_,"=0")+COUNTIFS(V8_,BK12,GV8_,"<>"&"",SV8_,"=0")+COUNTIFS(V9_,BK12,GV9_,"<>"&"",SV9_,"=0") -> 0 | BO12: =COUNTIFS(M8_,BK12,GM8_,"<>"&"",SM8_,"<0")+COUNTIFS(M9_,BK12,GM9_,"<>"&"",SM9_,"<0")+COUNTIFS(V8_,BK12,GV8_,"<>"&"",SV8_,"<0")+COUNTIFS(V9_,BK12,GV9_,"<>"&"",SV9_,"<0") -> 0 | BP12: =SUMIFS(GM8_,M8_,BK12)+SUMIFS(GM9_,M9_,BK12)+SUMIFS(GV8_,V8_,BK12)+SUMIFS(GV9_,V9_,BK12) -> 0 | BQ12: =SUMIFS(GV8_,M8_,BK12)+SUMIFS(GV9_,M9_,BK12)+SUMIFS(GM8_,V8_,BK12)+SUMIFS(GM9_,V9_,BK12) -> 0 | BR12: =BP12-BQ12 -> 0 | BS12: =BM12*3+BN12 -> 0
B13: 5 | C13: =INDEX(P$9:P$30,MATCH($B13,POS.,0)) -> Turquia | D13: =INDEX(Q$9:Q$30,MATCH($B13,POS.,0)) -> 21 | E13: =INDEX(R$9:R$30,MATCH($B13,POS.,0)) -> 9 | F13: =INDEX(S$9:S$30,MATCH($B13,POS.,0)) -> 6 | G13: =INDEX(T$9:T$30,MATCH($B13,POS.,0)) -> 6 | H13: =INDEX(U$9:U$30,MATCH($B13,POS.,0)) -> 17 | I13: =INDEX(V$9:V$30,MATCH($B13,POS.,0)) -> 17 | J13: =INDEX(W$9:W$30,MATCH($B13,POS.,0)) -> 0 | K13: =INDEX(X$9:X$30,MATCH($B13,POS.,0)) -> 33 | O13: 5 | P13: =Tabelas!P13 -> Dinamarca | Q13: =IF($AN$6="OITAVAS-DE-FINAL",(AE13+AP13+BA13+BL13),(AE13+BA13+BL13)) -> 18 | R13: =IF($AN$6="OITAVAS-DE-FINAL",(AF13+AQ13+BB13+BM13),(AF13+BB13+BM13)) -> 3 | S13: =IF($AN$6="OITAVAS-DE-FINAL",(AG13+AR13+BC13+BN13),(AG13+BC13+BN13)) -> 9 | T13: =IF($AN$6="OITAVAS-DE-FINAL",(AH13+AS13+BD13+BO13),(AH13+BD13+BO13)) -> 6 | U13: =IF($AN$6="OITAVAS-DE-FINAL",(AI13+AT13+BE13+BP13),(AI13+BE13+BP13)) -> 9 | V13: =IF($AN$6="OITAVAS-DE-FINAL",(AJ13+AU13+BF13+BQ13),(AJ13+BF13+BQ13)) -> 16 | W13: =IF($AN$6="OITAVAS-DE-FINAL",(AK13+AV13+BG13+BR13),(AK13+BG13+BR13)) -> -7 | X13: =IF($AN$6="OITAVAS-DE-FINAL",(AL13+AW13+BH13+BS13),(AL13+BH13+BS13)) -> 18 | AC13: 5 | AD13: =P13 -> Dinamarca | AE13: =SUM(AF13:AH13) -> 18 | AF13: =COUNTIFS(M1_,AD13,GM1_,"<>"&"",SM1_,">0")+COUNTIFS(M2_,AD13,GM2_,"<>"&"",SM2_,">0")+COUNTIFS(M3_,AD13,GM3_,"<>"&"",SM3_,">0")+COUNTIFS(V1_,AD13,GV1_,"<>"&"",SV1_,">0")+COUNTIFS(V2_,AD13,GV2_,"<>"&"",SV2_,">0")+COUNTIFS(V3_,AD13,GV3_,"<>"&"",SV3_,">0") -> 3 | AG13: =COUNTIFS(M1_,AD13,GM1_,"<>"&"",SM1_,"=0")+COUNTIFS(M2_,AD13,GM2_,"<>"&"",SM2_,"=0")+COUNTIFS(M3_,AD13,GM3_,"<>"&"",SM3_,"=0")+COUNTIFS(V1_,AD13,GV1_,"<>"&"",SV1_,"=0")+COUNTIFS(V2_,AD13,GV2_,"<>"&"",SV2_,"=0")+COUNTIFS(V3_,AD13,GV3_,"<>"&"",SV3_,"=0") -> 9 | AH13: =COUNTIFS(M1_,AD13,GM1_,"<>"&"",SM1_,"<0")+COUNTIFS(M2_,AD13,GM2_,"<>"&"",SM2_,"<0")+COUNTIFS(M3_,AD13,GM3_,"<>"&"",SM3_,"<0")+COUNTIFS(V1_,AD13,GV1_,"<>"&"",SV1_,"<0")+COUNTIFS(V2_,AD13,GV2_,"<>"&"",SV2_,"<0")+COUNTIFS(V3_,AD13,GV3_,"<>"&"",SV3_,"<0") -> 6 | AI13: =SUMIFS(GM1_,M1_,AD13)+SUMIFS(GM2_,M2_,AD13)+SUMIFS(GM3_,M3_,AD13)+SUMIFS(GV1_,V1_,AD13)+SUMIFS(GV2_,V2_,AD13)+SUMIFS(GV3_,V3_,AD13) -> 9 | AJ13: =SUMIFS(GV1_,M1_,AD13)+SUMIFS(GV2_,M2_,AD13)+SUMIFS(GV3_,M3_,AD13)+SUMIFS(GM1_,V1_,AD13)+SUMIFS(GM2_,V2_,AD13)+SUMIFS(GM3_,V3_,AD13) -> 16 | AK13: =AI13-AJ13 -> -7 | AL13: =AF13*3+AG13 -> 18 | AN13: 5 | AO13: =AD13 -> Dinamarca | AP13: =SUM(AQ13:AS13) -> 0 | AQ13: =COUNTIFS(M4_,AO13,GM4_,"<>"&"",SM4_,">0")+COUNTIFS(M5_,AO13,GM5_,"<>"&"",SM5_,">0")+COUNTIFS(V4_,AO13,GV4_,"<>"&"",SV4_,">0")+COUNTIFS(V5_,AO13,GV5_,"<>"&"",SV5_,">0") -> 0 | AR13: =COUNTIFS(M4_,AO13,GM4_,"<>"&"",SM4_,"=0")+COUNTIFS(M5_,AO13,GM5_,"<>"&"",SM5_,"=0")+COUNTIFS(V4_,AO13,GV4_,"<>"&"",SV4_,"=0")+COUNTIFS(V5_,AO13,GV5_,"<>"&"",SV5_,"=0") -> 0 | AS13: =COUNTIFS(M4_,AO13,GM4_,"<>"&"",SM4_,"<0")+COUNTIFS(M5_,AO13,GM5_,"<>"&"",SM5_,"<0")+COUNTIFS(V4_,AO13,GV4_,"<>"&"",SV4_,"<0")+COUNTIFS(V5_,AO13,GV5_,"<>"&"",SV5_,"<0") -> 0 | AT13: =SUMIFS(GM4_,M4_,AO13)+SUMIFS(GM5_,M5_,AO13)+SUMIFS(GV4_,V4_,AO13)+SUMIFS(GV5_,V5_,AO13) -> 0 | AU13: =SUMIFS(GV4_,M4_,AO13)+SUMIFS(GV5_,M5_,AO13)+SUMIFS(GM4_,V4_,AO13)+SUMIFS(GM5_,V5_,AO13) -> 0 | AV13: =AT13-AU13 -> 0 | AW13: =AQ13*3+AR13 -> 0 | AY13: 5 | AZ13: =AO13 -> Dinamarca | BA13: =SUM(BB13:BD13) -> 0 | BB13: =COUNTIFS(M6_,AZ13,GM6_,"<>"&"",SM6_,">0")+COUNTIFS(M7_,AZ13,GM7_,"<>"&"",SM7_,">0")+COUNTIFS(V6_,AZ13,GV6_,"<>"&"",SV6_,">0")+COUNTIFS(V7_,AZ13,GV7_,"<>"&"",SV7_,">0") -> 0 | BC13: =COUNTIFS(M6_,AZ13,GM6_,"<>"&"",SM6_,"=0")+COUNTIFS(M7_,AZ13,GM7_,"<>"&"",SM7_,"=0")+COUNTIFS(V6_,AZ13,GV6_,"<>"&"",SV6_,"=0")+COUNTIFS(V7_,AZ13,GV7_,"<>"&"",SV7_,"=0") -> 0 | BD13: =COUNTIFS(M6_,AZ13,GM6_,"<>"&"",SM6_,"<0")+COUNTIFS(M7_,AZ13,GM7_,"<>"&"",SM7_,"<0")+COUNTIFS(V6_,AZ13,GV6_,"<>"&"",SV6_,"<0")+COUNTIFS(V7_,AZ13,GV7_,"<>"&"",SV7_,"<0") -> 0 | BE13: =SUMIFS(GM6_,M6_,AZ13)+SUMIFS(GM7_,M7_,AZ13)+SUMIFS(GV6_,V6_,AZ13)+SUMIFS(GV7_,V7_,AZ13) -> 0 | BF13: =SUMIFS(GV6_,M6_,AZ13)+SUMIFS(GV7_,M7_,AZ13)+SUMIFS(GM6_,V6_,AZ13)+SUMIFS(GM7_,V7_,AZ13) -> 0 | BG13: =BE13-BF13 -> 0 | BH13: =BB13*3+BC13 -> 0 | BJ13: 5 | BK13: =AZ13 -> Dinamarca | BL13: =SUM(BM13:BO13) -> 0 | BM13: =COUNTIFS(M8_,BK13,GM8_,"<>"&"",SM8_,">0")+COUNTIFS(M9_,BK13,GM9_,"<>"&"",SM9_,">0")+COUNTIFS(V8_,BK13,GV8_,"<>"&"",SV8_,">0")+COUNTIFS(V9_,BK13,GV9_,"<>"&"",SV9_,">0") -> 0 | BN13: =COUNTIFS(M8_,BK13,GM8_,"<>"&"",SM8_,"=0")+COUNTIFS(M9_,BK13,GM9_,"<>"&"",SM9_,"=0")+COUNTIFS(V8_,BK13,GV8_,"<>"&"",SV8_,"=0")+COUNTIFS(V9_,BK13,GV9_,"<>"&"",SV9_,"=0") -> 0 | BO13: =COUNTIFS(M8_,BK13,GM8_,"<>"&"",SM8_,"<0")+COUNTIFS(M9_,BK13,GM9_,"<>"&"",SM9_,"<0")+COUNTIFS(V8_,BK13,GV8_,"<>"&"",SV8_,"<0")+COUNTIFS(V9_,BK13,GV9_,"<>"&"",SV9_,"<0") -> 0 | BP13: =SUMIFS(GM8_,M8_,BK13)+SUMIFS(GM9_,M9_,BK13)+SUMIFS(GV8_,V8_,BK13)+SUMIFS(GV9_,V9_,BK13) -> 0 | BQ13: =SUMIFS(GV8_,M8_,BK13)+SUMIFS(GV9_,M9_,BK13)+SUMIFS(GM8_,V8_,BK13)+SUMIFS(GM9_,V9_,BK13) -> 0 | BR13: =BP13-BQ13 -> 0 | BS13: =BM13*3+BN13 -> 0
B14: 6 | C14: =INDEX(P$9:P$30,MATCH($B14,POS.,0)) -> Suécia | D14: =INDEX(Q$9:Q$30,MATCH($B14,POS.,0)) -> 19 | E14: =INDEX(R$9:R$30,MATCH($B14,POS.,0)) -> 8 | F14: =INDEX(S$9:S$30,MATCH($B14,POS.,0)) -> 7 | G14: =INDEX(T$9:T$30,MATCH($B14,POS.,0)) -> 4 | H14: =INDEX(U$9:U$30,MATCH($B14,POS.,0)) -> 20 | I14: =INDEX(V$9:V$30,MATCH($B14,POS.,0)) -> 14 | J14: =INDEX(W$9:W$30,MATCH($B14,POS.,0)) -> 6 | K14: =INDEX(X$9:X$30,MATCH($B14,POS.,0)) -> 31 | O14: 6 | P14: =Tabelas!P14 -> Escócia | Q14: =IF($AN$6="OITAVAS-DE-FINAL",(AE14+AP14+BA14+BL14),(AE14+BA14+BL14)) -> 21 | R14: =IF($AN$6="OITAVAS-DE-FINAL",(AF14+AQ14+BB14+BM14),(AF14+BB14+BM14)) -> 13 | S14: =IF($AN$6="OITAVAS-DE-FINAL",(AG14+AR14+BC14+BN14),(AG14+BC14+BN14)) -> 6 | T14: =IF($AN$6="OITAVAS-DE-FINAL",(AH14+AS14+BD14+BO14),(AH14+BD14+BO14)) -> 2 | U14: =IF($AN$6="OITAVAS-DE-FINAL",(AI14+AT14+BE14+BP14),(AI14+BE14+BP14)) -> 38 | V14: =IF($AN$6="OITAVAS-DE-FINAL",(AJ14+AU14+BF14+BQ14),(AJ14+BF14+BQ14)) -> 10 | W14: =IF($AN$6="OITAVAS-DE-FINAL",(AK14+AV14+BG14+BR14),(AK14+BG14+BR14)) -> 28 | X14: =IF($AN$6="OITAVAS-DE-FINAL",(AL14+AW14+BH14+BS14),(AL14+BH14+BS14)) -> 45 | AC14: 6 | AD14: =P14 -> Escócia | AE14: =SUM(AF14:AH14) -> 18 | AF14: =COUNTIFS(M1_,AD14,GM1_,"<>"&"",SM1_,">0")+COUNTIFS(M2_,AD14,GM2_,"<>"&"",SM2_,">0")+COUNTIFS(M3_,AD14,GM3_,"<>"&"",SM3_,">0")+COUNTIFS(V1_,AD14,GV1_,"<>"&"",SV1_,">0")+COUNTIFS(V2_,AD14,GV2_,"<>"&"",SV2_,">0")+COUNTIFS(V3_,AD14,GV3_,"<>"&"",SV3_,">0") -> 12 | AG14: =COUNTIFS(M1_,AD14,GM1_,"<>"&"",SM1_,"=0")+COUNTIFS(M2_,AD14,GM2_,"<>"&"",SM2_,"=0")+COUNTIFS(M3_,AD14,GM3_,"<>"&"",SM3_,"=0")+COUNTIFS(V1_,AD14,GV1_,"<>"&"",SV1_,"=0")+COUNTIFS(V2_,AD14,GV2_,"<>"&"",SV2_,"=0")+COUNTIFS(V3_,AD14,GV3_,"<>"&"",SV3_,"=0") -> 5 | AH14: =COUNTIFS(M1_,AD14,GM1_,"<>"&"",SM1_,"<0")+COUNTIFS(M2_,AD14,GM2_,"<>"&"",SM2_,"<0")+COUNTIFS(M3_,AD14,GM3_,"<>"&"",SM3_,"<0")+COUNTIFS(V1_,AD14,GV1_,"<>"&"",SV1_,"<0")+COUNTIFS(V2_,AD14,GV2_,"<>"&"",SV2_,"<0")+COUNTIFS(V3_,AD14,GV3_,"<>"&"",SV3_,"<0") -> 1 | AI14: =SUMIFS(GM1_,M1_,AD14)+SUMIFS(GM2_,M2_,AD14)+SUMIFS(GM3_,M3_,AD14)+SUMIFS(GV1_,V1_,AD14)+SUMIFS(GV2_,V2_,AD14)+SUMIFS(GV3_,V3_,AD14) -> 34 | AJ14: =SUMIFS(GV1_,M1_,AD14)+SUMIFS(GV2_,M2_,AD14)+SUMIFS(GV3_,M3_,AD14)+SUMIFS(GM1_,V1_,AD14)+SUMIFS(GM2_,V2_,AD14)+SUMIFS(GM3_,V3_,AD14) -> 8 | AK14: =AI14-AJ14 -> 26 | AL14: =AF14*3+AG14 -> 41 | AN14: 6 | AO14: =AD14 -> Escócia | AP14: =SUM(AQ14:AS14) -> 0 | AQ14: =COUNTIFS(M4_,AO14,GM4_,"<>"&"",SM4_,">0")+COUNTIFS(M5_,AO14,GM5_,"<>"&"",SM5_,">0")+COUNTIFS(V4_,AO14,GV4_,"<>"&"",SV4_,">0")+COUNTIFS(V5_,AO14,GV5_,"<>"&"",SV5_,">0") -> 0 | AR14: =COUNTIFS(M4_,AO14,GM4_,"<>"&"",SM4_,"=0")+COUNTIFS(M5_,AO14,GM5_,"<>"&"",SM5_,"=0")+COUNTIFS(V4_,AO14,GV4_,"<>"&"",SV4_,"=0")+COUNTIFS(V5_,AO14,GV5_,"<>"&"",SV5_,"=0") -> 0 | AS14: =COUNTIFS(M4_,AO14,GM4_,"<>"&"",SM4_,"<0")+COUNTIFS(M5_,AO14,GM5_,"<>"&"",SM5_,"<0")+COUNTIFS(V4_,AO14,GV4_,"<>"&"",SV4_,"<0")+COUNTIFS(V5_,AO14,GV5_,"<>"&"",SV5_,"<0") -> 0 | AT14: =SUMIFS(GM4_,M4_,AO14)+SUMIFS(GM5_,M5_,AO14)+SUMIFS(GV4_,V4_,AO14)+SUMIFS(GV5_,V5_,AO14) -> 0 | AU14: =SUMIFS(GV4_,M4_,AO14)+SUMIFS(GV5_,M5_,AO14)+SUMIFS(GM4_,V4_,AO14)+SUMIFS(GM5_,V5_,AO14) -> 0 | AV14: =AT14-AU14 -> 0 | AW14: =AQ14*3+AR14 -> 0 | AY14: 6 | AZ14: =AO14 -> Escócia | BA14: =SUM(BB14:BD14) -> 1 | BB14: =COUNTIFS(M6_,AZ14,GM6_,"<>"&"",SM6_,">0")+COUNTIFS(M7_,AZ14,GM7_,"<>"&"",SM7_,">0")+COUNTIFS(V6_,AZ14,GV6_,"<>"&"",SV6_,">0")+COUNTIFS(V7_,AZ14,GV7_,"<>"&"",SV7_,">0") -> 1 | BC14: =COUNTIFS(M6_,AZ14,GM6_,"<>"&"",SM6_,"=0")+COUNTIFS(M7_,AZ14,GM7_,"<>"&"",SM7_,"=0")+COUNTIFS(V6_,AZ14,GV6_,"<>"&"",SV6_,"=0")+COUNTIFS(V7_,AZ14,GV7_,"<>"&"",SV7_,"=0") -> 0 | BD14: =COUNTIFS(M6_,AZ14,GM6_,"<>"&"",SM6_,"<0")+COUNTIFS(M7_,AZ14,GM7_,"<>"&"",SM7_,"<0")+COUNTIFS(V6_,AZ14,GV6_,"<>"&"",SV6_,"<0")+COUNTIFS(V7_,AZ14,GV7_,"<>"&"",SV7_,"<0") -> 0 | BE14: =SUMIFS(GM6_,M6_,AZ14)+SUMIFS(GM7_,M7_,AZ14)+SUMIFS(GV6_,V6_,AZ14)+SUMIFS(GV7_,V7_,AZ14) -> 3 | BF14: =SUMIFS(GV6_,M6_,AZ14)+SUMIFS(GV7_,M7_,AZ14)+SUMIFS(GM6_,V6_,AZ14)+SUMIFS(GM7_,V7_,AZ14) -> 0 | BG14: =BE14-BF14 -> 3 | BH14: =BB14*3+BC14 -> 3 | BJ14: 6 | BK14: =AZ14 -> Escócia | BL14: =SUM(BM14:BO14) -> 2 | BM14: =COUNTIFS(M8_,BK14,GM8_,"<>"&"",SM8_,">0")+COUNTIFS(M9_,BK14,GM9_,"<>"&"",SM9_,">0")+COUNTIFS(V8_,BK14,GV8_,"<>"&"",SV8_,">0")+COUNTIFS(V9_,BK14,GV9_,"<>"&"",SV9_,">0") -> 0 | BN14: =COUNTIFS(M8_,BK14,GM8_,"<>"&"",SM8_,"=0")+COUNTIFS(M9_,BK14,GM9_,"<>"&"",SM9_,"=0")+COUNTIFS(V8_,BK14,GV8_,"<>"&"",SV8_,"=0")+COUNTIFS(V9_,BK14,GV9_,"<>"&"",SV9_,"=0") -> 1 | BO14: =COUNTIFS(M8_,BK14,GM8_,"<>"&"",SM8_,"<0")+COUNTIFS(M9_,BK14,GM9_,"<>"&"",SM9_,"<0")+COUNTIFS(V8_,BK14,GV8_,"<>"&"",SV8_,"<0")+COUNTIFS(V9_,BK14,GV9_,"<>"&"",SV9_,"<0") -> 1 | BP14: =SUMIFS(GM8_,M8_,BK14)+SUMIFS(GM9_,M9_,BK14)+SUMIFS(GV8_,V8_,BK14)+SUMIFS(GV9_,V9_,BK14) -> 1 | BQ14: =SUMIFS(GV8_,M8_,BK14)+SUMIFS(GV9_,M9_,BK14)+SUMIFS(GM8_,V8_,BK14)+SUMIFS(GM9_,V9_,BK14) -> 2 | BR14: =BP14-BQ14 -> -1 | BS14: =BM14*3+BN14 -> 1
B15: 7 | C15: =INDEX(P$9:P$30,MATCH($B15,POS.,0)) -> Noruega | D15: =INDEX(Q$9:Q$30,MATCH($B15,POS.,0)) -> 19 | E15: =INDEX(R$9:R$30,MATCH($B15,POS.,0)) -> 8 | F15: =INDEX(S$9:S$30,MATCH($B15,POS.,0)) -> 6 | G15: =INDEX(T$9:T$30,MATCH($B15,POS.,0)) -> 5 | H15: =INDEX(U$9:U$30,MATCH($B15,POS.,0)) -> 17 | I15: =INDEX(V$9:V$30,MATCH($B15,POS.,0)) -> 8 | J15: =INDEX(W$9:W$30,MATCH($B15,POS.,0)) -> 9 | K15: =INDEX(X$9:X$30,MATCH($B15,POS.,0)) -> 30 | O15: 7 | P15: =Tabelas!P15 -> Eslovênia | Q15: =IF($AN$6="OITAVAS-DE-FINAL",(AE15+AP15+BA15+BL15),(AE15+BA15+BL15)) -> 18 | R15: =IF($AN$6="OITAVAS-DE-FINAL",(AF15+AQ15+BB15+BM15),(AF15+BB15+BM15)) -> 4 | S15: =IF($AN$6="OITAVAS-DE-FINAL",(AG15+AR15+BC15+BN15),(AG15+BC15+BN15)) -> 6 | T15: =IF($AN$6="OITAVAS-DE-FINAL",(AH15+AS15+BD15+BO15),(AH15+BD15+BO15)) -> 8 | U15: =IF($AN$6="OITAVAS-DE-FINAL",(AI15+AT15+BE15+BP15),(AI15+BE15+BP15)) -> 11 | V15: =IF($AN$6="OITAVAS-DE-FINAL",(AJ15+AU15+BF15+BQ15),(AJ15+BF15+BQ15)) -> 17 | W15: =IF($AN$6="OITAVAS-DE-FINAL",(AK15+AV15+BG15+BR15),(AK15+BG15+BR15)) -> -6 | X15: =IF($AN$6="OITAVAS-DE-FINAL",(AL15+AW15+BH15+BS15),(AL15+BH15+BS15)) -> 18 | AC15: 7 | AD15: =P15 -> Eslovênia | AE15: =SUM(AF15:AH15) -> 18 | AF15: =COUNTIFS(M1_,AD15,GM1_,"<>"&"",SM1_,">0")+COUNTIFS(M2_,AD15,GM2_,"<>"&"",SM2_,">0")+COUNTIFS(M3_,AD15,GM3_,"<>"&"",SM3_,">0")+COUNTIFS(V1_,AD15,GV1_,"<>"&"",SV1_,">0")+COUNTIFS(V2_,AD15,GV2_,"<>"&"",SV2_,">0")+COUNTIFS(V3_,AD15,GV3_,"<>"&"",SV3_,">0") -> 4 | AG15: =COUNTIFS(M1_,AD15,GM1_,"<>"&"",SM1_,"=0")+COUNTIFS(M2_,AD15,GM2_,"<>"&"",SM2_,"=0")+COUNTIFS(M3_,AD15,GM3_,"<>"&"",SM3_,"=0")+COUNTIFS(V1_,AD15,GV1_,"<>"&"",SV1_,"=0")+COUNTIFS(V2_,AD15,GV2_,"<>"&"",SV2_,"=0")+COUNTIFS(V3_,AD15,GV3_,"<>"&"",SV3_,"=0") -> 6 | AH15: =COUNTIFS(M1_,AD15,GM1_,"<>"&"",SM1_,"<0")+COUNTIFS(M2_,AD15,GM2_,"<>"&"",SM2_,"<0")+COUNTIFS(M3_,AD15,GM3_,"<>"&"",SM3_,"<0")+COUNTIFS(V1_,AD15,GV1_,"<>"&"",SV1_,"<0")+COUNTIFS(V2_,AD15,GV2_,"<>"&"",SV2_,"<0")+COUNTIFS(V3_,AD15,GV3_,"<>"&"",SV3_,"<0") -> 8 | AI15: =SUMIFS(GM1_,M1_,AD15)+SUMIFS(GM2_,M2_,AD15)+SUMIFS(GM3_,M3_,AD15)+SUMIFS(GV1_,V1_,AD15)+SUMIFS(GV2_,V2_,AD15)+SUMIFS(GV3_,V3_,AD15) -> 11 | AJ15: =SUMIFS(GV1_,M1_,AD15)+SUMIFS(GV2_,M2_,AD15)+SUMIFS(GV3_,M3_,AD15)+SUMIFS(GM1_,V1_,AD15)+SUMIFS(GM2_,V2_,AD15)+SUMIFS(GM3_,V3_,AD15) -> 17 | AK15: =AI15-AJ15 -> -6 | AL15: =AF15*3+AG15 -> 18 | AN15: 7 | AO15: =AD15 -> Eslovênia | AP15: =SUM(AQ15:AS15) -> 0 | AQ15: =COUNTIFS(M4_,AO15,GM4_,"<>"&"",SM4_,">0")+COUNTIFS(M5_,AO15,GM5_,"<>"&"",SM5_,">0")+COUNTIFS(V4_,AO15,GV4_,"<>"&"",SV4_,">0")+COUNTIFS(V5_,AO15,GV5_,"<>"&"",SV5_,">0") -> 0 | AR15: =COUNTIFS(M4_,AO15,GM4_,"<>"&"",SM4_,"=0")+COUNTIFS(M5_,AO15,GM5_,"<>"&"",SM5_,"=0")+COUNTIFS(V4_,AO15,GV4_,"<>"&"",SV4_,"=0")+COUNTIFS(V5_,AO15,GV5_,"<>"&"",SV5_,"=0") -> 0 | AS15: =COUNTIFS(M4_,AO15,GM4_,"<>"&"",SM4_,"<0")+COUNTIFS(M5_,AO15,GM5_,"<>"&"",SM5_,"<0")+COUNTIFS(V4_,AO15,GV4_,"<>"&"",SV4_,"<0")+COUNTIFS(V5_,AO15,GV5_,"<>"&"",SV5_,"<0") -> 0 | AT15: =SUMIFS(GM4_,M4_,AO15)+SUMIFS(GM5_,M5_,AO15)+SUMIFS(GV4_,V4_,AO15)+SUMIFS(GV5_,V5_,AO15) -> 0 | AU15: =SUMIFS(GV4_,M4_,AO15)+SUMIFS(GV5_,M5_,AO15)+SUMIFS(GM4_,V4_,AO15)+SUMIFS(GM5_,V5_,AO15) -> 0 | AV15: =AT15-AU15 -> 0 | AW15: =AQ15*3+AR15 -> 0 | AY15: 7 | AZ15: =AO15 -> Eslovênia | BA15: =SUM(BB15:BD15) -> 0 | BB15: =COUNTIFS(M6_,AZ15,GM6_,"<>"&"",SM6_,">0")+COUNTIFS(M7_,AZ15,GM7_,"<>"&"",SM7_,">0")+COUNTIFS(V6_,AZ15,GV6_,"<>"&"",SV6_,">0")+COUNTIFS(V7_,AZ15,GV7_,"<>"&"",SV7_,">0") -> 0 | BC15: =COUNTIFS(M6_,AZ15,GM6_,"<>"&"",SM6_,"=0")+COUNTIFS(M7_,AZ15,GM7_,"<>"&"",SM7_,"=0")+COUNTIFS(V6_,AZ15,GV6_,"<>"&"",SV6_,"=0")+COUNTIFS(V7_,AZ15,GV7_,"<>"&"",SV7_,"=0") -> 0 | BD15: =COUNTIFS(M6_,AZ15,GM6_,"<>"&"",SM6_,"<0")+COUNTIFS(M7_,AZ15,GM7_,"<>"&"",SM7_,"<0")+COUNTIFS(V6_,AZ15,GV6_,"<>"&"",SV6_,"<0")+COUNTIFS(V7_,AZ15,GV7_,"<>"&"",SV7_,"<0") -> 0 | BE15: =SUMIFS(GM6_,M6_,AZ15)+SUMIFS(GM7_,M7_,AZ15)+SUMIFS(GV6_,V6_,AZ15)+SUMIFS(GV7_,V7_,AZ15) -> 0 | BF15: =SUMIFS(GV6_,M6_,AZ15)+SUMIFS(GV7_,M7_,AZ15)+SUMIFS(GM6_,V6_,AZ15)+SUMIFS(GM7_,V7_,AZ15) -> 0 | BG15: =BE15-BF15 -> 0 | BH15: =BB15*3+BC15 -> 0 | BJ15: 7 | BK15: =AZ15 -> Eslovênia | BL15: =SUM(BM15:BO15) -> 0 | BM15: =COUNTIFS(M8_,BK15,GM8_,"<>"&"",SM8_,">0")+COUNTIFS(M9_,BK15,GM9_,"<>"&"",SM9_,">0")+COUNTIFS(V8_,BK15,GV8_,"<>"&"",SV8_,">0")+COUNTIFS(V9_,BK15,GV9_,"<>"&"",SV9_,">0") -> 0 | BN15: =COUNTIFS(M8_,BK15,GM8_,"<>"&"",SM8_,"=0")+COUNTIFS(M9_,BK15,GM9_,"<>"&"",SM9_,"=0")+COUNTIFS(V8_,BK15,GV8_,"<>"&"",SV8_,"=0")+COUNTIFS(V9_,BK15,GV9_,"<>"&"",SV9_,"=0") -> 0 | BO15: =COUNTIFS(M8_,BK15,GM8_,"<>"&"",SM8_,"<0")+COUNTIFS(M9_,BK15,GM9_,"<>"&"",SM9_,"<0")+COUNTIFS(V8_,BK15,GV8_,"<>"&"",SV8_,"<0")+COUNTIFS(V9_,BK15,GV9_,"<>"&"",SV9_,"<0") -> 0 | BP15: =SUMIFS(GM8_,M8_,BK15)+SUMIFS(GM9_,M9_,BK15)+SUMIFS(GV8_,V8_,BK15)+SUMIFS(GV9_,V9_,BK15) -> 0 | BQ15: =SUMIFS(GV8_,M8_,BK15)+SUMIFS(GV9_,M9_,BK15)+SUMIFS(GM8_,V8_,BK15)+SUMIFS(GM9_,V9_,BK15) -> 0 | BR15: =BP15-BQ15 -> 0 | BS15: =BM15*3+BN15 -> 0
B16: 8 | C16: =INDEX(P$9:P$30,MATCH($B16,POS.,0)) -> Holanda | D16: =INDEX(Q$9:Q$30,MATCH($B16,POS.,0)) -> 19 | E16: =INDEX(R$9:R$30,MATCH($B16,POS.,0)) -> 7 | F16: =INDEX(S$9:S$30,MATCH($B16,POS.,0)) -> 6 | G16: =INDEX(T$9:T$30,MATCH($B16,POS.,0)) -> 6 | H16: =INDEX(U$9:U$30,MATCH($B16,POS.,0)) -> 19 | I16: =INDEX(V$9:V$30,MATCH($B16,POS.,0)) -> 18 | J16: =INDEX(W$9:W$30,MATCH($B16,POS.,0)) -> 1 | K16: =INDEX(X$9:X$30,MATCH($B16,POS.,0)) -> 27 | O16: 8 | P16: =Tabelas!P16 -> França | Q16: =IF($AN$6="OITAVAS-DE-FINAL",(AE16+AP16+BA16+BL16),(AE16+BA16+BL16)) -> 18 | R16: =IF($AN$6="OITAVAS-DE-FINAL",(AF16+AQ16+BB16+BM16),(AF16+BB16+BM16)) -> 3 | S16: =IF($AN$6="OITAVAS-DE-FINAL",(AG16+AR16+BC16+BN16),(AG16+BC16+BN16)) -> 4 | T16: =IF($AN$6="OITAVAS-DE-FINAL",(AH16+AS16+BD16+BO16),(AH16+BD16+BO16)) -> 11 | U16: =IF($AN$6="OITAVAS-DE-FINAL",(AI16+AT16+BE16+BP16),(AI16+BE16+BP16)) -> 6 | V16: =IF($AN$6="OITAVAS-DE-FINAL",(AJ16+AU16+BF16+BQ16),(AJ16+BF16+BQ16)) -> 18 | W16: =IF($AN$6="OITAVAS-DE-FINAL",(AK16+AV16+BG16+BR16),(AK16+BG16+BR16)) -> -12 | X16: =IF($AN$6="OITAVAS-DE-FINAL",(AL16+AW16+BH16+BS16),(AL16+BH16+BS16)) -> 13 | AC16: 8 | AD16: =P16 -> França | AE16: =SUM(AF16:AH16) -> 18 | AF16: =COUNTIFS(M1_,AD16,GM1_,"<>"&"",SM1_,">0")+COUNTIFS(M2_,AD16,GM2_,"<>"&"",SM2_,">0")+COUNTIFS(M3_,AD16,GM3_,"<>"&"",SM3_,">0")+COUNTIFS(V1_,AD16,GV1_,"<>"&"",SV1_,">0")+COUNTIFS(V2_,AD16,GV2_,"<>"&"",SV2_,">0")+COUNTIFS(V3_,AD16,GV3_,"<>"&"",SV3_,">0") -> 3 | AG16: =COUNTIFS(M1_,AD16,GM1_,"<>"&"",SM1_,"=0")+COUNTIFS(M2_,AD16,GM2_,"<>"&"",SM2_,"=0")+COUNTIFS(M3_,AD16,GM3_,"<>"&"",SM3_,"=0")+COUNTIFS(V1_,AD16,GV1_,"<>"&"",SV1_,"=0")+COUNTIFS(V2_,AD16,GV2_,"<>"&"",SV2_,"=0")+COUNTIFS(V3_,AD16,GV3_,"<>"&"",SV3_,"=0") -> 4 | AH16: =COUNTIFS(M1_,AD16,GM1_,"<>"&"",SM1_,"<0")+COUNTIFS(M2_,AD16,GM2_,"<>"&"",SM2_,"<0")+COUNTIFS(M3_,AD16,GM3_,"<>"&"",SM3_,"<0")+COUNTIFS(V1_,AD16,GV1_,"<>"&"",SV1_,"<0")+COUNTIFS(V2_,AD16,GV2_,"<>"&"",SV2_,"<0")+COUNTIFS(V3_,AD16,GV3_,"<>"&"",SV3_,"<0") -> 11 | AI16: =SUMIFS(GM1_,M1_,AD16)+SUMIFS(GM2_,M2_,AD16)+SUMIFS(GM3_,M3_,AD16)+SUMIFS(GV1_,V1_,AD16)+SUMIFS(GV2_,V2_,AD16)+SUMIFS(GV3_,V3_,AD16) -> 6 | AJ16: =SUMIFS(GV1_,M1_,AD16)+SUMIFS(GV2_,M2_,AD16)+SUMIFS(GV3_,M3_,AD16)+SUMIFS(GM1_,V1_,AD16)+SUMIFS(GM2_,V2_,AD16)+SUMIFS(GM3_,V3_,AD16) -> 18 | AK16: =AI16-AJ16 -> -12 | AL16: =AF16*3+AG16 -> 13 | AN16: 8 | AO16: =AD16 -> França | AP16: =SUM(AQ16:AS16) -> 0 | AQ16: =COUNTIFS(M4_,AO16,GM4_,"<>"&"",SM4_,">0")+COUNTIFS(M5_,AO16,GM5_,"<>"&"",SM5_,">0")+COUNTIFS(V4_,AO16,GV4_,"<>"&"",SV4_,">0")+COUNTIFS(V5_,AO16,GV5_,"<>"&"",SV5_,">0") -> 0 | AR16: =COUNTIFS(M4_,AO16,GM4_,"<>"&"",SM4_,"=0")+COUNTIFS(M5_,AO16,GM5_,"<>"&"",SM5_,"=0")+COUNTIFS(V4_,AO16,GV4_,"<>"&"",SV4_,"=0")+COUNTIFS(V5_,AO16,GV5_,"<>"&"",SV5_,"=0") -> 0 | AS16: =COUNTIFS(M4_,AO16,GM4_,"<>"&"",SM4_,"<0")+COUNTIFS(M5_,AO16,GM5_,"<>"&"",SM5_,"<0")+COUNTIFS(V4_,AO16,GV4_,"<>"&"",SV4_,"<0")+COUNTIFS(V5_,AO16,GV5_,"<>"&"",SV5_,"<0") -> 0 | AT16: =SUMIFS(GM4_,M4_,AO16)+SUMIFS(GM5_,M5_,AO16)+SUMIFS(GV4_,V4_,AO16)+SUMIFS(GV5_,V5_,AO16) -> 0 | AU16: =SUMIFS(GV4_,M4_,AO16)+SUMIFS(GV5_,M5_,AO16)+SUMIFS(GM4_,V4_,AO16)+SUMIFS(GM5_,V5_,AO16) -> 0 | AV16: =AT16-AU16 -> 0 | AW16: =AQ16*3+AR16 -> 0 | AY16: 8 | AZ16: =AO16 -> França | BA16: =SUM(BB16:BD16) -> 0 | BB16: =COUNTIFS(M6_,AZ16,GM6_,"<>"&"",SM6_,">0")+COUNTIFS(M7_,AZ16,GM7_,"<>"&"",SM7_,">0")+COUNTIFS(V6_,AZ16,GV6_,"<>"&"",SV6_,">0")+COUNTIFS(V7_,AZ16,GV7_,"<>"&"",SV7_,">0") -> 0 | BC16: =COUNTIFS(M6_,AZ16,GM6_,"<>"&"",SM6_,"=0")+COUNTIFS(M7_,AZ16,GM7_,"<>"&"",SM7_,"=0")+COUNTIFS(V6_,AZ16,GV6_,"<>"&"",SV6_,"=0")+COUNTIFS(V7_,AZ16,GV7_,"<>"&"",SV7_,"=0") -> 0 | BD16: =COUNTIFS(M6_,AZ16,GM6_,"<>"&"",SM6_,"<0")+COUNTIFS(M7_,AZ16,GM7_,"<>"&"",SM7_,"<0")+COUNTIFS(V6_,AZ16,GV6_,"<>"&"",SV6_,"<0")+COUNTIFS(V7_,AZ16,GV7_,"<>"&"",SV7_,"<0") -> 0 | BE16: =SUMIFS(GM6_,M6_,AZ16)+SUMIFS(GM7_,M7_,AZ16)+SUMIFS(GV6_,V6_,AZ16)+SUMIFS(GV7_,V7_,AZ16) -> 0 | BF16: =SUMIFS(GV6_,M6_,AZ16)+SUMIFS(GV7_,M7_,AZ16)+SUMIFS(GM6_,V6_,AZ16)+SUMIFS(GM7_,V7_,AZ16) -> 0 | BG16: =BE16-BF16 -> 0 | BH16: =BB16*3+BC16 -> 0 | BJ16: 8 | BK16: =AZ16 -> França | BL16: =SUM(BM16:BO16) -> 0 | BM16: =COUNTIFS(M8_,BK16,GM8_,"<>"&"",SM8_,">0")+COUNTIFS(M9_,BK16,GM9_,"<>"&"",SM9_,">0")+COUNTIFS(V8_,BK16,GV8_,"<>"&"",SV8_,">0")+COUNTIFS(V9_,BK16,GV9_,"<>"&"",SV9_,">0") -> 0 | BN16: =COUNTIFS(M8_,BK16,GM8_,"<>"&"",SM8_,"=0")+COUNTIFS(M9_,BK16,GM9_,"<>"&"",SM9_,"=0")+COUNTIFS(V8_,BK16,GV8_,"<>"&"",SV8_,"=0")+COUNTIFS(V9_,BK16,GV9_,"<>"&"",SV9_,"=0") -> 0 | BO16: =COUNTIFS(M8_,BK16,GM8_,"<>"&"",SM8_,"<0")+COUNTIFS(M9_,BK16,GM9_,"<>"&"",SM9_,"<0")+COUNTIFS(V8_,BK16,GV8_,"<>"&"",SV8_,"<0")+COUNTIFS(V9_,BK16,GV9_,"<>"&"",SV9_,"<0") -> 0 | BP16: =SUMIFS(GM8_,M8_,BK16)+SUMIFS(GM9_,M9_,BK16)+SUMIFS(GV8_,V8_,BK16)+SUMIFS(GV9_,V9_,BK16) -> 0 | BQ16: =SUMIFS(GV8_,M8_,BK16)+SUMIFS(GV9_,M9_,BK16)+SUMIFS(GM8_,V8_,BK16)+SUMIFS(GM9_,V9_,BK16) -> 0 | BR16: =BP16-BQ16 -> 0 | BS16: =BM16*3+BN16 -> 0
B17: 9 | C17: =INDEX(P$9:P$30,MATCH($B17,POS.,0)) -> País de Gales | D17: =INDEX(Q$9:Q$30,MATCH($B17,POS.,0)) -> 18 | E17: =INDEX(R$9:R$30,MATCH($B17,POS.,0)) -> 7 | F17: =INDEX(S$9:S$30,MATCH($B17,POS.,0)) -> 5 | G17: =INDEX(T$9:T$30,MATCH($B17,POS.,0)) -> 6 | H17: =INDEX(U$9:U$30,MATCH($B17,POS.,0)) -> 16 | I17: =INDEX(V$9:V$30,MATCH($B17,POS.,0)) -> 14 | J17: =INDEX(W$9:W$30,MATCH($B17,POS.,0)) -> 2 | K17: =INDEX(X$9:X$30,MATCH($B17,POS.,0)) -> 26 | O17: 9 | P17: =Tabelas!P17 -> Holanda | Q17: =IF($AN$6="OITAVAS-DE-FINAL",(AE17+AP17+BA17+BL17),(AE17+BA17+BL17)) -> 19 | R17: =IF($AN$6="OITAVAS-DE-FINAL",(AF17+AQ17+BB17+BM17),(AF17+BB17+BM17)) -> 7 | S17: =IF($AN$6="OITAVAS-DE-FINAL",(AG17+AR17+BC17+BN17),(AG17+BC17+BN17)) -> 6 | T17: =IF($AN$6="OITAVAS-DE-FINAL",(AH17+AS17+BD17+BO17),(AH17+BD17+BO17)) -> 6 | U17: =IF($AN$6="OITAVAS-DE-FINAL",(AI17+AT17+BE17+BP17),(AI17+BE17+BP17)) -> 19 | V17: =IF($AN$6="OITAVAS-DE-FINAL",(AJ17+AU17+BF17+BQ17),(AJ17+BF17+BQ17)) -> 18 | W17: =IF($AN$6="OITAVAS-DE-FINAL",(AK17+AV17+BG17+BR17),(AK17+BG17+BR17)) -> 1 | X17: =IF($AN$6="OITAVAS-DE-FINAL",(AL17+AW17+BH17+BS17),(AL17+BH17+BS17)) -> 27 | AC17: 9 | AD17: =P17 -> Holanda | AE17: =SUM(AF17:AH17) -> 18 | AF17: =COUNTIFS(M1_,AD17,GM1_,"<>"&"",SM1_,">0")+COUNTIFS(M2_,AD17,GM2_,"<>"&"",SM2_,">0")+COUNTIFS(M3_,AD17,GM3_,"<>"&"",SM3_,">0")+COUNTIFS(V1_,AD17,GV1_,"<>"&"",SV1_,">0")+COUNTIFS(V2_,AD17,GV2_,"<>"&"",SV2_,">0")+COUNTIFS(V3_,AD17,GV3_,"<>"&"",SV3_,">0") -> 7 | AG17: =COUNTIFS(M1_,AD17,GM1_,"<>"&"",SM1_,"=0")+COUNTIFS(M2_,AD17,GM2_,"<>"&"",SM2_,"=0")+COUNTIFS(M3_,AD17,GM3_,"<>"&"",SM3_,"=0")+COUNTIFS(V1_,AD17,GV1_,"<>"&"",SV1_,"=0")+COUNTIFS(V2_,AD17,GV2_,"<>"&"",SV2_,"=0")+COUNTIFS(V3_,AD17,GV3_,"<>"&"",SV3_,"=0") -> 6 | AH17: =COUNTIFS(M1_,AD17,GM1_,"<>"&"",SM1_,"<0")+COUNTIFS(M2_,AD17,GM2_,"<>"&"",SM2_,"<0")+COUNTIFS(M3_,AD17,GM3_,"<>"&"",SM3_,"<0")+COUNTIFS(V1_,AD17,GV1_,"<>"&"",SV1_,"<0")+COUNTIFS(V2_,AD17,GV2_,"<>"&"",SV2_,"<0")+COUNTIFS(V3_,AD17,GV3_,"<>"&"",SV3_,"<0") -> 5 | AI17: =SUMIFS(GM1_,M1_,AD17)+SUMIFS(GM2_,M2_,AD17)+SUMIFS(GM3_,M3_,AD17)+SUMIFS(GV1_,V1_,AD17)+SUMIFS(GV2_,V2_,AD17)+SUMIFS(GV3_,V3_,AD17) -> 19 | AJ17: =SUMIFS(GV1_,M1_,AD17)+SUMIFS(GV2_,M2_,AD17)+SUMIFS(GV3_,M3_,AD17)+SUMIFS(GM1_,V1_,AD17)+SUMIFS(GM2_,V2_,AD17)+SUMIFS(GM3_,V3_,AD17) -> 15 | AK17: =AI17-AJ17 -> 4 | AL17: =AF17*3+AG17 -> 27 | AN17: 9 | AO17: =AD17 -> Holanda | AP17: =SUM(AQ17:AS17) -> 1 | AQ17: =COUNTIFS(M4_,AO17,GM4_,"<>"&"",SM4_,">0")+COUNTIFS(M5_,AO17,GM5_,"<>"&"",SM5_,">0")+COUNTIFS(V4_,AO17,GV4_,"<>"&"",SV4_,">0")+COUNTIFS(V5_,AO17,GV5_,"<>"&"",SV5_,">0") -> 1 | AR17: =COUNTIFS(M4_,AO17,GM4_,"<>"&"",SM4_,"=0")+COUNTIFS(M5_,AO17,GM5_,"<>"&"",SM5_,"=0")+COUNTIFS(V4_,AO17,GV4_,"<>"&"",SV4_,"=0")+COUNTIFS(V5_,AO17,GV5_,"<>"&"",SV5_,"=0") -> 0 | AS17: =COUNTIFS(M4_,AO17,GM4_,"<>"&"",SM4_,"<0")+COUNTIFS(M5_,AO17,GM5_,"<>"&"",SM5_,"<0")+COUNTIFS(V4_,AO17,GV4_,"<>"&"",SV4_,"<0")+COUNTIFS(V5_,AO17,GV5_,"<>"&"",SV5_,"<0") -> 0 | AT17: =SUMIFS(GM4_,M4_,AO17)+SUMIFS(GM5_,M5_,AO17)+SUMIFS(GV4_,V4_,AO17)+SUMIFS(GV5_,V5_,AO17) -> 2 | AU17: =SUMIFS(GV4_,M4_,AO17)+SUMIFS(GV5_,M5_,AO17)+SUMIFS(GM4_,V4_,AO17)+SUMIFS(GM5_,V5_,AO17) -> 1 | AV17: =AT17-AU17 -> 1 | AW17: =AQ17*3+AR17 -> 3 | AY17: 9 | AZ17: =AO17 -> Holanda | BA17: =SUM(BB17:BD17) -> 1 | BB17: =COUNTIFS(M6_,AZ17,GM6_,"<>"&"",SM6_,">0")+COUNTIFS(M7_,AZ17,GM7_,"<>"&"",SM7_,">0")+COUNTIFS(V6_,AZ17,GV6_,"<>"&"",SV6_,">0")+COUNTIFS(V7_,AZ17,GV7_,"<>"&"",SV7_,">0") -> 0 | BC17: =COUNTIFS(M6_,AZ17,GM6_,"<>"&"",SM6_,"=0")+COUNTIFS(M7_,AZ17,GM7_,"<>"&"",SM7_,"=0")+COUNTIFS(V6_,AZ17,GV6_,"<>"&"",SV6_,"=0")+COUNTIFS(V7_,AZ17,GV7_,"<>"&"",SV7_,"=0") -> 0 | BD17: =COUNTIFS(M6_,AZ17,GM6_,"<>"&"",SM6_,"<0")+COUNTIFS(M7_,AZ17,GM7_,"<>"&"",SM7_,"<0")+COUNTIFS(V6_,AZ17,GV6_,"<>"&"",SV6_,"<0")+COUNTIFS(V7_,AZ17,GV7_,"<>"&"",SV7_,"<0") -> 1 | BE17: =SUMIFS(GM6_,M6_,AZ17)+SUMIFS(GM7_,M7_,AZ17)+SUMIFS(GV6_,V6_,AZ17)+SUMIFS(GV7_,V7_,AZ17) -> 0 | BF17: =SUMIFS(GV6_,M6_,AZ17)+SUMIFS(GV7_,M7_,AZ17)+SUMIFS(GM6_,V6_,AZ17)+SUMIFS(GM7_,V7_,AZ17) -> 3 | BG17: =BE17-BF17 -> -3 | BH17: =BB17*3+BC17 -> 0 | BJ17: 9 | BK17: =AZ17 -> Holanda | BL17: =SUM(BM17:BO17) -> 0 | BM17: =COUNTIFS(M8_,BK17,GM8_,"<>"&"",SM8_,">0")+COUNTIFS(M9_,BK17,GM9_,"<>"&"",SM9_,">0")+COUNTIFS(V8_,BK17,GV8_,"<>"&"",SV8_,">0")+COUNTIFS(V9_,BK17,GV9_,"<>"&"",SV9_,">0") -> 0 | BN17: =COUNTIFS(M8_,BK17,GM8_,"<>"&"",SM8_,"=0")+COUNTIFS(M9_,BK17,GM9_,"<>"&"",SM9_,"=0")+COUNTIFS(V8_,BK17,GV8_,"<>"&"",SV8_,"=0")+COUNTIFS(V9_,BK17,GV9_,"<>"&"",SV9_,"=0") -> 0 | BO17: =COUNTIFS(M8_,BK17,GM8_,"<>"&"",SM8_,"<0")+COUNTIFS(M9_,BK17,GM9_,"<>"&"",SM9_,"<0")+COUNTIFS(V8_,BK17,GV8_,"<>"&"",SV8_,"<0")+COUNTIFS(V9_,BK17,GV9_,"<>"&"",SV9_,"<0") -> 0 | BP17: =SUMIFS(GM8_,M8_,BK17)+SUMIFS(GM9_,M9_,BK17)+SUMIFS(GV8_,V8_,BK17)+SUMIFS(GV9_,V9_,BK17) -> 0 | BQ17: =SUMIFS(GV8_,M8_,BK17)+SUMIFS(GV9_,M9_,BK17)+SUMIFS(GM8_,V8_,BK17)+SUMIFS(GM9_,V9_,BK17) -> 0 | BR17: =BP17-BQ17 -> 0 | BS17: =BM17*3+BN17 -> 0
